{"text_format":"1","workbook":"xlsx","n_sheets":18,"sheets":["CENÁRIOS","SQI","Meio Físico","PDE","PDE Ar","Risco Solo","Risco AS","Risco Ar ","CMA Solo","CMA AS","CMA AR","FT","FI","MF","EXP","FisQui","FatTox","Referências bibliográficas"],"not_rendered":{"charts":0,"images":1,"macros":1,"external_links":0,"defined_names":2887,"comments":0,"pivot_tables":0},"unopened":[],"bounds":{"document_bytes":16777216,"sheet_cells":100000,"rows_first":2000,"rows_last":500,"rows_between":2000,"halvings":0,"cell_chars":16384,"cell_head_chars":4096},"cells_cut":0,"cells_raw":0,"read":"whole","date_system":"1900"}

{"sheet":"CENÁRIOS","index":0,"n_rows":214,"n_cols":9,"rows_kept":214,"cut":false,"hidden":false,"merged":[[27,8,28,8],[27,7,28,7],[10,1,28,1],[26,2,26,3],[18,2,25,2],[27,2,28,2],[26,4,26,6],[10,3,14,3],[15,3,17,3],[10,2,17,2],[23,3,25,3],[13,5,13,6],[18,3,22,3],[10,8,16,8],[23,7,25,7],[18,8,21,8],[2,2,2,3],[2,4,2,5],[8,8,9,8],[3,1,9,1],[4,2,9,3],[3,2,3,8],[8,7,9,7],[4,4,9,6],[2,6,2,8],[4,7,7,8],[23,8,25,8],[25,5,25,6],[12,5,12,6],[10,5,11,5],[10,4,14,4],[18,4,19,5],[17,4,17,6],[23,5,23,6],[23,4,25,4],[24,5,24,6],[15,4,16,5],[14,5,14,6],[20,4,21,5],[22,4,22,6]]}
[]
[]
[null,"Data: ",null,null,"Projeto/Identificação da área:"]
[null,null,"MODELO CONCEITUAL DE EXPOSIÇÃO"]
[null,null,"MEIO FÍSICO",null,"VIAS DE INGRESSO",null,null,"TRABALHADOR EM OBRAS CIVIS E DE ESCAVAÇÃO"]
[]
[]
[]
[null,null,null,null,null,null,null,"RECEPTOR NA FONTE","RECEPTOR FORA DA FONTE"]
[]
[null,"CAMINHOS DE EXPOSIÇÃO","SOLO","SUPERFICIAL","CONTATO DIRETO","INALAÇÃO","VAPORES",true,"NÃO APLICÁVEL"]
[null,null,null,null,null,null,"PARTÍCULAS",true]
[null,null,null,null,null,"CONTATO DÉRMICO",null,true]
[null,null,null,null,null,"INGESTÃO",null,true]
[null,null,null,null,null,"INGESTÃO DE VEGETAIS",null,"NÃO APLICÁVEL"]
[null,null,null,"SUBSUPERFICIAL","INALAÇÃO",null,"AMBIENTES ABERTOS",true]
[null,null,null,null,null,null,"AMBIENTES FECHADOS",true]
[null,null,null,null,"INGESTÃO DE ÁGUA SUBTERRÂNEA A PARTIR DA LIXIVIAÇÃO",null,null,true,"NÃO APLICÁVEL"]
[null,null,"ÁGUA","SUBTERRÂNEA","INALAÇÃO",null,"AMBIENTES ABERTOS",true,"NÃO APLICÁVEL"]
[null,null,null,null,null,null,"AMBIENTES FECHADOS",true]
[null,null,null,null,"CONTATO DIRETO",null,"CONTATO DÉRMICO",true]
[null,null,null,null,null,null,"INGESTÃO",true]
[]
[null,null,null,"SUPERFICIAL","RECREAÇÃO","INALAÇÃO",null,"NÃO APLICÁVEL","NÃO APLICÁVEL"]
[null,null,null,null,null,"INGESTÃO"]
[null,null,null,null,null,"CONTATO DÉRMICO"]
[null,null,"AR ",null,"INALAÇÃO",null,null,true,"NÃO APLICÁVEL"]
[null,null,"SEDIMENTO",null,"INGESTÃO",null,null,"NÃO APLICÁVEL","NÃO APLICÁVEL"]
[null,null,null,null,"CONTATO DÉRMICO"]
[]
[]
[]
[]
[]
[]
[]
[]
[]
[]
[]
[]
[]
[]
[]
[]
[]
[]
[]
[]
[]
[]
[]
[]
[]
[]
[]
[]
[]
[]
[]
[]
[]
[]
[]
[]
[]
[]
[]
[]
[]
[]
[]
[]
[]
[]
[]
[]
[]
[]
[]
[]
[]
[]
[]
[]
[]
[]
[]
[]
[]
[]
[]
[]
[]
[]
[]
[]
[]
[]
[]
[]
[]
[]
[]
[]
[]
[]
[]
[]
[]
[]
[]
[]
[]
[]
[]
[]
[]
[]
[]
[]
[]
[]
[]
[]
[]
[]
[]
[]
[]
[]
[]
[]
[]
[]
[]
[]
[]
[]
[]
[]
[]
[]
[]
[]
[]
[]
[]
[]
[]
[]
[]
[]
[]
[]
[]
[]
[]
[]
[]
[]
[]
[]
[]
[]
[]
[]
[]
[]
[]
[]
[]
[]
[]
[]
[]
[]
[]
[]
[]
[]
[]
[]
[]
[]
[]
[]
[]
[]
[]
[]
[]
[]
[]
[]
[]
[]
[]
[]
[]
[]
[]
[]
[]
[]
[]
[]
[]
[]
[]
[]
[]
[]
[null,null,null,null,null,null,null,null,true]

{"sheet":"SQI","index":1,"n_rows":900,"n_cols":24,"rows_kept":900,"cut":false,"hidden":false,"merged":[[875,6,875,8],[876,6,876,8],[877,6,877,8],[878,6,878,8],[879,6,879,8],[870,6,870,8],[871,6,871,8],[872,6,872,8],[873,6,873,8],[874,6,874,8],[895,6,895,8],[896,6,896,8],[897,6,897,8],[898,6,898,8],[899,6,899,8],[890,6,890,8],[891,6,891,8],[892,6,892,8],[893,6,893,8],[894,6,894,8],[885,6,885,8],[886,6,886,8],[887,6,887,8],[888,6,888,8],[889,6,889,8],[880,6,880,8],[881,6,881,8],[882,6,882,8],[883,6,883,8],[884,6,884,8],[865,6,865,8],[866,6,866,8],[867,6,867,8],[868,6,868,8],[869,6,869,8],[860,6,860,8],[861,6,861,8],[862,6,862,8],[863,6,863,8],[864,6,864,8],[855,6,855,8],[856,6,856,8],[857,6,857,8],[858,6,858,8],[859,6,859,8],[850,6,850,8],[851,6,851,8],[852,6,852,8],[853,6,853,8],[854,6,854,8],[845,6,845,8],[846,6,846,8],[847,6,847,8],[848,6,848,8],[849,6,849,8],[840,6,840,8],[841,6,841,8],[842,6,842,8],[843,6,843,8],[844,6,844,8],[835,6,835,8],[836,6,836,8],[837,6,837,8],[838,6,838,8],[839,6,839,8],[830,6,830,8],[831,6,831,8],[832,6,832,8],[833,6,833,8],[834,6,834,8],[825,6,825,8],[826,6,826,8],[827,6,827,8],[828,6,828,8],[829,6,829,8],[820,6,820,8],[821,6,821,8],[822,6,822,8],[823,6,823,8],[824,6,824,8],[815,6,815,8],[816,6,816,8],[817,6,817,8],[818,6,818,8],[819,6,819,8],[810,6,810,8],[811,6,811,8],[812,6,812,8],[813,6,813,8],[814,6,814,8],[805,6,805,8],[806,6,806,8],[807,6,807,8],[808,6,808,8],[809,6,809,8],[800,6,800,8],[801,6,801,8],[802,6,802,8],[803,6,803,8],[804,6,804,8],[795,6,795,8],[796,6,796,8],[797,6,797,8],[798,6,798,8],[799,6,799,8],[790,6,790,8],[791,6,791,8],[792,6,792,8],[793,6,793,8],[794,6,794,8],[785,6,785,8],[786,6,786,8],[787,6,787,8],[788,6,788,8],[789,6,789,8],[780,6,780,8],[781,6,781,8],[782,6,782,8],[783,6,783,8],[784,6,784,8],[775,6,775,8],[776,6,776,8],[777,6,777,8],[778,6,778,8],[779,6,779,8],[770,6,770,8],[771,6,771,8],[772,6,772,8],[773,6,773,8],[774,6,774,8],[765,6,765,8],[766,6,766,8],[767,6,767,8],[768,6,768,8],[769,6,769,8],[760,6,760,8],[761,6,761,8],[762,6,762,8],[763,6,763,8],[764,6,764,8],[755,6,755,8],[756,6,756,8],[757,6,757,8],[758,6,758,8],[759,6,759,8],[750,6,750,8],[751,6,751,8],[752,6,752,8],[753,6,753,8],[754,6,754,8],[745,6,745,8],[746,6,746,8],[747,6,747,8],[748,6,748,8],[749,6,749,8],[740,6,740,8],[741,6,741,8],[742,6,742,8],[743,6,743,8],[744,6,744,8],[735,6,735,8],[736,6,736,8],[737,6,737,8],[738,6,738,8],[739,6,739,8],[730,6,730,8],[731,6,731,8],[732,6,732,8],[733,6,733,8],[734,6,734,8],[725,6,725,8],[726,6,726,8],[727,6,727,8],[728,6,728,8],[729,6,729,8],[720,6,720,8],[721,6,721,8],[722,6,722,8],[723,6,723,8],[724,6,724,8],[715,6,715,8],[716,6,716,8],[717,6,717,8],[718,6,718,8],[719,6,719,8],[710,6,710,8],[711,6,711,8],[712,6,712,8],[713,6,713,8],[714,6,714,8],[705,6,705,8],[706,6,706,8],[707,6,707,8],[708,6,708,8],[709,6,709,8],[700,6,700,8],[701,6,701,8],[702,6,702,8],[703,6,703,8],[704,6,704,8],[695,6,695,8],[696,6,696,8],[697,6,697,8],[698,6,698,8],[699,6,699,8],[690,6,690,8],[691,6,691,8],[692,6,692,8],[693,6,693,8],[694,6,694,8],[685,6,685,8],[686,6,686,8],[687,6,687,8],[688,6,688,8],[689,6,689,8],[680,6,680,8],[681,6,681,8],[682,6,682,8],[683,6,683,8],[684,6,684,8],[675,6,675,8],[676,6,676,8],[677,6,677,8],[678,6,678,8],[679,6,679,8],[670,6,670,8],[671,6,671,8],[672,6,672,8],[673,6,673,8],[674,6,674,8],[665,6,665,8],[666,6,666,8],[667,6,667,8],[668,6,668,8],[669,6,669,8],[660,6,660,8],[661,6,661,8],[662,6,662,8],[663,6,663,8],[664,6,664,8],[655,6,655,8],[656,6,656,8],[657,6,657,8],[658,6,658,8],[659,6,659,8],[650,6,650,8],[651,6,651,8],[652,6,652,8],[653,6,653,8],[654,6,654,8],[645,6,645,8],[646,6,646,8],[647,6,647,8],[648,6,648,8],[649,6,649,8],[640,6,640,8],[641,6,641,8],[642,6,642,8],[643,6,643,8],[644,6,644,8],[635,6,635,8],[636,6,636,8],[637,6,637,8],[638,6,638,8],[639,6,639,8],[630,6,630,8],[631,6,631,8],[632,6,632,8],[633,6,633,8],[634,6,634,8],[625,6,625,8],[626,6,626,8],[627,6,627,8],[628,6,628,8],[629,6,629,8],[620,6,620,8],[621,6,621,8],[622,6,622,8],[623,6,623,8],[624,6,624,8],[615,6,615,8],[616,6,616,8],[617,6,617,8],[618,6,618,8],[619,6,619,8],[610,6,610,8],[611,6,611,8],[612,6,612,8],[613,6,613,8],[614,6,614,8],[605,6,605,8],[606,6,606,8],[607,6,607,8],[608,6,608,8],[609,6,609,8],[600,6,600,8],[601,6,601,8],[602,6,602,8],[603,6,603,8],[604,6,604,8],[595,6,595,8],[596,6,596,8],[597,6,597,8],[598,6,598,8],[599,6,599,8],[590,6,590,8],[591,6,591,8],[592,6,592,8],[593,6,593,8],[594,6,594,8],[585,6,585,8],[586,6,586,8],[587,6,587,8],[588,6,588,8],[589,6,589,8],[580,6,580,8],[581,6,581,8],[582,6,582,8],[583,6,583,8],[584,6,584,8],[575,6,575,8],[576,6,576,8],[577,6,577,8],[578,6,578,8],[579,6,579,8],[570,6,570,8],[571,6,571,8],[572,6,572,8],[573,6,573,8],[574,6,574,8],[565,6,565,8],[566,6,566,8],[567,6,567,8],[568,6,568,8],[569,6,569,8],[560,6,560,8],[561,6,561,8],[562,6,562,8],[563,6,563,8],[564,6,564,8],[555,6,555,8],[556,6,556,8],[557,6,557,8],[558,6,558,8],[559,6,559,8],[550,6,550,8],[551,6,551,8],[552,6,552,8],[553,6,553,8],[554,6,554,8],[545,6,545,8],[546,6,546,8],[547,6,547,8],[548,6,548,8],[549,6,549,8],[540,6,540,8],[541,6,541,8],[542,6,542,8],[543,6,543,8],[544,6,544,8],[535,6,535,8],[536,6,536,8],[537,6,537,8],[538,6,538,8],[539,6,539,8],[530,6,530,8],[531,6,531,8],[532,6,532,8],[533,6,533,8],[534,6,534,8],[525,6,525,8],[526,6,526,8],[527,6,527,8],[528,6,528,8],[529,6,529,8],[520,6,520,8],[521,6,521,8],[522,6,522,8],[523,6,523,8],[524,6,524,8],[515,6,515,8],[516,6,516,8],[517,6,517,8],[518,6,518,8],[519,6,519,8],[510,6,510,8],[511,6,511,8],[512,6,512,8],[513,6,513,8],[514,6,514,8],[505,6,505,8],[506,6,506,8],[507,6,507,8],[508,6,508,8],[509,6,509,8],[500,6,500,8],[501,6,501,8],[502,6,502,8],[503,6,503,8],[504,6,504,8],[495,6,495,8],[496,6,496,8],[497,6,497,8],[498,6,498,8],[499,6,499,8],[490,6,490,8],[491,6,491,8],[492,6,492,8],[493,6,493,8],[494,6,494,8],[485,6,485,8],[486,6,486,8],[487,6,487,8],[488,6,488,8],[489,6,489,8],[480,6,480,8],[481,6,481,8],[482,6,482,8],[483,6,483,8],[484,6,484,8],[475,6,475,8],[476,6,476,8],[477,6,477,8],[478,6,478,8],[479,6,479,8],[470,6,470,8],[471,6,471,8],[472,6,472,8],[473,6,473,8],[474,6,474,8],[465,6,465,8],[466,6,466,8],[467,6,467,8],[468,6,468,8],[469,6,469,8],[460,6,460,8],[461,6,461,8],[462,6,462,8],[463,6,463,8],[464,6,464,8],[455,6,455,8],[456,6,456,8],[457,6,457,8],[458,6,458,8],[459,6,459,8],[450,6,450,8],[451,6,451,8],[452,6,452,8],[453,6,453,8],[454,6,454,8],[445,6,445,8],[446,6,446,8],[447,6,447,8],[448,6,448,8],[449,6,449,8],[440,6,440,8],[441,6,441,8],[442,6,442,8],[443,6,443,8],[444,6,444,8],[435,6,435,8],[436,6,436,8],[437,6,437,8],[438,6,438,8],[439,6,439,8],[430,6,430,8],[431,6,431,8],[432,6,432,8],[433,6,433,8],[434,6,434,8],[425,6,425,8],[426,6,426,8],[427,6,427,8],[428,6,428,8],[429,6,429,8],[420,6,420,8],[421,6,421,8],[422,6,422,8],[423,6,423,8],[424,6,424,8],[415,6,415,8],[416,6,416,8],[417,6,417,8],[418,6,418,8],[419,6,419,8],[410,6,410,8],[411,6,411,8],[412,6,412,8],[413,6,413,8],[414,6,414,8],[405,6,405,8],[406,6,406,8],[407,6,407,8],[408,6,408,8],[409,6,409,8],[400,6,400,8],[401,6,401,8],[402,6,402,8],[403,6,403,8],[404,6,404,8],[395,6,395,8],[396,6,396,8],[397,6,397,8],[398,6,398,8],[399,6,399,8],[390,6,390,8],[391,6,391,8],[392,6,392,8],[393,6,393,8],[394,6,394,8],[385,6,385,8],[386,6,386,8],[387,6,387,8],[388,6,388,8],[389,6,389,8],[380,6,380,8],[381,6,381,8],[382,6,382,8],[383,6,383,8],[384,6,384,8],[375,6,375,8],[376,6,376,8],[377,6,377,8],[378,6,378,8],[379,6,379,8],[370,6,370,8],[371,6,371,8],[372,6,372,8],[373,6,373,8],[374,6,374,8],[365,6,365,8],[366,6,366,8],[367,6,367,8],[368,6,368,8],[369,6,369,8],[360,6,360,8],[361,6,361,8],[362,6,362,8],[363,6,363,8],[364,6,364,8],[355,6,355,8],[356,6,356,8],[357,6,357,8],[358,6,358,8],[359,6,359,8],[350,6,350,8],[351,6,351,8],[352,6,352,8],[353,6,353,8],[354,6,354,8],[345,6,345,8],[346,6,346,8],[347,6,347,8],[348,6,348,8],[349,6,349,8],[340,6,340,8],[341,6,341,8],[342,6,342,8],[343,6,343,8],[344,6,344,8],[335,6,335,8],[336,6,336,8],[337,6,337,8],[338,6,338,8],[339,6,339,8],[330,6,330,8],[331,6,331,8],[332,6,332,8],[333,6,333,8],[334,6,334,8],[325,6,325,8],[326,6,326,8],[327,6,327,8],[328,6,328,8],[329,6,329,8],[320,6,320,8],[321,6,321,8],[322,6,322,8],[323,6,323,8],[324,6,324,8],[315,6,315,8],[316,6,316,8],[317,6,317,8],[318,6,318,8],[319,6,319,8],[310,6,310,8],[311,6,311,8],[312,6,312,8],[313,6,313,8],[314,6,314,8],[305,6,305,8],[306,6,306,8],[307,6,307,8],[308,6,308,8],[309,6,309,8],[300,6,300,8],[301,6,301,8],[302,6,302,8],[303,6,303,8],[304,6,304,8],[295,6,295,8],[296,6,296,8],[297,6,297,8],[298,6,298,8],[299,6,299,8],[290,6,290,8],[291,6,291,8],[292,6,292,8],[293,6,293,8],[294,6,294,8],[285,6,285,8],[286,6,286,8],[287,6,287,8],[288,6,288,8],[289,6,289,8],[280,6,280,8],[281,6,281,8],[282,6,282,8],[283,6,283,8],[284,6,284,8],[275,6,275,8],[276,6,276,8],[277,6,277,8],[278,6,278,8],[279,6,279,8],[270,6,270,8],[271,6,271,8],[272,6,272,8],[273,6,273,8],[274,6,274,8],[265,6,265,8],[266,6,266,8],[267,6,267,8],[268,6,268,8],[269,6,269,8],[260,6,260,8],[261,6,261,8],[262,6,262,8],[263,6,263,8],[264,6,264,8],[255,6,255,8],[256,6,256,8],[257,6,257,8],[258,6,258,8],[259,6,259,8],[250,6,250,8],[251,6,251,8],[252,6,252,8],[253,6,253,8],[254,6,254,8],[245,6,245,8],[246,6,246,8],[247,6,247,8],[248,6,248,8],[249,6,249,8],[240,6,240,8],[241,6,241,8],[242,6,242,8],[243,6,243,8],[244,6,244,8],[235,6,235,8],[236,6,236,8],[237,6,237,8],[238,6,238,8],[239,6,239,8],[230,6,230,8],[231,6,231,8],[232,6,232,8],[233,6,233,8],[234,6,234,8],[225,6,225,8],[226,6,226,8],[227,6,227,8],[228,6,228,8],[229,6,229,8],[220,6,220,8],[221,6,221,8],[222,6,222,8],[223,6,223,8],[224,6,224,8],[215,6,215,8],[216,6,216,8],[217,6,217,8],[218,6,218,8],[219,6,219,8],[210,6,210,8],[211,6,211,8],[212,6,212,8],[213,6,213,8],[214,6,214,8],[205,6,205,8],[206,6,206,8],[207,6,207,8],[208,6,208,8],[209,6,209,8],[200,6,200,8],[201,6,201,8],[202,6,202,8],[203,6,203,8],[204,6,204,8],[195,6,195,8],[196,6,196,8],[197,6,197,8],[198,6,198,8],[199,6,199,8],[190,6,190,8],[191,6,191,8],[192,6,192,8],[193,6,193,8],[194,6,194,8],[186,6,186,8],[187,6,187,8],[188,6,188,8],[189,6,189,8],[180,6,180,8],[181,6,181,8],[182,6,182,8],[183,6,183,8],[184,6,184,8],[175,6,175,8],[176,6,176,8],[177,6,177,8],[178,6,178,8],[179,6,179,8],[170,6,170,8],[171,6,171,8],[172,6,172,8],[173,6,173,8],[174,6,174,8],[169,6,169,8],[160,6,160,8],[161,6,161,8],[162,6,162,8],[163,6,163,8],[164,6,164,8],[155,6,155,8],[156,6,156,8],[157,6,157,8],[158,6,158,8],[159,6,159,8],[150,6,150,8],[151,6,151,8],[152,6,152,8],[153,6,153,8],[154,6,154,8],[185,6,185,8],[142,6,142,8],[143,6,143,8],[144,6,144,8],[135,6,135,8],[136,6,136,8],[137,6,137,8],[138,6,138,8],[139,6,139,8],[130,6,130,8],[131,6,131,8],[132,6,132,8],[133,6,133,8],[134,6,134,8],[165,6,165,8],[166,6,166,8],[167,6,167,8],[168,6,168,8],[875,3,875,5],[876,3,876,5],[877,3,877,5],[878,3,878,5],[879,3,879,5],[125,6,125,8],[126,6,126,8],[127,6,127,8],[128,6,128,8],[129,6,129,8],[120,6,120,8],[121,6,121,8],[122,6,122,8],[123,6,123,8],[124,6,124,8],[86,6,86,8],[87,6,87,8],[88,6,88,8],[89,6,89,8],[115,6,115,8],[116,6,116,8],[117,6,117,8],[118,6,118,8],[119,6,119,8],[110,6,110,8],[111,6,111,8],[112,6,112,8],[113,6,113,8],[114,6,114,8],[105,6,105,8],[106,6,106,8],[107,6,107,8],[895,3,895,5],[896,3,896,5],[897,3,897,5],[898,3,898,5],[899,3,899,5],[890,3,890,5],[891,3,891,5],[892,3,892,5],[893,3,893,5],[894,3,894,5],[885,3,885,5],[886,3,886,5],[887,3,887,5],[888,3,888,5],[889,3,889,5],[880,3,880,5],[881,3,881,5],[882,3,882,5],[883,3,883,5],[884,3,884,5],[870,3,870,5],[871,3,871,5],[872,3,872,5],[873,3,873,5],[874,3,874,5],[865,3,865,5],[866,3,866,5],[867,3,867,5],[868,3,868,5],[869,3,869,5],[860,3,860,5],[861,3,861,5],[862,3,862,5],[863,3,863,5],[864,3,864,5],[855,3,855,5],[856,3,856,5],[857,3,857,5],[858,3,858,5],[859,3,859,5],[850,3,850,5],[851,3,851,5],[852,3,852,5],[853,3,853,5],[854,3,854,5],[845,3,845,5],[846,3,846,5],[847,3,847,5],[848,3,848,5],[849,3,849,5],[840,3,840,5],[841,3,841,5],[842,3,842,5],[843,3,843,5],[844,3,844,5],[835,3,835,5],[836,3,836,5],[837,3,837,5],[838,3,838,5],[839,3,839,5],[830,3,830,5],[831,3,831,5],[832,3,832,5],[833,3,833,5],[834,3,834,5],[825,3,825,5],[826,3,826,5],[827,3,827,5],[828,3,828,5],[829,3,829,5],[820,3,820,5],[821,3,821,5],[822,3,822,5],[823,3,823,5],[824,3,824,5],[815,3,815,5],[816,3,816,5],[817,3,817,5],[818,3,818,5],[819,3,819,5],[810,3,810,5],[811,3,811,5],[812,3,812,5],[813,3,813,5],[814,3,814,5],[805,3,805,5],[806,3,806,5],[807,3,807,5],[808,3,808,5],[809,3,809,5],[800,3,800,5],[801,3,801,5],[802,3,802,5],[803,3,803,5],[804,3,804,5],[795,3,795,5],[796,3,796,5],[797,3,797,5],[798,3,798,5],[799,3,799,5],[790,3,790,5],[791,3,791,5],[792,3,792,5],[793,3,793,5],[794,3,794,5],[785,3,785,5],[786,3,786,5],[787,3,787,5],[788,3,788,5],[789,3,789,5],[780,3,780,5],[781,3,781,5],[782,3,782,5],[783,3,783,5],[784,3,784,5],[775,3,775,5],[776,3,776,5],[777,3,777,5],[778,3,778,5],[779,3,779,5],[770,3,770,5],[771,3,771,5],[772,3,772,5],[773,3,773,5],[774,3,774,5],[765,3,765,5],[766,3,766,5],[767,3,767,5],[768,3,768,5],[769,3,769,5],[760,3,760,5],[761,3,761,5],[762,3,762,5],[763,3,763,5],[764,3,764,5],[755,3,755,5],[756,3,756,5],[757,3,757,5],[758,3,758,5],[759,3,759,5],[750,3,750,5],[751,3,751,5],[752,3,752,5],[753,3,753,5],[754,3,754,5],[745,3,745,5],[746,3,746,5],[747,3,747,5],[748,3,748,5],[749,3,749,5],[740,3,740,5],[741,3,741,5],[742,3,742,5],[743,3,743,5],[744,3,744,5],[735,3,735,5],[736,3,736,5],[737,3,737,5],[738,3,738,5],[739,3,739,5],[730,3,730,5],[731,3,731,5],[732,3,732,5],[733,3,733,5],[734,3,734,5],[725,3,725,5],[726,3,726,5],[727,3,727,5],[728,3,728,5],[729,3,729,5],[720,3,720,5],[721,3,721,5],[722,3,722,5],[723,3,723,5],[724,3,724,5],[715,3,715,5],[716,3,716,5],[717,3,717,5],[718,3,718,5],[719,3,719,5],[710,3,710,5],[711,3,711,5],[712,3,712,5],[713,3,713,5],[714,3,714,5],[705,3,705,5],[706,3,706,5],[707,3,707,5],[708,3,708,5],[709,3,709,5],[700,3,700,5],[701,3,701,5],[702,3,702,5],[703,3,703,5],[704,3,704,5],[695,3,695,5],[696,3,696,5],[697,3,697,5],[698,3,698,5],[699,3,699,5],[690,3,690,5],[691,3,691,5],[692,3,692,5],[693,3,693,5],[694,3,694,5]],"merged_total":1697,"flags":["merged_cut"]}
[]
[null,null,null,"Data:",{"$f":"CENÁRIOS!C3","v":0},null,null,null,null,null,"Identificação da área:",null,{"$f":"CENÁRIOS!G3","v":0}]
[]
[null,null,null,"PARÂMETROS FÍSICO-QUÍMICOS"]
[]
[null,null,null,"CAS N°","PM                  (g/mol)","CTE ADMENSIONAL DE HENRY","Densidade (g/ml)","Koc                    (L/kg)","Solubilidade    (mg/L água)","DIFUSIVIDADE NO AR        (cm²/s)","DIFUSIVIDADE NA ÁGUA                      (cm²/s)","PONTO DE FUSÃO              (°C)","Kd                      (L/kg)","Meia Vida       (ano)","PC                       (cm/hora)","Log Kow","Pressão de vapor            (Pa)","Fator de Bioconcentração para Metais          (raíz)","Fator de Bioconcentração para Metais       (folhas/estrutura)","B","tevent","t*","FA","Volátil"]
[]
[null,"PARÂMETROS"]
[null,1,{"$f":"IF(ISERROR(MATCH($D9,FisQui!$A$4:$A$823,0)),\"\",VLOOKUP($D9,FisQui!$A$4:$AK$823,2,FALSE))","v":""},null,{"$f":"IF(ISERROR(MATCH($D9,FisQui!$A$4:$A$823,0)),\"\",IF(VLOOKUP($D9,FisQui!$A$4:$AK$823,3,FALSE)=\"\",\"ND\",VLOOKUP($D9,FisQui!$A$4:$AK$823,3,FALSE)))","v":""},{"$f":"IF(ISERROR(MATCH($D9,FisQui!$A$4:$A$823,0)),\"\",IF(VLOOKUP($D9,FisQui!$A$4:$AK$823,5,FALSE)=\"\",\"\",VLOOKUP($D9,FisQui!$A$4:$AK$823,5,FALSE)))","v":""},{"$f":"IF(ISERROR(MATCH($D9,FisQui!$A$4:$A$823,0)),\"\",IF(VLOOKUP($D9,FisQui!$A$4:$AK$823,8,FALSE)=\"\",\"\",VLOOKUP($D9,FisQui!$A$4:$AK$823,8,FALSE)))","v":""},{"$f":"IF(ISERROR(MATCH($D9,FisQui!$A$4:$A$823,0)),\"\",IF(VLOOKUP($D9,FisQui!$A$4:$AK$823,14,FALSE)=\"\",\"\",VLOOKUP($D9,FisQui!$A$4:$AK$823,14,FALSE)))","v":""},{"$f":"IF(ISERROR(MATCH($D9,FisQui!$A$4:$A$823,0)),\"\",IF(VLOOKUP($D9,FisQui!$A$4:$AK$823,16,FALSE)=\"\",\"\",VLOOKUP($D9,FisQui!$A$4:$AK$823,16,FALSE)))","v":""},{"$f":"IF(ISERROR(MATCH($D9,FisQui!$A$4:$A$823,0)),\"\",IF(VLOOKUP($D9,FisQui!$A$4:$AK$823,10,FALSE)=\"\",\"\",VLOOKUP($D9,FisQui!$A$4:$AK$823,10,FALSE)))","v":""},{"$f":"IF(ISERROR(MATCH($D9,FisQui!$A$4:$A$823,0)),\"\",IF(VLOOKUP($D9,FisQui!$A$4:$AK$823,12,FALSE)=\"\",\"\",VLOOKUP($D9,FisQui!$A$4:$AK$823,12,FALSE)))","v":""},{"$f":"IF(ISERROR(MATCH($D9,FisQui!$A$4:$A$823,0)),\"\",IF(VLOOKUP($D9,FisQui!$A$4:$AK$823,18,FALSE)=0,\"\",VLOOKUP($D9,FisQui!$A$4:$AK$823,18,FALSE)))","v":""},{"$f":"IF(ISERROR(MATCH($D9,FisQui!$A$4:$A$823,0)),\"\",IF(AND(VLOOKUP($D9,FisQui!$A$4:$AK$823,22,FALSE)=\"\",Koc.1=\"\"),\"\",IF(AND(VLOOKUP($D9,FisQui!$A$4:$AK$823,22,FALSE)<>\"\",Koc.1=\"\"),(VLOOKUP($D9,FisQui!$A$4:$AK$823,22,FALSE)),Koc.1*foc.s)))","v":""},{"$f":"IF(ISERROR(MATCH($D9,FisQui!$A$4:$A$823,0)),\"\",IF(VLOOKUP($D9,FisQui!$A$4:$AK$823,24,FALSE)=\"\",\"\",VLOOKUP($D9,FisQui!$A$4:$AK$823,24,FALSE)))","v":""},{"$f":"IF(ISERROR(MATCH($D9,FisQui!$A$4:$A$823,0)),\"\",IF(VLOOKUP($D9,FisQui!$A$4:$AK$823,20,FALSE)=\"\",\"\",VLOOKUP($D9,FisQui!$A$4:$AK$823,20,FALSE)))","v":""},{"$f":"IF(ISERROR(MATCH($D9,FisQui!$A$4:$A$823,0)),\"\",IF(VLOOKUP($D9,FisQui!$A$4:$AK$823,26,FALSE)=\"\",\"\",VLOOKUP($D9,FisQui!$A$4:$AK$823,26,FALSE)))","v":""},{"$f":"IF(ISERROR(MATCH($D9,FisQui!$A$4:$A$823,0)),\"\",IF(VLOOKUP($D9,FisQui!$A$4:$AK$823,28,FALSE)=\"\",\"\",VLOOKUP($D9,FisQui!$A$4:$AK$823,28,FALSE)))","v":""},{"$f":"IF(ISERROR(MATCH($D9,FisQui!$A$4:$A$823,0)),\"\",IF(VLOOKUP($D9,FisQui!$A$4:$AK$823,30,FALSE)=\"\",\"\",VLOOKUP($D9,FisQui!$A$4:$AK$823,30,FALSE)))","v":""},{"$f":"IF(ISERROR(MATCH($D9,FisQui!$A$4:$A$823,0)),\"\",IF(VLOOKUP($D9,FisQui!$A$4:$AK$823,31,FALSE)=\"\",\"\",VLOOKUP($D9,FisQui!$A$4:$AK$823,31,FALSE)))","v":""},{"$f":"IF(ISERROR(MATCH($D9,FisQui!$A$4:$A$823,0)),\"\",IF(VLOOKUP($D9,FisQui!$A$4:$AK$823,33,FALSE)=\"\",\"\",VLOOKUP($D9,FisQui!$A$4:$AK$823,33,FALSE)))","v":""},{"$f":"IF(ISERROR(MATCH($D9,FisQui!$A$4:$A$823,0)),\"\",IF(VLOOKUP($D9,FisQui!$A$4:$AK$823,34,FALSE)=\"\",\"\",VLOOKUP($D9,FisQui!$A$4:$AK$823,34,FALSE)))","v":""},{"$f":"IF(ISERROR(MATCH($D9,FisQui!$A$4:$A$823,0)),\"\",IF(VLOOKUP($D9,FisQui!$A$4:$AK$823,35,FALSE)=\"\",\"\",VLOOKUP($D9,FisQui!$A$4:$AK$823,35,FALSE)))","v":""},{"$f":"IF(ISERROR(MATCH($D9,FisQui!$A$4:$A$823,0)),\"\",IF(VLOOKUP($D9,FisQui!$A$4:$AK$823,36,FALSE)=\"\",\"\",VLOOKUP($D9,FisQui!$A$4:$AK$823,36,FALSE)))","v":""},{"$f":"IF(ISERROR(MATCH($D48,FatTox!$A$4:$A$823,0)),\"\",IF(VLOOKUP($D48,FatTox!$A$4:$V$823,11,FALSE)=\"\",\"\",VLOOKUP($D48,FatTox!$A$4:$V$823,11,FALSE)))","v":""}]
[null,2,{"$f":"IF(ISERROR(MATCH($D10,FisQui!$A$4:$A$823,0)),\"\",VLOOKUP($D10,FisQui!$A$4:$AK$823,2,FALSE))","v":""},null,{"$f":"IF(ISERROR(MATCH($D10,FisQui!$A$4:$A$823,0)),\"\",IF(VLOOKUP($D10,FisQui!$A$4:$AK$823,3,FALSE)=\"\",\"ND\",VLOOKUP($D10,FisQui!$A$4:$AK$823,3,FALSE)))","v":""},{"$f":"IF(ISERROR(MATCH($D10,FisQui!$A$4:$A$823,0)),\"\",IF(VLOOKUP($D10,FisQui!$A$4:$AK$823,5,FALSE)=\"\",\"\",VLOOKUP($D10,FisQui!$A$4:$AK$823,5,FALSE)))","v":""},{"$f":"IF(ISERROR(MATCH($D10,FisQui!$A$4:$A$823,0)),\"\",IF(VLOOKUP($D10,FisQui!$A$4:$AK$823,8,FALSE)=\"\",\"\",VLOOKUP($D10,FisQui!$A$4:$AK$823,8,FALSE)))","v":""},{"$f":"IF(ISERROR(MATCH($D10,FisQui!$A$4:$A$823,0)),\"\",IF(VLOOKUP($D10,FisQui!$A$4:$AK$823,14,FALSE)=\"\",\"\",VLOOKUP($D10,FisQui!$A$4:$AK$823,14,FALSE)))","v":""},{"$f":"IF(ISERROR(MATCH($D10,FisQui!$A$4:$A$823,0)),\"\",IF(VLOOKUP($D10,FisQui!$A$4:$AK$823,16,FALSE)=\"\",\"\",VLOOKUP($D10,FisQui!$A$4:$AK$823,16,FALSE)))","v":""},{"$f":"IF(ISERROR(MATCH($D10,FisQui!$A$4:$A$823,0)),\"\",IF(VLOOKUP($D10,FisQui!$A$4:$AK$823,10,FALSE)=\"\",\"\",VLOOKUP($D10,FisQui!$A$4:$AK$823,10,FALSE)))","v":""},{"$f":"IF(ISERROR(MATCH($D10,FisQui!$A$4:$A$823,0)),\"\",IF(VLOOKUP($D10,FisQui!$A$4:$AK$823,12,FALSE)=\"\",\"\",VLOOKUP($D10,FisQui!$A$4:$AK$823,12,FALSE)))","v":""},{"$f":"IF(ISERROR(MATCH($D10,FisQui!$A$4:$A$823,0)),\"\",IF(VLOOKUP($D10,FisQui!$A$4:$AK$823,18,FALSE)=0,\"\",VLOOKUP($D10,FisQui!$A$4:$AK$823,18,FALSE)))","v":""},{"$f":"IF(ISERROR(MATCH(D10,FisQui!$A$4:$A$823,0)),\"\",IF(AND(VLOOKUP(D10,FisQui!$A$4:$AK$823,22,FALSE)=\"\",Koc.2=\"\"),\"\",IF(AND(VLOOKUP(D10,FisQui!$A$4:$AK$823,22,FALSE)<>\"\",Koc.2=\"\"),(VLOOKUP(D10,FisQui!$A$4:$AK$823,22,FALSE)),Koc.2*foc.s)))","v":""},{"$f":"IF(ISERROR(MATCH($D10,FisQui!$A$4:$A$823,0)),\"\",IF(VLOOKUP($D10,FisQui!$A$4:$AK$823,24,FALSE)=\"\",\"\",VLOOKUP($D10,FisQui!$A$4:$AK$823,24,FALSE)))","v":""},{"$f":"IF(ISERROR(MATCH($D10,FisQui!$A$4:$A$823,0)),\"\",IF(VLOOKUP($D10,FisQui!$A$4:$AK$823,20,FALSE)=\"\",\"\",VLOOKUP($D10,FisQui!$A$4:$AK$823,20,FALSE)))","v":""},{"$f":"IF(ISERROR(MATCH($D10,FisQui!$A$4:$A$823,0)),\"\",IF(VLOOKUP($D10,FisQui!$A$4:$AK$823,26,FALSE)=\"\",\"\",VLOOKUP($D10,FisQui!$A$4:$AK$823,26,FALSE)))","v":""},{"$f":"IF(ISERROR(MATCH($D10,FisQui!$A$4:$A$823,0)),\"\",IF(VLOOKUP($D10,FisQui!$A$4:$AK$823,28,FALSE)=\"\",\"\",VLOOKUP($D10,FisQui!$A$4:$AK$823,28,FALSE)))","v":""},{"$f":"IF(ISERROR(MATCH($D10,FisQui!$A$4:$A$823,0)),\"\",IF(VLOOKUP($D10,FisQui!$A$4:$AK$823,30,FALSE)=\"\",\"\",VLOOKUP($D10,FisQui!$A$4:$AK$823,30,FALSE)))","v":""},{"$f":"IF(ISERROR(MATCH($D10,FisQui!$A$4:$A$823,0)),\"\",IF(VLOOKUP($D10,FisQui!$A$4:$AK$823,31,FALSE)=\"\",\"\",VLOOKUP($D10,FisQui!$A$4:$AK$823,31,FALSE)))","v":""},{"$f":"IF(ISERROR(MATCH($D10,FisQui!$A$4:$A$823,0)),\"\",IF(VLOOKUP($D10,FisQui!$A$4:$AK$823,33,FALSE)=\"\",\"\",VLOOKUP($D10,FisQui!$A$4:$AK$823,33,FALSE)))","v":""},{"$f":"IF(ISERROR(MATCH($D10,FisQui!$A$4:$A$823,0)),\"\",IF(VLOOKUP($D10,FisQui!$A$4:$AK$823,34,FALSE)=\"\",\"\",VLOOKUP($D10,FisQui!$A$4:$AK$823,34,FALSE)))","v":""},{"$f":"IF(ISERROR(MATCH($D10,FisQui!$A$4:$A$823,0)),\"\",IF(VLOOKUP($D10,FisQui!$A$4:$AK$823,35,FALSE)=\"\",\"\",VLOOKUP($D10,FisQui!$A$4:$AK$823,35,FALSE)))","v":""},{"$f":"IF(ISERROR(MATCH($D10,FisQui!$A$4:$A$823,0)),\"\",IF(VLOOKUP($D10,FisQui!$A$4:$AK$823,36,FALSE)=\"\",\"\",VLOOKUP($D10,FisQui!$A$4:$AK$823,36,FALSE)))","v":""},{"$f":"IF(ISERROR(MATCH($D49,FatTox!$A$4:$A$823,0)),\"\",IF(VLOOKUP($D49,FatTox!$A$4:$V$823,11,FALSE)=\"\",\"\",VLOOKUP($D49,FatTox!$A$4:$V$823,11,FALSE)))","v":""}]
[null,3,{"$f":"IF(ISERROR(MATCH($D11,FisQui!$A$4:$A$823,0)),\"\",VLOOKUP($D11,FisQui!$A$4:$AK$823,2,FALSE))","v":""},null,{"$f":"IF(ISERROR(MATCH($D11,FisQui!$A$4:$A$823,0)),\"\",IF(VLOOKUP($D11,FisQui!$A$4:$AK$823,3,FALSE)=\"\",\"ND\",VLOOKUP($D11,FisQui!$A$4:$AK$823,3,FALSE)))","v":""},{"$f":"IF(ISERROR(MATCH($D11,FisQui!$A$4:$A$823,0)),\"\",IF(VLOOKUP($D11,FisQui!$A$4:$AK$823,5,FALSE)=\"\",\"\",VLOOKUP($D11,FisQui!$A$4:$AK$823,5,FALSE)))","v":""},{"$f":"IF(ISERROR(MATCH($D11,FisQui!$A$4:$A$823,0)),\"\",IF(VLOOKUP($D11,FisQui!$A$4:$AK$823,8,FALSE)=\"\",\"\",VLOOKUP($D11,FisQui!$A$4:$AK$823,8,FALSE)))","v":""},{"$f":"IF(ISERROR(MATCH($D11,FisQui!$A$4:$A$823,0)),\"\",IF(VLOOKUP($D11,FisQui!$A$4:$AK$823,14,FALSE)=\"\",\"\",VLOOKUP($D11,FisQui!$A$4:$AK$823,14,FALSE)))","v":""},{"$f":"IF(ISERROR(MATCH($D11,FisQui!$A$4:$A$823,0)),\"\",IF(VLOOKUP($D11,FisQui!$A$4:$AK$823,16,FALSE)=\"\",\"\",VLOOKUP($D11,FisQui!$A$4:$AK$823,16,FALSE)))","v":""},{"$f":"IF(ISERROR(MATCH($D11,FisQui!$A$4:$A$823,0)),\"\",IF(VLOOKUP($D11,FisQui!$A$4:$AK$823,10,FALSE)=\"\",\"\",VLOOKUP($D11,FisQui!$A$4:$AK$823,10,FALSE)))","v":""},{"$f":"IF(ISERROR(MATCH($D11,FisQui!$A$4:$A$823,0)),\"\",IF(VLOOKUP($D11,FisQui!$A$4:$AK$823,12,FALSE)=\"\",\"\",VLOOKUP($D11,FisQui!$A$4:$AK$823,12,FALSE)))","v":""},{"$f":"IF(ISERROR(MATCH($D11,FisQui!$A$4:$A$823,0)),\"\",IF(VLOOKUP($D11,FisQui!$A$4:$AK$823,18,FALSE)=0,\"\",VLOOKUP($D11,FisQui!$A$4:$AK$823,18,FALSE)))","v":""},{"$f":"IF(ISERROR(MATCH(D11,FisQui!$A$4:$A$823,0)),\"\",IF(AND(VLOOKUP(D11,FisQui!$A$4:$AK$823,22,FALSE)=\"\",Koc.3=\"\"),\"\",IF(AND(VLOOKUP(D11,FisQui!$A$4:$AK$823,22,FALSE)<>\"\",Koc.3=\"\"),(VLOOKUP(D11,FisQui!$A$4:$AK$823,22,FALSE)),Koc.3*foc.s)))","v":""},{"$f":"IF(ISERROR(MATCH($D11,FisQui!$A$4:$A$823,0)),\"\",IF(VLOOKUP($D11,FisQui!$A$4:$AK$823,24,FALSE)=\"\",\"\",VLOOKUP($D11,FisQui!$A$4:$AK$823,24,FALSE)))","v":""},{"$f":"IF(ISERROR(MATCH($D11,FisQui!$A$4:$A$823,0)),\"\",IF(VLOOKUP($D11,FisQui!$A$4:$AK$823,20,FALSE)=\"\",\"\",VLOOKUP($D11,FisQui!$A$4:$AK$823,20,FALSE)))","v":""},{"$f":"IF(ISERROR(MATCH($D11,FisQui!$A$4:$A$823,0)),\"\",IF(VLOOKUP($D11,FisQui!$A$4:$AK$823,26,FALSE)=\"\",\"\",VLOOKUP($D11,FisQui!$A$4:$AK$823,26,FALSE)))","v":""},{"$f":"IF(ISERROR(MATCH($D11,FisQui!$A$4:$A$823,0)),\"\",IF(VLOOKUP($D11,FisQui!$A$4:$AK$823,28,FALSE)=\"\",\"\",VLOOKUP($D11,FisQui!$A$4:$AK$823,28,FALSE)))","v":""},{"$f":"IF(ISERROR(MATCH($D11,FisQui!$A$4:$A$823,0)),\"\",IF(VLOOKUP($D11,FisQui!$A$4:$AK$823,30,FALSE)=\"\",\"\",VLOOKUP($D11,FisQui!$A$4:$AK$823,30,FALSE)))","v":""},{"$f":"IF(ISERROR(MATCH($D11,FisQui!$A$4:$A$823,0)),\"\",IF(VLOOKUP($D11,FisQui!$A$4:$AK$823,31,FALSE)=\"\",\"\",VLOOKUP($D11,FisQui!$A$4:$AK$823,31,FALSE)))","v":""},{"$f":"IF(ISERROR(MATCH($D11,FisQui!$A$4:$A$823,0)),\"\",IF(VLOOKUP($D11,FisQui!$A$4:$AK$823,33,FALSE)=\"\",\"\",VLOOKUP($D11,FisQui!$A$4:$AK$823,33,FALSE)))","v":""},{"$f":"IF(ISERROR(MATCH($D11,FisQui!$A$4:$A$823,0)),\"\",IF(VLOOKUP($D11,FisQui!$A$4:$AK$823,34,FALSE)=\"\",\"\",VLOOKUP($D11,FisQui!$A$4:$AK$823,34,FALSE)))","v":""},{"$f":"IF(ISERROR(MATCH($D11,FisQui!$A$4:$A$823,0)),\"\",IF(VLOOKUP($D11,FisQui!$A$4:$AK$823,35,FALSE)=\"\",\"\",VLOOKUP($D11,FisQui!$A$4:$AK$823,35,FALSE)))","v":""},{"$f":"IF(ISERROR(MATCH($D11,FisQui!$A$4:$A$823,0)),\"\",IF(VLOOKUP($D11,FisQui!$A$4:$AK$823,36,FALSE)=\"\",\"\",VLOOKUP($D11,FisQui!$A$4:$AK$823,36,FALSE)))","v":""},{"$f":"IF(ISERROR(MATCH($D50,FatTox!$A$4:$A$823,0)),\"\",IF(VLOOKUP($D50,FatTox!$A$4:$V$823,11,FALSE)=\"\",\"\",VLOOKUP($D50,FatTox!$A$4:$V$823,11,FALSE)))","v":""}]
[null,4,{"$f":"IF(ISERROR(MATCH($D12,FisQui!$A$4:$A$823,0)),\"\",VLOOKUP($D12,FisQui!$A$4:$AK$823,2,FALSE))","v":""},null,{"$f":"IF(ISERROR(MATCH($D12,FisQui!$A$4:$A$823,0)),\"\",IF(VLOOKUP($D12,FisQui!$A$4:$AK$823,3,FALSE)=\"\",\"ND\",VLOOKUP($D12,FisQui!$A$4:$AK$823,3,FALSE)))","v":""},{"$f":"IF(ISERROR(MATCH($D12,FisQui!$A$4:$A$823,0)),\"\",IF(VLOOKUP($D12,FisQui!$A$4:$AK$823,5,FALSE)=\"\",\"\",VLOOKUP($D12,FisQui!$A$4:$AK$823,5,FALSE)))","v":""},{"$f":"IF(ISERROR(MATCH($D12,FisQui!$A$4:$A$823,0)),\"\",IF(VLOOKUP($D12,FisQui!$A$4:$AK$823,8,FALSE)=\"\",\"\",VLOOKUP($D12,FisQui!$A$4:$AK$823,8,FALSE)))","v":""},{"$f":"IF(ISERROR(MATCH($D12,FisQui!$A$4:$A$823,0)),\"\",IF(VLOOKUP($D12,FisQui!$A$4:$AK$823,14,FALSE)=\"\",\"\",VLOOKUP($D12,FisQui!$A$4:$AK$823,14,FALSE)))","v":""},{"$f":"IF(ISERROR(MATCH($D12,FisQui!$A$4:$A$823,0)),\"\",IF(VLOOKUP($D12,FisQui!$A$4:$AK$823,16,FALSE)=\"\",\"\",VLOOKUP($D12,FisQui!$A$4:$AK$823,16,FALSE)))","v":""},{"$f":"IF(ISERROR(MATCH($D12,FisQui!$A$4:$A$823,0)),\"\",IF(VLOOKUP($D12,FisQui!$A$4:$AK$823,10,FALSE)=\"\",\"\",VLOOKUP($D12,FisQui!$A$4:$AK$823,10,FALSE)))","v":""},{"$f":"IF(ISERROR(MATCH($D12,FisQui!$A$4:$A$823,0)),\"\",IF(VLOOKUP($D12,FisQui!$A$4:$AK$823,12,FALSE)=\"\",\"\",VLOOKUP($D12,FisQui!$A$4:$AK$823,12,FALSE)))","v":""},{"$f":"IF(ISERROR(MATCH($D12,FisQui!$A$4:$A$823,0)),\"\",IF(VLOOKUP($D12,FisQui!$A$4:$AK$823,18,FALSE)=0,\"\",VLOOKUP($D12,FisQui!$A$4:$AK$823,18,FALSE)))","v":""},{"$f":"IF(ISERROR(MATCH(D12,FisQui!$A$4:$A$823,0)),\"\",IF(AND(VLOOKUP(D12,FisQui!$A$4:$AK$823,22,FALSE)=\"\",Koc.4=\"\"),\"\",IF(AND(VLOOKUP(D12,FisQui!$A$4:$AK$823,22,FALSE)<>\"\",Koc.4=\"\"),(VLOOKUP(D12,FisQui!$A$4:$AK$823,22,FALSE)),Koc.4*foc.s)))","v":""},{"$f":"IF(ISERROR(MATCH($D12,FisQui!$A$4:$A$823,0)),\"\",IF(VLOOKUP($D12,FisQui!$A$4:$AK$823,24,FALSE)=\"\",\"\",VLOOKUP($D12,FisQui!$A$4:$AK$823,24,FALSE)))","v":""},{"$f":"IF(ISERROR(MATCH($D12,FisQui!$A$4:$A$823,0)),\"\",IF(VLOOKUP($D12,FisQui!$A$4:$AK$823,20,FALSE)=\"\",\"\",VLOOKUP($D12,FisQui!$A$4:$AK$823,20,FALSE)))","v":""},{"$f":"IF(ISERROR(MATCH($D12,FisQui!$A$4:$A$823,0)),\"\",IF(VLOOKUP($D12,FisQui!$A$4:$AK$823,26,FALSE)=\"\",\"\",VLOOKUP($D12,FisQui!$A$4:$AK$823,26,FALSE)))","v":""},{"$f":"IF(ISERROR(MATCH($D12,FisQui!$A$4:$A$823,0)),\"\",IF(VLOOKUP($D12,FisQui!$A$4:$AK$823,28,FALSE)=\"\",\"\",VLOOKUP($D12,FisQui!$A$4:$AK$823,28,FALSE)))","v":""},{"$f":"IF(ISERROR(MATCH($D12,FisQui!$A$4:$A$823,0)),\"\",IF(VLOOKUP($D12,FisQui!$A$4:$AK$823,30,FALSE)=\"\",\"\",VLOOKUP($D12,FisQui!$A$4:$AK$823,30,FALSE)))","v":""},{"$f":"IF(ISERROR(MATCH($D12,FisQui!$A$4:$A$823,0)),\"\",IF(VLOOKUP($D12,FisQui!$A$4:$AK$823,31,FALSE)=\"\",\"\",VLOOKUP($D12,FisQui!$A$4:$AK$823,31,FALSE)))","v":""},{"$f":"IF(ISERROR(MATCH($D12,FisQui!$A$4:$A$823,0)),\"\",IF(VLOOKUP($D12,FisQui!$A$4:$AK$823,33,FALSE)=\"\",\"\",VLOOKUP($D12,FisQui!$A$4:$AK$823,33,FALSE)))","v":""},{"$f":"IF(ISERROR(MATCH($D12,FisQui!$A$4:$A$823,0)),\"\",IF(VLOOKUP($D12,FisQui!$A$4:$AK$823,34,FALSE)=\"\",\"\",VLOOKUP($D12,FisQui!$A$4:$AK$823,34,FALSE)))","v":""},{"$f":"IF(ISERROR(MATCH($D12,FisQui!$A$4:$A$823,0)),\"\",IF(VLOOKUP($D12,FisQui!$A$4:$AK$823,35,FALSE)=\"\",\"\",VLOOKUP($D12,FisQui!$A$4:$AK$823,35,FALSE)))","v":""},{"$f":"IF(ISERROR(MATCH($D12,FisQui!$A$4:$A$823,0)),\"\",IF(VLOOKUP($D12,FisQui!$A$4:$AK$823,36,FALSE)=\"\",\"\",VLOOKUP($D12,FisQui!$A$4:$AK$823,36,FALSE)))","v":""},{"$f":"IF(ISERROR(MATCH($D51,FatTox!$A$4:$A$823,0)),\"\",IF(VLOOKUP($D51,FatTox!$A$4:$V$823,11,FALSE)=\"\",\"\",VLOOKUP($D51,FatTox!$A$4:$V$823,11,FALSE)))","v":""}]
[null,5,{"$f":"IF(ISERROR(MATCH($D13,FisQui!$A$4:$A$823,0)),\"\",VLOOKUP($D13,FisQui!$A$4:$AK$823,2,FALSE))","v":""},null,{"$f":"IF(ISERROR(MATCH($D13,FisQui!$A$4:$A$823,0)),\"\",IF(VLOOKUP($D13,FisQui!$A$4:$AK$823,3,FALSE)=\"\",\"ND\",VLOOKUP($D13,FisQui!$A$4:$AK$823,3,FALSE)))","v":""},{"$f":"IF(ISERROR(MATCH($D13,FisQui!$A$4:$A$823,0)),\"\",IF(VLOOKUP($D13,FisQui!$A$4:$AK$823,5,FALSE)=\"\",\"\",VLOOKUP($D13,FisQui!$A$4:$AK$823,5,FALSE)))","v":""},{"$f":"IF(ISERROR(MATCH($D13,FisQui!$A$4:$A$823,0)),\"\",IF(VLOOKUP($D13,FisQui!$A$4:$AK$823,8,FALSE)=\"\",\"\",VLOOKUP($D13,FisQui!$A$4:$AK$823,8,FALSE)))","v":""},{"$f":"IF(ISERROR(MATCH($D13,FisQui!$A$4:$A$823,0)),\"\",IF(VLOOKUP($D13,FisQui!$A$4:$AK$823,14,FALSE)=\"\",\"\",VLOOKUP($D13,FisQui!$A$4:$AK$823,14,FALSE)))","v":""},{"$f":"IF(ISERROR(MATCH($D13,FisQui!$A$4:$A$823,0)),\"\",IF(VLOOKUP($D13,FisQui!$A$4:$AK$823,16,FALSE)=\"\",\"\",VLOOKUP($D13,FisQui!$A$4:$AK$823,16,FALSE)))","v":""},{"$f":"IF(ISERROR(MATCH($D13,FisQui!$A$4:$A$823,0)),\"\",IF(VLOOKUP($D13,FisQui!$A$4:$AK$823,10,FALSE)=\"\",\"\",VLOOKUP($D13,FisQui!$A$4:$AK$823,10,FALSE)))","v":""},{"$f":"IF(ISERROR(MATCH($D13,FisQui!$A$4:$A$823,0)),\"\",IF(VLOOKUP($D13,FisQui!$A$4:$AK$823,12,FALSE)=\"\",\"\",VLOOKUP($D13,FisQui!$A$4:$AK$823,12,FALSE)))","v":""},{"$f":"IF(ISERROR(MATCH($D13,FisQui!$A$4:$A$823,0)),\"\",IF(VLOOKUP($D13,FisQui!$A$4:$AK$823,18,FALSE)=0,\"\",VLOOKUP($D13,FisQui!$A$4:$AK$823,18,FALSE)))","v":""},{"$f":"IF(ISERROR(MATCH(D13,FisQui!$A$4:$A$823,0)),\"\",IF(AND(VLOOKUP(D13,FisQui!$A$4:$AK$823,22,FALSE)=\"\",Koc.5=\"\"),\"\",IF(AND(VLOOKUP(D13,FisQui!$A$4:$AK$823,22,FALSE)<>\"\",Koc.5=\"\"),(VLOOKUP(D13,FisQui!$A$4:$AK$823,22,FALSE)),Koc.5*foc.s)))","v":""},{"$f":"IF(ISERROR(MATCH($D13,FisQui!$A$4:$A$823,0)),\"\",IF(VLOOKUP($D13,FisQui!$A$4:$AK$823,24,FALSE)=\"\",\"\",VLOOKUP($D13,FisQui!$A$4:$AK$823,24,FALSE)))","v":""},{"$f":"IF(ISERROR(MATCH($D13,FisQui!$A$4:$A$823,0)),\"\",IF(VLOOKUP($D13,FisQui!$A$4:$AK$823,20,FALSE)=\"\",\"\",VLOOKUP($D13,FisQui!$A$4:$AK$823,20,FALSE)))","v":""},{"$f":"IF(ISERROR(MATCH($D13,FisQui!$A$4:$A$823,0)),\"\",IF(VLOOKUP($D13,FisQui!$A$4:$AK$823,26,FALSE)=\"\",\"\",VLOOKUP($D13,FisQui!$A$4:$AK$823,26,FALSE)))","v":""},{"$f":"IF(ISERROR(MATCH($D13,FisQui!$A$4:$A$823,0)),\"\",IF(VLOOKUP($D13,FisQui!$A$4:$AK$823,28,FALSE)=\"\",\"\",VLOOKUP($D13,FisQui!$A$4:$AK$823,28,FALSE)))","v":""},{"$f":"IF(ISERROR(MATCH($D13,FisQui!$A$4:$A$823,0)),\"\",IF(VLOOKUP($D13,FisQui!$A$4:$AK$823,30,FALSE)=\"\",\"\",VLOOKUP($D13,FisQui!$A$4:$AK$823,30,FALSE)))","v":""},{"$f":"IF(ISERROR(MATCH($D13,FisQui!$A$4:$A$823,0)),\"\",IF(VLOOKUP($D13,FisQui!$A$4:$AK$823,31,FALSE)=\"\",\"\",VLOOKUP($D13,FisQui!$A$4:$AK$823,31,FALSE)))","v":""},{"$f":"IF(ISERROR(MATCH($D13,FisQui!$A$4:$A$823,0)),\"\",IF(VLOOKUP($D13,FisQui!$A$4:$AK$823,33,FALSE)=\"\",\"\",VLOOKUP($D13,FisQui!$A$4:$AK$823,33,FALSE)))","v":""},{"$f":"IF(ISERROR(MATCH($D13,FisQui!$A$4:$A$823,0)),\"\",IF(VLOOKUP($D13,FisQui!$A$4:$AK$823,34,FALSE)=\"\",\"\",VLOOKUP($D13,FisQui!$A$4:$AK$823,34,FALSE)))","v":""},{"$f":"IF(ISERROR(MATCH($D13,FisQui!$A$4:$A$823,0)),\"\",IF(VLOOKUP($D13,FisQui!$A$4:$AK$823,35,FALSE)=\"\",\"\",VLOOKUP($D13,FisQui!$A$4:$AK$823,35,FALSE)))","v":""},{"$f":"IF(ISERROR(MATCH($D13,FisQui!$A$4:$A$823,0)),\"\",IF(VLOOKUP($D13,FisQui!$A$4:$AK$823,36,FALSE)=\"\",\"\",VLOOKUP($D13,FisQui!$A$4:$AK$823,36,FALSE)))","v":""},{"$f":"IF(ISERROR(MATCH($D52,FatTox!$A$4:$A$823,0)),\"\",IF(VLOOKUP($D52,FatTox!$A$4:$V$823,11,FALSE)=\"\",\"\",VLOOKUP($D52,FatTox!$A$4:$V$823,11,FALSE)))","v":""}]
[null,6,{"$f":"IF(ISERROR(MATCH($D14,FisQui!$A$4:$A$823,0)),\"\",VLOOKUP($D14,FisQui!$A$4:$AK$823,2,FALSE))","v":""},null,{"$f":"IF(ISERROR(MATCH($D14,FisQui!$A$4:$A$823,0)),\"\",IF(VLOOKUP($D14,FisQui!$A$4:$AK$823,3,FALSE)=\"\",\"ND\",VLOOKUP($D14,FisQui!$A$4:$AK$823,3,FALSE)))","v":""},{"$f":"IF(ISERROR(MATCH($D14,FisQui!$A$4:$A$823,0)),\"\",IF(VLOOKUP($D14,FisQui!$A$4:$AK$823,5,FALSE)=\"\",\"\",VLOOKUP($D14,FisQui!$A$4:$AK$823,5,FALSE)))","v":""},{"$f":"IF(ISERROR(MATCH($D14,FisQui!$A$4:$A$823,0)),\"\",IF(VLOOKUP($D14,FisQui!$A$4:$AK$823,8,FALSE)=\"\",\"\",VLOOKUP($D14,FisQui!$A$4:$AK$823,8,FALSE)))","v":""},{"$f":"IF(ISERROR(MATCH($D14,FisQui!$A$4:$A$823,0)),\"\",IF(VLOOKUP($D14,FisQui!$A$4:$AK$823,14,FALSE)=\"\",\"\",VLOOKUP($D14,FisQui!$A$4:$AK$823,14,FALSE)))","v":""},{"$f":"IF(ISERROR(MATCH($D14,FisQui!$A$4:$A$823,0)),\"\",IF(VLOOKUP($D14,FisQui!$A$4:$AK$823,16,FALSE)=\"\",\"\",VLOOKUP($D14,FisQui!$A$4:$AK$823,16,FALSE)))","v":""},{"$f":"IF(ISERROR(MATCH($D14,FisQui!$A$4:$A$823,0)),\"\",IF(VLOOKUP($D14,FisQui!$A$4:$AK$823,10,FALSE)=\"\",\"\",VLOOKUP($D14,FisQui!$A$4:$AK$823,10,FALSE)))","v":""},{"$f":"IF(ISERROR(MATCH($D14,FisQui!$A$4:$A$823,0)),\"\",IF(VLOOKUP($D14,FisQui!$A$4:$AK$823,12,FALSE)=\"\",\"\",VLOOKUP($D14,FisQui!$A$4:$AK$823,12,FALSE)))","v":""},{"$f":"IF(ISERROR(MATCH($D14,FisQui!$A$4:$A$823,0)),\"\",IF(VLOOKUP($D14,FisQui!$A$4:$AK$823,18,FALSE)=0,\"\",VLOOKUP($D14,FisQui!$A$4:$AK$823,18,FALSE)))","v":""},{"$f":"IF(ISERROR(MATCH(D14,FisQui!$A$4:$A$823,0)),\"\",IF(AND(VLOOKUP(D14,FisQui!$A$4:$AK$823,22,FALSE)=\"\",Koc.6=\"\"),\"\",IF(AND(VLOOKUP(D14,FisQui!$A$4:$AK$823,22,FALSE)<>\"\",Koc.6=\"\"),(VLOOKUP(D14,FisQui!$A$4:$AK$823,22,FALSE)),Koc.6*foc.s)))","v":""},{"$f":"IF(ISERROR(MATCH($D14,FisQui!$A$4:$A$823,0)),\"\",IF(VLOOKUP($D14,FisQui!$A$4:$AK$823,24,FALSE)=\"\",\"\",VLOOKUP($D14,FisQui!$A$4:$AK$823,24,FALSE)))","v":""},{"$f":"IF(ISERROR(MATCH($D14,FisQui!$A$4:$A$823,0)),\"\",IF(VLOOKUP($D14,FisQui!$A$4:$AK$823,20,FALSE)=\"\",\"\",VLOOKUP($D14,FisQui!$A$4:$AK$823,20,FALSE)))","v":""},{"$f":"IF(ISERROR(MATCH($D14,FisQui!$A$4:$A$823,0)),\"\",IF(VLOOKUP($D14,FisQui!$A$4:$AK$823,26,FALSE)=\"\",\"\",VLOOKUP($D14,FisQui!$A$4:$AK$823,26,FALSE)))","v":""},{"$f":"IF(ISERROR(MATCH($D14,FisQui!$A$4:$A$823,0)),\"\",IF(VLOOKUP($D14,FisQui!$A$4:$AK$823,28,FALSE)=\"\",\"\",VLOOKUP($D14,FisQui!$A$4:$AK$823,28,FALSE)))","v":""},{"$f":"IF(ISERROR(MATCH($D14,FisQui!$A$4:$A$823,0)),\"\",IF(VLOOKUP($D14,FisQui!$A$4:$AK$823,30,FALSE)=\"\",\"\",VLOOKUP($D14,FisQui!$A$4:$AK$823,30,FALSE)))","v":""},{"$f":"IF(ISERROR(MATCH($D14,FisQui!$A$4:$A$823,0)),\"\",IF(VLOOKUP($D14,FisQui!$A$4:$AK$823,31,FALSE)=\"\",\"\",VLOOKUP($D14,FisQui!$A$4:$AK$823,31,FALSE)))","v":""},{"$f":"IF(ISERROR(MATCH($D14,FisQui!$A$4:$A$823,0)),\"\",IF(VLOOKUP($D14,FisQui!$A$4:$AK$823,33,FALSE)=\"\",\"\",VLOOKUP($D14,FisQui!$A$4:$AK$823,33,FALSE)))","v":""},{"$f":"IF(ISERROR(MATCH($D14,FisQui!$A$4:$A$823,0)),\"\",IF(VLOOKUP($D14,FisQui!$A$4:$AK$823,34,FALSE)=\"\",\"\",VLOOKUP($D14,FisQui!$A$4:$AK$823,34,FALSE)))","v":""},{"$f":"IF(ISERROR(MATCH($D14,FisQui!$A$4:$A$823,0)),\"\",IF(VLOOKUP($D14,FisQui!$A$4:$AK$823,35,FALSE)=\"\",\"\",VLOOKUP($D14,FisQui!$A$4:$AK$823,35,FALSE)))","v":""},{"$f":"IF(ISERROR(MATCH($D14,FisQui!$A$4:$A$823,0)),\"\",IF(VLOOKUP($D14,FisQui!$A$4:$AK$823,36,FALSE)=\"\",\"\",VLOOKUP($D14,FisQui!$A$4:$AK$823,36,FALSE)))","v":""},{"$f":"IF(ISERROR(MATCH($D53,FatTox!$A$4:$A$823,0)),\"\",IF(VLOOKUP($D53,FatTox!$A$4:$V$823,11,FALSE)=\"\",\"\",VLOOKUP($D53,FatTox!$A$4:$V$823,11,FALSE)))","v":""}]
[null,7,{"$f":"IF(ISERROR(MATCH($D15,FisQui!$A$4:$A$823,0)),\"\",VLOOKUP($D15,FisQui!$A$4:$AK$823,2,FALSE))","v":""},null,{"$f":"IF(ISERROR(MATCH($D15,FisQui!$A$4:$A$823,0)),\"\",IF(VLOOKUP($D15,FisQui!$A$4:$AK$823,3,FALSE)=\"\",\"ND\",VLOOKUP($D15,FisQui!$A$4:$AK$823,3,FALSE)))","v":""},{"$f":"IF(ISERROR(MATCH($D15,FisQui!$A$4:$A$823,0)),\"\",IF(VLOOKUP($D15,FisQui!$A$4:$AK$823,5,FALSE)=\"\",\"\",VLOOKUP($D15,FisQui!$A$4:$AK$823,5,FALSE)))","v":""},{"$f":"IF(ISERROR(MATCH($D15,FisQui!$A$4:$A$823,0)),\"\",IF(VLOOKUP($D15,FisQui!$A$4:$AK$823,8,FALSE)=\"\",\"\",VLOOKUP($D15,FisQui!$A$4:$AK$823,8,FALSE)))","v":""},{"$f":"IF(ISERROR(MATCH($D15,FisQui!$A$4:$A$823,0)),\"\",IF(VLOOKUP($D15,FisQui!$A$4:$AK$823,14,FALSE)=\"\",\"\",VLOOKUP($D15,FisQui!$A$4:$AK$823,14,FALSE)))","v":""},{"$f":"IF(ISERROR(MATCH($D15,FisQui!$A$4:$A$823,0)),\"\",IF(VLOOKUP($D15,FisQui!$A$4:$AK$823,16,FALSE)=\"\",\"\",VLOOKUP($D15,FisQui!$A$4:$AK$823,16,FALSE)))","v":""},{"$f":"IF(ISERROR(MATCH($D15,FisQui!$A$4:$A$823,0)),\"\",IF(VLOOKUP($D15,FisQui!$A$4:$AK$823,10,FALSE)=\"\",\"\",VLOOKUP($D15,FisQui!$A$4:$AK$823,10,FALSE)))","v":""},{"$f":"IF(ISERROR(MATCH($D15,FisQui!$A$4:$A$823,0)),\"\",IF(VLOOKUP($D15,FisQui!$A$4:$AK$823,12,FALSE)=\"\",\"\",VLOOKUP($D15,FisQui!$A$4:$AK$823,12,FALSE)))","v":""},{"$f":"IF(ISERROR(MATCH($D15,FisQui!$A$4:$A$823,0)),\"\",IF(VLOOKUP($D15,FisQui!$A$4:$AK$823,18,FALSE)=0,\"\",VLOOKUP($D15,FisQui!$A$4:$AK$823,18,FALSE)))","v":""},{"$f":"IF(ISERROR(MATCH(D15,FisQui!$A$4:$A$823,0)),\"\",IF(AND(VLOOKUP(D15,FisQui!$A$4:$AK$823,22,FALSE)=\"\",Koc.7=\"\"),\"\",IF(AND(VLOOKUP(D15,FisQui!$A$4:$AK$823,22,FALSE)<>\"\",Koc.7=\"\"),(VLOOKUP(D15,FisQui!$A$4:$AK$823,22,FALSE)),Koc.7*foc.s)))","v":""},{"$f":"IF(ISERROR(MATCH($D15,FisQui!$A$4:$A$823,0)),\"\",IF(VLOOKUP($D15,FisQui!$A$4:$AK$823,24,FALSE)=\"\",\"\",VLOOKUP($D15,FisQui!$A$4:$AK$823,24,FALSE)))","v":""},{"$f":"IF(ISERROR(MATCH($D15,FisQui!$A$4:$A$823,0)),\"\",IF(VLOOKUP($D15,FisQui!$A$4:$AK$823,20,FALSE)=\"\",\"\",VLOOKUP($D15,FisQui!$A$4:$AK$823,20,FALSE)))","v":""},{"$f":"IF(ISERROR(MATCH($D15,FisQui!$A$4:$A$823,0)),\"\",IF(VLOOKUP($D15,FisQui!$A$4:$AK$823,26,FALSE)=\"\",\"\",VLOOKUP($D15,FisQui!$A$4:$AK$823,26,FALSE)))","v":""},{"$f":"IF(ISERROR(MATCH($D15,FisQui!$A$4:$A$823,0)),\"\",IF(VLOOKUP($D15,FisQui!$A$4:$AK$823,28,FALSE)=\"\",\"\",VLOOKUP($D15,FisQui!$A$4:$AK$823,28,FALSE)))","v":""},{"$f":"IF(ISERROR(MATCH($D15,FisQui!$A$4:$A$823,0)),\"\",IF(VLOOKUP($D15,FisQui!$A$4:$AK$823,30,FALSE)=\"\",\"\",VLOOKUP($D15,FisQui!$A$4:$AK$823,30,FALSE)))","v":""},{"$f":"IF(ISERROR(MATCH($D15,FisQui!$A$4:$A$823,0)),\"\",IF(VLOOKUP($D15,FisQui!$A$4:$AK$823,31,FALSE)=\"\",\"\",VLOOKUP($D15,FisQui!$A$4:$AK$823,31,FALSE)))","v":""},{"$f":"IF(ISERROR(MATCH($D15,FisQui!$A$4:$A$823,0)),\"\",IF(VLOOKUP($D15,FisQui!$A$4:$AK$823,33,FALSE)=\"\",\"\",VLOOKUP($D15,FisQui!$A$4:$AK$823,33,FALSE)))","v":""},{"$f":"IF(ISERROR(MATCH($D15,FisQui!$A$4:$A$823,0)),\"\",IF(VLOOKUP($D15,FisQui!$A$4:$AK$823,34,FALSE)=\"\",\"\",VLOOKUP($D15,FisQui!$A$4:$AK$823,34,FALSE)))","v":""},{"$f":"IF(ISERROR(MATCH($D15,FisQui!$A$4:$A$823,0)),\"\",IF(VLOOKUP($D15,FisQui!$A$4:$AK$823,35,FALSE)=\"\",\"\",VLOOKUP($D15,FisQui!$A$4:$AK$823,35,FALSE)))","v":""},{"$f":"IF(ISERROR(MATCH($D15,FisQui!$A$4:$A$823,0)),\"\",IF(VLOOKUP($D15,FisQui!$A$4:$AK$823,36,FALSE)=\"\",\"\",VLOOKUP($D15,FisQui!$A$4:$AK$823,36,FALSE)))","v":""},{"$f":"IF(ISERROR(MATCH($D54,FatTox!$A$4:$A$823,0)),\"\",IF(VLOOKUP($D54,FatTox!$A$4:$V$823,11,FALSE)=\"\",\"\",VLOOKUP($D54,FatTox!$A$4:$V$823,11,FALSE)))","v":""}]
[null,8,{"$f":"IF(ISERROR(MATCH($D16,FisQui!$A$4:$A$823,0)),\"\",VLOOKUP($D16,FisQui!$A$4:$AK$823,2,FALSE))","v":""},null,{"$f":"IF(ISERROR(MATCH($D16,FisQui!$A$4:$A$823,0)),\"\",IF(VLOOKUP($D16,FisQui!$A$4:$AK$823,3,FALSE)=\"\",\"ND\",VLOOKUP($D16,FisQui!$A$4:$AK$823,3,FALSE)))","v":""},{"$f":"IF(ISERROR(MATCH($D16,FisQui!$A$4:$A$823,0)),\"\",IF(VLOOKUP($D16,FisQui!$A$4:$AK$823,5,FALSE)=\"\",\"\",VLOOKUP($D16,FisQui!$A$4:$AK$823,5,FALSE)))","v":""},{"$f":"IF(ISERROR(MATCH($D16,FisQui!$A$4:$A$823,0)),\"\",IF(VLOOKUP($D16,FisQui!$A$4:$AK$823,8,FALSE)=\"\",\"\",VLOOKUP($D16,FisQui!$A$4:$AK$823,8,FALSE)))","v":""},{"$f":"IF(ISERROR(MATCH($D16,FisQui!$A$4:$A$823,0)),\"\",IF(VLOOKUP($D16,FisQui!$A$4:$AK$823,14,FALSE)=\"\",\"\",VLOOKUP($D16,FisQui!$A$4:$AK$823,14,FALSE)))","v":""},{"$f":"IF(ISERROR(MATCH($D16,FisQui!$A$4:$A$823,0)),\"\",IF(VLOOKUP($D16,FisQui!$A$4:$AK$823,16,FALSE)=\"\",\"\",VLOOKUP($D16,FisQui!$A$4:$AK$823,16,FALSE)))","v":""},{"$f":"IF(ISERROR(MATCH($D16,FisQui!$A$4:$A$823,0)),\"\",IF(VLOOKUP($D16,FisQui!$A$4:$AK$823,10,FALSE)=\"\",\"\",VLOOKUP($D16,FisQui!$A$4:$AK$823,10,FALSE)))","v":""},{"$f":"IF(ISERROR(MATCH($D16,FisQui!$A$4:$A$823,0)),\"\",IF(VLOOKUP($D16,FisQui!$A$4:$AK$823,12,FALSE)=\"\",\"\",VLOOKUP($D16,FisQui!$A$4:$AK$823,12,FALSE)))","v":""},{"$f":"IF(ISERROR(MATCH($D16,FisQui!$A$4:$A$823,0)),\"\",IF(VLOOKUP($D16,FisQui!$A$4:$AK$823,18,FALSE)=0,\"\",VLOOKUP($D16,FisQui!$A$4:$AK$823,18,FALSE)))","v":""},{"$f":"IF(ISERROR(MATCH(D16,FisQui!$A$4:$A$823,0)),\"\",IF(AND(VLOOKUP(D16,FisQui!$A$4:$AK$823,22,FALSE)=\"\",Koc.8=\"\"),\"\",IF(AND(VLOOKUP(D16,FisQui!$A$4:$AK$823,22,FALSE)<>\"\",Koc.8=\"\"),(VLOOKUP(D16,FisQui!$A$4:$AK$823,22,FALSE)),Koc.8*foc.s)))","v":""},{"$f":"IF(ISERROR(MATCH($D16,FisQui!$A$4:$A$823,0)),\"\",IF(VLOOKUP($D16,FisQui!$A$4:$AK$823,24,FALSE)=\"\",\"\",VLOOKUP($D16,FisQui!$A$4:$AK$823,24,FALSE)))","v":""},{"$f":"IF(ISERROR(MATCH($D16,FisQui!$A$4:$A$823,0)),\"\",IF(VLOOKUP($D16,FisQui!$A$4:$AK$823,20,FALSE)=\"\",\"\",VLOOKUP($D16,FisQui!$A$4:$AK$823,20,FALSE)))","v":""},{"$f":"IF(ISERROR(MATCH($D16,FisQui!$A$4:$A$823,0)),\"\",IF(VLOOKUP($D16,FisQui!$A$4:$AK$823,26,FALSE)=\"\",\"\",VLOOKUP($D16,FisQui!$A$4:$AK$823,26,FALSE)))","v":""},{"$f":"IF(ISERROR(MATCH($D16,FisQui!$A$4:$A$823,0)),\"\",IF(VLOOKUP($D16,FisQui!$A$4:$AK$823,28,FALSE)=\"\",\"\",VLOOKUP($D16,FisQui!$A$4:$AK$823,28,FALSE)))","v":""},{"$f":"IF(ISERROR(MATCH($D16,FisQui!$A$4:$A$823,0)),\"\",IF(VLOOKUP($D16,FisQui!$A$4:$AK$823,30,FALSE)=\"\",\"\",VLOOKUP($D16,FisQui!$A$4:$AK$823,30,FALSE)))","v":""},{"$f":"IF(ISERROR(MATCH($D16,FisQui!$A$4:$A$823,0)),\"\",IF(VLOOKUP($D16,FisQui!$A$4:$AK$823,31,FALSE)=\"\",\"\",VLOOKUP($D16,FisQui!$A$4:$AK$823,31,FALSE)))","v":""},{"$f":"IF(ISERROR(MATCH($D16,FisQui!$A$4:$A$823,0)),\"\",IF(VLOOKUP($D16,FisQui!$A$4:$AK$823,33,FALSE)=\"\",\"\",VLOOKUP($D16,FisQui!$A$4:$AK$823,33,FALSE)))","v":""},{"$f":"IF(ISERROR(MATCH($D16,FisQui!$A$4:$A$823,0)),\"\",IF(VLOOKUP($D16,FisQui!$A$4:$AK$823,34,FALSE)=\"\",\"\",VLOOKUP($D16,FisQui!$A$4:$AK$823,34,FALSE)))","v":""},{"$f":"IF(ISERROR(MATCH($D16,FisQui!$A$4:$A$823,0)),\"\",IF(VLOOKUP($D16,FisQui!$A$4:$AK$823,35,FALSE)=\"\",\"\",VLOOKUP($D16,FisQui!$A$4:$AK$823,35,FALSE)))","v":""},{"$f":"IF(ISERROR(MATCH($D16,FisQui!$A$4:$A$823,0)),\"\",IF(VLOOKUP($D16,FisQui!$A$4:$AK$823,36,FALSE)=\"\",\"\",VLOOKUP($D16,FisQui!$A$4:$AK$823,36,FALSE)))","v":""},{"$f":"IF(ISERROR(MATCH($D55,FatTox!$A$4:$A$823,0)),\"\",IF(VLOOKUP($D55,FatTox!$A$4:$V$823,11,FALSE)=\"\",\"\",VLOOKUP($D55,FatTox!$A$4:$V$823,11,FALSE)))","v":""}]
[null,9,{"$f":"IF(ISERROR(MATCH($D17,FisQui!$A$4:$A$823,0)),\"\",VLOOKUP($D17,FisQui!$A$4:$AK$823,2,FALSE))","v":""},null,{"$f":"IF(ISERROR(MATCH($D17,FisQui!$A$4:$A$823,0)),\"\",IF(VLOOKUP($D17,FisQui!$A$4:$AK$823,3,FALSE)=\"\",\"ND\",VLOOKUP($D17,FisQui!$A$4:$AK$823,3,FALSE)))","v":""},{"$f":"IF(ISERROR(MATCH($D17,FisQui!$A$4:$A$823,0)),\"\",IF(VLOOKUP($D17,FisQui!$A$4:$AK$823,5,FALSE)=\"\",\"\",VLOOKUP($D17,FisQui!$A$4:$AK$823,5,FALSE)))","v":""},{"$f":"IF(ISERROR(MATCH($D17,FisQui!$A$4:$A$823,0)),\"\",IF(VLOOKUP($D17,FisQui!$A$4:$AK$823,8,FALSE)=\"\",\"\",VLOOKUP($D17,FisQui!$A$4:$AK$823,8,FALSE)))","v":""},{"$f":"IF(ISERROR(MATCH($D17,FisQui!$A$4:$A$823,0)),\"\",IF(VLOOKUP($D17,FisQui!$A$4:$AK$823,14,FALSE)=\"\",\"\",VLOOKUP($D17,FisQui!$A$4:$AK$823,14,FALSE)))","v":""},{"$f":"IF(ISERROR(MATCH($D17,FisQui!$A$4:$A$823,0)),\"\",IF(VLOOKUP($D17,FisQui!$A$4:$AK$823,16,FALSE)=\"\",\"\",VLOOKUP($D17,FisQui!$A$4:$AK$823,16,FALSE)))","v":""},{"$f":"IF(ISERROR(MATCH($D17,FisQui!$A$4:$A$823,0)),\"\",IF(VLOOKUP($D17,FisQui!$A$4:$AK$823,10,FALSE)=\"\",\"\",VLOOKUP($D17,FisQui!$A$4:$AK$823,10,FALSE)))","v":""},{"$f":"IF(ISERROR(MATCH($D17,FisQui!$A$4:$A$823,0)),\"\",IF(VLOOKUP($D17,FisQui!$A$4:$AK$823,12,FALSE)=\"\",\"\",VLOOKUP($D17,FisQui!$A$4:$AK$823,12,FALSE)))","v":""},{"$f":"IF(ISERROR(MATCH($D17,FisQui!$A$4:$A$823,0)),\"\",IF(VLOOKUP($D17,FisQui!$A$4:$AK$823,18,FALSE)=0,\"\",VLOOKUP($D17,FisQui!$A$4:$AK$823,18,FALSE)))","v":""},{"$f":"IF(ISERROR(MATCH(D17,FisQui!$A$4:$A$823,0)),\"\",IF(AND(VLOOKUP(D17,FisQui!$A$4:$AK$823,22,FALSE)=\"\",Koc.9=\"\"),\"\",IF(AND(VLOOKUP(D17,FisQui!$A$4:$AK$823,22,FALSE)<>\"\",Koc.9=\"\"),(VLOOKUP(D17,FisQui!$A$4:$AK$823,22,FALSE)),Koc.9*foc.s)))","v":""},{"$f":"IF(ISERROR(MATCH($D17,FisQui!$A$4:$A$823,0)),\"\",IF(VLOOKUP($D17,FisQui!$A$4:$AK$823,24,FALSE)=\"\",\"\",VLOOKUP($D17,FisQui!$A$4:$AK$823,24,FALSE)))","v":""},{"$f":"IF(ISERROR(MATCH($D17,FisQui!$A$4:$A$823,0)),\"\",IF(VLOOKUP($D17,FisQui!$A$4:$AK$823,20,FALSE)=\"\",\"\",VLOOKUP($D17,FisQui!$A$4:$AK$823,20,FALSE)))","v":""},{"$f":"IF(ISERROR(MATCH($D17,FisQui!$A$4:$A$823,0)),\"\",IF(VLOOKUP($D17,FisQui!$A$4:$AK$823,26,FALSE)=\"\",\"\",VLOOKUP($D17,FisQui!$A$4:$AK$823,26,FALSE)))","v":""},{"$f":"IF(ISERROR(MATCH($D17,FisQui!$A$4:$A$823,0)),\"\",IF(VLOOKUP($D17,FisQui!$A$4:$AK$823,28,FALSE)=\"\",\"\",VLOOKUP($D17,FisQui!$A$4:$AK$823,28,FALSE)))","v":""},{"$f":"IF(ISERROR(MATCH($D17,FisQui!$A$4:$A$823,0)),\"\",IF(VLOOKUP($D17,FisQui!$A$4:$AK$823,30,FALSE)=\"\",\"\",VLOOKUP($D17,FisQui!$A$4:$AK$823,30,FALSE)))","v":""},{"$f":"IF(ISERROR(MATCH($D17,FisQui!$A$4:$A$823,0)),\"\",IF(VLOOKUP($D17,FisQui!$A$4:$AK$823,31,FALSE)=\"\",\"\",VLOOKUP($D17,FisQui!$A$4:$AK$823,31,FALSE)))","v":""},{"$f":"IF(ISERROR(MATCH($D17,FisQui!$A$4:$A$823,0)),\"\",IF(VLOOKUP($D17,FisQui!$A$4:$AK$823,33,FALSE)=\"\",\"\",VLOOKUP($D17,FisQui!$A$4:$AK$823,33,FALSE)))","v":""},{"$f":"IF(ISERROR(MATCH($D17,FisQui!$A$4:$A$823,0)),\"\",IF(VLOOKUP($D17,FisQui!$A$4:$AK$823,34,FALSE)=\"\",\"\",VLOOKUP($D17,FisQui!$A$4:$AK$823,34,FALSE)))","v":""},{"$f":"IF(ISERROR(MATCH($D17,FisQui!$A$4:$A$823,0)),\"\",IF(VLOOKUP($D17,FisQui!$A$4:$AK$823,35,FALSE)=\"\",\"\",VLOOKUP($D17,FisQui!$A$4:$AK$823,35,FALSE)))","v":""},{"$f":"IF(ISERROR(MATCH($D17,FisQui!$A$4:$A$823,0)),\"\",IF(VLOOKUP($D17,FisQui!$A$4:$AK$823,36,FALSE)=\"\",\"\",VLOOKUP($D17,FisQui!$A$4:$AK$823,36,FALSE)))","v":""},{"$f":"IF(ISERROR(MATCH($D56,FatTox!$A$4:$A$823,0)),\"\",IF(VLOOKUP($D56,FatTox!$A$4:$V$823,11,FALSE)=\"\",\"\",VLOOKUP($D56,FatTox!$A$4:$V$823,11,FALSE)))","v":""}]
[null,10,{"$f":"IF(ISERROR(MATCH($D18,FisQui!$A$4:$A$823,0)),\"\",VLOOKUP($D18,FisQui!$A$4:$AK$823,2,FALSE))","v":""},null,{"$f":"IF(ISERROR(MATCH($D18,FisQui!$A$4:$A$823,0)),\"\",IF(VLOOKUP($D18,FisQui!$A$4:$AK$823,3,FALSE)=\"\",\"ND\",VLOOKUP($D18,FisQui!$A$4:$AK$823,3,FALSE)))","v":""},{"$f":"IF(ISERROR(MATCH($D18,FisQui!$A$4:$A$823,0)),\"\",IF(VLOOKUP($D18,FisQui!$A$4:$AK$823,5,FALSE)=\"\",\"\",VLOOKUP($D18,FisQui!$A$4:$AK$823,5,FALSE)))","v":""},{"$f":"IF(ISERROR(MATCH($D18,FisQui!$A$4:$A$823,0)),\"\",IF(VLOOKUP($D18,FisQui!$A$4:$AK$823,8,FALSE)=\"\",\"\",VLOOKUP($D18,FisQui!$A$4:$AK$823,8,FALSE)))","v":""},{"$f":"IF(ISERROR(MATCH($D18,FisQui!$A$4:$A$823,0)),\"\",IF(VLOOKUP($D18,FisQui!$A$4:$AK$823,14,FALSE)=\"\",\"\",VLOOKUP($D18,FisQui!$A$4:$AK$823,14,FALSE)))","v":""},{"$f":"IF(ISERROR(MATCH($D18,FisQui!$A$4:$A$823,0)),\"\",IF(VLOOKUP($D18,FisQui!$A$4:$AK$823,16,FALSE)=\"\",\"\",VLOOKUP($D18,FisQui!$A$4:$AK$823,16,FALSE)))","v":""},{"$f":"IF(ISERROR(MATCH($D18,FisQui!$A$4:$A$823,0)),\"\",IF(VLOOKUP($D18,FisQui!$A$4:$AK$823,10,FALSE)=\"\",\"\",VLOOKUP($D18,FisQui!$A$4:$AK$823,10,FALSE)))","v":""},{"$f":"IF(ISERROR(MATCH($D18,FisQui!$A$4:$A$823,0)),\"\",IF(VLOOKUP($D18,FisQui!$A$4:$AK$823,12,FALSE)=\"\",\"\",VLOOKUP($D18,FisQui!$A$4:$AK$823,12,FALSE)))","v":""},{"$f":"IF(ISERROR(MATCH($D18,FisQui!$A$4:$A$823,0)),\"\",IF(VLOOKUP($D18,FisQui!$A$4:$AK$823,18,FALSE)=0,\"\",VLOOKUP($D18,FisQui!$A$4:$AK$823,18,FALSE)))","v":""},{"$f":"IF(ISERROR(MATCH(D18,FisQui!$A$4:$A$823,0)),\"\",IF(AND(VLOOKUP(D18,FisQui!$A$4:$AK$823,22,FALSE)=\"\",Koc.10=\"\"),\"\",IF(AND(VLOOKUP(D18,FisQui!$A$4:$AK$823,22,FALSE)<>\"\",Koc.10=\"\"),(VLOOKUP(D18,FisQui!$A$4:$AK$823,22,FALSE)),Koc.10*foc.s)))","v":""},{"$f":"IF(ISERROR(MATCH($D18,FisQui!$A$4:$A$823,0)),\"\",IF(VLOOKUP($D18,FisQui!$A$4:$AK$823,24,FALSE)=\"\",\"\",VLOOKUP($D18,FisQui!$A$4:$AK$823,24,FALSE)))","v":""},{"$f":"IF(ISERROR(MATCH($D18,FisQui!$A$4:$A$823,0)),\"\",IF(VLOOKUP($D18,FisQui!$A$4:$AK$823,20,FALSE)=\"\",\"\",VLOOKUP($D18,FisQui!$A$4:$AK$823,20,FALSE)))","v":""},{"$f":"IF(ISERROR(MATCH($D18,FisQui!$A$4:$A$823,0)),\"\",IF(VLOOKUP($D18,FisQui!$A$4:$AK$823,26,FALSE)=\"\",\"\",VLOOKUP($D18,FisQui!$A$4:$AK$823,26,FALSE)))","v":""},{"$f":"IF(ISERROR(MATCH($D18,FisQui!$A$4:$A$823,0)),\"\",IF(VLOOKUP($D18,FisQui!$A$4:$AK$823,28,FALSE)=\"\",\"\",VLOOKUP($D18,FisQui!$A$4:$AK$823,28,FALSE)))","v":""},{"$f":"IF(ISERROR(MATCH($D18,FisQui!$A$4:$A$823,0)),\"\",IF(VLOOKUP($D18,FisQui!$A$4:$AK$823,30,FALSE)=\"\",\"\",VLOOKUP($D18,FisQui!$A$4:$AK$823,30,FALSE)))","v":""},{"$f":"IF(ISERROR(MATCH($D18,FisQui!$A$4:$A$823,0)),\"\",IF(VLOOKUP($D18,FisQui!$A$4:$AK$823,31,FALSE)=\"\",\"\",VLOOKUP($D18,FisQui!$A$4:$AK$823,31,FALSE)))","v":""},{"$f":"IF(ISERROR(MATCH($D18,FisQui!$A$4:$A$823,0)),\"\",IF(VLOOKUP($D18,FisQui!$A$4:$AK$823,33,FALSE)=\"\",\"\",VLOOKUP($D18,FisQui!$A$4:$AK$823,33,FALSE)))","v":""},{"$f":"IF(ISERROR(MATCH($D18,FisQui!$A$4:$A$823,0)),\"\",IF(VLOOKUP($D18,FisQui!$A$4:$AK$823,34,FALSE)=\"\",\"\",VLOOKUP($D18,FisQui!$A$4:$AK$823,34,FALSE)))","v":""},{"$f":"IF(ISERROR(MATCH($D18,FisQui!$A$4:$A$823,0)),\"\",IF(VLOOKUP($D18,FisQui!$A$4:$AK$823,35,FALSE)=\"\",\"\",VLOOKUP($D18,FisQui!$A$4:$AK$823,35,FALSE)))","v":""},{"$f":"IF(ISERROR(MATCH($D18,FisQui!$A$4:$A$823,0)),\"\",IF(VLOOKUP($D18,FisQui!$A$4:$AK$823,36,FALSE)=\"\",\"\",VLOOKUP($D18,FisQui!$A$4:$AK$823,36,FALSE)))","v":""},{"$f":"IF(ISERROR(MATCH($D57,FatTox!$A$4:$A$823,0)),\"\",IF(VLOOKUP($D57,FatTox!$A$4:$V$823,11,FALSE)=\"\",\"\",VLOOKUP($D57,FatTox!$A$4:$V$823,11,FALSE)))","v":""}]
[null,11,{"$f":"IF(ISERROR(MATCH($D19,FisQui!$A$4:$A$823,0)),\"\",VLOOKUP($D19,FisQui!$A$4:$AK$823,2,FALSE))","v":""},null,{"$f":"IF(ISERROR(MATCH($D19,FisQui!$A$4:$A$823,0)),\"\",IF(VLOOKUP($D19,FisQui!$A$4:$AK$823,3,FALSE)=\"\",\"ND\",VLOOKUP($D19,FisQui!$A$4:$AK$823,3,FALSE)))","v":""},{"$f":"IF(ISERROR(MATCH($D19,FisQui!$A$4:$A$823,0)),\"\",IF(VLOOKUP($D19,FisQui!$A$4:$AK$823,5,FALSE)=\"\",\"\",VLOOKUP($D19,FisQui!$A$4:$AK$823,5,FALSE)))","v":""},{"$f":"IF(ISERROR(MATCH($D19,FisQui!$A$4:$A$823,0)),\"\",IF(VLOOKUP($D19,FisQui!$A$4:$AK$823,8,FALSE)=\"\",\"\",VLOOKUP($D19,FisQui!$A$4:$AK$823,8,FALSE)))","v":""},{"$f":"IF(ISERROR(MATCH($D19,FisQui!$A$4:$A$823,0)),\"\",IF(VLOOKUP($D19,FisQui!$A$4:$AK$823,14,FALSE)=\"\",\"\",VLOOKUP($D19,FisQui!$A$4:$AK$823,14,FALSE)))","v":""},{"$f":"IF(ISERROR(MATCH($D19,FisQui!$A$4:$A$823,0)),\"\",IF(VLOOKUP($D19,FisQui!$A$4:$AK$823,16,FALSE)=\"\",\"\",VLOOKUP($D19,FisQui!$A$4:$AK$823,16,FALSE)))","v":""},{"$f":"IF(ISERROR(MATCH($D19,FisQui!$A$4:$A$823,0)),\"\",IF(VLOOKUP($D19,FisQui!$A$4:$AK$823,10,FALSE)=\"\",\"\",VLOOKUP($D19,FisQui!$A$4:$AK$823,10,FALSE)))","v":""},{"$f":"IF(ISERROR(MATCH($D19,FisQui!$A$4:$A$823,0)),\"\",IF(VLOOKUP($D19,FisQui!$A$4:$AK$823,12,FALSE)=\"\",\"\",VLOOKUP($D19,FisQui!$A$4:$AK$823,12,FALSE)))","v":""},{"$f":"IF(ISERROR(MATCH($D19,FisQui!$A$4:$A$823,0)),\"\",IF(VLOOKUP($D19,FisQui!$A$4:$AK$823,18,FALSE)=0,\"\",VLOOKUP($D19,FisQui!$A$4:$AK$823,18,FALSE)))","v":""},{"$f":"IF(ISERROR(MATCH(D19,FisQui!$A$4:$A$823,0)),\"\",IF(AND(VLOOKUP(D19,FisQui!$A$4:$AK$823,22,FALSE)=\"\",Koc.11=\"\"),\"\",IF(AND(VLOOKUP(D19,FisQui!$A$4:$AK$823,22,FALSE)<>\"\",Koc.11=\"\"),(VLOOKUP(D19,FisQui!$A$4:$AK$823,22,FALSE)),Koc.11*foc.s)))","v":""},{"$f":"IF(ISERROR(MATCH($D19,FisQui!$A$4:$A$823,0)),\"\",IF(VLOOKUP($D19,FisQui!$A$4:$AK$823,24,FALSE)=\"\",\"\",VLOOKUP($D19,FisQui!$A$4:$AK$823,24,FALSE)))","v":""},{"$f":"IF(ISERROR(MATCH($D19,FisQui!$A$4:$A$823,0)),\"\",IF(VLOOKUP($D19,FisQui!$A$4:$AK$823,20,FALSE)=\"\",\"\",VLOOKUP($D19,FisQui!$A$4:$AK$823,20,FALSE)))","v":""},{"$f":"IF(ISERROR(MATCH($D19,FisQui!$A$4:$A$823,0)),\"\",IF(VLOOKUP($D19,FisQui!$A$4:$AK$823,26,FALSE)=\"\",\"\",VLOOKUP($D19,FisQui!$A$4:$AK$823,26,FALSE)))","v":""},{"$f":"IF(ISERROR(MATCH($D19,FisQui!$A$4:$A$823,0)),\"\",IF(VLOOKUP($D19,FisQui!$A$4:$AK$823,28,FALSE)=\"\",\"\",VLOOKUP($D19,FisQui!$A$4:$AK$823,28,FALSE)))","v":""},{"$f":"IF(ISERROR(MATCH($D19,FisQui!$A$4:$A$823,0)),\"\",IF(VLOOKUP($D19,FisQui!$A$4:$AK$823,30,FALSE)=\"\",\"\",VLOOKUP($D19,FisQui!$A$4:$AK$823,30,FALSE)))","v":""},{"$f":"IF(ISERROR(MATCH($D19,FisQui!$A$4:$A$823,0)),\"\",IF(VLOOKUP($D19,FisQui!$A$4:$AK$823,31,FALSE)=\"\",\"\",VLOOKUP($D19,FisQui!$A$4:$AK$823,31,FALSE)))","v":""},{"$f":"IF(ISERROR(MATCH($D19,FisQui!$A$4:$A$823,0)),\"\",IF(VLOOKUP($D19,FisQui!$A$4:$AK$823,33,FALSE)=\"\",\"\",VLOOKUP($D19,FisQui!$A$4:$AK$823,33,FALSE)))","v":""},{"$f":"IF(ISERROR(MATCH($D19,FisQui!$A$4:$A$823,0)),\"\",IF(VLOOKUP($D19,FisQui!$A$4:$AK$823,34,FALSE)=\"\",\"\",VLOOKUP($D19,FisQui!$A$4:$AK$823,34,FALSE)))","v":""},{"$f":"IF(ISERROR(MATCH($D19,FisQui!$A$4:$A$823,0)),\"\",IF(VLOOKUP($D19,FisQui!$A$4:$AK$823,35,FALSE)=\"\",\"\",VLOOKUP($D19,FisQui!$A$4:$AK$823,35,FALSE)))","v":""},{"$f":"IF(ISERROR(MATCH($D19,FisQui!$A$4:$A$823,0)),\"\",IF(VLOOKUP($D19,FisQui!$A$4:$AK$823,36,FALSE)=\"\",\"\",VLOOKUP($D19,FisQui!$A$4:$AK$823,36,FALSE)))","v":""},{"$f":"IF(ISERROR(MATCH($D58,FatTox!$A$4:$A$823,0)),\"\",IF(VLOOKUP($D58,FatTox!$A$4:$V$823,11,FALSE)=\"\",\"\",VLOOKUP($D58,FatTox!$A$4:$V$823,11,FALSE)))","v":""}]
[null,12,{"$f":"IF(ISERROR(MATCH($D20,FisQui!$A$4:$A$823,0)),\"\",VLOOKUP($D20,FisQui!$A$4:$AK$823,2,FALSE))","v":""},null,{"$f":"IF(ISERROR(MATCH($D20,FisQui!$A$4:$A$823,0)),\"\",IF(VLOOKUP($D20,FisQui!$A$4:$AK$823,3,FALSE)=\"\",\"ND\",VLOOKUP($D20,FisQui!$A$4:$AK$823,3,FALSE)))","v":""},{"$f":"IF(ISERROR(MATCH($D20,FisQui!$A$4:$A$823,0)),\"\",IF(VLOOKUP($D20,FisQui!$A$4:$AK$823,5,FALSE)=\"\",\"\",VLOOKUP($D20,FisQui!$A$4:$AK$823,5,FALSE)))","v":""},{"$f":"IF(ISERROR(MATCH($D20,FisQui!$A$4:$A$823,0)),\"\",IF(VLOOKUP($D20,FisQui!$A$4:$AK$823,8,FALSE)=\"\",\"\",VLOOKUP($D20,FisQui!$A$4:$AK$823,8,FALSE)))","v":""},{"$f":"IF(ISERROR(MATCH($D20,FisQui!$A$4:$A$823,0)),\"\",IF(VLOOKUP($D20,FisQui!$A$4:$AK$823,14,FALSE)=\"\",\"\",VLOOKUP($D20,FisQui!$A$4:$AK$823,14,FALSE)))","v":""},{"$f":"IF(ISERROR(MATCH($D20,FisQui!$A$4:$A$823,0)),\"\",IF(VLOOKUP($D20,FisQui!$A$4:$AK$823,16,FALSE)=\"\",\"\",VLOOKUP($D20,FisQui!$A$4:$AK$823,16,FALSE)))","v":""},{"$f":"IF(ISERROR(MATCH($D20,FisQui!$A$4:$A$823,0)),\"\",IF(VLOOKUP($D20,FisQui!$A$4:$AK$823,10,FALSE)=\"\",\"\",VLOOKUP($D20,FisQui!$A$4:$AK$823,10,FALSE)))","v":""},{"$f":"IF(ISERROR(MATCH($D20,FisQui!$A$4:$A$823,0)),\"\",IF(VLOOKUP($D20,FisQui!$A$4:$AK$823,12,FALSE)=\"\",\"\",VLOOKUP($D20,FisQui!$A$4:$AK$823,12,FALSE)))","v":""},{"$f":"IF(ISERROR(MATCH($D20,FisQui!$A$4:$A$823,0)),\"\",IF(VLOOKUP($D20,FisQui!$A$4:$AK$823,18,FALSE)=0,\"\",VLOOKUP($D20,FisQui!$A$4:$AK$823,18,FALSE)))","v":""},{"$f":"IF(ISERROR(MATCH(D20,FisQui!$A$4:$A$823,0)),\"\",IF(AND(VLOOKUP(D20,FisQui!$A$4:$AK$823,22,FALSE)=\"\",Koc.12=\"\"),\"\",IF(AND(VLOOKUP(D20,FisQui!$A$4:$AK$823,22,FALSE)<>\"\",Koc.12=\"\"),(VLOOKUP(D20,FisQui!$A$4:$AK$823,22,FALSE)),Koc.12*foc.s)))","v":""},{"$f":"IF(ISERROR(MATCH($D20,FisQui!$A$4:$A$823,0)),\"\",IF(VLOOKUP($D20,FisQui!$A$4:$AK$823,24,FALSE)=\"\",\"\",VLOOKUP($D20,FisQui!$A$4:$AK$823,24,FALSE)))","v":""},{"$f":"IF(ISERROR(MATCH($D20,FisQui!$A$4:$A$823,0)),\"\",IF(VLOOKUP($D20,FisQui!$A$4:$AK$823,20,FALSE)=\"\",\"\",VLOOKUP($D20,FisQui!$A$4:$AK$823,20,FALSE)))","v":""},{"$f":"IF(ISERROR(MATCH($D20,FisQui!$A$4:$A$823,0)),\"\",IF(VLOOKUP($D20,FisQui!$A$4:$AK$823,26,FALSE)=\"\",\"\",VLOOKUP($D20,FisQui!$A$4:$AK$823,26,FALSE)))","v":""},{"$f":"IF(ISERROR(MATCH($D20,FisQui!$A$4:$A$823,0)),\"\",IF(VLOOKUP($D20,FisQui!$A$4:$AK$823,28,FALSE)=\"\",\"\",VLOOKUP($D20,FisQui!$A$4:$AK$823,28,FALSE)))","v":""},{"$f":"IF(ISERROR(MATCH($D20,FisQui!$A$4:$A$823,0)),\"\",IF(VLOOKUP($D20,FisQui!$A$4:$AK$823,30,FALSE)=\"\",\"\",VLOOKUP($D20,FisQui!$A$4:$AK$823,30,FALSE)))","v":""},{"$f":"IF(ISERROR(MATCH($D20,FisQui!$A$4:$A$823,0)),\"\",IF(VLOOKUP($D20,FisQui!$A$4:$AK$823,31,FALSE)=\"\",\"\",VLOOKUP($D20,FisQui!$A$4:$AK$823,31,FALSE)))","v":""},{"$f":"IF(ISERROR(MATCH($D20,FisQui!$A$4:$A$823,0)),\"\",IF(VLOOKUP($D20,FisQui!$A$4:$AK$823,33,FALSE)=\"\",\"\",VLOOKUP($D20,FisQui!$A$4:$AK$823,33,FALSE)))","v":""},{"$f":"IF(ISERROR(MATCH($D20,FisQui!$A$4:$A$823,0)),\"\",IF(VLOOKUP($D20,FisQui!$A$4:$AK$823,34,FALSE)=\"\",\"\",VLOOKUP($D20,FisQui!$A$4:$AK$823,34,FALSE)))","v":""},{"$f":"IF(ISERROR(MATCH($D20,FisQui!$A$4:$A$823,0)),\"\",IF(VLOOKUP($D20,FisQui!$A$4:$AK$823,35,FALSE)=\"\",\"\",VLOOKUP($D20,FisQui!$A$4:$AK$823,35,FALSE)))","v":""},{"$f":"IF(ISERROR(MATCH($D20,FisQui!$A$4:$A$823,0)),\"\",IF(VLOOKUP($D20,FisQui!$A$4:$AK$823,36,FALSE)=\"\",\"\",VLOOKUP($D20,FisQui!$A$4:$AK$823,36,FALSE)))","v":""},{"$f":"IF(ISERROR(MATCH($D59,FatTox!$A$4:$A$823,0)),\"\",IF(VLOOKUP($D59,FatTox!$A$4:$V$823,11,FALSE)=\"\",\"\",VLOOKUP($D59,FatTox!$A$4:$V$823,11,FALSE)))","v":""}]
[null,13,{"$f":"IF(ISERROR(MATCH($D21,FisQui!$A$4:$A$823,0)),\"\",VLOOKUP($D21,FisQui!$A$4:$AK$823,2,FALSE))","v":""},null,{"$f":"IF(ISERROR(MATCH($D21,FisQui!$A$4:$A$823,0)),\"\",IF(VLOOKUP($D21,FisQui!$A$4:$AK$823,3,FALSE)=\"\",\"ND\",VLOOKUP($D21,FisQui!$A$4:$AK$823,3,FALSE)))","v":""},{"$f":"IF(ISERROR(MATCH($D21,FisQui!$A$4:$A$823,0)),\"\",IF(VLOOKUP($D21,FisQui!$A$4:$AK$823,5,FALSE)=\"\",\"\",VLOOKUP($D21,FisQui!$A$4:$AK$823,5,FALSE)))","v":""},{"$f":"IF(ISERROR(MATCH($D21,FisQui!$A$4:$A$823,0)),\"\",IF(VLOOKUP($D21,FisQui!$A$4:$AK$823,8,FALSE)=\"\",\"\",VLOOKUP($D21,FisQui!$A$4:$AK$823,8,FALSE)))","v":""},{"$f":"IF(ISERROR(MATCH($D21,FisQui!$A$4:$A$823,0)),\"\",IF(VLOOKUP($D21,FisQui!$A$4:$AK$823,14,FALSE)=\"\",\"\",VLOOKUP($D21,FisQui!$A$4:$AK$823,14,FALSE)))","v":""},{"$f":"IF(ISERROR(MATCH($D21,FisQui!$A$4:$A$823,0)),\"\",IF(VLOOKUP($D21,FisQui!$A$4:$AK$823,16,FALSE)=\"\",\"\",VLOOKUP($D21,FisQui!$A$4:$AK$823,16,FALSE)))","v":""},{"$f":"IF(ISERROR(MATCH($D21,FisQui!$A$4:$A$823,0)),\"\",IF(VLOOKUP($D21,FisQui!$A$4:$AK$823,10,FALSE)=\"\",\"\",VLOOKUP($D21,FisQui!$A$4:$AK$823,10,FALSE)))","v":""},{"$f":"IF(ISERROR(MATCH($D21,FisQui!$A$4:$A$823,0)),\"\",IF(VLOOKUP($D21,FisQui!$A$4:$AK$823,12,FALSE)=\"\",\"\",VLOOKUP($D21,FisQui!$A$4:$AK$823,12,FALSE)))","v":""},{"$f":"IF(ISERROR(MATCH($D21,FisQui!$A$4:$A$823,0)),\"\",IF(VLOOKUP($D21,FisQui!$A$4:$AK$823,18,FALSE)=0,\"\",VLOOKUP($D21,FisQui!$A$4:$AK$823,18,FALSE)))","v":""},{"$f":"IF(ISERROR(MATCH(D21,FisQui!$A$4:$A$823,0)),\"\",IF(AND(VLOOKUP(D21,FisQui!$A$4:$AK$823,22,FALSE)=\"\",Koc.13=\"\"),\"\",IF(AND(VLOOKUP(D21,FisQui!$A$4:$AK$823,22,FALSE)<>\"\",Koc.13=\"\"),(VLOOKUP(D21,FisQui!$A$4:$AK$823,22,FALSE)),Koc.13*foc.s)))","v":""},{"$f":"IF(ISERROR(MATCH($D21,FisQui!$A$4:$A$823,0)),\"\",IF(VLOOKUP($D21,FisQui!$A$4:$AK$823,24,FALSE)=\"\",\"\",VLOOKUP($D21,FisQui!$A$4:$AK$823,24,FALSE)))","v":""},{"$f":"IF(ISERROR(MATCH($D21,FisQui!$A$4:$A$823,0)),\"\",IF(VLOOKUP($D21,FisQui!$A$4:$AK$823,20,FALSE)=\"\",\"\",VLOOKUP($D21,FisQui!$A$4:$AK$823,20,FALSE)))","v":""},{"$f":"IF(ISERROR(MATCH($D21,FisQui!$A$4:$A$823,0)),\"\",IF(VLOOKUP($D21,FisQui!$A$4:$AK$823,26,FALSE)=\"\",\"\",VLOOKUP($D21,FisQui!$A$4:$AK$823,26,FALSE)))","v":""},{"$f":"IF(ISERROR(MATCH($D21,FisQui!$A$4:$A$823,0)),\"\",IF(VLOOKUP($D21,FisQui!$A$4:$AK$823,28,FALSE)=\"\",\"\",VLOOKUP($D21,FisQui!$A$4:$AK$823,28,FALSE)))","v":""},{"$f":"IF(ISERROR(MATCH($D21,FisQui!$A$4:$A$823,0)),\"\",IF(VLOOKUP($D21,FisQui!$A$4:$AK$823,30,FALSE)=\"\",\"\",VLOOKUP($D21,FisQui!$A$4:$AK$823,30,FALSE)))","v":""},{"$f":"IF(ISERROR(MATCH($D21,FisQui!$A$4:$A$823,0)),\"\",IF(VLOOKUP($D21,FisQui!$A$4:$AK$823,31,FALSE)=\"\",\"\",VLOOKUP($D21,FisQui!$A$4:$AK$823,31,FALSE)))","v":""},{"$f":"IF(ISERROR(MATCH($D21,FisQui!$A$4:$A$823,0)),\"\",IF(VLOOKUP($D21,FisQui!$A$4:$AK$823,33,FALSE)=\"\",\"\",VLOOKUP($D21,FisQui!$A$4:$AK$823,33,FALSE)))","v":""},{"$f":"IF(ISERROR(MATCH($D21,FisQui!$A$4:$A$823,0)),\"\",IF(VLOOKUP($D21,FisQui!$A$4:$AK$823,34,FALSE)=\"\",\"\",VLOOKUP($D21,FisQui!$A$4:$AK$823,34,FALSE)))","v":""},{"$f":"IF(ISERROR(MATCH($D21,FisQui!$A$4:$A$823,0)),\"\",IF(VLOOKUP($D21,FisQui!$A$4:$AK$823,35,FALSE)=\"\",\"\",VLOOKUP($D21,FisQui!$A$4:$AK$823,35,FALSE)))","v":""},{"$f":"IF(ISERROR(MATCH($D21,FisQui!$A$4:$A$823,0)),\"\",IF(VLOOKUP($D21,FisQui!$A$4:$AK$823,36,FALSE)=\"\",\"\",VLOOKUP($D21,FisQui!$A$4:$AK$823,36,FALSE)))","v":""},{"$f":"IF(ISERROR(MATCH($D60,FatTox!$A$4:$A$823,0)),\"\",IF(VLOOKUP($D60,FatTox!$A$4:$V$823,11,FALSE)=\"\",\"\",VLOOKUP($D60,FatTox!$A$4:$V$823,11,FALSE)))","v":""}]
[null,14,{"$f":"IF(ISERROR(MATCH($D22,FisQui!$A$4:$A$823,0)),\"\",VLOOKUP($D22,FisQui!$A$4:$AK$823,2,FALSE))","v":""},null,{"$f":"IF(ISERROR(MATCH($D22,FisQui!$A$4:$A$823,0)),\"\",IF(VLOOKUP($D22,FisQui!$A$4:$AK$823,3,FALSE)=\"\",\"ND\",VLOOKUP($D22,FisQui!$A$4:$AK$823,3,FALSE)))","v":""},{"$f":"IF(ISERROR(MATCH($D22,FisQui!$A$4:$A$823,0)),\"\",IF(VLOOKUP($D22,FisQui!$A$4:$AK$823,5,FALSE)=\"\",\"\",VLOOKUP($D22,FisQui!$A$4:$AK$823,5,FALSE)))","v":""},{"$f":"IF(ISERROR(MATCH($D22,FisQui!$A$4:$A$823,0)),\"\",IF(VLOOKUP($D22,FisQui!$A$4:$AK$823,8,FALSE)=\"\",\"\",VLOOKUP($D22,FisQui!$A$4:$AK$823,8,FALSE)))","v":""},{"$f":"IF(ISERROR(MATCH($D22,FisQui!$A$4:$A$823,0)),\"\",IF(VLOOKUP($D22,FisQui!$A$4:$AK$823,14,FALSE)=\"\",\"\",VLOOKUP($D22,FisQui!$A$4:$AK$823,14,FALSE)))","v":""},{"$f":"IF(ISERROR(MATCH($D22,FisQui!$A$4:$A$823,0)),\"\",IF(VLOOKUP($D22,FisQui!$A$4:$AK$823,16,FALSE)=\"\",\"\",VLOOKUP($D22,FisQui!$A$4:$AK$823,16,FALSE)))","v":""},{"$f":"IF(ISERROR(MATCH($D22,FisQui!$A$4:$A$823,0)),\"\",IF(VLOOKUP($D22,FisQui!$A$4:$AK$823,10,FALSE)=\"\",\"\",VLOOKUP($D22,FisQui!$A$4:$AK$823,10,FALSE)))","v":""},{"$f":"IF(ISERROR(MATCH($D22,FisQui!$A$4:$A$823,0)),\"\",IF(VLOOKUP($D22,FisQui!$A$4:$AK$823,12,FALSE)=\"\",\"\",VLOOKUP($D22,FisQui!$A$4:$AK$823,12,FALSE)))","v":""},{"$f":"IF(ISERROR(MATCH($D22,FisQui!$A$4:$A$823,0)),\"\",IF(VLOOKUP($D22,FisQui!$A$4:$AK$823,18,FALSE)=0,\"\",VLOOKUP($D22,FisQui!$A$4:$AK$823,18,FALSE)))","v":""},{"$f":"IF(ISERROR(MATCH(D22,FisQui!$A$4:$A$823,0)),\"\",IF(AND(VLOOKUP(D22,FisQui!$A$4:$AK$823,22,FALSE)=\"\",Koc.14=\"\"),\"\",IF(AND(VLOOKUP(D22,FisQui!$A$4:$AK$823,22,FALSE)<>\"\",Koc.14=\"\"),(VLOOKUP(D22,FisQui!$A$4:$AK$823,22,FALSE)),Koc.14*foc.s)))","v":""},{"$f":"IF(ISERROR(MATCH($D22,FisQui!$A$4:$A$823,0)),\"\",IF(VLOOKUP($D22,FisQui!$A$4:$AK$823,24,FALSE)=\"\",\"\",VLOOKUP($D22,FisQui!$A$4:$AK$823,24,FALSE)))","v":""},{"$f":"IF(ISERROR(MATCH($D22,FisQui!$A$4:$A$823,0)),\"\",IF(VLOOKUP($D22,FisQui!$A$4:$AK$823,20,FALSE)=\"\",\"\",VLOOKUP($D22,FisQui!$A$4:$AK$823,20,FALSE)))","v":""},{"$f":"IF(ISERROR(MATCH($D22,FisQui!$A$4:$A$823,0)),\"\",IF(VLOOKUP($D22,FisQui!$A$4:$AK$823,26,FALSE)=\"\",\"\",VLOOKUP($D22,FisQui!$A$4:$AK$823,26,FALSE)))","v":""},{"$f":"IF(ISERROR(MATCH($D22,FisQui!$A$4:$A$823,0)),\"\",IF(VLOOKUP($D22,FisQui!$A$4:$AK$823,28,FALSE)=\"\",\"\",VLOOKUP($D22,FisQui!$A$4:$AK$823,28,FALSE)))","v":""},{"$f":"IF(ISERROR(MATCH($D22,FisQui!$A$4:$A$823,0)),\"\",IF(VLOOKUP($D22,FisQui!$A$4:$AK$823,30,FALSE)=\"\",\"\",VLOOKUP($D22,FisQui!$A$4:$AK$823,30,FALSE)))","v":""},{"$f":"IF(ISERROR(MATCH($D22,FisQui!$A$4:$A$823,0)),\"\",IF(VLOOKUP($D22,FisQui!$A$4:$AK$823,31,FALSE)=\"\",\"\",VLOOKUP($D22,FisQui!$A$4:$AK$823,31,FALSE)))","v":""},{"$f":"IF(ISERROR(MATCH($D22,FisQui!$A$4:$A$823,0)),\"\",IF(VLOOKUP($D22,FisQui!$A$4:$AK$823,33,FALSE)=\"\",\"\",VLOOKUP($D22,FisQui!$A$4:$AK$823,33,FALSE)))","v":""},{"$f":"IF(ISERROR(MATCH($D22,FisQui!$A$4:$A$823,0)),\"\",IF(VLOOKUP($D22,FisQui!$A$4:$AK$823,34,FALSE)=\"\",\"\",VLOOKUP($D22,FisQui!$A$4:$AK$823,34,FALSE)))","v":""},{"$f":"IF(ISERROR(MATCH($D22,FisQui!$A$4:$A$823,0)),\"\",IF(VLOOKUP($D22,FisQui!$A$4:$AK$823,35,FALSE)=\"\",\"\",VLOOKUP($D22,FisQui!$A$4:$AK$823,35,FALSE)))","v":""},{"$f":"IF(ISERROR(MATCH($D22,FisQui!$A$4:$A$823,0)),\"\",IF(VLOOKUP($D22,FisQui!$A$4:$AK$823,36,FALSE)=\"\",\"\",VLOOKUP($D22,FisQui!$A$4:$AK$823,36,FALSE)))","v":""},{"$f":"IF(ISERROR(MATCH($D61,FatTox!$A$4:$A$823,0)),\"\",IF(VLOOKUP($D61,FatTox!$A$4:$V$823,11,FALSE)=\"\",\"\",VLOOKUP($D61,FatTox!$A$4:$V$823,11,FALSE)))","v":""}]
[null,15,{"$f":"IF(ISERROR(MATCH($D23,FisQui!$A$4:$A$823,0)),\"\",VLOOKUP($D23,FisQui!$A$4:$AK$823,2,FALSE))","v":""},null,{"$f":"IF(ISERROR(MATCH($D23,FisQui!$A$4:$A$823,0)),\"\",IF(VLOOKUP($D23,FisQui!$A$4:$AK$823,3,FALSE)=\"\",\"ND\",VLOOKUP($D23,FisQui!$A$4:$AK$823,3,FALSE)))","v":""},{"$f":"IF(ISERROR(MATCH($D23,FisQui!$A$4:$A$823,0)),\"\",IF(VLOOKUP($D23,FisQui!$A$4:$AK$823,5,FALSE)=\"\",\"\",VLOOKUP($D23,FisQui!$A$4:$AK$823,5,FALSE)))","v":""},{"$f":"IF(ISERROR(MATCH($D23,FisQui!$A$4:$A$823,0)),\"\",IF(VLOOKUP($D23,FisQui!$A$4:$AK$823,8,FALSE)=\"\",\"\",VLOOKUP($D23,FisQui!$A$4:$AK$823,8,FALSE)))","v":""},{"$f":"IF(ISERROR(MATCH($D23,FisQui!$A$4:$A$823,0)),\"\",IF(VLOOKUP($D23,FisQui!$A$4:$AK$823,14,FALSE)=\"\",\"\",VLOOKUP($D23,FisQui!$A$4:$AK$823,14,FALSE)))","v":""},{"$f":"IF(ISERROR(MATCH($D23,FisQui!$A$4:$A$823,0)),\"\",IF(VLOOKUP($D23,FisQui!$A$4:$AK$823,16,FALSE)=\"\",\"\",VLOOKUP($D23,FisQui!$A$4:$AK$823,16,FALSE)))","v":""},{"$f":"IF(ISERROR(MATCH($D23,FisQui!$A$4:$A$823,0)),\"\",IF(VLOOKUP($D23,FisQui!$A$4:$AK$823,10,FALSE)=\"\",\"\",VLOOKUP($D23,FisQui!$A$4:$AK$823,10,FALSE)))","v":""},{"$f":"IF(ISERROR(MATCH($D23,FisQui!$A$4:$A$823,0)),\"\",IF(VLOOKUP($D23,FisQui!$A$4:$AK$823,12,FALSE)=\"\",\"\",VLOOKUP($D23,FisQui!$A$4:$AK$823,12,FALSE)))","v":""},{"$f":"IF(ISERROR(MATCH($D23,FisQui!$A$4:$A$823,0)),\"\",IF(VLOOKUP($D23,FisQui!$A$4:$AK$823,18,FALSE)=0,\"\",VLOOKUP($D23,FisQui!$A$4:$AK$823,18,FALSE)))","v":""},{"$f":"IF(ISERROR(MATCH(D23,FisQui!$A$4:$A$823,0)),\"\",IF(AND(VLOOKUP(D23,FisQui!$A$4:$AK$823,22,FALSE)=\"\",Koc.15=\"\"),\"\",IF(AND(VLOOKUP(D23,FisQui!$A$4:$AK$823,22,FALSE)<>\"\",Koc.15=\"\"),(VLOOKUP(D23,FisQui!$A$4:$AK$823,22,FALSE)),Koc.15*foc.s)))","v":""},{"$f":"IF(ISERROR(MATCH($D23,FisQui!$A$4:$A$823,0)),\"\",IF(VLOOKUP($D23,FisQui!$A$4:$AK$823,24,FALSE)=\"\",\"\",VLOOKUP($D23,FisQui!$A$4:$AK$823,24,FALSE)))","v":""},{"$f":"IF(ISERROR(MATCH($D23,FisQui!$A$4:$A$823,0)),\"\",IF(VLOOKUP($D23,FisQui!$A$4:$AK$823,20,FALSE)=\"\",\"\",VLOOKUP($D23,FisQui!$A$4:$AK$823,20,FALSE)))","v":""},{"$f":"IF(ISERROR(MATCH($D23,FisQui!$A$4:$A$823,0)),\"\",IF(VLOOKUP($D23,FisQui!$A$4:$AK$823,26,FALSE)=\"\",\"\",VLOOKUP($D23,FisQui!$A$4:$AK$823,26,FALSE)))","v":""},{"$f":"IF(ISERROR(MATCH($D23,FisQui!$A$4:$A$823,0)),\"\",IF(VLOOKUP($D23,FisQui!$A$4:$AK$823,28,FALSE)=\"\",\"\",VLOOKUP($D23,FisQui!$A$4:$AK$823,28,FALSE)))","v":""},{"$f":"IF(ISERROR(MATCH($D23,FisQui!$A$4:$A$823,0)),\"\",IF(VLOOKUP($D23,FisQui!$A$4:$AK$823,30,FALSE)=\"\",\"\",VLOOKUP($D23,FisQui!$A$4:$AK$823,30,FALSE)))","v":""},{"$f":"IF(ISERROR(MATCH($D23,FisQui!$A$4:$A$823,0)),\"\",IF(VLOOKUP($D23,FisQui!$A$4:$AK$823,31,FALSE)=\"\",\"\",VLOOKUP($D23,FisQui!$A$4:$AK$823,31,FALSE)))","v":""},{"$f":"IF(ISERROR(MATCH($D23,FisQui!$A$4:$A$823,0)),\"\",IF(VLOOKUP($D23,FisQui!$A$4:$AK$823,33,FALSE)=\"\",\"\",VLOOKUP($D23,FisQui!$A$4:$AK$823,33,FALSE)))","v":""},{"$f":"IF(ISERROR(MATCH($D23,FisQui!$A$4:$A$823,0)),\"\",IF(VLOOKUP($D23,FisQui!$A$4:$AK$823,34,FALSE)=\"\",\"\",VLOOKUP($D23,FisQui!$A$4:$AK$823,34,FALSE)))","v":""},{"$f":"IF(ISERROR(MATCH($D23,FisQui!$A$4:$A$823,0)),\"\",IF(VLOOKUP($D23,FisQui!$A$4:$AK$823,35,FALSE)=\"\",\"\",VLOOKUP($D23,FisQui!$A$4:$AK$823,35,FALSE)))","v":""},{"$f":"IF(ISERROR(MATCH($D23,FisQui!$A$4:$A$823,0)),\"\",IF(VLOOKUP($D23,FisQui!$A$4:$AK$823,36,FALSE)=\"\",\"\",VLOOKUP($D23,FisQui!$A$4:$AK$823,36,FALSE)))","v":""},{"$f":"IF(ISERROR(MATCH($D62,FatTox!$A$4:$A$823,0)),\"\",IF(VLOOKUP($D62,FatTox!$A$4:$V$823,11,FALSE)=\"\",\"\",VLOOKUP($D62,FatTox!$A$4:$V$823,11,FALSE)))","v":""}]
[null,16,{"$f":"IF(ISERROR(MATCH($D24,FisQui!$A$4:$A$823,0)),\"\",VLOOKUP($D24,FisQui!$A$4:$AK$823,2,FALSE))","v":""},null,{"$f":"IF(ISERROR(MATCH($D24,FisQui!$A$4:$A$823,0)),\"\",IF(VLOOKUP($D24,FisQui!$A$4:$AK$823,3,FALSE)=\"\",\"ND\",VLOOKUP($D24,FisQui!$A$4:$AK$823,3,FALSE)))","v":""},{"$f":"IF(ISERROR(MATCH($D24,FisQui!$A$4:$A$823,0)),\"\",IF(VLOOKUP($D24,FisQui!$A$4:$AK$823,5,FALSE)=\"\",\"\",VLOOKUP($D24,FisQui!$A$4:$AK$823,5,FALSE)))","v":""},{"$f":"IF(ISERROR(MATCH($D24,FisQui!$A$4:$A$823,0)),\"\",IF(VLOOKUP($D24,FisQui!$A$4:$AK$823,8,FALSE)=\"\",\"\",VLOOKUP($D24,FisQui!$A$4:$AK$823,8,FALSE)))","v":""},{"$f":"IF(ISERROR(MATCH($D24,FisQui!$A$4:$A$823,0)),\"\",IF(VLOOKUP($D24,FisQui!$A$4:$AK$823,14,FALSE)=\"\",\"\",VLOOKUP($D24,FisQui!$A$4:$AK$823,14,FALSE)))","v":""},{"$f":"IF(ISERROR(MATCH($D24,FisQui!$A$4:$A$823,0)),\"\",IF(VLOOKUP($D24,FisQui!$A$4:$AK$823,16,FALSE)=\"\",\"\",VLOOKUP($D24,FisQui!$A$4:$AK$823,16,FALSE)))","v":""},{"$f":"IF(ISERROR(MATCH($D24,FisQui!$A$4:$A$823,0)),\"\",IF(VLOOKUP($D24,FisQui!$A$4:$AK$823,10,FALSE)=\"\",\"\",VLOOKUP($D24,FisQui!$A$4:$AK$823,10,FALSE)))","v":""},{"$f":"IF(ISERROR(MATCH($D24,FisQui!$A$4:$A$823,0)),\"\",IF(VLOOKUP($D24,FisQui!$A$4:$AK$823,12,FALSE)=\"\",\"\",VLOOKUP($D24,FisQui!$A$4:$AK$823,12,FALSE)))","v":""},{"$f":"IF(ISERROR(MATCH($D24,FisQui!$A$4:$A$823,0)),\"\",IF(VLOOKUP($D24,FisQui!$A$4:$AK$823,18,FALSE)=0,\"\",VLOOKUP($D24,FisQui!$A$4:$AK$823,18,FALSE)))","v":""},{"$f":"IF(ISERROR(MATCH(D24,FisQui!$A$4:$A$823,0)),\"\",IF(AND(VLOOKUP(D24,FisQui!$A$4:$AK$823,22,FALSE)=\"\",Koc.16=\"\"),\"\",IF(AND(VLOOKUP(D24,FisQui!$A$4:$AK$823,22,FALSE)<>\"\",Koc.16=\"\"),(VLOOKUP(D24,FisQui!$A$4:$AK$823,22,FALSE)),Koc.16*foc.s)))","v":""},{"$f":"IF(ISERROR(MATCH($D24,FisQui!$A$4:$A$823,0)),\"\",IF(VLOOKUP($D24,FisQui!$A$4:$AK$823,24,FALSE)=\"\",\"\",VLOOKUP($D24,FisQui!$A$4:$AK$823,24,FALSE)))","v":""},{"$f":"IF(ISERROR(MATCH($D24,FisQui!$A$4:$A$823,0)),\"\",IF(VLOOKUP($D24,FisQui!$A$4:$AK$823,20,FALSE)=\"\",\"\",VLOOKUP($D24,FisQui!$A$4:$AK$823,20,FALSE)))","v":""},{"$f":"IF(ISERROR(MATCH($D24,FisQui!$A$4:$A$823,0)),\"\",IF(VLOOKUP($D24,FisQui!$A$4:$AK$823,26,FALSE)=\"\",\"\",VLOOKUP($D24,FisQui!$A$4:$AK$823,26,FALSE)))","v":""},{"$f":"IF(ISERROR(MATCH($D24,FisQui!$A$4:$A$823,0)),\"\",IF(VLOOKUP($D24,FisQui!$A$4:$AK$823,28,FALSE)=\"\",\"\",VLOOKUP($D24,FisQui!$A$4:$AK$823,28,FALSE)))","v":""},{"$f":"IF(ISERROR(MATCH($D24,FisQui!$A$4:$A$823,0)),\"\",IF(VLOOKUP($D24,FisQui!$A$4:$AK$823,30,FALSE)=\"\",\"\",VLOOKUP($D24,FisQui!$A$4:$AK$823,30,FALSE)))","v":""},{"$f":"IF(ISERROR(MATCH($D24,FisQui!$A$4:$A$823,0)),\"\",IF(VLOOKUP($D24,FisQui!$A$4:$AK$823,31,FALSE)=\"\",\"\",VLOOKUP($D24,FisQui!$A$4:$AK$823,31,FALSE)))","v":""},{"$f":"IF(ISERROR(MATCH($D24,FisQui!$A$4:$A$823,0)),\"\",IF(VLOOKUP($D24,FisQui!$A$4:$AK$823,33,FALSE)=\"\",\"\",VLOOKUP($D24,FisQui!$A$4:$AK$823,33,FALSE)))","v":""},{"$f":"IF(ISERROR(MATCH($D24,FisQui!$A$4:$A$823,0)),\"\",IF(VLOOKUP($D24,FisQui!$A$4:$AK$823,34,FALSE)=\"\",\"\",VLOOKUP($D24,FisQui!$A$4:$AK$823,34,FALSE)))","v":""},{"$f":"IF(ISERROR(MATCH($D24,FisQui!$A$4:$A$823,0)),\"\",IF(VLOOKUP($D24,FisQui!$A$4:$AK$823,35,FALSE)=\"\",\"\",VLOOKUP($D24,FisQui!$A$4:$AK$823,35,FALSE)))","v":""},{"$f":"IF(ISERROR(MATCH($D24,FisQui!$A$4:$A$823,0)),\"\",IF(VLOOKUP($D24,FisQui!$A$4:$AK$823,36,FALSE)=\"\",\"\",VLOOKUP($D24,FisQui!$A$4:$AK$823,36,FALSE)))","v":""},{"$f":"IF(ISERROR(MATCH($D63,FatTox!$A$4:$A$823,0)),\"\",IF(VLOOKUP($D63,FatTox!$A$4:$V$823,11,FALSE)=\"\",\"\",VLOOKUP($D63,FatTox!$A$4:$V$823,11,FALSE)))","v":""}]
[null,17,{"$f":"IF(ISERROR(MATCH($D25,FisQui!$A$4:$A$823,0)),\"\",VLOOKUP($D25,FisQui!$A$4:$AK$823,2,FALSE))","v":""},null,{"$f":"IF(ISERROR(MATCH($D25,FisQui!$A$4:$A$823,0)),\"\",IF(VLOOKUP($D25,FisQui!$A$4:$AK$823,3,FALSE)=\"\",\"ND\",VLOOKUP($D25,FisQui!$A$4:$AK$823,3,FALSE)))","v":""},{"$f":"IF(ISERROR(MATCH($D25,FisQui!$A$4:$A$823,0)),\"\",IF(VLOOKUP($D25,FisQui!$A$4:$AK$823,5,FALSE)=\"\",\"\",VLOOKUP($D25,FisQui!$A$4:$AK$823,5,FALSE)))","v":""},{"$f":"IF(ISERROR(MATCH($D25,FisQui!$A$4:$A$823,0)),\"\",IF(VLOOKUP($D25,FisQui!$A$4:$AK$823,8,FALSE)=\"\",\"\",VLOOKUP($D25,FisQui!$A$4:$AK$823,8,FALSE)))","v":""},{"$f":"IF(ISERROR(MATCH($D25,FisQui!$A$4:$A$823,0)),\"\",IF(VLOOKUP($D25,FisQui!$A$4:$AK$823,14,FALSE)=\"\",\"\",VLOOKUP($D25,FisQui!$A$4:$AK$823,14,FALSE)))","v":""},{"$f":"IF(ISERROR(MATCH($D25,FisQui!$A$4:$A$823,0)),\"\",IF(VLOOKUP($D25,FisQui!$A$4:$AK$823,16,FALSE)=\"\",\"\",VLOOKUP($D25,FisQui!$A$4:$AK$823,16,FALSE)))","v":""},{"$f":"IF(ISERROR(MATCH($D25,FisQui!$A$4:$A$823,0)),\"\",IF(VLOOKUP($D25,FisQui!$A$4:$AK$823,10,FALSE)=\"\",\"\",VLOOKUP($D25,FisQui!$A$4:$AK$823,10,FALSE)))","v":""},{"$f":"IF(ISERROR(MATCH($D25,FisQui!$A$4:$A$823,0)),\"\",IF(VLOOKUP($D25,FisQui!$A$4:$AK$823,12,FALSE)=\"\",\"\",VLOOKUP($D25,FisQui!$A$4:$AK$823,12,FALSE)))","v":""},{"$f":"IF(ISERROR(MATCH($D25,FisQui!$A$4:$A$823,0)),\"\",IF(VLOOKUP($D25,FisQui!$A$4:$AK$823,18,FALSE)=0,\"\",VLOOKUP($D25,FisQui!$A$4:$AK$823,18,FALSE)))","v":""},{"$f":"IF(ISERROR(MATCH(D25,FisQui!$A$4:$A$823,0)),\"\",IF(AND(VLOOKUP(D25,FisQui!$A$4:$AK$823,22,FALSE)=\"\",Koc.17=\"\"),\"\",IF(AND(VLOOKUP(D25,FisQui!$A$4:$AK$823,22,FALSE)<>\"\",Koc.17=\"\"),(VLOOKUP(D25,FisQui!$A$4:$AK$823,22,FALSE)),Koc.17*foc.s)))","v":""},{"$f":"IF(ISERROR(MATCH($D25,FisQui!$A$4:$A$823,0)),\"\",IF(VLOOKUP($D25,FisQui!$A$4:$AK$823,24,FALSE)=\"\",\"\",VLOOKUP($D25,FisQui!$A$4:$AK$823,24,FALSE)))","v":""},{"$f":"IF(ISERROR(MATCH($D25,FisQui!$A$4:$A$823,0)),\"\",IF(VLOOKUP($D25,FisQui!$A$4:$AK$823,20,FALSE)=\"\",\"\",VLOOKUP($D25,FisQui!$A$4:$AK$823,20,FALSE)))","v":""},{"$f":"IF(ISERROR(MATCH($D25,FisQui!$A$4:$A$823,0)),\"\",IF(VLOOKUP($D25,FisQui!$A$4:$AK$823,26,FALSE)=\"\",\"\",VLOOKUP($D25,FisQui!$A$4:$AK$823,26,FALSE)))","v":""},{"$f":"IF(ISERROR(MATCH($D25,FisQui!$A$4:$A$823,0)),\"\",IF(VLOOKUP($D25,FisQui!$A$4:$AK$823,28,FALSE)=\"\",\"\",VLOOKUP($D25,FisQui!$A$4:$AK$823,28,FALSE)))","v":""},{"$f":"IF(ISERROR(MATCH($D25,FisQui!$A$4:$A$823,0)),\"\",IF(VLOOKUP($D25,FisQui!$A$4:$AK$823,30,FALSE)=\"\",\"\",VLOOKUP($D25,FisQui!$A$4:$AK$823,30,FALSE)))","v":""},{"$f":"IF(ISERROR(MATCH($D25,FisQui!$A$4:$A$823,0)),\"\",IF(VLOOKUP($D25,FisQui!$A$4:$AK$823,31,FALSE)=\"\",\"\",VLOOKUP($D25,FisQui!$A$4:$AK$823,31,FALSE)))","v":""},{"$f":"IF(ISERROR(MATCH($D25,FisQui!$A$4:$A$823,0)),\"\",IF(VLOOKUP($D25,FisQui!$A$4:$AK$823,33,FALSE)=\"\",\"\",VLOOKUP($D25,FisQui!$A$4:$AK$823,33,FALSE)))","v":""},{"$f":"IF(ISERROR(MATCH($D25,FisQui!$A$4:$A$823,0)),\"\",IF(VLOOKUP($D25,FisQui!$A$4:$AK$823,34,FALSE)=\"\",\"\",VLOOKUP($D25,FisQui!$A$4:$AK$823,34,FALSE)))","v":""},{"$f":"IF(ISERROR(MATCH($D25,FisQui!$A$4:$A$823,0)),\"\",IF(VLOOKUP($D25,FisQui!$A$4:$AK$823,35,FALSE)=\"\",\"\",VLOOKUP($D25,FisQui!$A$4:$AK$823,35,FALSE)))","v":""},{"$f":"IF(ISERROR(MATCH($D25,FisQui!$A$4:$A$823,0)),\"\",IF(VLOOKUP($D25,FisQui!$A$4:$AK$823,36,FALSE)=\"\",\"\",VLOOKUP($D25,FisQui!$A$4:$AK$823,36,FALSE)))","v":""},{"$f":"IF(ISERROR(MATCH($D64,FatTox!$A$4:$A$823,0)),\"\",IF(VLOOKUP($D64,FatTox!$A$4:$V$823,11,FALSE)=\"\",\"\",VLOOKUP($D64,FatTox!$A$4:$V$823,11,FALSE)))","v":""}]
[null,18,{"$f":"IF(ISERROR(MATCH($D26,FisQui!$A$4:$A$823,0)),\"\",VLOOKUP($D26,FisQui!$A$4:$AK$823,2,FALSE))","v":""},null,{"$f":"IF(ISERROR(MATCH($D26,FisQui!$A$4:$A$823,0)),\"\",IF(VLOOKUP($D26,FisQui!$A$4:$AK$823,3,FALSE)=\"\",\"ND\",VLOOKUP($D26,FisQui!$A$4:$AK$823,3,FALSE)))","v":""},{"$f":"IF(ISERROR(MATCH($D26,FisQui!$A$4:$A$823,0)),\"\",IF(VLOOKUP($D26,FisQui!$A$4:$AK$823,5,FALSE)=\"\",\"\",VLOOKUP($D26,FisQui!$A$4:$AK$823,5,FALSE)))","v":""},{"$f":"IF(ISERROR(MATCH($D26,FisQui!$A$4:$A$823,0)),\"\",IF(VLOOKUP($D26,FisQui!$A$4:$AK$823,8,FALSE)=\"\",\"\",VLOOKUP($D26,FisQui!$A$4:$AK$823,8,FALSE)))","v":""},{"$f":"IF(ISERROR(MATCH($D26,FisQui!$A$4:$A$823,0)),\"\",IF(VLOOKUP($D26,FisQui!$A$4:$AK$823,14,FALSE)=\"\",\"\",VLOOKUP($D26,FisQui!$A$4:$AK$823,14,FALSE)))","v":""},{"$f":"IF(ISERROR(MATCH($D26,FisQui!$A$4:$A$823,0)),\"\",IF(VLOOKUP($D26,FisQui!$A$4:$AK$823,16,FALSE)=\"\",\"\",VLOOKUP($D26,FisQui!$A$4:$AK$823,16,FALSE)))","v":""},{"$f":"IF(ISERROR(MATCH($D26,FisQui!$A$4:$A$823,0)),\"\",IF(VLOOKUP($D26,FisQui!$A$4:$AK$823,10,FALSE)=\"\",\"\",VLOOKUP($D26,FisQui!$A$4:$AK$823,10,FALSE)))","v":""},{"$f":"IF(ISERROR(MATCH($D26,FisQui!$A$4:$A$823,0)),\"\",IF(VLOOKUP($D26,FisQui!$A$4:$AK$823,12,FALSE)=\"\",\"\",VLOOKUP($D26,FisQui!$A$4:$AK$823,12,FALSE)))","v":""},{"$f":"IF(ISERROR(MATCH($D26,FisQui!$A$4:$A$823,0)),\"\",IF(VLOOKUP($D26,FisQui!$A$4:$AK$823,18,FALSE)=0,\"\",VLOOKUP($D26,FisQui!$A$4:$AK$823,18,FALSE)))","v":""},{"$f":"IF(ISERROR(MATCH(D26,FisQui!$A$4:$A$823,0)),\"\",IF(AND(VLOOKUP(D26,FisQui!$A$4:$AK$823,22,FALSE)=\"\",Koc.18=\"\"),\"\",IF(AND(VLOOKUP(D26,FisQui!$A$4:$AK$823,22,FALSE)<>\"\",Koc.18=\"\"),(VLOOKUP(D26,FisQui!$A$4:$AK$823,22,FALSE)),Koc.18*foc.s)))","v":""},{"$f":"IF(ISERROR(MATCH($D26,FisQui!$A$4:$A$823,0)),\"\",IF(VLOOKUP($D26,FisQui!$A$4:$AK$823,24,FALSE)=\"\",\"\",VLOOKUP($D26,FisQui!$A$4:$AK$823,24,FALSE)))","v":""},{"$f":"IF(ISERROR(MATCH($D26,FisQui!$A$4:$A$823,0)),\"\",IF(VLOOKUP($D26,FisQui!$A$4:$AK$823,20,FALSE)=\"\",\"\",VLOOKUP($D26,FisQui!$A$4:$AK$823,20,FALSE)))","v":""},{"$f":"IF(ISERROR(MATCH($D26,FisQui!$A$4:$A$823,0)),\"\",IF(VLOOKUP($D26,FisQui!$A$4:$AK$823,26,FALSE)=\"\",\"\",VLOOKUP($D26,FisQui!$A$4:$AK$823,26,FALSE)))","v":""},{"$f":"IF(ISERROR(MATCH($D26,FisQui!$A$4:$A$823,0)),\"\",IF(VLOOKUP($D26,FisQui!$A$4:$AK$823,28,FALSE)=\"\",\"\",VLOOKUP($D26,FisQui!$A$4:$AK$823,28,FALSE)))","v":""},{"$f":"IF(ISERROR(MATCH($D26,FisQui!$A$4:$A$823,0)),\"\",IF(VLOOKUP($D26,FisQui!$A$4:$AK$823,30,FALSE)=\"\",\"\",VLOOKUP($D26,FisQui!$A$4:$AK$823,30,FALSE)))","v":""},{"$f":"IF(ISERROR(MATCH($D26,FisQui!$A$4:$A$823,0)),\"\",IF(VLOOKUP($D26,FisQui!$A$4:$AK$823,31,FALSE)=\"\",\"\",VLOOKUP($D26,FisQui!$A$4:$AK$823,31,FALSE)))","v":""},{"$f":"IF(ISERROR(MATCH($D26,FisQui!$A$4:$A$823,0)),\"\",IF(VLOOKUP($D26,FisQui!$A$4:$AK$823,33,FALSE)=\"\",\"\",VLOOKUP($D26,FisQui!$A$4:$AK$823,33,FALSE)))","v":""},{"$f":"IF(ISERROR(MATCH($D26,FisQui!$A$4:$A$823,0)),\"\",IF(VLOOKUP($D26,FisQui!$A$4:$AK$823,34,FALSE)=\"\",\"\",VLOOKUP($D26,FisQui!$A$4:$AK$823,34,FALSE)))","v":""},{"$f":"IF(ISERROR(MATCH($D26,FisQui!$A$4:$A$823,0)),\"\",IF(VLOOKUP($D26,FisQui!$A$4:$AK$823,35,FALSE)=\"\",\"\",VLOOKUP($D26,FisQui!$A$4:$AK$823,35,FALSE)))","v":""},{"$f":"IF(ISERROR(MATCH($D26,FisQui!$A$4:$A$823,0)),\"\",IF(VLOOKUP($D26,FisQui!$A$4:$AK$823,36,FALSE)=\"\",\"\",VLOOKUP($D26,FisQui!$A$4:$AK$823,36,FALSE)))","v":""},{"$f":"IF(ISERROR(MATCH($D65,FatTox!$A$4:$A$823,0)),\"\",IF(VLOOKUP($D65,FatTox!$A$4:$V$823,11,FALSE)=\"\",\"\",VLOOKUP($D65,FatTox!$A$4:$V$823,11,FALSE)))","v":""}]
[null,19,{"$f":"IF(ISERROR(MATCH($D27,FisQui!$A$4:$A$823,0)),\"\",VLOOKUP($D27,FisQui!$A$4:$AK$823,2,FALSE))","v":""},null,{"$f":"IF(ISERROR(MATCH($D27,FisQui!$A$4:$A$823,0)),\"\",IF(VLOOKUP($D27,FisQui!$A$4:$AK$823,3,FALSE)=\"\",\"ND\",VLOOKUP($D27,FisQui!$A$4:$AK$823,3,FALSE)))","v":""},{"$f":"IF(ISERROR(MATCH($D27,FisQui!$A$4:$A$823,0)),\"\",IF(VLOOKUP($D27,FisQui!$A$4:$AK$823,5,FALSE)=\"\",\"\",VLOOKUP($D27,FisQui!$A$4:$AK$823,5,FALSE)))","v":""},{"$f":"IF(ISERROR(MATCH($D27,FisQui!$A$4:$A$823,0)),\"\",IF(VLOOKUP($D27,FisQui!$A$4:$AK$823,8,FALSE)=\"\",\"\",VLOOKUP($D27,FisQui!$A$4:$AK$823,8,FALSE)))","v":""},{"$f":"IF(ISERROR(MATCH($D27,FisQui!$A$4:$A$823,0)),\"\",IF(VLOOKUP($D27,FisQui!$A$4:$AK$823,14,FALSE)=\"\",\"\",VLOOKUP($D27,FisQui!$A$4:$AK$823,14,FALSE)))","v":""},{"$f":"IF(ISERROR(MATCH($D27,FisQui!$A$4:$A$823,0)),\"\",IF(VLOOKUP($D27,FisQui!$A$4:$AK$823,16,FALSE)=\"\",\"\",VLOOKUP($D27,FisQui!$A$4:$AK$823,16,FALSE)))","v":""},{"$f":"IF(ISERROR(MATCH($D27,FisQui!$A$4:$A$823,0)),\"\",IF(VLOOKUP($D27,FisQui!$A$4:$AK$823,10,FALSE)=\"\",\"\",VLOOKUP($D27,FisQui!$A$4:$AK$823,10,FALSE)))","v":""},{"$f":"IF(ISERROR(MATCH($D27,FisQui!$A$4:$A$823,0)),\"\",IF(VLOOKUP($D27,FisQui!$A$4:$AK$823,12,FALSE)=\"\",\"\",VLOOKUP($D27,FisQui!$A$4:$AK$823,12,FALSE)))","v":""},{"$f":"IF(ISERROR(MATCH($D27,FisQui!$A$4:$A$823,0)),\"\",IF(VLOOKUP($D27,FisQui!$A$4:$AK$823,18,FALSE)=0,\"\",VLOOKUP($D27,FisQui!$A$4:$AK$823,18,FALSE)))","v":""},{"$f":"IF(ISERROR(MATCH(D27,FisQui!$A$4:$A$823,0)),\"\",IF(AND(VLOOKUP(D27,FisQui!$A$4:$AK$823,22,FALSE)=\"\",Koc.19=\"\"),\"\",IF(AND(VLOOKUP(D27,FisQui!$A$4:$AK$823,22,FALSE)<>\"\",Koc.19=\"\"),(VLOOKUP(D27,FisQui!$A$4:$AK$823,22,FALSE)),Koc.19*foc.s)))","v":""},{"$f":"IF(ISERROR(MATCH($D27,FisQui!$A$4:$A$823,0)),\"\",IF(VLOOKUP($D27,FisQui!$A$4:$AK$823,24,FALSE)=\"\",\"\",VLOOKUP($D27,FisQui!$A$4:$AK$823,24,FALSE)))","v":""},{"$f":"IF(ISERROR(MATCH($D27,FisQui!$A$4:$A$823,0)),\"\",IF(VLOOKUP($D27,FisQui!$A$4:$AK$823,20,FALSE)=\"\",\"\",VLOOKUP($D27,FisQui!$A$4:$AK$823,20,FALSE)))","v":""},{"$f":"IF(ISERROR(MATCH($D27,FisQui!$A$4:$A$823,0)),\"\",IF(VLOOKUP($D27,FisQui!$A$4:$AK$823,26,FALSE)=\"\",\"\",VLOOKUP($D27,FisQui!$A$4:$AK$823,26,FALSE)))","v":""},{"$f":"IF(ISERROR(MATCH($D27,FisQui!$A$4:$A$823,0)),\"\",IF(VLOOKUP($D27,FisQui!$A$4:$AK$823,28,FALSE)=\"\",\"\",VLOOKUP($D27,FisQui!$A$4:$AK$823,28,FALSE)))","v":""},{"$f":"IF(ISERROR(MATCH($D27,FisQui!$A$4:$A$823,0)),\"\",IF(VLOOKUP($D27,FisQui!$A$4:$AK$823,30,FALSE)=\"\",\"\",VLOOKUP($D27,FisQui!$A$4:$AK$823,30,FALSE)))","v":""},{"$f":"IF(ISERROR(MATCH($D27,FisQui!$A$4:$A$823,0)),\"\",IF(VLOOKUP($D27,FisQui!$A$4:$AK$823,31,FALSE)=\"\",\"\",VLOOKUP($D27,FisQui!$A$4:$AK$823,31,FALSE)))","v":""},{"$f":"IF(ISERROR(MATCH($D27,FisQui!$A$4:$A$823,0)),\"\",IF(VLOOKUP($D27,FisQui!$A$4:$AK$823,33,FALSE)=\"\",\"\",VLOOKUP($D27,FisQui!$A$4:$AK$823,33,FALSE)))","v":""},{"$f":"IF(ISERROR(MATCH($D27,FisQui!$A$4:$A$823,0)),\"\",IF(VLOOKUP($D27,FisQui!$A$4:$AK$823,34,FALSE)=\"\",\"\",VLOOKUP($D27,FisQui!$A$4:$AK$823,34,FALSE)))","v":""},{"$f":"IF(ISERROR(MATCH($D27,FisQui!$A$4:$A$823,0)),\"\",IF(VLOOKUP($D27,FisQui!$A$4:$AK$823,35,FALSE)=\"\",\"\",VLOOKUP($D27,FisQui!$A$4:$AK$823,35,FALSE)))","v":""},{"$f":"IF(ISERROR(MATCH($D27,FisQui!$A$4:$A$823,0)),\"\",IF(VLOOKUP($D27,FisQui!$A$4:$AK$823,36,FALSE)=\"\",\"\",VLOOKUP($D27,FisQui!$A$4:$AK$823,36,FALSE)))","v":""},{"$f":"IF(ISERROR(MATCH($D66,FatTox!$A$4:$A$823,0)),\"\",IF(VLOOKUP($D66,FatTox!$A$4:$V$823,11,FALSE)=\"\",\"\",VLOOKUP($D66,FatTox!$A$4:$V$823,11,FALSE)))","v":""}]
[null,20,{"$f":"IF(ISERROR(MATCH($D28,FisQui!$A$4:$A$823,0)),\"\",VLOOKUP($D28,FisQui!$A$4:$AK$823,2,FALSE))","v":""},null,{"$f":"IF(ISERROR(MATCH($D28,FisQui!$A$4:$A$823,0)),\"\",IF(VLOOKUP($D28,FisQui!$A$4:$AK$823,3,FALSE)=\"\",\"ND\",VLOOKUP($D28,FisQui!$A$4:$AK$823,3,FALSE)))","v":""},{"$f":"IF(ISERROR(MATCH($D28,FisQui!$A$4:$A$823,0)),\"\",IF(VLOOKUP($D28,FisQui!$A$4:$AK$823,5,FALSE)=\"\",\"\",VLOOKUP($D28,FisQui!$A$4:$AK$823,5,FALSE)))","v":""},{"$f":"IF(ISERROR(MATCH($D28,FisQui!$A$4:$A$823,0)),\"\",IF(VLOOKUP($D28,FisQui!$A$4:$AK$823,8,FALSE)=\"\",\"\",VLOOKUP($D28,FisQui!$A$4:$AK$823,8,FALSE)))","v":""},{"$f":"IF(ISERROR(MATCH($D28,FisQui!$A$4:$A$823,0)),\"\",IF(VLOOKUP($D28,FisQui!$A$4:$AK$823,14,FALSE)=\"\",\"\",VLOOKUP($D28,FisQui!$A$4:$AK$823,14,FALSE)))","v":""},{"$f":"IF(ISERROR(MATCH($D28,FisQui!$A$4:$A$823,0)),\"\",IF(VLOOKUP($D28,FisQui!$A$4:$AK$823,16,FALSE)=\"\",\"\",VLOOKUP($D28,FisQui!$A$4:$AK$823,16,FALSE)))","v":""},{"$f":"IF(ISERROR(MATCH($D28,FisQui!$A$4:$A$823,0)),\"\",IF(VLOOKUP($D28,FisQui!$A$4:$AK$823,10,FALSE)=\"\",\"\",VLOOKUP($D28,FisQui!$A$4:$AK$823,10,FALSE)))","v":""},{"$f":"IF(ISERROR(MATCH($D28,FisQui!$A$4:$A$823,0)),\"\",IF(VLOOKUP($D28,FisQui!$A$4:$AK$823,12,FALSE)=\"\",\"\",VLOOKUP($D28,FisQui!$A$4:$AK$823,12,FALSE)))","v":""},{"$f":"IF(ISERROR(MATCH($D28,FisQui!$A$4:$A$823,0)),\"\",IF(VLOOKUP($D28,FisQui!$A$4:$AK$823,18,FALSE)=0,\"\",VLOOKUP($D28,FisQui!$A$4:$AK$823,18,FALSE)))","v":""},{"$f":"IF(ISERROR(MATCH(D28,FisQui!$A$4:$A$823,0)),\"\",IF(AND(VLOOKUP(D28,FisQui!$A$4:$AK$823,22,FALSE)=\"\",Koc.20=\"\"),\"\",IF(AND(VLOOKUP(D28,FisQui!$A$4:$AK$823,22,FALSE)<>\"\",Koc.20=\"\"),(VLOOKUP(D28,FisQui!$A$4:$AK$823,22,FALSE)),Koc.20*foc.s)))","v":""},{"$f":"IF(ISERROR(MATCH($D28,FisQui!$A$4:$A$823,0)),\"\",IF(VLOOKUP($D28,FisQui!$A$4:$AK$823,24,FALSE)=\"\",\"\",VLOOKUP($D28,FisQui!$A$4:$AK$823,24,FALSE)))","v":""},{"$f":"IF(ISERROR(MATCH($D28,FisQui!$A$4:$A$823,0)),\"\",IF(VLOOKUP($D28,FisQui!$A$4:$AK$823,20,FALSE)=\"\",\"\",VLOOKUP($D28,FisQui!$A$4:$AK$823,20,FALSE)))","v":""},{"$f":"IF(ISERROR(MATCH($D28,FisQui!$A$4:$A$823,0)),\"\",IF(VLOOKUP($D28,FisQui!$A$4:$AK$823,26,FALSE)=\"\",\"\",VLOOKUP($D28,FisQui!$A$4:$AK$823,26,FALSE)))","v":""},{"$f":"IF(ISERROR(MATCH($D28,FisQui!$A$4:$A$823,0)),\"\",IF(VLOOKUP($D28,FisQui!$A$4:$AK$823,28,FALSE)=\"\",\"\",VLOOKUP($D28,FisQui!$A$4:$AK$823,28,FALSE)))","v":""},{"$f":"IF(ISERROR(MATCH($D28,FisQui!$A$4:$A$823,0)),\"\",IF(VLOOKUP($D28,FisQui!$A$4:$AK$823,30,FALSE)=\"\",\"\",VLOOKUP($D28,FisQui!$A$4:$AK$823,30,FALSE)))","v":""},{"$f":"IF(ISERROR(MATCH($D28,FisQui!$A$4:$A$823,0)),\"\",IF(VLOOKUP($D28,FisQui!$A$4:$AK$823,31,FALSE)=\"\",\"\",VLOOKUP($D28,FisQui!$A$4:$AK$823,31,FALSE)))","v":""},{"$f":"IF(ISERROR(MATCH($D28,FisQui!$A$4:$A$823,0)),\"\",IF(VLOOKUP($D28,FisQui!$A$4:$AK$823,33,FALSE)=\"\",\"\",VLOOKUP($D28,FisQui!$A$4:$AK$823,33,FALSE)))","v":""},{"$f":"IF(ISERROR(MATCH($D28,FisQui!$A$4:$A$823,0)),\"\",IF(VLOOKUP($D28,FisQui!$A$4:$AK$823,34,FALSE)=\"\",\"\",VLOOKUP($D28,FisQui!$A$4:$AK$823,34,FALSE)))","v":""},{"$f":"IF(ISERROR(MATCH($D28,FisQui!$A$4:$A$823,0)),\"\",IF(VLOOKUP($D28,FisQui!$A$4:$AK$823,35,FALSE)=\"\",\"\",VLOOKUP($D28,FisQui!$A$4:$AK$823,35,FALSE)))","v":""},{"$f":"IF(ISERROR(MATCH($D28,FisQui!$A$4:$A$823,0)),\"\",IF(VLOOKUP($D28,FisQui!$A$4:$AK$823,36,FALSE)=\"\",\"\",VLOOKUP($D28,FisQui!$A$4:$AK$823,36,FALSE)))","v":""},{"$f":"IF(ISERROR(MATCH($D67,FatTox!$A$4:$A$823,0)),\"\",IF(VLOOKUP($D67,FatTox!$A$4:$V$823,11,FALSE)=\"\",\"\",VLOOKUP($D67,FatTox!$A$4:$V$823,11,FALSE)))","v":""}]
[null,21,{"$f":"IF(ISERROR(MATCH($D29,FisQui!$A$4:$A$823,0)),\"\",VLOOKUP($D29,FisQui!$A$4:$AK$823,2,FALSE))","v":""},null,{"$f":"IF(ISERROR(MATCH($D29,FisQui!$A$4:$A$823,0)),\"\",IF(VLOOKUP($D29,FisQui!$A$4:$AK$823,3,FALSE)=\"\",\"ND\",VLOOKUP($D29,FisQui!$A$4:$AK$823,3,FALSE)))","v":""},{"$f":"IF(ISERROR(MATCH($D29,FisQui!$A$4:$A$823,0)),\"\",IF(VLOOKUP($D29,FisQui!$A$4:$AK$823,5,FALSE)=\"\",\"\",VLOOKUP($D29,FisQui!$A$4:$AK$823,5,FALSE)))","v":""},{"$f":"IF(ISERROR(MATCH($D29,FisQui!$A$4:$A$823,0)),\"\",IF(VLOOKUP($D29,FisQui!$A$4:$AK$823,8,FALSE)=\"\",\"\",VLOOKUP($D29,FisQui!$A$4:$AK$823,8,FALSE)))","v":""},{"$f":"IF(ISERROR(MATCH($D29,FisQui!$A$4:$A$823,0)),\"\",IF(VLOOKUP($D29,FisQui!$A$4:$AK$823,14,FALSE)=\"\",\"\",VLOOKUP($D29,FisQui!$A$4:$AK$823,14,FALSE)))","v":""},{"$f":"IF(ISERROR(MATCH($D29,FisQui!$A$4:$A$823,0)),\"\",IF(VLOOKUP($D29,FisQui!$A$4:$AK$823,16,FALSE)=\"\",\"\",VLOOKUP($D29,FisQui!$A$4:$AK$823,16,FALSE)))","v":""},{"$f":"IF(ISERROR(MATCH($D29,FisQui!$A$4:$A$823,0)),\"\",IF(VLOOKUP($D29,FisQui!$A$4:$AK$823,10,FALSE)=\"\",\"\",VLOOKUP($D29,FisQui!$A$4:$AK$823,10,FALSE)))","v":""},{"$f":"IF(ISERROR(MATCH($D29,FisQui!$A$4:$A$823,0)),\"\",IF(VLOOKUP($D29,FisQui!$A$4:$AK$823,12,FALSE)=\"\",\"\",VLOOKUP($D29,FisQui!$A$4:$AK$823,12,FALSE)))","v":""},{"$f":"IF(ISERROR(MATCH($D29,FisQui!$A$4:$A$823,0)),\"\",IF(VLOOKUP($D29,FisQui!$A$4:$AK$823,18,FALSE)=0,\"\",VLOOKUP($D29,FisQui!$A$4:$AK$823,18,FALSE)))","v":""},{"$f":"IF(ISERROR(MATCH(D29,FisQui!$A$4:$A$823,0)),\"\",IF(AND(VLOOKUP(D29,FisQui!$A$4:$AK$823,22,FALSE)=\"\",Koc.21=\"\"),\"\",IF(AND(VLOOKUP(D29,FisQui!$A$4:$AK$823,22,FALSE)<>\"\",Koc.21=\"\"),(VLOOKUP(D29,FisQui!$A$4:$AK$823,22,FALSE)),Koc.21*foc.s)))","v":""},{"$f":"IF(ISERROR(MATCH($D29,FisQui!$A$4:$A$823,0)),\"\",IF(VLOOKUP($D29,FisQui!$A$4:$AK$823,24,FALSE)=\"\",\"\",VLOOKUP($D29,FisQui!$A$4:$AK$823,24,FALSE)))","v":""},{"$f":"IF(ISERROR(MATCH($D29,FisQui!$A$4:$A$823,0)),\"\",IF(VLOOKUP($D29,FisQui!$A$4:$AK$823,20,FALSE)=\"\",\"\",VLOOKUP($D29,FisQui!$A$4:$AK$823,20,FALSE)))","v":""},{"$f":"IF(ISERROR(MATCH($D29,FisQui!$A$4:$A$823,0)),\"\",IF(VLOOKUP($D29,FisQui!$A$4:$AK$823,26,FALSE)=\"\",\"\",VLOOKUP($D29,FisQui!$A$4:$AK$823,26,FALSE)))","v":""},{"$f":"IF(ISERROR(MATCH($D29,FisQui!$A$4:$A$823,0)),\"\",IF(VLOOKUP($D29,FisQui!$A$4:$AK$823,28,FALSE)=\"\",\"\",VLOOKUP($D29,FisQui!$A$4:$AK$823,28,FALSE)))","v":""},{"$f":"IF(ISERROR(MATCH($D29,FisQui!$A$4:$A$823,0)),\"\",IF(VLOOKUP($D29,FisQui!$A$4:$AK$823,30,FALSE)=\"\",\"\",VLOOKUP($D29,FisQui!$A$4:$AK$823,30,FALSE)))","v":""},{"$f":"IF(ISERROR(MATCH($D29,FisQui!$A$4:$A$823,0)),\"\",IF(VLOOKUP($D29,FisQui!$A$4:$AK$823,31,FALSE)=\"\",\"\",VLOOKUP($D29,FisQui!$A$4:$AK$823,31,FALSE)))","v":""},{"$f":"IF(ISERROR(MATCH($D29,FisQui!$A$4:$A$823,0)),\"\",IF(VLOOKUP($D29,FisQui!$A$4:$AK$823,33,FALSE)=\"\",\"\",VLOOKUP($D29,FisQui!$A$4:$AK$823,33,FALSE)))","v":""},{"$f":"IF(ISERROR(MATCH($D29,FisQui!$A$4:$A$823,0)),\"\",IF(VLOOKUP($D29,FisQui!$A$4:$AK$823,34,FALSE)=\"\",\"\",VLOOKUP($D29,FisQui!$A$4:$AK$823,34,FALSE)))","v":""},{"$f":"IF(ISERROR(MATCH($D29,FisQui!$A$4:$A$823,0)),\"\",IF(VLOOKUP($D29,FisQui!$A$4:$AK$823,35,FALSE)=\"\",\"\",VLOOKUP($D29,FisQui!$A$4:$AK$823,35,FALSE)))","v":""},{"$f":"IF(ISERROR(MATCH($D29,FisQui!$A$4:$A$823,0)),\"\",IF(VLOOKUP($D29,FisQui!$A$4:$AK$823,36,FALSE)=\"\",\"\",VLOOKUP($D29,FisQui!$A$4:$AK$823,36,FALSE)))","v":""},{"$f":"IF(ISERROR(MATCH($D68,FatTox!$A$4:$A$823,0)),\"\",IF(VLOOKUP($D68,FatTox!$A$4:$V$823,11,FALSE)=\"\",\"\",VLOOKUP($D68,FatTox!$A$4:$V$823,11,FALSE)))","v":""}]
[null,22,{"$f":"IF(ISERROR(MATCH($D30,FisQui!$A$4:$A$823,0)),\"\",VLOOKUP($D30,FisQui!$A$4:$AK$823,2,FALSE))","v":""},null,{"$f":"IF(ISERROR(MATCH($D30,FisQui!$A$4:$A$823,0)),\"\",IF(VLOOKUP($D30,FisQui!$A$4:$AK$823,3,FALSE)=\"\",\"ND\",VLOOKUP($D30,FisQui!$A$4:$AK$823,3,FALSE)))","v":""},{"$f":"IF(ISERROR(MATCH($D30,FisQui!$A$4:$A$823,0)),\"\",IF(VLOOKUP($D30,FisQui!$A$4:$AK$823,5,FALSE)=\"\",\"\",VLOOKUP($D30,FisQui!$A$4:$AK$823,5,FALSE)))","v":""},{"$f":"IF(ISERROR(MATCH($D30,FisQui!$A$4:$A$823,0)),\"\",IF(VLOOKUP($D30,FisQui!$A$4:$AK$823,8,FALSE)=\"\",\"\",VLOOKUP($D30,FisQui!$A$4:$AK$823,8,FALSE)))","v":""},{"$f":"IF(ISERROR(MATCH($D30,FisQui!$A$4:$A$823,0)),\"\",IF(VLOOKUP($D30,FisQui!$A$4:$AK$823,14,FALSE)=\"\",\"\",VLOOKUP($D30,FisQui!$A$4:$AK$823,14,FALSE)))","v":""},{"$f":"IF(ISERROR(MATCH($D30,FisQui!$A$4:$A$823,0)),\"\",IF(VLOOKUP($D30,FisQui!$A$4:$AK$823,16,FALSE)=\"\",\"\",VLOOKUP($D30,FisQui!$A$4:$AK$823,16,FALSE)))","v":""},{"$f":"IF(ISERROR(MATCH($D30,FisQui!$A$4:$A$823,0)),\"\",IF(VLOOKUP($D30,FisQui!$A$4:$AK$823,10,FALSE)=\"\",\"\",VLOOKUP($D30,FisQui!$A$4:$AK$823,10,FALSE)))","v":""},{"$f":"IF(ISERROR(MATCH($D30,FisQui!$A$4:$A$823,0)),\"\",IF(VLOOKUP($D30,FisQui!$A$4:$AK$823,12,FALSE)=\"\",\"\",VLOOKUP($D30,FisQui!$A$4:$AK$823,12,FALSE)))","v":""},{"$f":"IF(ISERROR(MATCH($D30,FisQui!$A$4:$A$823,0)),\"\",IF(VLOOKUP($D30,FisQui!$A$4:$AK$823,18,FALSE)=0,\"\",VLOOKUP($D30,FisQui!$A$4:$AK$823,18,FALSE)))","v":""},{"$f":"IF(ISERROR(MATCH(D30,FisQui!$A$4:$A$823,0)),\"\",IF(AND(VLOOKUP(D30,FisQui!$A$4:$AK$823,22,FALSE)=\"\",Koc.22=\"\"),\"\",IF(AND(VLOOKUP(D30,FisQui!$A$4:$AK$823,22,FALSE)<>\"\",Koc.22=\"\"),(VLOOKUP(D30,FisQui!$A$4:$AK$823,22,FALSE)),Koc.22*foc.s)))","v":""},{"$f":"IF(ISERROR(MATCH($D30,FisQui!$A$4:$A$823,0)),\"\",IF(VLOOKUP($D30,FisQui!$A$4:$AK$823,24,FALSE)=\"\",\"\",VLOOKUP($D30,FisQui!$A$4:$AK$823,24,FALSE)))","v":""},{"$f":"IF(ISERROR(MATCH($D30,FisQui!$A$4:$A$823,0)),\"\",IF(VLOOKUP($D30,FisQui!$A$4:$AK$823,20,FALSE)=\"\",\"\",VLOOKUP($D30,FisQui!$A$4:$AK$823,20,FALSE)))","v":""},{"$f":"IF(ISERROR(MATCH($D30,FisQui!$A$4:$A$823,0)),\"\",IF(VLOOKUP($D30,FisQui!$A$4:$AK$823,26,FALSE)=\"\",\"\",VLOOKUP($D30,FisQui!$A$4:$AK$823,26,FALSE)))","v":""},{"$f":"IF(ISERROR(MATCH($D30,FisQui!$A$4:$A$823,0)),\"\",IF(VLOOKUP($D30,FisQui!$A$4:$AK$823,28,FALSE)=\"\",\"\",VLOOKUP($D30,FisQui!$A$4:$AK$823,28,FALSE)))","v":""},{"$f":"IF(ISERROR(MATCH($D30,FisQui!$A$4:$A$823,0)),\"\",IF(VLOOKUP($D30,FisQui!$A$4:$AK$823,30,FALSE)=\"\",\"\",VLOOKUP($D30,FisQui!$A$4:$AK$823,30,FALSE)))","v":""},{"$f":"IF(ISERROR(MATCH($D30,FisQui!$A$4:$A$823,0)),\"\",IF(VLOOKUP($D30,FisQui!$A$4:$AK$823,31,FALSE)=\"\",\"\",VLOOKUP($D30,FisQui!$A$4:$AK$823,31,FALSE)))","v":""},{"$f":"IF(ISERROR(MATCH($D30,FisQui!$A$4:$A$823,0)),\"\",IF(VLOOKUP($D30,FisQui!$A$4:$AK$823,33,FALSE)=\"\",\"\",VLOOKUP($D30,FisQui!$A$4:$AK$823,33,FALSE)))","v":""},{"$f":"IF(ISERROR(MATCH($D30,FisQui!$A$4:$A$823,0)),\"\",IF(VLOOKUP($D30,FisQui!$A$4:$AK$823,34,FALSE)=\"\",\"\",VLOOKUP($D30,FisQui!$A$4:$AK$823,34,FALSE)))","v":""},{"$f":"IF(ISERROR(MATCH($D30,FisQui!$A$4:$A$823,0)),\"\",IF(VLOOKUP($D30,FisQui!$A$4:$AK$823,35,FALSE)=\"\",\"\",VLOOKUP($D30,FisQui!$A$4:$AK$823,35,FALSE)))","v":""},{"$f":"IF(ISERROR(MATCH($D30,FisQui!$A$4:$A$823,0)),\"\",IF(VLOOKUP($D30,FisQui!$A$4:$AK$823,36,FALSE)=\"\",\"\",VLOOKUP($D30,FisQui!$A$4:$AK$823,36,FALSE)))","v":""},{"$f":"IF(ISERROR(MATCH($D69,FatTox!$A$4:$A$823,0)),\"\",IF(VLOOKUP($D69,FatTox!$A$4:$V$823,11,FALSE)=\"\",\"\",VLOOKUP($D69,FatTox!$A$4:$V$823,11,FALSE)))","v":""}]
[null,23,{"$f":"IF(ISERROR(MATCH($D31,FisQui!$A$4:$A$823,0)),\"\",VLOOKUP($D31,FisQui!$A$4:$AK$823,2,FALSE))","v":""},null,{"$f":"IF(ISERROR(MATCH($D31,FisQui!$A$4:$A$823,0)),\"\",IF(VLOOKUP($D31,FisQui!$A$4:$AK$823,3,FALSE)=\"\",\"ND\",VLOOKUP($D31,FisQui!$A$4:$AK$823,3,FALSE)))","v":""},{"$f":"IF(ISERROR(MATCH($D31,FisQui!$A$4:$A$823,0)),\"\",IF(VLOOKUP($D31,FisQui!$A$4:$AK$823,5,FALSE)=\"\",\"\",VLOOKUP($D31,FisQui!$A$4:$AK$823,5,FALSE)))","v":""},{"$f":"IF(ISERROR(MATCH($D31,FisQui!$A$4:$A$823,0)),\"\",IF(VLOOKUP($D31,FisQui!$A$4:$AK$823,8,FALSE)=\"\",\"\",VLOOKUP($D31,FisQui!$A$4:$AK$823,8,FALSE)))","v":""},{"$f":"IF(ISERROR(MATCH($D31,FisQui!$A$4:$A$823,0)),\"\",IF(VLOOKUP($D31,FisQui!$A$4:$AK$823,14,FALSE)=\"\",\"\",VLOOKUP($D31,FisQui!$A$4:$AK$823,14,FALSE)))","v":""},{"$f":"IF(ISERROR(MATCH($D31,FisQui!$A$4:$A$823,0)),\"\",IF(VLOOKUP($D31,FisQui!$A$4:$AK$823,16,FALSE)=\"\",\"\",VLOOKUP($D31,FisQui!$A$4:$AK$823,16,FALSE)))","v":""},{"$f":"IF(ISERROR(MATCH($D31,FisQui!$A$4:$A$823,0)),\"\",IF(VLOOKUP($D31,FisQui!$A$4:$AK$823,10,FALSE)=\"\",\"\",VLOOKUP($D31,FisQui!$A$4:$AK$823,10,FALSE)))","v":""},{"$f":"IF(ISERROR(MATCH($D31,FisQui!$A$4:$A$823,0)),\"\",IF(VLOOKUP($D31,FisQui!$A$4:$AK$823,12,FALSE)=\"\",\"\",VLOOKUP($D31,FisQui!$A$4:$AK$823,12,FALSE)))","v":""},{"$f":"IF(ISERROR(MATCH($D31,FisQui!$A$4:$A$823,0)),\"\",IF(VLOOKUP($D31,FisQui!$A$4:$AK$823,18,FALSE)=0,\"\",VLOOKUP($D31,FisQui!$A$4:$AK$823,18,FALSE)))","v":""},{"$f":"IF(ISERROR(MATCH(D31,FisQui!$A$4:$A$823,0)),\"\",IF(AND(VLOOKUP(D31,FisQui!$A$4:$AK$823,22,FALSE)=\"\",Koc.23=\"\"),\"\",IF(AND(VLOOKUP(D31,FisQui!$A$4:$AK$823,22,FALSE)<>\"\",Koc.23=\"\"),(VLOOKUP(D31,FisQui!$A$4:$AK$823,22,FALSE)),Koc.23*foc.s)))","v":""},{"$f":"IF(ISERROR(MATCH($D31,FisQui!$A$4:$A$823,0)),\"\",IF(VLOOKUP($D31,FisQui!$A$4:$AK$823,24,FALSE)=\"\",\"\",VLOOKUP($D31,FisQui!$A$4:$AK$823,24,FALSE)))","v":""},{"$f":"IF(ISERROR(MATCH($D31,FisQui!$A$4:$A$823,0)),\"\",IF(VLOOKUP($D31,FisQui!$A$4:$AK$823,20,FALSE)=\"\",\"\",VLOOKUP($D31,FisQui!$A$4:$AK$823,20,FALSE)))","v":""},{"$f":"IF(ISERROR(MATCH($D31,FisQui!$A$4:$A$823,0)),\"\",IF(VLOOKUP($D31,FisQui!$A$4:$AK$823,26,FALSE)=\"\",\"\",VLOOKUP($D31,FisQui!$A$4:$AK$823,26,FALSE)))","v":""},{"$f":"IF(ISERROR(MATCH($D31,FisQui!$A$4:$A$823,0)),\"\",IF(VLOOKUP($D31,FisQui!$A$4:$AK$823,28,FALSE)=\"\",\"\",VLOOKUP($D31,FisQui!$A$4:$AK$823,28,FALSE)))","v":""},{"$f":"IF(ISERROR(MATCH($D31,FisQui!$A$4:$A$823,0)),\"\",IF(VLOOKUP($D31,FisQui!$A$4:$AK$823,30,FALSE)=\"\",\"\",VLOOKUP($D31,FisQui!$A$4:$AK$823,30,FALSE)))","v":""},{"$f":"IF(ISERROR(MATCH($D31,FisQui!$A$4:$A$823,0)),\"\",IF(VLOOKUP($D31,FisQui!$A$4:$AK$823,31,FALSE)=\"\",\"\",VLOOKUP($D31,FisQui!$A$4:$AK$823,31,FALSE)))","v":""},{"$f":"IF(ISERROR(MATCH($D31,FisQui!$A$4:$A$823,0)),\"\",IF(VLOOKUP($D31,FisQui!$A$4:$AK$823,33,FALSE)=\"\",\"\",VLOOKUP($D31,FisQui!$A$4:$AK$823,33,FALSE)))","v":""},{"$f":"IF(ISERROR(MATCH($D31,FisQui!$A$4:$A$823,0)),\"\",IF(VLOOKUP($D31,FisQui!$A$4:$AK$823,34,FALSE)=\"\",\"\",VLOOKUP($D31,FisQui!$A$4:$AK$823,34,FALSE)))","v":""},{"$f":"IF(ISERROR(MATCH($D31,FisQui!$A$4:$A$823,0)),\"\",IF(VLOOKUP($D31,FisQui!$A$4:$AK$823,35,FALSE)=\"\",\"\",VLOOKUP($D31,FisQui!$A$4:$AK$823,35,FALSE)))","v":""},{"$f":"IF(ISERROR(MATCH($D31,FisQui!$A$4:$A$823,0)),\"\",IF(VLOOKUP($D31,FisQui!$A$4:$AK$823,36,FALSE)=\"\",\"\",VLOOKUP($D31,FisQui!$A$4:$AK$823,36,FALSE)))","v":""},{"$f":"IF(ISERROR(MATCH($D70,FatTox!$A$4:$A$823,0)),\"\",IF(VLOOKUP($D70,FatTox!$A$4:$V$823,11,FALSE)=\"\",\"\",VLOOKUP($D70,FatTox!$A$4:$V$823,11,FALSE)))","v":""}]
[null,24,{"$f":"IF(ISERROR(MATCH($D32,FisQui!$A$4:$A$823,0)),\"\",VLOOKUP($D32,FisQui!$A$4:$AK$823,2,FALSE))","v":""},null,{"$f":"IF(ISERROR(MATCH($D32,FisQui!$A$4:$A$823,0)),\"\",IF(VLOOKUP($D32,FisQui!$A$4:$AK$823,3,FALSE)=\"\",\"ND\",VLOOKUP($D32,FisQui!$A$4:$AK$823,3,FALSE)))","v":""},{"$f":"IF(ISERROR(MATCH($D32,FisQui!$A$4:$A$823,0)),\"\",IF(VLOOKUP($D32,FisQui!$A$4:$AK$823,5,FALSE)=\"\",\"\",VLOOKUP($D32,FisQui!$A$4:$AK$823,5,FALSE)))","v":""},{"$f":"IF(ISERROR(MATCH($D32,FisQui!$A$4:$A$823,0)),\"\",IF(VLOOKUP($D32,FisQui!$A$4:$AK$823,8,FALSE)=\"\",\"\",VLOOKUP($D32,FisQui!$A$4:$AK$823,8,FALSE)))","v":""},{"$f":"IF(ISERROR(MATCH($D32,FisQui!$A$4:$A$823,0)),\"\",IF(VLOOKUP($D32,FisQui!$A$4:$AK$823,14,FALSE)=\"\",\"\",VLOOKUP($D32,FisQui!$A$4:$AK$823,14,FALSE)))","v":""},{"$f":"IF(ISERROR(MATCH($D32,FisQui!$A$4:$A$823,0)),\"\",IF(VLOOKUP($D32,FisQui!$A$4:$AK$823,16,FALSE)=\"\",\"\",VLOOKUP($D32,FisQui!$A$4:$AK$823,16,FALSE)))","v":""},{"$f":"IF(ISERROR(MATCH($D32,FisQui!$A$4:$A$823,0)),\"\",IF(VLOOKUP($D32,FisQui!$A$4:$AK$823,10,FALSE)=\"\",\"\",VLOOKUP($D32,FisQui!$A$4:$AK$823,10,FALSE)))","v":""},{"$f":"IF(ISERROR(MATCH($D32,FisQui!$A$4:$A$823,0)),\"\",IF(VLOOKUP($D32,FisQui!$A$4:$AK$823,12,FALSE)=\"\",\"\",VLOOKUP($D32,FisQui!$A$4:$AK$823,12,FALSE)))","v":""},{"$f":"IF(ISERROR(MATCH($D32,FisQui!$A$4:$A$823,0)),\"\",IF(VLOOKUP($D32,FisQui!$A$4:$AK$823,18,FALSE)=0,\"\",VLOOKUP($D32,FisQui!$A$4:$AK$823,18,FALSE)))","v":""},{"$f":"IF(ISERROR(MATCH(D32,FisQui!$A$4:$A$823,0)),\"\",IF(AND(VLOOKUP(D32,FisQui!$A$4:$AK$823,22,FALSE)=\"\",Koc.24=\"\"),\"\",IF(AND(VLOOKUP(D32,FisQui!$A$4:$AK$823,22,FALSE)<>\"\",Koc.24=\"\"),(VLOOKUP(D32,FisQui!$A$4:$AK$823,22,FALSE)),Koc.24*foc.s)))","v":""},{"$f":"IF(ISERROR(MATCH($D32,FisQui!$A$4:$A$823,0)),\"\",IF(VLOOKUP($D32,FisQui!$A$4:$AK$823,24,FALSE)=\"\",\"\",VLOOKUP($D32,FisQui!$A$4:$AK$823,24,FALSE)))","v":""},{"$f":"IF(ISERROR(MATCH($D32,FisQui!$A$4:$A$823,0)),\"\",IF(VLOOKUP($D32,FisQui!$A$4:$AK$823,20,FALSE)=\"\",\"\",VLOOKUP($D32,FisQui!$A$4:$AK$823,20,FALSE)))","v":""},{"$f":"IF(ISERROR(MATCH($D32,FisQui!$A$4:$A$823,0)),\"\",IF(VLOOKUP($D32,FisQui!$A$4:$AK$823,26,FALSE)=\"\",\"\",VLOOKUP($D32,FisQui!$A$4:$AK$823,26,FALSE)))","v":""},{"$f":"IF(ISERROR(MATCH($D32,FisQui!$A$4:$A$823,0)),\"\",IF(VLOOKUP($D32,FisQui!$A$4:$AK$823,28,FALSE)=\"\",\"\",VLOOKUP($D32,FisQui!$A$4:$AK$823,28,FALSE)))","v":""},{"$f":"IF(ISERROR(MATCH($D32,FisQui!$A$4:$A$823,0)),\"\",IF(VLOOKUP($D32,FisQui!$A$4:$AK$823,30,FALSE)=\"\",\"\",VLOOKUP($D32,FisQui!$A$4:$AK$823,30,FALSE)))","v":""},{"$f":"IF(ISERROR(MATCH($D32,FisQui!$A$4:$A$823,0)),\"\",IF(VLOOKUP($D32,FisQui!$A$4:$AK$823,31,FALSE)=\"\",\"\",VLOOKUP($D32,FisQui!$A$4:$AK$823,31,FALSE)))","v":""},{"$f":"IF(ISERROR(MATCH($D32,FisQui!$A$4:$A$823,0)),\"\",IF(VLOOKUP($D32,FisQui!$A$4:$AK$823,33,FALSE)=\"\",\"\",VLOOKUP($D32,FisQui!$A$4:$AK$823,33,FALSE)))","v":""},{"$f":"IF(ISERROR(MATCH($D32,FisQui!$A$4:$A$823,0)),\"\",IF(VLOOKUP($D32,FisQui!$A$4:$AK$823,34,FALSE)=\"\",\"\",VLOOKUP($D32,FisQui!$A$4:$AK$823,34,FALSE)))","v":""},{"$f":"IF(ISERROR(MATCH($D32,FisQui!$A$4:$A$823,0)),\"\",IF(VLOOKUP($D32,FisQui!$A$4:$AK$823,35,FALSE)=\"\",\"\",VLOOKUP($D32,FisQui!$A$4:$AK$823,35,FALSE)))","v":""},{"$f":"IF(ISERROR(MATCH($D32,FisQui!$A$4:$A$823,0)),\"\",IF(VLOOKUP($D32,FisQui!$A$4:$AK$823,36,FALSE)=\"\",\"\",VLOOKUP($D32,FisQui!$A$4:$AK$823,36,FALSE)))","v":""},{"$f":"IF(ISERROR(MATCH($D71,FatTox!$A$4:$A$823,0)),\"\",IF(VLOOKUP($D71,FatTox!$A$4:$V$823,11,FALSE)=\"\",\"\",VLOOKUP($D71,FatTox!$A$4:$V$823,11,FALSE)))","v":""}]
[null,25,{"$f":"IF(ISERROR(MATCH($D33,FisQui!$A$4:$A$823,0)),\"\",VLOOKUP($D33,FisQui!$A$4:$AK$823,2,FALSE))","v":""},null,{"$f":"IF(ISERROR(MATCH($D33,FisQui!$A$4:$A$823,0)),\"\",IF(VLOOKUP($D33,FisQui!$A$4:$AK$823,3,FALSE)=\"\",\"ND\",VLOOKUP($D33,FisQui!$A$4:$AK$823,3,FALSE)))","v":""},{"$f":"IF(ISERROR(MATCH($D33,FisQui!$A$4:$A$823,0)),\"\",IF(VLOOKUP($D33,FisQui!$A$4:$AK$823,5,FALSE)=\"\",\"\",VLOOKUP($D33,FisQui!$A$4:$AK$823,5,FALSE)))","v":""},{"$f":"IF(ISERROR(MATCH($D33,FisQui!$A$4:$A$823,0)),\"\",IF(VLOOKUP($D33,FisQui!$A$4:$AK$823,8,FALSE)=\"\",\"\",VLOOKUP($D33,FisQui!$A$4:$AK$823,8,FALSE)))","v":""},{"$f":"IF(ISERROR(MATCH($D33,FisQui!$A$4:$A$823,0)),\"\",IF(VLOOKUP($D33,FisQui!$A$4:$AK$823,14,FALSE)=\"\",\"\",VLOOKUP($D33,FisQui!$A$4:$AK$823,14,FALSE)))","v":""},{"$f":"IF(ISERROR(MATCH($D33,FisQui!$A$4:$A$823,0)),\"\",IF(VLOOKUP($D33,FisQui!$A$4:$AK$823,16,FALSE)=\"\",\"\",VLOOKUP($D33,FisQui!$A$4:$AK$823,16,FALSE)))","v":""},{"$f":"IF(ISERROR(MATCH($D33,FisQui!$A$4:$A$823,0)),\"\",IF(VLOOKUP($D33,FisQui!$A$4:$AK$823,10,FALSE)=\"\",\"\",VLOOKUP($D33,FisQui!$A$4:$AK$823,10,FALSE)))","v":""},{"$f":"IF(ISERROR(MATCH($D33,FisQui!$A$4:$A$823,0)),\"\",IF(VLOOKUP($D33,FisQui!$A$4:$AK$823,12,FALSE)=\"\",\"\",VLOOKUP($D33,FisQui!$A$4:$AK$823,12,FALSE)))","v":""},{"$f":"IF(ISERROR(MATCH($D33,FisQui!$A$4:$A$823,0)),\"\",IF(VLOOKUP($D33,FisQui!$A$4:$AK$823,18,FALSE)=0,\"\",VLOOKUP($D33,FisQui!$A$4:$AK$823,18,FALSE)))","v":""},{"$f":"IF(ISERROR(MATCH(D33,FisQui!$A$4:$A$823,0)),\"\",IF(AND(VLOOKUP(D33,FisQui!$A$4:$AK$823,22,FALSE)=\"\",Koc.25=\"\"),\"\",IF(AND(VLOOKUP(D33,FisQui!$A$4:$AK$823,22,FALSE)<>\"\",Koc.25=\"\"),(VLOOKUP(D33,FisQui!$A$4:$AK$823,22,FALSE)),Koc.25*foc.s)))","v":""},{"$f":"IF(ISERROR(MATCH($D33,FisQui!$A$4:$A$823,0)),\"\",IF(VLOOKUP($D33,FisQui!$A$4:$AK$823,24,FALSE)=\"\",\"\",VLOOKUP($D33,FisQui!$A$4:$AK$823,24,FALSE)))","v":""},{"$f":"IF(ISERROR(MATCH($D33,FisQui!$A$4:$A$823,0)),\"\",IF(VLOOKUP($D33,FisQui!$A$4:$AK$823,20,FALSE)=\"\",\"\",VLOOKUP($D33,FisQui!$A$4:$AK$823,20,FALSE)))","v":""},{"$f":"IF(ISERROR(MATCH($D33,FisQui!$A$4:$A$823,0)),\"\",IF(VLOOKUP($D33,FisQui!$A$4:$AK$823,26,FALSE)=\"\",\"\",VLOOKUP($D33,FisQui!$A$4:$AK$823,26,FALSE)))","v":""},{"$f":"IF(ISERROR(MATCH($D33,FisQui!$A$4:$A$823,0)),\"\",IF(VLOOKUP($D33,FisQui!$A$4:$AK$823,28,FALSE)=\"\",\"\",VLOOKUP($D33,FisQui!$A$4:$AK$823,28,FALSE)))","v":""},{"$f":"IF(ISERROR(MATCH($D33,FisQui!$A$4:$A$823,0)),\"\",IF(VLOOKUP($D33,FisQui!$A$4:$AK$823,30,FALSE)=\"\",\"\",VLOOKUP($D33,FisQui!$A$4:$AK$823,30,FALSE)))","v":""},{"$f":"IF(ISERROR(MATCH($D33,FisQui!$A$4:$A$823,0)),\"\",IF(VLOOKUP($D33,FisQui!$A$4:$AK$823,31,FALSE)=\"\",\"\",VLOOKUP($D33,FisQui!$A$4:$AK$823,31,FALSE)))","v":""},{"$f":"IF(ISERROR(MATCH($D33,FisQui!$A$4:$A$823,0)),\"\",IF(VLOOKUP($D33,FisQui!$A$4:$AK$823,33,FALSE)=\"\",\"\",VLOOKUP($D33,FisQui!$A$4:$AK$823,33,FALSE)))","v":""},{"$f":"IF(ISERROR(MATCH($D33,FisQui!$A$4:$A$823,0)),\"\",IF(VLOOKUP($D33,FisQui!$A$4:$AK$823,34,FALSE)=\"\",\"\",VLOOKUP($D33,FisQui!$A$4:$AK$823,34,FALSE)))","v":""},{"$f":"IF(ISERROR(MATCH($D33,FisQui!$A$4:$A$823,0)),\"\",IF(VLOOKUP($D33,FisQui!$A$4:$AK$823,35,FALSE)=\"\",\"\",VLOOKUP($D33,FisQui!$A$4:$AK$823,35,FALSE)))","v":""},{"$f":"IF(ISERROR(MATCH($D33,FisQui!$A$4:$A$823,0)),\"\",IF(VLOOKUP($D33,FisQui!$A$4:$AK$823,36,FALSE)=\"\",\"\",VLOOKUP($D33,FisQui!$A$4:$AK$823,36,FALSE)))","v":""},{"$f":"IF(ISERROR(MATCH($D72,FatTox!$A$4:$A$823,0)),\"\",IF(VLOOKUP($D72,FatTox!$A$4:$V$823,11,FALSE)=\"\",\"\",VLOOKUP($D72,FatTox!$A$4:$V$823,11,FALSE)))","v":""}]
[null,26,{"$f":"IF(ISERROR(MATCH($D34,FisQui!$A$4:$A$823,0)),\"\",VLOOKUP($D34,FisQui!$A$4:$AK$823,2,FALSE))","v":""},null,{"$f":"IF(ISERROR(MATCH($D34,FisQui!$A$4:$A$823,0)),\"\",IF(VLOOKUP($D34,FisQui!$A$4:$AK$823,3,FALSE)=\"\",\"ND\",VLOOKUP($D34,FisQui!$A$4:$AK$823,3,FALSE)))","v":""},{"$f":"IF(ISERROR(MATCH($D34,FisQui!$A$4:$A$823,0)),\"\",IF(VLOOKUP($D34,FisQui!$A$4:$AK$823,5,FALSE)=\"\",\"\",VLOOKUP($D34,FisQui!$A$4:$AK$823,5,FALSE)))","v":""},{"$f":"IF(ISERROR(MATCH($D34,FisQui!$A$4:$A$823,0)),\"\",IF(VLOOKUP($D34,FisQui!$A$4:$AK$823,8,FALSE)=\"\",\"\",VLOOKUP($D34,FisQui!$A$4:$AK$823,8,FALSE)))","v":""},{"$f":"IF(ISERROR(MATCH($D34,FisQui!$A$4:$A$823,0)),\"\",IF(VLOOKUP($D34,FisQui!$A$4:$AK$823,14,FALSE)=\"\",\"\",VLOOKUP($D34,FisQui!$A$4:$AK$823,14,FALSE)))","v":""},{"$f":"IF(ISERROR(MATCH($D34,FisQui!$A$4:$A$823,0)),\"\",IF(VLOOKUP($D34,FisQui!$A$4:$AK$823,16,FALSE)=\"\",\"\",VLOOKUP($D34,FisQui!$A$4:$AK$823,16,FALSE)))","v":""},{"$f":"IF(ISERROR(MATCH($D34,FisQui!$A$4:$A$823,0)),\"\",IF(VLOOKUP($D34,FisQui!$A$4:$AK$823,10,FALSE)=\"\",\"\",VLOOKUP($D34,FisQui!$A$4:$AK$823,10,FALSE)))","v":""},{"$f":"IF(ISERROR(MATCH($D34,FisQui!$A$4:$A$823,0)),\"\",IF(VLOOKUP($D34,FisQui!$A$4:$AK$823,12,FALSE)=\"\",\"\",VLOOKUP($D34,FisQui!$A$4:$AK$823,12,FALSE)))","v":""},{"$f":"IF(ISERROR(MATCH($D34,FisQui!$A$4:$A$823,0)),\"\",IF(VLOOKUP($D34,FisQui!$A$4:$AK$823,18,FALSE)=0,\"\",VLOOKUP($D34,FisQui!$A$4:$AK$823,18,FALSE)))","v":""},{"$f":"IF(ISERROR(MATCH(D34,FisQui!$A$4:$A$823,0)),\"\",IF(AND(VLOOKUP(D34,FisQui!$A$4:$AK$823,22,FALSE)=\"\",Koc.26=\"\"),\"\",IF(AND(VLOOKUP(D34,FisQui!$A$4:$AK$823,22,FALSE)<>\"\",Koc.26=\"\"),(VLOOKUP(D34,FisQui!$A$4:$AK$823,22,FALSE)),Koc.26*foc.s)))","v":""},{"$f":"IF(ISERROR(MATCH($D34,FisQui!$A$4:$A$823,0)),\"\",IF(VLOOKUP($D34,FisQui!$A$4:$AK$823,24,FALSE)=\"\",\"\",VLOOKUP($D34,FisQui!$A$4:$AK$823,24,FALSE)))","v":""},{"$f":"IF(ISERROR(MATCH($D34,FisQui!$A$4:$A$823,0)),\"\",IF(VLOOKUP($D34,FisQui!$A$4:$AK$823,20,FALSE)=\"\",\"\",VLOOKUP($D34,FisQui!$A$4:$AK$823,20,FALSE)))","v":""},{"$f":"IF(ISERROR(MATCH($D34,FisQui!$A$4:$A$823,0)),\"\",IF(VLOOKUP($D34,FisQui!$A$4:$AK$823,26,FALSE)=\"\",\"\",VLOOKUP($D34,FisQui!$A$4:$AK$823,26,FALSE)))","v":""},{"$f":"IF(ISERROR(MATCH($D34,FisQui!$A$4:$A$823,0)),\"\",IF(VLOOKUP($D34,FisQui!$A$4:$AK$823,28,FALSE)=\"\",\"\",VLOOKUP($D34,FisQui!$A$4:$AK$823,28,FALSE)))","v":""},{"$f":"IF(ISERROR(MATCH($D34,FisQui!$A$4:$A$823,0)),\"\",IF(VLOOKUP($D34,FisQui!$A$4:$AK$823,30,FALSE)=\"\",\"\",VLOOKUP($D34,FisQui!$A$4:$AK$823,30,FALSE)))","v":""},{"$f":"IF(ISERROR(MATCH($D34,FisQui!$A$4:$A$823,0)),\"\",IF(VLOOKUP($D34,FisQui!$A$4:$AK$823,31,FALSE)=\"\",\"\",VLOOKUP($D34,FisQui!$A$4:$AK$823,31,FALSE)))","v":""},{"$f":"IF(ISERROR(MATCH($D34,FisQui!$A$4:$A$823,0)),\"\",IF(VLOOKUP($D34,FisQui!$A$4:$AK$823,33,FALSE)=\"\",\"\",VLOOKUP($D34,FisQui!$A$4:$AK$823,33,FALSE)))","v":""},{"$f":"IF(ISERROR(MATCH($D34,FisQui!$A$4:$A$823,0)),\"\",IF(VLOOKUP($D34,FisQui!$A$4:$AK$823,34,FALSE)=\"\",\"\",VLOOKUP($D34,FisQui!$A$4:$AK$823,34,FALSE)))","v":""},{"$f":"IF(ISERROR(MATCH($D34,FisQui!$A$4:$A$823,0)),\"\",IF(VLOOKUP($D34,FisQui!$A$4:$AK$823,35,FALSE)=\"\",\"\",VLOOKUP($D34,FisQui!$A$4:$AK$823,35,FALSE)))","v":""},{"$f":"IF(ISERROR(MATCH($D34,FisQui!$A$4:$A$823,0)),\"\",IF(VLOOKUP($D34,FisQui!$A$4:$AK$823,36,FALSE)=\"\",\"\",VLOOKUP($D34,FisQui!$A$4:$AK$823,36,FALSE)))","v":""},{"$f":"IF(ISERROR(MATCH($D73,FatTox!$A$4:$A$823,0)),\"\",IF(VLOOKUP($D73,FatTox!$A$4:$V$823,11,FALSE)=\"\",\"\",VLOOKUP($D73,FatTox!$A$4:$V$823,11,FALSE)))","v":""}]
[null,27,{"$f":"IF(ISERROR(MATCH($D35,FisQui!$A$4:$A$823,0)),\"\",VLOOKUP($D35,FisQui!$A$4:$AK$823,2,FALSE))","v":""},null,{"$f":"IF(ISERROR(MATCH($D35,FisQui!$A$4:$A$823,0)),\"\",IF(VLOOKUP($D35,FisQui!$A$4:$AK$823,3,FALSE)=\"\",\"ND\",VLOOKUP($D35,FisQui!$A$4:$AK$823,3,FALSE)))","v":""},{"$f":"IF(ISERROR(MATCH($D35,FisQui!$A$4:$A$823,0)),\"\",IF(VLOOKUP($D35,FisQui!$A$4:$AK$823,5,FALSE)=\"\",\"\",VLOOKUP($D35,FisQui!$A$4:$AK$823,5,FALSE)))","v":""},{"$f":"IF(ISERROR(MATCH($D35,FisQui!$A$4:$A$823,0)),\"\",IF(VLOOKUP($D35,FisQui!$A$4:$AK$823,8,FALSE)=\"\",\"\",VLOOKUP($D35,FisQui!$A$4:$AK$823,8,FALSE)))","v":""},{"$f":"IF(ISERROR(MATCH($D35,FisQui!$A$4:$A$823,0)),\"\",IF(VLOOKUP($D35,FisQui!$A$4:$AK$823,14,FALSE)=\"\",\"\",VLOOKUP($D35,FisQui!$A$4:$AK$823,14,FALSE)))","v":""},{"$f":"IF(ISERROR(MATCH($D35,FisQui!$A$4:$A$823,0)),\"\",IF(VLOOKUP($D35,FisQui!$A$4:$AK$823,16,FALSE)=\"\",\"\",VLOOKUP($D35,FisQui!$A$4:$AK$823,16,FALSE)))","v":""},{"$f":"IF(ISERROR(MATCH($D35,FisQui!$A$4:$A$823,0)),\"\",IF(VLOOKUP($D35,FisQui!$A$4:$AK$823,10,FALSE)=\"\",\"\",VLOOKUP($D35,FisQui!$A$4:$AK$823,10,FALSE)))","v":""},{"$f":"IF(ISERROR(MATCH($D35,FisQui!$A$4:$A$823,0)),\"\",IF(VLOOKUP($D35,FisQui!$A$4:$AK$823,12,FALSE)=\"\",\"\",VLOOKUP($D35,FisQui!$A$4:$AK$823,12,FALSE)))","v":""},{"$f":"IF(ISERROR(MATCH($D35,FisQui!$A$4:$A$823,0)),\"\",IF(VLOOKUP($D35,FisQui!$A$4:$AK$823,18,FALSE)=0,\"\",VLOOKUP($D35,FisQui!$A$4:$AK$823,18,FALSE)))","v":""},{"$f":"IF(ISERROR(MATCH(D35,FisQui!$A$4:$A$823,0)),\"\",IF(AND(VLOOKUP(D35,FisQui!$A$4:$AK$823,22,FALSE)=\"\",Koc.27=\"\"),\"\",IF(AND(VLOOKUP(D35,FisQui!$A$4:$AK$823,22,FALSE)<>\"\",Koc.27=\"\"),(VLOOKUP(D35,FisQui!$A$4:$AK$823,22,FALSE)),Koc.27*foc.s)))","v":""},{"$f":"IF(ISERROR(MATCH($D35,FisQui!$A$4:$A$823,0)),\"\",IF(VLOOKUP($D35,FisQui!$A$4:$AK$823,24,FALSE)=\"\",\"\",VLOOKUP($D35,FisQui!$A$4:$AK$823,24,FALSE)))","v":""},{"$f":"IF(ISERROR(MATCH($D35,FisQui!$A$4:$A$823,0)),\"\",IF(VLOOKUP($D35,FisQui!$A$4:$AK$823,20,FALSE)=\"\",\"\",VLOOKUP($D35,FisQui!$A$4:$AK$823,20,FALSE)))","v":""},{"$f":"IF(ISERROR(MATCH($D35,FisQui!$A$4:$A$823,0)),\"\",IF(VLOOKUP($D35,FisQui!$A$4:$AK$823,26,FALSE)=\"\",\"\",VLOOKUP($D35,FisQui!$A$4:$AK$823,26,FALSE)))","v":""},{"$f":"IF(ISERROR(MATCH($D35,FisQui!$A$4:$A$823,0)),\"\",IF(VLOOKUP($D35,FisQui!$A$4:$AK$823,28,FALSE)=\"\",\"\",VLOOKUP($D35,FisQui!$A$4:$AK$823,28,FALSE)))","v":""},{"$f":"IF(ISERROR(MATCH($D35,FisQui!$A$4:$A$823,0)),\"\",IF(VLOOKUP($D35,FisQui!$A$4:$AK$823,30,FALSE)=\"\",\"\",VLOOKUP($D35,FisQui!$A$4:$AK$823,30,FALSE)))","v":""},{"$f":"IF(ISERROR(MATCH($D35,FisQui!$A$4:$A$823,0)),\"\",IF(VLOOKUP($D35,FisQui!$A$4:$AK$823,31,FALSE)=\"\",\"\",VLOOKUP($D35,FisQui!$A$4:$AK$823,31,FALSE)))","v":""},{"$f":"IF(ISERROR(MATCH($D35,FisQui!$A$4:$A$823,0)),\"\",IF(VLOOKUP($D35,FisQui!$A$4:$AK$823,33,FALSE)=\"\",\"\",VLOOKUP($D35,FisQui!$A$4:$AK$823,33,FALSE)))","v":""},{"$f":"IF(ISERROR(MATCH($D35,FisQui!$A$4:$A$823,0)),\"\",IF(VLOOKUP($D35,FisQui!$A$4:$AK$823,34,FALSE)=\"\",\"\",VLOOKUP($D35,FisQui!$A$4:$AK$823,34,FALSE)))","v":""},{"$f":"IF(ISERROR(MATCH($D35,FisQui!$A$4:$A$823,0)),\"\",IF(VLOOKUP($D35,FisQui!$A$4:$AK$823,35,FALSE)=\"\",\"\",VLOOKUP($D35,FisQui!$A$4:$AK$823,35,FALSE)))","v":""},{"$f":"IF(ISERROR(MATCH($D35,FisQui!$A$4:$A$823,0)),\"\",IF(VLOOKUP($D35,FisQui!$A$4:$AK$823,36,FALSE)=\"\",\"\",VLOOKUP($D35,FisQui!$A$4:$AK$823,36,FALSE)))","v":""},{"$f":"IF(ISERROR(MATCH($D74,FatTox!$A$4:$A$823,0)),\"\",IF(VLOOKUP($D74,FatTox!$A$4:$V$823,11,FALSE)=\"\",\"\",VLOOKUP($D74,FatTox!$A$4:$V$823,11,FALSE)))","v":""}]
[null,28,{"$f":"IF(ISERROR(MATCH($D36,FisQui!$A$4:$A$823,0)),\"\",VLOOKUP($D36,FisQui!$A$4:$AK$823,2,FALSE))","v":""},null,{"$f":"IF(ISERROR(MATCH($D36,FisQui!$A$4:$A$823,0)),\"\",IF(VLOOKUP($D36,FisQui!$A$4:$AK$823,3,FALSE)=\"\",\"ND\",VLOOKUP($D36,FisQui!$A$4:$AK$823,3,FALSE)))","v":""},{"$f":"IF(ISERROR(MATCH($D36,FisQui!$A$4:$A$823,0)),\"\",IF(VLOOKUP($D36,FisQui!$A$4:$AK$823,5,FALSE)=\"\",\"\",VLOOKUP($D36,FisQui!$A$4:$AK$823,5,FALSE)))","v":""},{"$f":"IF(ISERROR(MATCH($D36,FisQui!$A$4:$A$823,0)),\"\",IF(VLOOKUP($D36,FisQui!$A$4:$AK$823,8,FALSE)=\"\",\"\",VLOOKUP($D36,FisQui!$A$4:$AK$823,8,FALSE)))","v":""},{"$f":"IF(ISERROR(MATCH($D36,FisQui!$A$4:$A$823,0)),\"\",IF(VLOOKUP($D36,FisQui!$A$4:$AK$823,14,FALSE)=\"\",\"\",VLOOKUP($D36,FisQui!$A$4:$AK$823,14,FALSE)))","v":""},{"$f":"IF(ISERROR(MATCH($D36,FisQui!$A$4:$A$823,0)),\"\",IF(VLOOKUP($D36,FisQui!$A$4:$AK$823,16,FALSE)=\"\",\"\",VLOOKUP($D36,FisQui!$A$4:$AK$823,16,FALSE)))","v":""},{"$f":"IF(ISERROR(MATCH($D36,FisQui!$A$4:$A$823,0)),\"\",IF(VLOOKUP($D36,FisQui!$A$4:$AK$823,10,FALSE)=\"\",\"\",VLOOKUP($D36,FisQui!$A$4:$AK$823,10,FALSE)))","v":""},{"$f":"IF(ISERROR(MATCH($D36,FisQui!$A$4:$A$823,0)),\"\",IF(VLOOKUP($D36,FisQui!$A$4:$AK$823,12,FALSE)=\"\",\"\",VLOOKUP($D36,FisQui!$A$4:$AK$823,12,FALSE)))","v":""},{"$f":"IF(ISERROR(MATCH($D36,FisQui!$A$4:$A$823,0)),\"\",IF(VLOOKUP($D36,FisQui!$A$4:$AK$823,18,FALSE)=0,\"\",VLOOKUP($D36,FisQui!$A$4:$AK$823,18,FALSE)))","v":""},{"$f":"IF(ISERROR(MATCH(D36,FisQui!$A$4:$A$823,0)),\"\",IF(AND(VLOOKUP(D36,FisQui!$A$4:$AK$823,22,FALSE)=\"\",Koc.28=\"\"),\"\",IF(AND(VLOOKUP(D36,FisQui!$A$4:$AK$823,22,FALSE)<>\"\",Koc.28=\"\"),(VLOOKUP(D36,FisQui!$A$4:$AK$823,22,FALSE)),Koc.28*foc.s)))","v":""},{"$f":"IF(ISERROR(MATCH($D36,FisQui!$A$4:$A$823,0)),\"\",IF(VLOOKUP($D36,FisQui!$A$4:$AK$823,24,FALSE)=\"\",\"\",VLOOKUP($D36,FisQui!$A$4:$AK$823,24,FALSE)))","v":""},{"$f":"IF(ISERROR(MATCH($D36,FisQui!$A$4:$A$823,0)),\"\",IF(VLOOKUP($D36,FisQui!$A$4:$AK$823,20,FALSE)=\"\",\"\",VLOOKUP($D36,FisQui!$A$4:$AK$823,20,FALSE)))","v":""},{"$f":"IF(ISERROR(MATCH($D36,FisQui!$A$4:$A$823,0)),\"\",IF(VLOOKUP($D36,FisQui!$A$4:$AK$823,26,FALSE)=\"\",\"\",VLOOKUP($D36,FisQui!$A$4:$AK$823,26,FALSE)))","v":""},{"$f":"IF(ISERROR(MATCH($D36,FisQui!$A$4:$A$823,0)),\"\",IF(VLOOKUP($D36,FisQui!$A$4:$AK$823,28,FALSE)=\"\",\"\",VLOOKUP($D36,FisQui!$A$4:$AK$823,28,FALSE)))","v":""},{"$f":"IF(ISERROR(MATCH($D36,FisQui!$A$4:$A$823,0)),\"\",IF(VLOOKUP($D36,FisQui!$A$4:$AK$823,30,FALSE)=\"\",\"\",VLOOKUP($D36,FisQui!$A$4:$AK$823,30,FALSE)))","v":""},{"$f":"IF(ISERROR(MATCH($D36,FisQui!$A$4:$A$823,0)),\"\",IF(VLOOKUP($D36,FisQui!$A$4:$AK$823,31,FALSE)=\"\",\"\",VLOOKUP($D36,FisQui!$A$4:$AK$823,31,FALSE)))","v":""},{"$f":"IF(ISERROR(MATCH($D36,FisQui!$A$4:$A$823,0)),\"\",IF(VLOOKUP($D36,FisQui!$A$4:$AK$823,33,FALSE)=\"\",\"\",VLOOKUP($D36,FisQui!$A$4:$AK$823,33,FALSE)))","v":""},{"$f":"IF(ISERROR(MATCH($D36,FisQui!$A$4:$A$823,0)),\"\",IF(VLOOKUP($D36,FisQui!$A$4:$AK$823,34,FALSE)=\"\",\"\",VLOOKUP($D36,FisQui!$A$4:$AK$823,34,FALSE)))","v":""},{"$f":"IF(ISERROR(MATCH($D36,FisQui!$A$4:$A$823,0)),\"\",IF(VLOOKUP($D36,FisQui!$A$4:$AK$823,35,FALSE)=\"\",\"\",VLOOKUP($D36,FisQui!$A$4:$AK$823,35,FALSE)))","v":""},{"$f":"IF(ISERROR(MATCH($D36,FisQui!$A$4:$A$823,0)),\"\",IF(VLOOKUP($D36,FisQui!$A$4:$AK$823,36,FALSE)=\"\",\"\",VLOOKUP($D36,FisQui!$A$4:$AK$823,36,FALSE)))","v":""},{"$f":"IF(ISERROR(MATCH($D75,FatTox!$A$4:$A$823,0)),\"\",IF(VLOOKUP($D75,FatTox!$A$4:$V$823,11,FALSE)=\"\",\"\",VLOOKUP($D75,FatTox!$A$4:$V$823,11,FALSE)))","v":""}]
[null,29,{"$f":"IF(ISERROR(MATCH($D37,FisQui!$A$4:$A$823,0)),\"\",VLOOKUP($D37,FisQui!$A$4:$AK$823,2,FALSE))","v":""},null,{"$f":"IF(ISERROR(MATCH($D37,FisQui!$A$4:$A$823,0)),\"\",IF(VLOOKUP($D37,FisQui!$A$4:$AK$823,3,FALSE)=\"\",\"ND\",VLOOKUP($D37,FisQui!$A$4:$AK$823,3,FALSE)))","v":""},{"$f":"IF(ISERROR(MATCH($D37,FisQui!$A$4:$A$823,0)),\"\",IF(VLOOKUP($D37,FisQui!$A$4:$AK$823,5,FALSE)=\"\",\"\",VLOOKUP($D37,FisQui!$A$4:$AK$823,5,FALSE)))","v":""},{"$f":"IF(ISERROR(MATCH($D37,FisQui!$A$4:$A$823,0)),\"\",IF(VLOOKUP($D37,FisQui!$A$4:$AK$823,8,FALSE)=\"\",\"\",VLOOKUP($D37,FisQui!$A$4:$AK$823,8,FALSE)))","v":""},{"$f":"IF(ISERROR(MATCH($D37,FisQui!$A$4:$A$823,0)),\"\",IF(VLOOKUP($D37,FisQui!$A$4:$AK$823,14,FALSE)=\"\",\"\",VLOOKUP($D37,FisQui!$A$4:$AK$823,14,FALSE)))","v":""},{"$f":"IF(ISERROR(MATCH($D37,FisQui!$A$4:$A$823,0)),\"\",IF(VLOOKUP($D37,FisQui!$A$4:$AK$823,16,FALSE)=\"\",\"\",VLOOKUP($D37,FisQui!$A$4:$AK$823,16,FALSE)))","v":""},{"$f":"IF(ISERROR(MATCH($D37,FisQui!$A$4:$A$823,0)),\"\",IF(VLOOKUP($D37,FisQui!$A$4:$AK$823,10,FALSE)=\"\",\"\",VLOOKUP($D37,FisQui!$A$4:$AK$823,10,FALSE)))","v":""},{"$f":"IF(ISERROR(MATCH($D37,FisQui!$A$4:$A$823,0)),\"\",IF(VLOOKUP($D37,FisQui!$A$4:$AK$823,12,FALSE)=\"\",\"\",VLOOKUP($D37,FisQui!$A$4:$AK$823,12,FALSE)))","v":""},{"$f":"IF(ISERROR(MATCH($D37,FisQui!$A$4:$A$823,0)),\"\",IF(VLOOKUP($D37,FisQui!$A$4:$AK$823,18,FALSE)=0,\"\",VLOOKUP($D37,FisQui!$A$4:$AK$823,18,FALSE)))","v":""},{"$f":"IF(ISERROR(MATCH(D37,FisQui!$A$4:$A$823,0)),\"\",IF(AND(VLOOKUP(D37,FisQui!$A$4:$AK$823,22,FALSE)=\"\",Koc.29=\"\"),\"\",IF(AND(VLOOKUP(D37,FisQui!$A$4:$AK$823,22,FALSE)<>\"\",Koc.29=\"\"),(VLOOKUP(D37,FisQui!$A$4:$AK$823,22,FALSE)),Koc.29*foc.s)))","v":""},{"$f":"IF(ISERROR(MATCH($D37,FisQui!$A$4:$A$823,0)),\"\",IF(VLOOKUP($D37,FisQui!$A$4:$AK$823,24,FALSE)=\"\",\"\",VLOOKUP($D37,FisQui!$A$4:$AK$823,24,FALSE)))","v":""},{"$f":"IF(ISERROR(MATCH($D37,FisQui!$A$4:$A$823,0)),\"\",IF(VLOOKUP($D37,FisQui!$A$4:$AK$823,20,FALSE)=\"\",\"\",VLOOKUP($D37,FisQui!$A$4:$AK$823,20,FALSE)))","v":""},{"$f":"IF(ISERROR(MATCH($D37,FisQui!$A$4:$A$823,0)),\"\",IF(VLOOKUP($D37,FisQui!$A$4:$AK$823,26,FALSE)=\"\",\"\",VLOOKUP($D37,FisQui!$A$4:$AK$823,26,FALSE)))","v":""},{"$f":"IF(ISERROR(MATCH($D37,FisQui!$A$4:$A$823,0)),\"\",IF(VLOOKUP($D37,FisQui!$A$4:$AK$823,28,FALSE)=\"\",\"\",VLOOKUP($D37,FisQui!$A$4:$AK$823,28,FALSE)))","v":""},{"$f":"IF(ISERROR(MATCH($D37,FisQui!$A$4:$A$823,0)),\"\",IF(VLOOKUP($D37,FisQui!$A$4:$AK$823,30,FALSE)=\"\",\"\",VLOOKUP($D37,FisQui!$A$4:$AK$823,30,FALSE)))","v":""},{"$f":"IF(ISERROR(MATCH($D37,FisQui!$A$4:$A$823,0)),\"\",IF(VLOOKUP($D37,FisQui!$A$4:$AK$823,31,FALSE)=\"\",\"\",VLOOKUP($D37,FisQui!$A$4:$AK$823,31,FALSE)))","v":""},{"$f":"IF(ISERROR(MATCH($D37,FisQui!$A$4:$A$823,0)),\"\",IF(VLOOKUP($D37,FisQui!$A$4:$AK$823,33,FALSE)=\"\",\"\",VLOOKUP($D37,FisQui!$A$4:$AK$823,33,FALSE)))","v":""},{"$f":"IF(ISERROR(MATCH($D37,FisQui!$A$4:$A$823,0)),\"\",IF(VLOOKUP($D37,FisQui!$A$4:$AK$823,34,FALSE)=\"\",\"\",VLOOKUP($D37,FisQui!$A$4:$AK$823,34,FALSE)))","v":""},{"$f":"IF(ISERROR(MATCH($D37,FisQui!$A$4:$A$823,0)),\"\",IF(VLOOKUP($D37,FisQui!$A$4:$AK$823,35,FALSE)=\"\",\"\",VLOOKUP($D37,FisQui!$A$4:$AK$823,35,FALSE)))","v":""},{"$f":"IF(ISERROR(MATCH($D37,FisQui!$A$4:$A$823,0)),\"\",IF(VLOOKUP($D37,FisQui!$A$4:$AK$823,36,FALSE)=\"\",\"\",VLOOKUP($D37,FisQui!$A$4:$AK$823,36,FALSE)))","v":""},{"$f":"IF(ISERROR(MATCH($D76,FatTox!$A$4:$A$823,0)),\"\",IF(VLOOKUP($D76,FatTox!$A$4:$V$823,11,FALSE)=\"\",\"\",VLOOKUP($D76,FatTox!$A$4:$V$823,11,FALSE)))","v":""}]
[null,30,{"$f":"IF(ISERROR(MATCH($D38,FisQui!$A$4:$A$823,0)),\"\",VLOOKUP($D38,FisQui!$A$4:$AK$823,2,FALSE))","v":""},null,{"$f":"IF(ISERROR(MATCH($D38,FisQui!$A$4:$A$823,0)),\"\",IF(VLOOKUP($D38,FisQui!$A$4:$AK$823,3,FALSE)=\"\",\"ND\",VLOOKUP($D38,FisQui!$A$4:$AK$823,3,FALSE)))","v":""},{"$f":"IF(ISERROR(MATCH($D38,FisQui!$A$4:$A$823,0)),\"\",IF(VLOOKUP($D38,FisQui!$A$4:$AK$823,5,FALSE)=\"\",\"\",VLOOKUP($D38,FisQui!$A$4:$AK$823,5,FALSE)))","v":""},{"$f":"IF(ISERROR(MATCH($D38,FisQui!$A$4:$A$823,0)),\"\",IF(VLOOKUP($D38,FisQui!$A$4:$AK$823,8,FALSE)=\"\",\"\",VLOOKUP($D38,FisQui!$A$4:$AK$823,8,FALSE)))","v":""},{"$f":"IF(ISERROR(MATCH($D38,FisQui!$A$4:$A$823,0)),\"\",IF(VLOOKUP($D38,FisQui!$A$4:$AK$823,14,FALSE)=\"\",\"\",VLOOKUP($D38,FisQui!$A$4:$AK$823,14,FALSE)))","v":""},{"$f":"IF(ISERROR(MATCH($D38,FisQui!$A$4:$A$823,0)),\"\",IF(VLOOKUP($D38,FisQui!$A$4:$AK$823,16,FALSE)=\"\",\"\",VLOOKUP($D38,FisQui!$A$4:$AK$823,16,FALSE)))","v":""},{"$f":"IF(ISERROR(MATCH($D38,FisQui!$A$4:$A$823,0)),\"\",IF(VLOOKUP($D38,FisQui!$A$4:$AK$823,10,FALSE)=\"\",\"\",VLOOKUP($D38,FisQui!$A$4:$AK$823,10,FALSE)))","v":""},{"$f":"IF(ISERROR(MATCH($D38,FisQui!$A$4:$A$823,0)),\"\",IF(VLOOKUP($D38,FisQui!$A$4:$AK$823,12,FALSE)=\"\",\"\",VLOOKUP($D38,FisQui!$A$4:$AK$823,12,FALSE)))","v":""},{"$f":"IF(ISERROR(MATCH($D38,FisQui!$A$4:$A$823,0)),\"\",IF(VLOOKUP($D38,FisQui!$A$4:$AK$823,18,FALSE)=0,\"\",VLOOKUP($D38,FisQui!$A$4:$AK$823,18,FALSE)))","v":""},{"$f":"IF(ISERROR(MATCH(D38,FisQui!$A$4:$A$823,0)),\"\",IF(AND(VLOOKUP(D38,FisQui!$A$4:$AK$823,22,FALSE)=\"\",Koc.30=\"\"),\"\",IF(AND(VLOOKUP(D38,FisQui!$A$4:$AK$823,22,FALSE)<>\"\",Koc.30=\"\"),(VLOOKUP(D38,FisQui!$A$4:$AK$823,22,FALSE)),Koc.30*foc.s)))","v":""},{"$f":"IF(ISERROR(MATCH($D38,FisQui!$A$4:$A$823,0)),\"\",IF(VLOOKUP($D38,FisQui!$A$4:$AK$823,24,FALSE)=\"\",\"\",VLOOKUP($D38,FisQui!$A$4:$AK$823,24,FALSE)))","v":""},{"$f":"IF(ISERROR(MATCH($D38,FisQui!$A$4:$A$823,0)),\"\",IF(VLOOKUP($D38,FisQui!$A$4:$AK$823,20,FALSE)=\"\",\"\",VLOOKUP($D38,FisQui!$A$4:$AK$823,20,FALSE)))","v":""},{"$f":"IF(ISERROR(MATCH($D38,FisQui!$A$4:$A$823,0)),\"\",IF(VLOOKUP($D38,FisQui!$A$4:$AK$823,26,FALSE)=\"\",\"\",VLOOKUP($D38,FisQui!$A$4:$AK$823,26,FALSE)))","v":""},{"$f":"IF(ISERROR(MATCH($D38,FisQui!$A$4:$A$823,0)),\"\",IF(VLOOKUP($D38,FisQui!$A$4:$AK$823,28,FALSE)=\"\",\"\",VLOOKUP($D38,FisQui!$A$4:$AK$823,28,FALSE)))","v":""},{"$f":"IF(ISERROR(MATCH($D38,FisQui!$A$4:$A$823,0)),\"\",IF(VLOOKUP($D38,FisQui!$A$4:$AK$823,30,FALSE)=\"\",\"\",VLOOKUP($D38,FisQui!$A$4:$AK$823,30,FALSE)))","v":""},{"$f":"IF(ISERROR(MATCH($D38,FisQui!$A$4:$A$823,0)),\"\",IF(VLOOKUP($D38,FisQui!$A$4:$AK$823,31,FALSE)=\"\",\"\",VLOOKUP($D38,FisQui!$A$4:$AK$823,31,FALSE)))","v":""},{"$f":"IF(ISERROR(MATCH($D38,FisQui!$A$4:$A$823,0)),\"\",IF(VLOOKUP($D38,FisQui!$A$4:$AK$823,33,FALSE)=\"\",\"\",VLOOKUP($D38,FisQui!$A$4:$AK$823,33,FALSE)))","v":""},{"$f":"IF(ISERROR(MATCH($D38,FisQui!$A$4:$A$823,0)),\"\",IF(VLOOKUP($D38,FisQui!$A$4:$AK$823,34,FALSE)=\"\",\"\",VLOOKUP($D38,FisQui!$A$4:$AK$823,34,FALSE)))","v":""},{"$f":"IF(ISERROR(MATCH($D38,FisQui!$A$4:$A$823,0)),\"\",IF(VLOOKUP($D38,FisQui!$A$4:$AK$823,35,FALSE)=\"\",\"\",VLOOKUP($D38,FisQui!$A$4:$AK$823,35,FALSE)))","v":""},{"$f":"IF(ISERROR(MATCH($D38,FisQui!$A$4:$A$823,0)),\"\",IF(VLOOKUP($D38,FisQui!$A$4:$AK$823,36,FALSE)=\"\",\"\",VLOOKUP($D38,FisQui!$A$4:$AK$823,36,FALSE)))","v":""},{"$f":"IF(ISERROR(MATCH($D77,FatTox!$A$4:$A$823,0)),\"\",IF(VLOOKUP($D77,FatTox!$A$4:$V$823,11,FALSE)=\"\",\"\",VLOOKUP($D77,FatTox!$A$4:$V$823,11,FALSE)))","v":""}]
[]
[null,null,null,"PARÂMETROS TOXICOLÓGICOS"]
[]
[]
[]
[null,null,null,"CAS N°","EVIDÊNCIA DE CÂNCER","DOSE DE REFERÊNCIA (RfD)",null,null,null,null,null,"FATOR DE CARCINOGENICIDADE",null,null,"ABDGI","ABSd","TIPO","IUR            (ug/m³)-1","RfCi                (mg/m³)","Potabilidade","Fator Biodis-ponibili-dade relativa"]
[null,null,null,null,null,"INGESTÃO",null,"INALAÇÃO",null,"DÉRMICO",null,"Sfo                     (mg/kg-day)-1","Sfi              (mg/kg-day)-1","SFd            (mg/kg-day)-1"]
[null,null,null,null,null,"RfDo          (mg/kg-day)","REFERÊNCIA","RfDi            (mg/kg-dia)","REFERÊNCIA","RfDd          (mg/kg-day)","REFERÊNCIA"]
[null,"PARÂMETROS"]
[null,1,{"$f":"IF(ISERROR(MATCH($D48,FatTox!$A$4:$A$823,0)),\"\",VLOOKUP($D48,FatTox!$A$4:$T$823,2,FALSE))","v":""},{"$f":"$D9","v":0},{"$f":"IF(ISERROR(MATCH($D48,FatTox!$A$4:$A$823,0)),\"\",IF(ISERROR(MATCH($D48,FatTox!$A$4:$A$823,0)),\"\",VLOOKUP($D48,FatTox!$A$4:$T$823,17)))","v":""},{"$f":"IF(ISERROR(MATCH($D48,FatTox!$A$4:$A$823,0)),\"\",IF(VLOOKUP($D48,FatTox!$A$4:$T$823,7,FALSE)=\"\",\"\",VLOOKUP($D48,FatTox!$A$4:$T$823,7,FALSE)))","v":""},{"$f":"IF(ISERROR(MATCH($D48,FatTox!$A$4:$A$823,0)),\"\",IF(VLOOKUP($D48,FatTox!$A$4:$T$823,8,FALSE)=\"\",\"\",VLOOKUP($D48,FatTox!$A$4:$T$823,8,FALSE)))","v":""},{"$f":"IF(ISERROR(MATCH($D48,FatTox!$A$4:$A$823,0)),\"\",IF(VLOOKUP($D48,FatTox!$A$4:$T$823,9,FALSE)=\"\",\"\",VLOOKUP($D48,FatTox!$A$4:$T$823,9,FALSE)*20/70))","v":""},{"$f":"IF(ISERROR(MATCH($D48,FatTox!$A$4:$A$823,0)),\"\",IF(VLOOKUP($D48,FatTox!$A$4:$T$823,10,FALSE)=\"\",\"\",VLOOKUP($D48,FatTox!$A$4:$T$823,10,FALSE)))","v":""},{"$f":"IF(RfD.ig.cn.1<>\"\",IF(ISERROR(RfD.ig.cn.1*AOF.1),\"\",RfD.ig.cn.1*AOF.1),\"\")","v":""},{"$f":"RfD.ig.ag.1","v":""},{"$f":"IF(ISERROR(MATCH($D48,FatTox!$A$4:$A$823,0)),\"\",IF(VLOOKUP($D48,FatTox!$A$4:$T$823,3,FALSE)=\"\",\"\",VLOOKUP($D48,FatTox!$A$4:$T$823,3,FALSE)))","v":""},{"$f":"IF(ISERROR(MATCH($D48,FatTox!$A$4:$A$823,0)),\"\",IF(ISERROR((VLOOKUP($D48,FatTox!$A$4:$T$823,5,FALSE)*70)/20),\"\",IF(VLOOKUP($D48,FatTox!$A$4:$T$823,5,FALSE)=\"\",\"\",((VLOOKUP($D48,FatTox!$A$4:$T$823,5,FALSE)*70)/20)*1000)))","v":""},{"$f":"IF(Sf.ig.1<>\"\",IF(ISERROR(Sf.ig.1/AOF.1),\"\",Sf.ig.1/AOF.1),\"\")","v":""},{"$f":"IF(ISERROR(MATCH($D48,FatTox!$A$4:$A$823,0)),\"\",IF(VLOOKUP($D48,FatTox!$A$4:$T$823,13,FALSE)=\"\",\"\",VLOOKUP($D48,FatTox!$A$4:$T$823,13,FALSE)))","v":""},{"$f":"IF(ISERROR(MATCH($D48,FatTox!$A$4:$A$823,0)),\"\",IF(VLOOKUP($D48,FatTox!$A$4:$T$823,14,FALSE)=\"\",\"\",VLOOKUP($D48,FatTox!$A$4:$T$823,14,FALSE)))","v":""},{"$f":"IF(ISERROR(MATCH($D48,FatTox!$A$4:$A$823,0)),\"\",IF(VLOOKUP($D48,FatTox!$A$4:$T$823,18,FALSE)=0,\"\",VLOOKUP($D48,FatTox!$A$4:$T$823,18,FALSE)))","v":""},{"$f":"IF(ISERROR(MATCH($D48,FatTox!$A$4:$A$823,0)),\"\",IF(VLOOKUP($D48,FatTox!$A$4:$T$823,5,FALSE)=0,\"\",VLOOKUP($D48,FatTox!$A$4:$T$823,5,FALSE)))","v":""},{"$f":"IF(ISERROR(MATCH($D48,FatTox!$A$4:$A$823,0)),\"\",IF(VLOOKUP($D48,FatTox!$A$4:$T$823,9,FALSE)=0,\"\",VLOOKUP($D48,FatTox!$A$4:$T$823,9,FALSE)))","v":""},{"$f":"IF(ISERROR(MATCH($D48,FatTox!$A$4:$A$823,0)),\"\",IF(VLOOKUP($D48,FatTox!$A$4:$T$823,20,FALSE)=0,\"\",VLOOKUP($D48,FatTox!$A$4:$T$823,20,FALSE)))","v":""},{"$f":"IF(ISERROR(MATCH($D48,FatTox!$A$4:$A$823,0)),\"\",IF(VLOOKUP($D48,FatTox!$A$4:$V$823,22,FALSE)=\"\",\"\",VLOOKUP($D48,FatTox!$A$4:$V$823,22,FALSE)))","v":""}]
[null,2,{"$f":"IF(ISERROR(MATCH($D49,FatTox!$A$4:$A$823,0)),\"\",VLOOKUP($D49,FatTox!$A$4:$T$823,2,FALSE))","v":""},{"$f":"D10","v":0},{"$f":"IF(ISERROR(MATCH($D49,FatTox!$A$4:$A$823,0)),\"\",IF(ISERROR(MATCH($D49,FatTox!$A$4:$A$823,0)),\"\",VLOOKUP($D49,FatTox!$A$4:$T$823,17)))","v":""},{"$f":"IF(ISERROR(MATCH($D49,FatTox!$A$4:$A$823,0)),\"\",IF(VLOOKUP($D49,FatTox!$A$4:$T$823,7,FALSE)=\"\",\"\",VLOOKUP($D49,FatTox!$A$4:$T$823,7,FALSE)))","v":""},{"$f":"IF(ISERROR(MATCH($D49,FatTox!$A$4:$A$823,0)),\"\",IF(VLOOKUP($D49,FatTox!$A$4:$T$823,8,FALSE)=\"\",\"\",VLOOKUP($D49,FatTox!$A$4:$T$823,8,FALSE)))","v":""},{"$f":"IF(ISERROR(MATCH($D49,FatTox!$A$4:$A$823,0)),\"\",IF(VLOOKUP($D49,FatTox!$A$4:$T$823,9,FALSE)=\"\",\"\",VLOOKUP($D49,FatTox!$A$4:$T$823,9,FALSE)*20/70))","v":""},{"$f":"IF(ISERROR(MATCH($D49,FatTox!$A$4:$A$823,0)),\"\",IF(VLOOKUP($D49,FatTox!$A$4:$T$823,10,FALSE)=\"\",\"\",VLOOKUP($D49,FatTox!$A$4:$T$823,10,FALSE)))","v":""},{"$f":"IF(RfD.ig.cn.2<>\"\",IF(ISERROR(RfD.ig.cn.2*AOF.2),\"\",RfD.ig.cn.2*AOF.2),\"\")","v":""},{"$f":"RfD.ig.ag.2","v":""},{"$f":"IF(ISERROR(MATCH($D49,FatTox!$A$4:$A$823,0)),\"\",IF(VLOOKUP($D49,FatTox!$A$4:$T$823,3,FALSE)=\"\",\"\",VLOOKUP($D49,FatTox!$A$4:$T$823,3,FALSE)))","v":""},{"$f":"IF(ISERROR(MATCH($D49,FatTox!$A$4:$A$823,0)),\"\",IF(ISERROR((VLOOKUP($D49,FatTox!$A$4:$T$823,5,FALSE)*70)/20),\"\",IF(VLOOKUP($D49,FatTox!$A$4:$T$823,5,FALSE)=\"\",\"\",((VLOOKUP($D49,FatTox!$A$4:$T$823,5,FALSE)*70)/20)*1000)))","v":""},{"$f":"IF(Sf.ig.2<>\"\",IF(ISERROR(Sf.ig.2/AOF.2),\"\",Sf.ig.2/AOF.2),\"\")","v":""},{"$f":"IF(ISERROR(MATCH($D49,FatTox!$A$4:$A$823,0)),\"\",IF(VLOOKUP($D49,FatTox!$A$4:$T$823,13,FALSE)=\"\",\"\",VLOOKUP($D49,FatTox!$A$4:$T$823,13,FALSE)))","v":""},{"$f":"IF(ISERROR(MATCH($D49,FatTox!$A$4:$A$823,0)),\"\",IF(VLOOKUP($D49,FatTox!$A$4:$T$823,14,FALSE)=\"\",\"\",VLOOKUP($D49,FatTox!$A$4:$T$823,14,FALSE)))","v":""},{"$f":"IF(ISERROR(MATCH($D49,FatTox!$A$4:$A$823,0)),\"\",IF(VLOOKUP($D49,FatTox!$A$4:$T$823,18,FALSE)=0,\"\",VLOOKUP($D49,FatTox!$A$4:$T$823,18,FALSE)))","v":""},{"$f":"IF(ISERROR(MATCH($D49,FatTox!$A$4:$A$823,0)),\"\",IF(VLOOKUP($D49,FatTox!$A$4:$T$823,5,FALSE)=0,\"\",VLOOKUP($D49,FatTox!$A$4:$T$823,5,FALSE)))","v":""},{"$f":"IF(ISERROR(MATCH($D49,FatTox!$A$4:$A$823,0)),\"\",IF(VLOOKUP($D49,FatTox!$A$4:$T$823,9,FALSE)=0,\"\",VLOOKUP($D49,FatTox!$A$4:$T$823,9,FALSE)))","v":""},{"$f":"IF(ISERROR(MATCH($D49,FatTox!$A$4:$A$823,0)),\"\",IF(VLOOKUP($D49,FatTox!$A$4:$T$823,20,FALSE)=0,\"\",VLOOKUP($D49,FatTox!$A$4:$T$823,20,FALSE)))","v":""},{"$f":"IF(ISERROR(MATCH($D49,FatTox!$A$4:$A$823,0)),\"\",IF(VLOOKUP($D49,FatTox!$A$4:$V$823,22,FALSE)=\"\",\"\",VLOOKUP($D49,FatTox!$A$4:$V$823,22,FALSE)))","v":""}]
[null,3,{"$f":"IF(ISERROR(MATCH($D50,FatTox!$A$4:$A$823,0)),\"\",VLOOKUP($D50,FatTox!$A$4:$T$823,2,FALSE))","v":""},0,{"$f":"IF(ISERROR(MATCH($D50,FatTox!$A$4:$A$823,0)),\"\",IF(ISERROR(MATCH($D50,FatTox!$A$4:$A$823,0)),\"\",VLOOKUP($D50,FatTox!$A$4:$T$823,17)))","v":""},{"$f":"IF(ISERROR(MATCH($D50,FatTox!$A$4:$A$823,0)),\"\",IF(VLOOKUP($D50,FatTox!$A$4:$T$823,7,FALSE)=\"\",\"\",VLOOKUP($D50,FatTox!$A$4:$T$823,7,FALSE)))","v":""},{"$f":"IF(ISERROR(MATCH($D50,FatTox!$A$4:$A$823,0)),\"\",IF(VLOOKUP($D50,FatTox!$A$4:$T$823,8,FALSE)=\"\",\"\",VLOOKUP($D50,FatTox!$A$4:$T$823,8,FALSE)))","v":""},{"$f":"IF(ISERROR(MATCH($D50,FatTox!$A$4:$A$823,0)),\"\",IF(VLOOKUP($D50,FatTox!$A$4:$T$823,9,FALSE)=\"\",\"\",VLOOKUP($D50,FatTox!$A$4:$T$823,9,FALSE)*20/70))","v":""},{"$f":"IF(ISERROR(MATCH($D50,FatTox!$A$4:$A$823,0)),\"\",IF(VLOOKUP($D50,FatTox!$A$4:$T$823,10,FALSE)=\"\",\"\",VLOOKUP($D50,FatTox!$A$4:$T$823,10,FALSE)))","v":""},{"$f":"IF(RfD.ig.cn.3<>\"\",IF(ISERROR(RfD.ig.cn.3*AOF.3),\"\",RfD.ig.cn.3*AOF.3),\"\")","v":""},{"$f":"RfD.ig.ag.3","v":""},{"$f":"IF(ISERROR(MATCH($D50,FatTox!$A$4:$A$823,0)),\"\",IF(VLOOKUP($D50,FatTox!$A$4:$T$823,3,FALSE)=\"\",\"\",VLOOKUP($D50,FatTox!$A$4:$T$823,3,FALSE)))","v":""},{"$f":"IF(ISERROR(MATCH($D50,FatTox!$A$4:$A$823,0)),\"\",IF(ISERROR((VLOOKUP($D50,FatTox!$A$4:$T$823,5,FALSE)*70)/20),\"\",IF(VLOOKUP($D50,FatTox!$A$4:$T$823,5,FALSE)=\"\",\"\",((VLOOKUP($D50,FatTox!$A$4:$T$823,5,FALSE)*70)/20)*1000)))","v":""},{"$f":"IF(Sf.ig.3<>\"\",IF(ISERROR(Sf.ig.3/AOF.3),\"\",Sf.ig.3/AOF.3),\"\")","v":""},{"$f":"IF(ISERROR(MATCH($D50,FatTox!$A$4:$A$823,0)),\"\",IF(VLOOKUP($D50,FatTox!$A$4:$T$823,13,FALSE)=\"\",\"\",VLOOKUP($D50,FatTox!$A$4:$T$823,13,FALSE)))","v":""},{"$f":"IF(ISERROR(MATCH($D50,FatTox!$A$4:$A$823,0)),\"\",IF(VLOOKUP($D50,FatTox!$A$4:$T$823,14,FALSE)=\"\",\"\",VLOOKUP($D50,FatTox!$A$4:$T$823,14,FALSE)))","v":""},{"$f":"IF(ISERROR(MATCH($D50,FatTox!$A$4:$A$823,0)),\"\",IF(VLOOKUP($D50,FatTox!$A$4:$T$823,18,FALSE)=0,\"\",VLOOKUP($D50,FatTox!$A$4:$T$823,18,FALSE)))","v":""},{"$f":"IF(ISERROR(MATCH($D50,FatTox!$A$4:$A$823,0)),\"\",IF(VLOOKUP($D50,FatTox!$A$4:$T$823,5,FALSE)=0,\"\",VLOOKUP($D50,FatTox!$A$4:$T$823,5,FALSE)))","v":""},{"$f":"IF(ISERROR(MATCH($D50,FatTox!$A$4:$A$823,0)),\"\",IF(VLOOKUP($D50,FatTox!$A$4:$T$823,9,FALSE)=0,\"\",VLOOKUP($D50,FatTox!$A$4:$T$823,9,FALSE)))","v":""},{"$f":"IF(ISERROR(MATCH($D50,FatTox!$A$4:$A$823,0)),\"\",IF(VLOOKUP($D50,FatTox!$A$4:$T$823,20,FALSE)=0,\"\",VLOOKUP($D50,FatTox!$A$4:$T$823,20,FALSE)))","v":""},{"$f":"IF(ISERROR(MATCH($D50,FatTox!$A$4:$A$823,0)),\"\",IF(VLOOKUP($D50,FatTox!$A$4:$V$823,22,FALSE)=\"\",\"\",VLOOKUP($D50,FatTox!$A$4:$V$823,22,FALSE)))","v":""}]
[null,4,{"$f":"IF(ISERROR(MATCH($D51,FatTox!$A$4:$A$823,0)),\"\",VLOOKUP($D51,FatTox!$A$4:$T$823,2,FALSE))","v":""},0,{"$f":"IF(ISERROR(MATCH($D51,FatTox!$A$4:$A$823,0)),\"\",IF(ISERROR(MATCH($D51,FatTox!$A$4:$A$823,0)),\"\",VLOOKUP($D51,FatTox!$A$4:$T$823,17)))","v":""},{"$f":"IF(ISERROR(MATCH($D51,FatTox!$A$4:$A$823,0)),\"\",IF(VLOOKUP($D51,FatTox!$A$4:$T$823,7,FALSE)=\"\",\"\",VLOOKUP($D51,FatTox!$A$4:$T$823,7,FALSE)))","v":""},{"$f":"IF(ISERROR(MATCH($D51,FatTox!$A$4:$A$823,0)),\"\",IF(VLOOKUP($D51,FatTox!$A$4:$T$823,8,FALSE)=\"\",\"\",VLOOKUP($D51,FatTox!$A$4:$T$823,8,FALSE)))","v":""},{"$f":"IF(ISERROR(MATCH($D51,FatTox!$A$4:$A$823,0)),\"\",IF(VLOOKUP($D51,FatTox!$A$4:$T$823,9,FALSE)=\"\",\"\",VLOOKUP($D51,FatTox!$A$4:$T$823,9,FALSE)*20/70))","v":""},{"$f":"IF(ISERROR(MATCH($D51,FatTox!$A$4:$A$823,0)),\"\",IF(VLOOKUP($D51,FatTox!$A$4:$T$823,10,FALSE)=\"\",\"\",VLOOKUP($D51,FatTox!$A$4:$T$823,10,FALSE)))","v":""},{"$f":"IF(RfD.ig.cn.4<>\"\",IF(ISERROR(RfD.ig.cn.4*AOF.4),\"\",RfD.ig.cn.4*AOF.4),\"\")","v":""},{"$f":"RfD.ig.ag.4","v":""},{"$f":"IF(ISERROR(MATCH($D51,FatTox!$A$4:$A$823,0)),\"\",IF(VLOOKUP($D51,FatTox!$A$4:$T$823,3,FALSE)=\"\",\"\",VLOOKUP($D51,FatTox!$A$4:$T$823,3,FALSE)))","v":""},{"$f":"IF(ISERROR(MATCH($D51,FatTox!$A$4:$A$823,0)),\"\",IF(ISERROR((VLOOKUP($D51,FatTox!$A$4:$T$823,5,FALSE)*70)/20),\"\",IF(VLOOKUP($D51,FatTox!$A$4:$T$823,5,FALSE)=\"\",\"\",((VLOOKUP($D51,FatTox!$A$4:$T$823,5,FALSE)*70)/20)*1000)))","v":""},{"$f":"IF(Sf.ig.4<>\"\",IF(ISERROR(Sf.ig.4/AOF.4),\"\",Sf.ig.4/AOF.4),\"\")","v":""},{"$f":"IF(ISERROR(MATCH($D51,FatTox!$A$4:$A$823,0)),\"\",IF(VLOOKUP($D51,FatTox!$A$4:$T$823,13,FALSE)=\"\",\"\",VLOOKUP($D51,FatTox!$A$4:$T$823,13,FALSE)))","v":""},{"$f":"IF(ISERROR(MATCH($D51,FatTox!$A$4:$A$823,0)),\"\",IF(VLOOKUP($D51,FatTox!$A$4:$T$823,14,FALSE)=\"\",\"\",VLOOKUP($D51,FatTox!$A$4:$T$823,14,FALSE)))","v":""},{"$f":"IF(ISERROR(MATCH($D51,FatTox!$A$4:$A$823,0)),\"\",IF(VLOOKUP($D51,FatTox!$A$4:$T$823,18,FALSE)=0,\"\",VLOOKUP($D51,FatTox!$A$4:$T$823,18,FALSE)))","v":""},{"$f":"IF(ISERROR(MATCH($D51,FatTox!$A$4:$A$823,0)),\"\",IF(VLOOKUP($D51,FatTox!$A$4:$T$823,5,FALSE)=0,\"\",VLOOKUP($D51,FatTox!$A$4:$T$823,5,FALSE)))","v":""},{"$f":"IF(ISERROR(MATCH($D51,FatTox!$A$4:$A$823,0)),\"\",IF(VLOOKUP($D51,FatTox!$A$4:$T$823,9,FALSE)=0,\"\",VLOOKUP($D51,FatTox!$A$4:$T$823,9,FALSE)))","v":""},{"$f":"IF(ISERROR(MATCH($D51,FatTox!$A$4:$A$823,0)),\"\",IF(VLOOKUP($D51,FatTox!$A$4:$T$823,20,FALSE)=0,\"\",VLOOKUP($D51,FatTox!$A$4:$T$823,20,FALSE)))","v":""},{"$f":"IF(ISERROR(MATCH($D51,FatTox!$A$4:$A$823,0)),\"\",IF(VLOOKUP($D51,FatTox!$A$4:$V$823,22,FALSE)=\"\",\"\",VLOOKUP($D51,FatTox!$A$4:$V$823,22,FALSE)))","v":""}]
[null,5,{"$f":"IF(ISERROR(MATCH($D52,FatTox!$A$4:$A$823,0)),\"\",VLOOKUP($D52,FatTox!$A$4:$T$823,2,FALSE))","v":""},0,{"$f":"IF(ISERROR(MATCH($D52,FatTox!$A$4:$A$823,0)),\"\",IF(ISERROR(MATCH($D52,FatTox!$A$4:$A$823,0)),\"\",VLOOKUP($D52,FatTox!$A$4:$T$823,17)))","v":""},{"$f":"IF(ISERROR(MATCH($D52,FatTox!$A$4:$A$823,0)),\"\",IF(VLOOKUP($D52,FatTox!$A$4:$T$823,7,FALSE)=\"\",\"\",VLOOKUP($D52,FatTox!$A$4:$T$823,7,FALSE)))","v":""},{"$f":"IF(ISERROR(MATCH($D52,FatTox!$A$4:$A$823,0)),\"\",IF(VLOOKUP($D52,FatTox!$A$4:$T$823,8,FALSE)=\"\",\"\",VLOOKUP($D52,FatTox!$A$4:$T$823,8,FALSE)))","v":""},{"$f":"IF(ISERROR(MATCH($D52,FatTox!$A$4:$A$823,0)),\"\",IF(VLOOKUP($D52,FatTox!$A$4:$T$823,9,FALSE)=\"\",\"\",VLOOKUP($D52,FatTox!$A$4:$T$823,9,FALSE)*20/70))","v":""},{"$f":"IF(ISERROR(MATCH($D52,FatTox!$A$4:$A$823,0)),\"\",IF(VLOOKUP($D52,FatTox!$A$4:$T$823,10,FALSE)=\"\",\"\",VLOOKUP($D52,FatTox!$A$4:$T$823,10,FALSE)))","v":""},{"$f":"IF(RfD.ig.cn.5<>\"\",IF(ISERROR(RfD.ig.cn.5*AOF.5),\"\",RfD.ig.cn.5*AOF.5),\"\")","v":""},{"$f":"RfD.ig.ag.5","v":""},{"$f":"IF(ISERROR(MATCH($D52,FatTox!$A$4:$A$823,0)),\"\",IF(VLOOKUP($D52,FatTox!$A$4:$T$823,3,FALSE)=\"\",\"\",VLOOKUP($D52,FatTox!$A$4:$T$823,3,FALSE)))","v":""},{"$f":"IF(ISERROR(MATCH($D52,FatTox!$A$4:$A$823,0)),\"\",IF(ISERROR((VLOOKUP($D52,FatTox!$A$4:$T$823,5,FALSE)*70)/20),\"\",IF(VLOOKUP($D52,FatTox!$A$4:$T$823,5,FALSE)=\"\",\"\",((VLOOKUP($D52,FatTox!$A$4:$T$823,5,FALSE)*70)/20)*1000)))","v":""},{"$f":"IF(Sf.ig.5<>\"\",IF(ISERROR(Sf.ig.5/AOF.5),\"\",Sf.ig.5/AOF.5),\"\")","v":""},{"$f":"IF(ISERROR(MATCH($D52,FatTox!$A$4:$A$823,0)),\"\",IF(VLOOKUP($D52,FatTox!$A$4:$T$823,13,FALSE)=\"\",\"\",VLOOKUP($D52,FatTox!$A$4:$T$823,13,FALSE)))","v":""},{"$f":"IF(ISERROR(MATCH($D52,FatTox!$A$4:$A$823,0)),\"\",IF(VLOOKUP($D52,FatTox!$A$4:$T$823,14,FALSE)=\"\",\"\",VLOOKUP($D52,FatTox!$A$4:$T$823,14,FALSE)))","v":""},{"$f":"IF(ISERROR(MATCH($D52,FatTox!$A$4:$A$823,0)),\"\",IF(VLOOKUP($D52,FatTox!$A$4:$T$823,18,FALSE)=0,\"\",VLOOKUP($D52,FatTox!$A$4:$T$823,18,FALSE)))","v":""},{"$f":"IF(ISERROR(MATCH($D52,FatTox!$A$4:$A$823,0)),\"\",IF(VLOOKUP($D52,FatTox!$A$4:$T$823,5,FALSE)=0,\"\",VLOOKUP($D52,FatTox!$A$4:$T$823,5,FALSE)))","v":""},{"$f":"IF(ISERROR(MATCH($D52,FatTox!$A$4:$A$823,0)),\"\",IF(VLOOKUP($D52,FatTox!$A$4:$T$823,9,FALSE)=0,\"\",VLOOKUP($D52,FatTox!$A$4:$T$823,9,FALSE)))","v":""},{"$f":"IF(ISERROR(MATCH($D52,FatTox!$A$4:$A$823,0)),\"\",IF(VLOOKUP($D52,FatTox!$A$4:$T$823,20,FALSE)=0,\"\",VLOOKUP($D52,FatTox!$A$4:$T$823,20,FALSE)))","v":""},{"$f":"IF(ISERROR(MATCH($D52,FatTox!$A$4:$A$823,0)),\"\",IF(VLOOKUP($D52,FatTox!$A$4:$V$823,22,FALSE)=\"\",\"\",VLOOKUP($D52,FatTox!$A$4:$V$823,22,FALSE)))","v":""}]
[null,6,{"$f":"IF(ISERROR(MATCH($D53,FatTox!$A$4:$A$823,0)),\"\",VLOOKUP($D53,FatTox!$A$4:$T$823,2,FALSE))","v":""},0,{"$f":"IF(ISERROR(MATCH($D53,FatTox!$A$4:$A$823,0)),\"\",IF(ISERROR(MATCH($D53,FatTox!$A$4:$A$823,0)),\"\",VLOOKUP($D53,FatTox!$A$4:$T$823,17)))","v":""},{"$f":"IF(ISERROR(MATCH($D53,FatTox!$A$4:$A$823,0)),\"\",IF(VLOOKUP($D53,FatTox!$A$4:$T$823,7,FALSE)=\"\",\"\",VLOOKUP($D53,FatTox!$A$4:$T$823,7,FALSE)))","v":""},{"$f":"IF(ISERROR(MATCH($D53,FatTox!$A$4:$A$823,0)),\"\",IF(VLOOKUP($D53,FatTox!$A$4:$T$823,8,FALSE)=\"\",\"\",VLOOKUP($D53,FatTox!$A$4:$T$823,8,FALSE)))","v":""},{"$f":"IF(ISERROR(MATCH($D53,FatTox!$A$4:$A$823,0)),\"\",IF(VLOOKUP($D53,FatTox!$A$4:$T$823,9,FALSE)=\"\",\"\",VLOOKUP($D53,FatTox!$A$4:$T$823,9,FALSE)*20/70))","v":""},{"$f":"IF(ISERROR(MATCH($D53,FatTox!$A$4:$A$823,0)),\"\",IF(VLOOKUP($D53,FatTox!$A$4:$T$823,10,FALSE)=\"\",\"\",VLOOKUP($D53,FatTox!$A$4:$T$823,10,FALSE)))","v":""},{"$f":"IF(RfD.ig.cn.6<>\"\",IF(ISERROR(RfD.ig.cn.6*AOF.6),\"\",RfD.ig.cn.6*AOF.6),\"\")","v":""},{"$f":"RfD.ig.ag.6","v":""},{"$f":"IF(ISERROR(MATCH($D53,FatTox!$A$4:$A$823,0)),\"\",IF(VLOOKUP($D53,FatTox!$A$4:$T$823,3,FALSE)=\"\",\"\",VLOOKUP($D53,FatTox!$A$4:$T$823,3,FALSE)))","v":""},{"$f":"IF(ISERROR(MATCH($D53,FatTox!$A$4:$A$823,0)),\"\",IF(ISERROR((VLOOKUP($D53,FatTox!$A$4:$T$823,5,FALSE)*70)/20),\"\",IF(VLOOKUP($D53,FatTox!$A$4:$T$823,5,FALSE)=\"\",\"\",((VLOOKUP($D53,FatTox!$A$4:$T$823,5,FALSE)*70)/20)*1000)))","v":""},{"$f":"IF(Sf.ig.6<>\"\",IF(ISERROR(Sf.ig.6/AOF.6),\"\",Sf.ig.6/AOF.6),\"\")","v":""},{"$f":"IF(ISERROR(MATCH($D53,FatTox!$A$4:$A$823,0)),\"\",IF(VLOOKUP($D53,FatTox!$A$4:$T$823,13,FALSE)=\"\",\"\",VLOOKUP($D53,FatTox!$A$4:$T$823,13,FALSE)))","v":""},{"$f":"IF(ISERROR(MATCH($D53,FatTox!$A$4:$A$823,0)),\"\",IF(VLOOKUP($D53,FatTox!$A$4:$T$823,14,FALSE)=\"\",\"\",VLOOKUP($D53,FatTox!$A$4:$T$823,14,FALSE)))","v":""},{"$f":"IF(ISERROR(MATCH($D53,FatTox!$A$4:$A$823,0)),\"\",IF(VLOOKUP($D53,FatTox!$A$4:$T$823,18,FALSE)=0,\"\",VLOOKUP($D53,FatTox!$A$4:$T$823,18,FALSE)))","v":""},{"$f":"IF(ISERROR(MATCH($D53,FatTox!$A$4:$A$823,0)),\"\",IF(VLOOKUP($D53,FatTox!$A$4:$T$823,5,FALSE)=0,\"\",VLOOKUP($D53,FatTox!$A$4:$T$823,5,FALSE)))","v":""},{"$f":"IF(ISERROR(MATCH($D53,FatTox!$A$4:$A$823,0)),\"\",IF(VLOOKUP($D53,FatTox!$A$4:$T$823,9,FALSE)=0,\"\",VLOOKUP($D53,FatTox!$A$4:$T$823,9,FALSE)))","v":""},{"$f":"IF(ISERROR(MATCH($D53,FatTox!$A$4:$A$823,0)),\"\",IF(VLOOKUP($D53,FatTox!$A$4:$T$823,20,FALSE)=0,\"\",VLOOKUP($D53,FatTox!$A$4:$T$823,20,FALSE)))","v":""},{"$f":"IF(ISERROR(MATCH($D53,FatTox!$A$4:$A$823,0)),\"\",IF(VLOOKUP($D53,FatTox!$A$4:$V$823,22,FALSE)=\"\",\"\",VLOOKUP($D53,FatTox!$A$4:$V$823,22,FALSE)))","v":""}]
[null,7,{"$f":"IF(ISERROR(MATCH($D54,FatTox!$A$4:$A$823,0)),\"\",VLOOKUP($D54,FatTox!$A$4:$T$823,2,FALSE))","v":""},0,{"$f":"IF(ISERROR(MATCH($D54,FatTox!$A$4:$A$823,0)),\"\",IF(ISERROR(MATCH($D54,FatTox!$A$4:$A$823,0)),\"\",VLOOKUP($D54,FatTox!$A$4:$T$823,17)))","v":""},{"$f":"IF(ISERROR(MATCH($D54,FatTox!$A$4:$A$823,0)),\"\",IF(VLOOKUP($D54,FatTox!$A$4:$T$823,7,FALSE)=\"\",\"\",VLOOKUP($D54,FatTox!$A$4:$T$823,7,FALSE)))","v":""},{"$f":"IF(ISERROR(MATCH($D54,FatTox!$A$4:$A$823,0)),\"\",IF(VLOOKUP($D54,FatTox!$A$4:$T$823,8,FALSE)=\"\",\"\",VLOOKUP($D54,FatTox!$A$4:$T$823,8,FALSE)))","v":""},{"$f":"IF(ISERROR(MATCH($D54,FatTox!$A$4:$A$823,0)),\"\",IF(VLOOKUP($D54,FatTox!$A$4:$T$823,9,FALSE)=\"\",\"\",VLOOKUP($D54,FatTox!$A$4:$T$823,9,FALSE)*20/70))","v":""},{"$f":"IF(ISERROR(MATCH($D54,FatTox!$A$4:$A$823,0)),\"\",IF(VLOOKUP($D54,FatTox!$A$4:$T$823,10,FALSE)=\"\",\"\",VLOOKUP($D54,FatTox!$A$4:$T$823,10,FALSE)))","v":""},{"$f":"IF(RfD.ig.cn.7<>\"\",IF(ISERROR(RfD.ig.cn.7*AOF.7),\"\",RfD.ig.cn.7*AOF.7),\"\")","v":""},{"$f":"RfD.ig.ag.7","v":""},{"$f":"IF(ISERROR(MATCH($D54,FatTox!$A$4:$A$823,0)),\"\",IF(VLOOKUP($D54,FatTox!$A$4:$T$823,3,FALSE)=\"\",\"\",VLOOKUP($D54,FatTox!$A$4:$T$823,3,FALSE)))","v":""},{"$f":"IF(ISERROR(MATCH($D54,FatTox!$A$4:$A$823,0)),\"\",IF(ISERROR((VLOOKUP($D54,FatTox!$A$4:$T$823,5,FALSE)*70)/20),\"\",IF(VLOOKUP($D54,FatTox!$A$4:$T$823,5,FALSE)=\"\",\"\",((VLOOKUP($D54,FatTox!$A$4:$T$823,5,FALSE)*70)/20)*1000)))","v":""},{"$f":"IF(Sf.ig.7<>\"\",IF(ISERROR(Sf.ig.7/AOF.7),\"\",Sf.ig.7/AOF.7),\"\")","v":""},{"$f":"IF(ISERROR(MATCH($D54,FatTox!$A$4:$A$823,0)),\"\",IF(VLOOKUP($D54,FatTox!$A$4:$T$823,13,FALSE)=\"\",\"\",VLOOKUP($D54,FatTox!$A$4:$T$823,13,FALSE)))","v":""},{"$f":"IF(ISERROR(MATCH($D54,FatTox!$A$4:$A$823,0)),\"\",IF(VLOOKUP($D54,FatTox!$A$4:$T$823,14,FALSE)=\"\",\"\",VLOOKUP($D54,FatTox!$A$4:$T$823,14,FALSE)))","v":""},{"$f":"IF(ISERROR(MATCH($D54,FatTox!$A$4:$A$823,0)),\"\",IF(VLOOKUP($D54,FatTox!$A$4:$T$823,18,FALSE)=0,\"\",VLOOKUP($D54,FatTox!$A$4:$T$823,18,FALSE)))","v":""},{"$f":"IF(ISERROR(MATCH($D54,FatTox!$A$4:$A$823,0)),\"\",IF(VLOOKUP($D54,FatTox!$A$4:$T$823,5,FALSE)=0,\"\",VLOOKUP($D54,FatTox!$A$4:$T$823,5,FALSE)))","v":""},{"$f":"IF(ISERROR(MATCH($D54,FatTox!$A$4:$A$823,0)),\"\",IF(VLOOKUP($D54,FatTox!$A$4:$T$823,9,FALSE)=0,\"\",VLOOKUP($D54,FatTox!$A$4:$T$823,9,FALSE)))","v":""},{"$f":"IF(ISERROR(MATCH($D54,FatTox!$A$4:$A$823,0)),\"\",IF(VLOOKUP($D54,FatTox!$A$4:$T$823,20,FALSE)=0,\"\",VLOOKUP($D54,FatTox!$A$4:$T$823,20,FALSE)))","v":""},{"$f":"IF(ISERROR(MATCH($D54,FatTox!$A$4:$A$823,0)),\"\",IF(VLOOKUP($D54,FatTox!$A$4:$V$823,22,FALSE)=\"\",\"\",VLOOKUP($D54,FatTox!$A$4:$V$823,22,FALSE)))","v":""}]
[null,8,{"$f":"IF(ISERROR(MATCH($D55,FatTox!$A$4:$A$823,0)),\"\",VLOOKUP($D55,FatTox!$A$4:$T$823,2,FALSE))","v":""},0,{"$f":"IF(ISERROR(MATCH($D55,FatTox!$A$4:$A$823,0)),\"\",IF(ISERROR(MATCH($D55,FatTox!$A$4:$A$823,0)),\"\",VLOOKUP($D55,FatTox!$A$4:$T$823,17)))","v":""},{"$f":"IF(ISERROR(MATCH($D55,FatTox!$A$4:$A$823,0)),\"\",IF(VLOOKUP($D55,FatTox!$A$4:$T$823,7,FALSE)=\"\",\"\",VLOOKUP($D55,FatTox!$A$4:$T$823,7,FALSE)))","v":""},{"$f":"IF(ISERROR(MATCH($D55,FatTox!$A$4:$A$823,0)),\"\",IF(VLOOKUP($D55,FatTox!$A$4:$T$823,8,FALSE)=\"\",\"\",VLOOKUP($D55,FatTox!$A$4:$T$823,8,FALSE)))","v":""},{"$f":"IF(ISERROR(MATCH($D55,FatTox!$A$4:$A$823,0)),\"\",IF(VLOOKUP($D55,FatTox!$A$4:$T$823,9,FALSE)=\"\",\"\",VLOOKUP($D55,FatTox!$A$4:$T$823,9,FALSE)*20/70))","v":""},{"$f":"IF(ISERROR(MATCH($D55,FatTox!$A$4:$A$823,0)),\"\",IF(VLOOKUP($D55,FatTox!$A$4:$T$823,10,FALSE)=\"\",\"\",VLOOKUP($D55,FatTox!$A$4:$T$823,10,FALSE)))","v":""},{"$f":"IF(RfD.ig.cn.8<>\"\",IF(ISERROR(RfD.ig.cn.8*AOF.8),\"\",RfD.ig.cn.8*AOF.8),\"\")","v":""},{"$f":"RfD.ig.ag.8","v":""},{"$f":"IF(ISERROR(MATCH($D55,FatTox!$A$4:$A$823,0)),\"\",IF(VLOOKUP($D55,FatTox!$A$4:$T$823,3,FALSE)=\"\",\"\",VLOOKUP($D55,FatTox!$A$4:$T$823,3,FALSE)))","v":""},{"$f":"IF(ISERROR(MATCH($D55,FatTox!$A$4:$A$823,0)),\"\",IF(ISERROR((VLOOKUP($D55,FatTox!$A$4:$T$823,5,FALSE)*70)/20),\"\",IF(VLOOKUP($D55,FatTox!$A$4:$T$823,5,FALSE)=\"\",\"\",((VLOOKUP($D55,FatTox!$A$4:$T$823,5,FALSE)*70)/20)*1000)))","v":""},{"$f":"IF(Sf.ig.8<>\"\",IF(ISERROR(Sf.ig.8/AOF.8),\"\",Sf.ig.8/AOF.8),\"\")","v":""},{"$f":"IF(ISERROR(MATCH($D55,FatTox!$A$4:$A$823,0)),\"\",IF(VLOOKUP($D55,FatTox!$A$4:$T$823,13,FALSE)=\"\",\"\",VLOOKUP($D55,FatTox!$A$4:$T$823,13,FALSE)))","v":""},{"$f":"IF(ISERROR(MATCH($D55,FatTox!$A$4:$A$823,0)),\"\",IF(VLOOKUP($D55,FatTox!$A$4:$T$823,14,FALSE)=\"\",\"\",VLOOKUP($D55,FatTox!$A$4:$T$823,14,FALSE)))","v":""},{"$f":"IF(ISERROR(MATCH($D55,FatTox!$A$4:$A$823,0)),\"\",IF(VLOOKUP($D55,FatTox!$A$4:$T$823,18,FALSE)=0,\"\",VLOOKUP($D55,FatTox!$A$4:$T$823,18,FALSE)))","v":""},{"$f":"IF(ISERROR(MATCH($D55,FatTox!$A$4:$A$823,0)),\"\",IF(VLOOKUP($D55,FatTox!$A$4:$T$823,5,FALSE)=0,\"\",VLOOKUP($D55,FatTox!$A$4:$T$823,5,FALSE)))","v":""},{"$f":"IF(ISERROR(MATCH($D55,FatTox!$A$4:$A$823,0)),\"\",IF(VLOOKUP($D55,FatTox!$A$4:$T$823,9,FALSE)=0,\"\",VLOOKUP($D55,FatTox!$A$4:$T$823,9,FALSE)))","v":""},{"$f":"IF(ISERROR(MATCH($D55,FatTox!$A$4:$A$823,0)),\"\",IF(VLOOKUP($D55,FatTox!$A$4:$T$823,20,FALSE)=0,\"\",VLOOKUP($D55,FatTox!$A$4:$T$823,20,FALSE)))","v":""},{"$f":"IF(ISERROR(MATCH($D55,FatTox!$A$4:$A$823,0)),\"\",IF(VLOOKUP($D55,FatTox!$A$4:$V$823,22,FALSE)=\"\",\"\",VLOOKUP($D55,FatTox!$A$4:$V$823,22,FALSE)))","v":""}]
[null,9,{"$f":"IF(ISERROR(MATCH($D56,FatTox!$A$4:$A$823,0)),\"\",VLOOKUP($D56,FatTox!$A$4:$T$823,2,FALSE))","v":""},0,{"$f":"IF(ISERROR(MATCH($D56,FatTox!$A$4:$A$823,0)),\"\",IF(ISERROR(MATCH($D56,FatTox!$A$4:$A$823,0)),\"\",VLOOKUP($D56,FatTox!$A$4:$T$823,17)))","v":""},{"$f":"IF(ISERROR(MATCH($D56,FatTox!$A$4:$A$823,0)),\"\",IF(VLOOKUP($D56,FatTox!$A$4:$T$823,7,FALSE)=\"\",\"\",VLOOKUP($D56,FatTox!$A$4:$T$823,7,FALSE)))","v":""},{"$f":"IF(ISERROR(MATCH($D56,FatTox!$A$4:$A$823,0)),\"\",IF(VLOOKUP($D56,FatTox!$A$4:$T$823,8,FALSE)=\"\",\"\",VLOOKUP($D56,FatTox!$A$4:$T$823,8,FALSE)))","v":""},{"$f":"IF(ISERROR(MATCH($D56,FatTox!$A$4:$A$823,0)),\"\",IF(VLOOKUP($D56,FatTox!$A$4:$T$823,9,FALSE)=\"\",\"\",VLOOKUP($D56,FatTox!$A$4:$T$823,9,FALSE)*20/70))","v":""},{"$f":"IF(ISERROR(MATCH($D56,FatTox!$A$4:$A$823,0)),\"\",IF(VLOOKUP($D56,FatTox!$A$4:$T$823,10,FALSE)=\"\",\"\",VLOOKUP($D56,FatTox!$A$4:$T$823,10,FALSE)))","v":""},{"$f":"IF(RfD.ig.cn.9<>\"\",IF(ISERROR(RfD.ig.cn.9*AOF.9),\"\",RfD.ig.cn.9*AOF.9),\"\")","v":""},{"$f":"RfD.ig.ag.9","v":""},{"$f":"IF(ISERROR(MATCH($D56,FatTox!$A$4:$A$823,0)),\"\",IF(VLOOKUP($D56,FatTox!$A$4:$T$823,3,FALSE)=\"\",\"\",VLOOKUP($D56,FatTox!$A$4:$T$823,3,FALSE)))","v":""},{"$f":"IF(ISERROR(MATCH($D56,FatTox!$A$4:$A$823,0)),\"\",IF(ISERROR((VLOOKUP($D56,FatTox!$A$4:$T$823,5,FALSE)*70)/20),\"\",IF(VLOOKUP($D56,FatTox!$A$4:$T$823,5,FALSE)=\"\",\"\",((VLOOKUP($D56,FatTox!$A$4:$T$823,5,FALSE)*70)/20)*1000)))","v":""},{"$f":"IF(Sf.ig.9<>\"\",IF(ISERROR(Sf.ig.9/AOF.9),\"\",Sf.ig.9/AOF.9),\"\")","v":""},{"$f":"IF(ISERROR(MATCH($D56,FatTox!$A$4:$A$823,0)),\"\",IF(VLOOKUP($D56,FatTox!$A$4:$T$823,13,FALSE)=\"\",\"\",VLOOKUP($D56,FatTox!$A$4:$T$823,13,FALSE)))","v":""},{"$f":"IF(ISERROR(MATCH($D56,FatTox!$A$4:$A$823,0)),\"\",IF(VLOOKUP($D56,FatTox!$A$4:$T$823,14,FALSE)=\"\",\"\",VLOOKUP($D56,FatTox!$A$4:$T$823,14,FALSE)))","v":""},{"$f":"IF(ISERROR(MATCH($D56,FatTox!$A$4:$A$823,0)),\"\",IF(VLOOKUP($D56,FatTox!$A$4:$T$823,18,FALSE)=0,\"\",VLOOKUP($D56,FatTox!$A$4:$T$823,18,FALSE)))","v":""},{"$f":"IF(ISERROR(MATCH($D56,FatTox!$A$4:$A$823,0)),\"\",IF(VLOOKUP($D56,FatTox!$A$4:$T$823,5,FALSE)=0,\"\",VLOOKUP($D56,FatTox!$A$4:$T$823,5,FALSE)))","v":""},{"$f":"IF(ISERROR(MATCH($D56,FatTox!$A$4:$A$823,0)),\"\",IF(VLOOKUP($D56,FatTox!$A$4:$T$823,9,FALSE)=0,\"\",VLOOKUP($D56,FatTox!$A$4:$T$823,9,FALSE)))","v":""},{"$f":"IF(ISERROR(MATCH($D56,FatTox!$A$4:$A$823,0)),\"\",IF(VLOOKUP($D56,FatTox!$A$4:$T$823,20,FALSE)=0,\"\",VLOOKUP($D56,FatTox!$A$4:$T$823,20,FALSE)))","v":""},{"$f":"IF(ISERROR(MATCH($D56,FatTox!$A$4:$A$823,0)),\"\",IF(VLOOKUP($D56,FatTox!$A$4:$V$823,22,FALSE)=\"\",\"\",VLOOKUP($D56,FatTox!$A$4:$V$823,22,FALSE)))","v":""}]
[null,10,{"$f":"IF(ISERROR(MATCH($D57,FatTox!$A$4:$A$823,0)),\"\",VLOOKUP($D57,FatTox!$A$4:$T$823,2,FALSE))","v":""},0,{"$f":"IF(ISERROR(MATCH($D57,FatTox!$A$4:$A$823,0)),\"\",IF(ISERROR(MATCH($D57,FatTox!$A$4:$A$823,0)),\"\",VLOOKUP($D57,FatTox!$A$4:$T$823,17)))","v":""},{"$f":"IF(ISERROR(MATCH($D57,FatTox!$A$4:$A$823,0)),\"\",IF(VLOOKUP($D57,FatTox!$A$4:$T$823,7,FALSE)=\"\",\"\",VLOOKUP($D57,FatTox!$A$4:$T$823,7,FALSE)))","v":""},{"$f":"IF(ISERROR(MATCH($D57,FatTox!$A$4:$A$823,0)),\"\",IF(VLOOKUP($D57,FatTox!$A$4:$T$823,8,FALSE)=\"\",\"\",VLOOKUP($D57,FatTox!$A$4:$T$823,8,FALSE)))","v":""},{"$f":"IF(ISERROR(MATCH($D57,FatTox!$A$4:$A$823,0)),\"\",IF(VLOOKUP($D57,FatTox!$A$4:$T$823,9,FALSE)=\"\",\"\",VLOOKUP($D57,FatTox!$A$4:$T$823,9,FALSE)*20/70))","v":""},{"$f":"IF(ISERROR(MATCH($D57,FatTox!$A$4:$A$823,0)),\"\",IF(VLOOKUP($D57,FatTox!$A$4:$T$823,10,FALSE)=\"\",\"\",VLOOKUP($D57,FatTox!$A$4:$T$823,10,FALSE)))","v":""},{"$f":"IF(RfD.ig.cn.10<>\"\",IF(ISERROR(RfD.ig.cn.10*AOF.10),\"\",RfD.ig.cn.10*AOF.10),\"\")","v":""},{"$f":"RfD.ig.ag.10","v":""},{"$f":"IF(ISERROR(MATCH($D57,FatTox!$A$4:$A$823,0)),\"\",IF(VLOOKUP($D57,FatTox!$A$4:$T$823,3,FALSE)=\"\",\"\",VLOOKUP($D57,FatTox!$A$4:$T$823,3,FALSE)))","v":""},{"$f":"IF(ISERROR(MATCH($D57,FatTox!$A$4:$A$823,0)),\"\",IF(ISERROR((VLOOKUP($D57,FatTox!$A$4:$T$823,5,FALSE)*70)/20),\"\",IF(VLOOKUP($D57,FatTox!$A$4:$T$823,5,FALSE)=\"\",\"\",((VLOOKUP($D57,FatTox!$A$4:$T$823,5,FALSE)*70)/20)*1000)))","v":""},{"$f":"IF(Sf.ig.10<>\"\",IF(ISERROR(Sf.ig.10/AOF.10),\"\",Sf.ig.10/AOF.10),\"\")","v":""},{"$f":"IF(ISERROR(MATCH($D57,FatTox!$A$4:$A$823,0)),\"\",IF(VLOOKUP($D57,FatTox!$A$4:$T$823,13,FALSE)=\"\",\"\",VLOOKUP($D57,FatTox!$A$4:$T$823,13,FALSE)))","v":""},{"$f":"IF(ISERROR(MATCH($D57,FatTox!$A$4:$A$823,0)),\"\",IF(VLOOKUP($D57,FatTox!$A$4:$T$823,14,FALSE)=\"\",\"\",VLOOKUP($D57,FatTox!$A$4:$T$823,14,FALSE)))","v":""},{"$f":"IF(ISERROR(MATCH($D57,FatTox!$A$4:$A$823,0)),\"\",IF(VLOOKUP($D57,FatTox!$A$4:$T$823,18,FALSE)=0,\"\",VLOOKUP($D57,FatTox!$A$4:$T$823,18,FALSE)))","v":""},{"$f":"IF(ISERROR(MATCH($D57,FatTox!$A$4:$A$823,0)),\"\",IF(VLOOKUP($D57,FatTox!$A$4:$T$823,5,FALSE)=0,\"\",VLOOKUP($D57,FatTox!$A$4:$T$823,5,FALSE)))","v":""},{"$f":"IF(ISERROR(MATCH($D57,FatTox!$A$4:$A$823,0)),\"\",IF(VLOOKUP($D57,FatTox!$A$4:$T$823,9,FALSE)=0,\"\",VLOOKUP($D57,FatTox!$A$4:$T$823,9,FALSE)))","v":""},{"$f":"IF(ISERROR(MATCH($D57,FatTox!$A$4:$A$823,0)),\"\",IF(VLOOKUP($D57,FatTox!$A$4:$T$823,20,FALSE)=0,\"\",VLOOKUP($D57,FatTox!$A$4:$T$823,20,FALSE)))","v":""},{"$f":"IF(ISERROR(MATCH($D57,FatTox!$A$4:$A$823,0)),\"\",IF(VLOOKUP($D57,FatTox!$A$4:$V$823,22,FALSE)=\"\",\"\",VLOOKUP($D57,FatTox!$A$4:$V$823,22,FALSE)))","v":""}]
[null,11,{"$f":"IF(ISERROR(MATCH($D58,FatTox!$A$4:$A$823,0)),\"\",VLOOKUP($D58,FatTox!$A$4:$T$823,2,FALSE))","v":""},0,{"$f":"IF(ISERROR(MATCH($D58,FatTox!$A$4:$A$823,0)),\"\",IF(ISERROR(MATCH($D58,FatTox!$A$4:$A$823,0)),\"\",VLOOKUP($D58,FatTox!$A$4:$T$823,17)))","v":""},{"$f":"IF(ISERROR(MATCH($D58,FatTox!$A$4:$A$823,0)),\"\",IF(VLOOKUP($D58,FatTox!$A$4:$T$823,7,FALSE)=\"\",\"\",VLOOKUP($D58,FatTox!$A$4:$T$823,7,FALSE)))","v":""},{"$f":"IF(ISERROR(MATCH($D58,FatTox!$A$4:$A$823,0)),\"\",IF(VLOOKUP($D58,FatTox!$A$4:$T$823,8,FALSE)=\"\",\"\",VLOOKUP($D58,FatTox!$A$4:$T$823,8,FALSE)))","v":""},{"$f":"IF(ISERROR(MATCH($D58,FatTox!$A$4:$A$823,0)),\"\",IF(VLOOKUP($D58,FatTox!$A$4:$T$823,9,FALSE)=\"\",\"\",VLOOKUP($D58,FatTox!$A$4:$T$823,9,FALSE)*20/70))","v":""},{"$f":"IF(ISERROR(MATCH($D58,FatTox!$A$4:$A$823,0)),\"\",IF(VLOOKUP($D58,FatTox!$A$4:$T$823,10,FALSE)=\"\",\"\",VLOOKUP($D58,FatTox!$A$4:$T$823,10,FALSE)))","v":""},{"$f":"IF(RfD.ig.cn.11<>\"\",IF(ISERROR(RfD.ig.cn.11*AOF.11),\"\",RfD.ig.cn.11*AOF.11),\"\")","v":""},{"$f":"RfD.ig.ag.11","v":""},{"$f":"IF(ISERROR(MATCH($D58,FatTox!$A$4:$A$823,0)),\"\",IF(VLOOKUP($D58,FatTox!$A$4:$T$823,3,FALSE)=\"\",\"\",VLOOKUP($D58,FatTox!$A$4:$T$823,3,FALSE)))","v":""},{"$f":"IF(ISERROR(MATCH($D58,FatTox!$A$4:$A$823,0)),\"\",IF(ISERROR((VLOOKUP($D58,FatTox!$A$4:$T$823,5,FALSE)*70)/20),\"\",IF(VLOOKUP($D58,FatTox!$A$4:$T$823,5,FALSE)=\"\",\"\",((VLOOKUP($D58,FatTox!$A$4:$T$823,5,FALSE)*70)/20)*1000)))","v":""},{"$f":"IF(Sf.ig.11<>\"\",IF(ISERROR(Sf.ig.11/AOF.11),\"\",Sf.ig.11/AOF.11),\"\")","v":""},{"$f":"IF(ISERROR(MATCH($D58,FatTox!$A$4:$A$823,0)),\"\",IF(VLOOKUP($D58,FatTox!$A$4:$T$823,13,FALSE)=\"\",\"\",VLOOKUP($D58,FatTox!$A$4:$T$823,13,FALSE)))","v":""},{"$f":"IF(ISERROR(MATCH($D58,FatTox!$A$4:$A$823,0)),\"\",IF(VLOOKUP($D58,FatTox!$A$4:$T$823,14,FALSE)=\"\",\"\",VLOOKUP($D58,FatTox!$A$4:$T$823,14,FALSE)))","v":""},{"$f":"IF(ISERROR(MATCH($D58,FatTox!$A$4:$A$823,0)),\"\",IF(VLOOKUP($D58,FatTox!$A$4:$T$823,18,FALSE)=0,\"\",VLOOKUP($D58,FatTox!$A$4:$T$823,18,FALSE)))","v":""},{"$f":"IF(ISERROR(MATCH($D58,FatTox!$A$4:$A$823,0)),\"\",IF(VLOOKUP($D58,FatTox!$A$4:$T$823,5,FALSE)=0,\"\",VLOOKUP($D58,FatTox!$A$4:$T$823,5,FALSE)))","v":""},{"$f":"IF(ISERROR(MATCH($D58,FatTox!$A$4:$A$823,0)),\"\",IF(VLOOKUP($D58,FatTox!$A$4:$T$823,9,FALSE)=0,\"\",VLOOKUP($D58,FatTox!$A$4:$T$823,9,FALSE)))","v":""},{"$f":"IF(ISERROR(MATCH($D58,FatTox!$A$4:$A$823,0)),\"\",IF(VLOOKUP($D58,FatTox!$A$4:$T$823,20,FALSE)=0,\"\",VLOOKUP($D58,FatTox!$A$4:$T$823,20,FALSE)))","v":""},{"$f":"IF(ISERROR(MATCH($D58,FatTox!$A$4:$A$823,0)),\"\",IF(VLOOKUP($D58,FatTox!$A$4:$V$823,22,FALSE)=\"\",\"\",VLOOKUP($D58,FatTox!$A$4:$V$823,22,FALSE)))","v":""}]
[null,12,{"$f":"IF(ISERROR(MATCH($D59,FatTox!$A$4:$A$823,0)),\"\",VLOOKUP($D59,FatTox!$A$4:$T$823,2,FALSE))","v":""},0,{"$f":"IF(ISERROR(MATCH($D59,FatTox!$A$4:$A$823,0)),\"\",IF(ISERROR(MATCH($D59,FatTox!$A$4:$A$823,0)),\"\",VLOOKUP($D59,FatTox!$A$4:$T$823,17)))","v":""},{"$f":"IF(ISERROR(MATCH($D59,FatTox!$A$4:$A$823,0)),\"\",IF(VLOOKUP($D59,FatTox!$A$4:$T$823,7,FALSE)=\"\",\"\",VLOOKUP($D59,FatTox!$A$4:$T$823,7,FALSE)))","v":""},{"$f":"IF(ISERROR(MATCH($D59,FatTox!$A$4:$A$823,0)),\"\",IF(VLOOKUP($D59,FatTox!$A$4:$T$823,8,FALSE)=\"\",\"\",VLOOKUP($D59,FatTox!$A$4:$T$823,8,FALSE)))","v":""},{"$f":"IF(ISERROR(MATCH($D59,FatTox!$A$4:$A$823,0)),\"\",IF(VLOOKUP($D59,FatTox!$A$4:$T$823,9,FALSE)=\"\",\"\",VLOOKUP($D59,FatTox!$A$4:$T$823,9,FALSE)*20/70))","v":""},{"$f":"IF(ISERROR(MATCH($D59,FatTox!$A$4:$A$823,0)),\"\",IF(VLOOKUP($D59,FatTox!$A$4:$T$823,10,FALSE)=\"\",\"\",VLOOKUP($D59,FatTox!$A$4:$T$823,10,FALSE)))","v":""},{"$f":"IF(RfD.ig.cn.12<>\"\",IF(ISERROR(RfD.ig.cn.12*AOF.12),\"\",RfD.ig.cn.12*AOF.12),\"\")","v":""},{"$f":"RfD.ig.ag.12","v":""},{"$f":"IF(ISERROR(MATCH($D59,FatTox!$A$4:$A$823,0)),\"\",IF(VLOOKUP($D59,FatTox!$A$4:$T$823,3,FALSE)=\"\",\"\",VLOOKUP($D59,FatTox!$A$4:$T$823,3,FALSE)))","v":""},{"$f":"IF(ISERROR(MATCH($D59,FatTox!$A$4:$A$823,0)),\"\",IF(ISERROR((VLOOKUP($D59,FatTox!$A$4:$T$823,5,FALSE)*70)/20),\"\",IF(VLOOKUP($D59,FatTox!$A$4:$T$823,5,FALSE)=\"\",\"\",((VLOOKUP($D59,FatTox!$A$4:$T$823,5,FALSE)*70)/20)*1000)))","v":""},{"$f":"IF(Sf.ig.12<>\"\",IF(ISERROR(Sf.ig.12/AOF.12),\"\",Sf.ig.12/AOF.12),\"\")","v":""},{"$f":"IF(ISERROR(MATCH($D59,FatTox!$A$4:$A$823,0)),\"\",IF(VLOOKUP($D59,FatTox!$A$4:$T$823,13,FALSE)=\"\",\"\",VLOOKUP($D59,FatTox!$A$4:$T$823,13,FALSE)))","v":""},{"$f":"IF(ISERROR(MATCH($D59,FatTox!$A$4:$A$823,0)),\"\",IF(VLOOKUP($D59,FatTox!$A$4:$T$823,14,FALSE)=\"\",\"\",VLOOKUP($D59,FatTox!$A$4:$T$823,14,FALSE)))","v":""},{"$f":"IF(ISERROR(MATCH($D59,FatTox!$A$4:$A$823,0)),\"\",IF(VLOOKUP($D59,FatTox!$A$4:$T$823,18,FALSE)=0,\"\",VLOOKUP($D59,FatTox!$A$4:$T$823,18,FALSE)))","v":""},{"$f":"IF(ISERROR(MATCH($D59,FatTox!$A$4:$A$823,0)),\"\",IF(VLOOKUP($D59,FatTox!$A$4:$T$823,5,FALSE)=0,\"\",VLOOKUP($D59,FatTox!$A$4:$T$823,5,FALSE)))","v":""},{"$f":"IF(ISERROR(MATCH($D59,FatTox!$A$4:$A$823,0)),\"\",IF(VLOOKUP($D59,FatTox!$A$4:$T$823,9,FALSE)=0,\"\",VLOOKUP($D59,FatTox!$A$4:$T$823,9,FALSE)))","v":""},{"$f":"IF(ISERROR(MATCH($D59,FatTox!$A$4:$A$823,0)),\"\",IF(VLOOKUP($D59,FatTox!$A$4:$T$823,20,FALSE)=0,\"\",VLOOKUP($D59,FatTox!$A$4:$T$823,20,FALSE)))","v":""},{"$f":"IF(ISERROR(MATCH($D59,FatTox!$A$4:$A$823,0)),\"\",IF(VLOOKUP($D59,FatTox!$A$4:$V$823,22,FALSE)=\"\",\"\",VLOOKUP($D59,FatTox!$A$4:$V$823,22,FALSE)))","v":""}]
[null,13,{"$f":"IF(ISERROR(MATCH($D60,FatTox!$A$4:$A$823,0)),\"\",VLOOKUP($D60,FatTox!$A$4:$T$823,2,FALSE))","v":""},0,{"$f":"IF(ISERROR(MATCH($D60,FatTox!$A$4:$A$823,0)),\"\",IF(ISERROR(MATCH($D60,FatTox!$A$4:$A$823,0)),\"\",VLOOKUP($D60,FatTox!$A$4:$T$823,17)))","v":""},{"$f":"IF(ISERROR(MATCH($D60,FatTox!$A$4:$A$823,0)),\"\",IF(VLOOKUP($D60,FatTox!$A$4:$T$823,7,FALSE)=\"\",\"\",VLOOKUP($D60,FatTox!$A$4:$T$823,7,FALSE)))","v":""},{"$f":"IF(ISERROR(MATCH($D60,FatTox!$A$4:$A$823,0)),\"\",IF(VLOOKUP($D60,FatTox!$A$4:$T$823,8,FALSE)=\"\",\"\",VLOOKUP($D60,FatTox!$A$4:$T$823,8,FALSE)))","v":""},{"$f":"IF(ISERROR(MATCH($D60,FatTox!$A$4:$A$823,0)),\"\",IF(VLOOKUP($D60,FatTox!$A$4:$T$823,9,FALSE)=\"\",\"\",VLOOKUP($D60,FatTox!$A$4:$T$823,9,FALSE)*20/70))","v":""},{"$f":"IF(ISERROR(MATCH($D60,FatTox!$A$4:$A$823,0)),\"\",IF(VLOOKUP($D60,FatTox!$A$4:$T$823,10,FALSE)=\"\",\"\",VLOOKUP($D60,FatTox!$A$4:$T$823,10,FALSE)))","v":""},{"$f":"IF(RfD.ig.cn.13<>\"\",IF(ISERROR(RfD.ig.cn.13*AOF.13),\"\",RfD.ig.cn.13*AOF.13),\"\")","v":""},{"$f":"RfD.ig.ag.13","v":""},{"$f":"IF(ISERROR(MATCH($D60,FatTox!$A$4:$A$823,0)),\"\",IF(VLOOKUP($D60,FatTox!$A$4:$T$823,3,FALSE)=\"\",\"\",VLOOKUP($D60,FatTox!$A$4:$T$823,3,FALSE)))","v":""},{"$f":"IF(ISERROR(MATCH($D60,FatTox!$A$4:$A$823,0)),\"\",IF(ISERROR((VLOOKUP($D60,FatTox!$A$4:$T$823,5,FALSE)*70)/20),\"\",IF(VLOOKUP($D60,FatTox!$A$4:$T$823,5,FALSE)=\"\",\"\",((VLOOKUP($D60,FatTox!$A$4:$T$823,5,FALSE)*70)/20)*1000)))","v":""},{"$f":"IF(Sf.ig.13<>\"\",IF(ISERROR(Sf.ig.13/AOF.13),\"\",Sf.ig.13/AOF.13),\"\")","v":""},{"$f":"IF(ISERROR(MATCH($D60,FatTox!$A$4:$A$823,0)),\"\",IF(VLOOKUP($D60,FatTox!$A$4:$T$823,13,FALSE)=\"\",\"\",VLOOKUP($D60,FatTox!$A$4:$T$823,13,FALSE)))","v":""},{"$f":"IF(ISERROR(MATCH($D60,FatTox!$A$4:$A$823,0)),\"\",IF(VLOOKUP($D60,FatTox!$A$4:$T$823,14,FALSE)=\"\",\"\",VLOOKUP($D60,FatTox!$A$4:$T$823,14,FALSE)))","v":""},{"$f":"IF(ISERROR(MATCH($D60,FatTox!$A$4:$A$823,0)),\"\",IF(VLOOKUP($D60,FatTox!$A$4:$T$823,18,FALSE)=0,\"\",VLOOKUP($D60,FatTox!$A$4:$T$823,18,FALSE)))","v":""},{"$f":"IF(ISERROR(MATCH($D60,FatTox!$A$4:$A$823,0)),\"\",IF(VLOOKUP($D60,FatTox!$A$4:$T$823,5,FALSE)=0,\"\",VLOOKUP($D60,FatTox!$A$4:$T$823,5,FALSE)))","v":""},{"$f":"IF(ISERROR(MATCH($D60,FatTox!$A$4:$A$823,0)),\"\",IF(VLOOKUP($D60,FatTox!$A$4:$T$823,9,FALSE)=0,\"\",VLOOKUP($D60,FatTox!$A$4:$T$823,9,FALSE)))","v":""},{"$f":"IF(ISERROR(MATCH($D60,FatTox!$A$4:$A$823,0)),\"\",IF(VLOOKUP($D60,FatTox!$A$4:$T$823,20,FALSE)=0,\"\",VLOOKUP($D60,FatTox!$A$4:$T$823,20,FALSE)))","v":""},{"$f":"IF(ISERROR(MATCH($D60,FatTox!$A$4:$A$823,0)),\"\",IF(VLOOKUP($D60,FatTox!$A$4:$V$823,22,FALSE)=\"\",\"\",VLOOKUP($D60,FatTox!$A$4:$V$823,22,FALSE)))","v":""}]
[null,14,{"$f":"IF(ISERROR(MATCH($D61,FatTox!$A$4:$A$823,0)),\"\",VLOOKUP($D61,FatTox!$A$4:$T$823,2,FALSE))","v":""},0,{"$f":"IF(ISERROR(MATCH($D61,FatTox!$A$4:$A$823,0)),\"\",IF(ISERROR(MATCH($D61,FatTox!$A$4:$A$823,0)),\"\",VLOOKUP($D61,FatTox!$A$4:$T$823,17)))","v":""},{"$f":"IF(ISERROR(MATCH($D61,FatTox!$A$4:$A$823,0)),\"\",IF(VLOOKUP($D61,FatTox!$A$4:$T$823,7,FALSE)=\"\",\"\",VLOOKUP($D61,FatTox!$A$4:$T$823,7,FALSE)))","v":""},{"$f":"IF(ISERROR(MATCH($D61,FatTox!$A$4:$A$823,0)),\"\",IF(VLOOKUP($D61,FatTox!$A$4:$T$823,8,FALSE)=\"\",\"\",VLOOKUP($D61,FatTox!$A$4:$T$823,8,FALSE)))","v":""},{"$f":"IF(ISERROR(MATCH($D61,FatTox!$A$4:$A$823,0)),\"\",IF(VLOOKUP($D61,FatTox!$A$4:$T$823,9,FALSE)=\"\",\"\",VLOOKUP($D61,FatTox!$A$4:$T$823,9,FALSE)*20/70))","v":""},{"$f":"IF(ISERROR(MATCH($D61,FatTox!$A$4:$A$823,0)),\"\",IF(VLOOKUP($D61,FatTox!$A$4:$T$823,10,FALSE)=\"\",\"\",VLOOKUP($D61,FatTox!$A$4:$T$823,10,FALSE)))","v":""},{"$f":"IF(RfD.ig.cn.14<>\"\",IF(ISERROR(RfD.ig.cn.14*AOF.14),\"\",RfD.ig.cn.14*AOF.14),\"\")","v":""},{"$f":"RfD.ig.ag.14","v":""},{"$f":"IF(ISERROR(MATCH($D61,FatTox!$A$4:$A$823,0)),\"\",IF(VLOOKUP($D61,FatTox!$A$4:$T$823,3,FALSE)=\"\",\"\",VLOOKUP($D61,FatTox!$A$4:$T$823,3,FALSE)))","v":""},{"$f":"IF(ISERROR(MATCH($D61,FatTox!$A$4:$A$823,0)),\"\",IF(ISERROR((VLOOKUP($D61,FatTox!$A$4:$T$823,5,FALSE)*70)/20),\"\",IF(VLOOKUP($D61,FatTox!$A$4:$T$823,5,FALSE)=\"\",\"\",((VLOOKUP($D61,FatTox!$A$4:$T$823,5,FALSE)*70)/20)*1000)))","v":""},{"$f":"IF(Sf.ig.14<>\"\",IF(ISERROR(Sf.ig.14/AOF.14),\"\",Sf.ig.14/AOF.14),\"\")","v":""},{"$f":"IF(ISERROR(MATCH($D61,FatTox!$A$4:$A$823,0)),\"\",IF(VLOOKUP($D61,FatTox!$A$4:$T$823,13,FALSE)=\"\",\"\",VLOOKUP($D61,FatTox!$A$4:$T$823,13,FALSE)))","v":""},{"$f":"IF(ISERROR(MATCH($D61,FatTox!$A$4:$A$823,0)),\"\",IF(VLOOKUP($D61,FatTox!$A$4:$T$823,14,FALSE)=\"\",\"\",VLOOKUP($D61,FatTox!$A$4:$T$823,14,FALSE)))","v":""},{"$f":"IF(ISERROR(MATCH($D61,FatTox!$A$4:$A$823,0)),\"\",IF(VLOOKUP($D61,FatTox!$A$4:$T$823,18,FALSE)=0,\"\",VLOOKUP($D61,FatTox!$A$4:$T$823,18,FALSE)))","v":""},{"$f":"IF(ISERROR(MATCH($D61,FatTox!$A$4:$A$823,0)),\"\",IF(VLOOKUP($D61,FatTox!$A$4:$T$823,5,FALSE)=0,\"\",VLOOKUP($D61,FatTox!$A$4:$T$823,5,FALSE)))","v":""},{"$f":"IF(ISERROR(MATCH($D61,FatTox!$A$4:$A$823,0)),\"\",IF(VLOOKUP($D61,FatTox!$A$4:$T$823,9,FALSE)=0,\"\",VLOOKUP($D61,FatTox!$A$4:$T$823,9,FALSE)))","v":""},{"$f":"IF(ISERROR(MATCH($D61,FatTox!$A$4:$A$823,0)),\"\",IF(VLOOKUP($D61,FatTox!$A$4:$T$823,20,FALSE)=0,\"\",VLOOKUP($D61,FatTox!$A$4:$T$823,20,FALSE)))","v":""},{"$f":"IF(ISERROR(MATCH($D61,FatTox!$A$4:$A$823,0)),\"\",IF(VLOOKUP($D61,FatTox!$A$4:$V$823,22,FALSE)=\"\",\"\",VLOOKUP($D61,FatTox!$A$4:$V$823,22,FALSE)))","v":""}]
[null,15,{"$f":"IF(ISERROR(MATCH($D62,FatTox!$A$4:$A$823,0)),\"\",VLOOKUP($D62,FatTox!$A$4:$T$823,2,FALSE))","v":""},{"$f":"D23","v":0},{"$f":"IF(ISERROR(MATCH($D62,FatTox!$A$4:$A$823,0)),\"\",IF(ISERROR(MATCH($D62,FatTox!$A$4:$A$823,0)),\"\",VLOOKUP($D62,FatTox!$A$4:$T$823,17)))","v":""},{"$f":"IF(ISERROR(MATCH($D62,FatTox!$A$4:$A$823,0)),\"\",IF(VLOOKUP($D62,FatTox!$A$4:$T$823,7,FALSE)=\"\",\"\",VLOOKUP($D62,FatTox!$A$4:$T$823,7,FALSE)))","v":""},{"$f":"IF(ISERROR(MATCH($D62,FatTox!$A$4:$A$823,0)),\"\",IF(VLOOKUP($D62,FatTox!$A$4:$T$823,8,FALSE)=\"\",\"\",VLOOKUP($D62,FatTox!$A$4:$T$823,8,FALSE)))","v":""},{"$f":"IF(ISERROR(MATCH($D62,FatTox!$A$4:$A$823,0)),\"\",IF(VLOOKUP($D62,FatTox!$A$4:$T$823,9,FALSE)=\"\",\"\",VLOOKUP($D62,FatTox!$A$4:$T$823,9,FALSE)*20/70))","v":""},{"$f":"IF(ISERROR(MATCH($D62,FatTox!$A$4:$A$823,0)),\"\",IF(VLOOKUP($D62,FatTox!$A$4:$T$823,10,FALSE)=\"\",\"\",VLOOKUP($D62,FatTox!$A$4:$T$823,10,FALSE)))","v":""},{"$f":"IF(RfD.ig.cn.15<>\"\",IF(ISERROR(RfD.ig.cn.15*AOF.15),\"\",RfD.ig.cn.15*AOF.15),\"\")","v":""},{"$f":"RfD.ig.ag.15","v":""},{"$f":"IF(ISERROR(MATCH($D62,FatTox!$A$4:$A$823,0)),\"\",IF(VLOOKUP($D62,FatTox!$A$4:$T$823,3,FALSE)=\"\",\"\",VLOOKUP($D62,FatTox!$A$4:$T$823,3,FALSE)))","v":""},{"$f":"IF(ISERROR(MATCH($D62,FatTox!$A$4:$A$823,0)),\"\",IF(ISERROR((VLOOKUP($D62,FatTox!$A$4:$T$823,5,FALSE)*70)/20),\"\",IF(VLOOKUP($D62,FatTox!$A$4:$T$823,5,FALSE)=\"\",\"\",((VLOOKUP($D62,FatTox!$A$4:$T$823,5,FALSE)*70)/20)*1000)))","v":""},{"$f":"IF(Sf.ig.15<>\"\",IF(ISERROR(Sf.ig.15/AOF.15),\"\",Sf.ig.15/AOF.15),\"\")","v":""},{"$f":"IF(ISERROR(MATCH($D62,FatTox!$A$4:$A$823,0)),\"\",IF(VLOOKUP($D62,FatTox!$A$4:$T$823,13,FALSE)=\"\",\"\",VLOOKUP($D62,FatTox!$A$4:$T$823,13,FALSE)))","v":""},{"$f":"IF(ISERROR(MATCH($D62,FatTox!$A$4:$A$823,0)),\"\",IF(VLOOKUP($D62,FatTox!$A$4:$T$823,14,FALSE)=\"\",\"\",VLOOKUP($D62,FatTox!$A$4:$T$823,14,FALSE)))","v":""},{"$f":"IF(ISERROR(MATCH($D62,FatTox!$A$4:$A$823,0)),\"\",IF(VLOOKUP($D62,FatTox!$A$4:$T$823,18,FALSE)=0,\"\",VLOOKUP($D62,FatTox!$A$4:$T$823,18,FALSE)))","v":""},{"$f":"IF(ISERROR(MATCH($D62,FatTox!$A$4:$A$823,0)),\"\",IF(VLOOKUP($D62,FatTox!$A$4:$T$823,5,FALSE)=0,\"\",VLOOKUP($D62,FatTox!$A$4:$T$823,5,FALSE)))","v":""},{"$f":"IF(ISERROR(MATCH($D62,FatTox!$A$4:$A$823,0)),\"\",IF(VLOOKUP($D62,FatTox!$A$4:$T$823,9,FALSE)=0,\"\",VLOOKUP($D62,FatTox!$A$4:$T$823,9,FALSE)))","v":""},{"$f":"IF(ISERROR(MATCH($D62,FatTox!$A$4:$A$823,0)),\"\",IF(VLOOKUP($D62,FatTox!$A$4:$T$823,20,FALSE)=0,\"\",VLOOKUP($D62,FatTox!$A$4:$T$823,20,FALSE)))","v":""},{"$f":"IF(ISERROR(MATCH($D62,FatTox!$A$4:$A$823,0)),\"\",IF(VLOOKUP($D62,FatTox!$A$4:$V$823,22,FALSE)=\"\",\"\",VLOOKUP($D62,FatTox!$A$4:$V$823,22,FALSE)))","v":""}]
[null,16,{"$f":"IF(ISERROR(MATCH($D63,FatTox!$A$4:$A$823,0)),\"\",VLOOKUP($D63,FatTox!$A$4:$T$823,2,FALSE))","v":""},0,{"$f":"IF(ISERROR(MATCH($D63,FatTox!$A$4:$A$823,0)),\"\",IF(ISERROR(MATCH($D63,FatTox!$A$4:$A$823,0)),\"\",VLOOKUP($D63,FatTox!$A$4:$T$823,17)))","v":""},{"$f":"IF(ISERROR(MATCH($D63,FatTox!$A$4:$A$823,0)),\"\",IF(VLOOKUP($D63,FatTox!$A$4:$T$823,7,FALSE)=\"\",\"\",VLOOKUP($D63,FatTox!$A$4:$T$823,7,FALSE)))","v":""},{"$f":"IF(ISERROR(MATCH($D63,FatTox!$A$4:$A$823,0)),\"\",IF(VLOOKUP($D63,FatTox!$A$4:$T$823,8,FALSE)=\"\",\"\",VLOOKUP($D63,FatTox!$A$4:$T$823,8,FALSE)))","v":""},{"$f":"IF(ISERROR(MATCH($D63,FatTox!$A$4:$A$823,0)),\"\",IF(VLOOKUP($D63,FatTox!$A$4:$T$823,9,FALSE)=\"\",\"\",VLOOKUP($D63,FatTox!$A$4:$T$823,9,FALSE)*20/70))","v":""},{"$f":"IF(ISERROR(MATCH($D63,FatTox!$A$4:$A$823,0)),\"\",IF(VLOOKUP($D63,FatTox!$A$4:$T$823,10,FALSE)=\"\",\"\",VLOOKUP($D63,FatTox!$A$4:$T$823,10,FALSE)))","v":""},{"$f":"IF(RfD.ig.cn.16<>\"\",IF(ISERROR(RfD.ig.cn.16*AOF.16),\"\",RfD.ig.cn.16*AOF.16),\"\")","v":""},{"$f":"RfD.ig.ag.16","v":""},{"$f":"IF(ISERROR(MATCH($D63,FatTox!$A$4:$A$823,0)),\"\",IF(VLOOKUP($D63,FatTox!$A$4:$T$823,3,FALSE)=\"\",\"\",VLOOKUP($D63,FatTox!$A$4:$T$823,3,FALSE)))","v":""},{"$f":"IF(ISERROR(MATCH($D63,FatTox!$A$4:$A$823,0)),\"\",IF(ISERROR((VLOOKUP($D63,FatTox!$A$4:$T$823,5,FALSE)*70)/20),\"\",IF(VLOOKUP($D63,FatTox!$A$4:$T$823,5,FALSE)=\"\",\"\",((VLOOKUP($D63,FatTox!$A$4:$T$823,5,FALSE)*70)/20)*1000)))","v":""},{"$f":"IF(Sf.ig.16<>\"\",IF(ISERROR(Sf.ig.16/AOF.16),\"\",Sf.ig.16/AOF.16),\"\")","v":""},{"$f":"IF(ISERROR(MATCH($D63,FatTox!$A$4:$A$823,0)),\"\",IF(VLOOKUP($D63,FatTox!$A$4:$T$823,13,FALSE)=\"\",\"\",VLOOKUP($D63,FatTox!$A$4:$T$823,13,FALSE)))","v":""},{"$f":"IF(ISERROR(MATCH($D63,FatTox!$A$4:$A$823,0)),\"\",IF(VLOOKUP($D63,FatTox!$A$4:$T$823,14,FALSE)=\"\",\"\",VLOOKUP($D63,FatTox!$A$4:$T$823,14,FALSE)))","v":""},{"$f":"IF(ISERROR(MATCH($D63,FatTox!$A$4:$A$823,0)),\"\",IF(VLOOKUP($D63,FatTox!$A$4:$T$823,18,FALSE)=0,\"\",VLOOKUP($D63,FatTox!$A$4:$T$823,18,FALSE)))","v":""},{"$f":"IF(ISERROR(MATCH($D63,FatTox!$A$4:$A$823,0)),\"\",IF(VLOOKUP($D63,FatTox!$A$4:$T$823,5,FALSE)=0,\"\",VLOOKUP($D63,FatTox!$A$4:$T$823,5,FALSE)))","v":""},{"$f":"IF(ISERROR(MATCH($D63,FatTox!$A$4:$A$823,0)),\"\",IF(VLOOKUP($D63,FatTox!$A$4:$T$823,9,FALSE)=0,\"\",VLOOKUP($D63,FatTox!$A$4:$T$823,9,FALSE)))","v":""},{"$f":"IF(ISERROR(MATCH($D63,FatTox!$A$4:$A$823,0)),\"\",IF(VLOOKUP($D63,FatTox!$A$4:$T$823,20,FALSE)=0,\"\",VLOOKUP($D63,FatTox!$A$4:$T$823,20,FALSE)))","v":""},{"$f":"IF(ISERROR(MATCH($D63,FatTox!$A$4:$A$823,0)),\"\",IF(VLOOKUP($D63,FatTox!$A$4:$V$823,22,FALSE)=\"\",\"\",VLOOKUP($D63,FatTox!$A$4:$V$823,22,FALSE)))","v":""}]
[null,17,{"$f":"IF(ISERROR(MATCH($D64,FatTox!$A$4:$A$823,0)),\"\",VLOOKUP($D64,FatTox!$A$4:$T$823,2,FALSE))","v":""},0,{"$f":"IF(ISERROR(MATCH($D64,FatTox!$A$4:$A$823,0)),\"\",IF(ISERROR(MATCH($D64,FatTox!$A$4:$A$823,0)),\"\",VLOOKUP($D64,FatTox!$A$4:$T$823,17)))","v":""},{"$f":"IF(ISERROR(MATCH($D64,FatTox!$A$4:$A$823,0)),\"\",IF(VLOOKUP($D64,FatTox!$A$4:$T$823,7,FALSE)=\"\",\"\",VLOOKUP($D64,FatTox!$A$4:$T$823,7,FALSE)))","v":""},{"$f":"IF(ISERROR(MATCH($D64,FatTox!$A$4:$A$823,0)),\"\",IF(VLOOKUP($D64,FatTox!$A$4:$T$823,8,FALSE)=\"\",\"\",VLOOKUP($D64,FatTox!$A$4:$T$823,8,FALSE)))","v":""},{"$f":"IF(ISERROR(MATCH($D64,FatTox!$A$4:$A$823,0)),\"\",IF(VLOOKUP($D64,FatTox!$A$4:$T$823,9,FALSE)=\"\",\"\",VLOOKUP($D64,FatTox!$A$4:$T$823,9,FALSE)*20/70))","v":""},{"$f":"IF(ISERROR(MATCH($D64,FatTox!$A$4:$A$823,0)),\"\",IF(VLOOKUP($D64,FatTox!$A$4:$T$823,10,FALSE)=\"\",\"\",VLOOKUP($D64,FatTox!$A$4:$T$823,10,FALSE)))","v":""},{"$f":"IF(RfD.ig.cn.17<>\"\",IF(ISERROR(RfD.ig.cn.17*AOF.17),\"\",RfD.ig.cn.17*AOF.17),\"\")","v":""},{"$f":"RfD.ig.ag.17","v":""},{"$f":"IF(ISERROR(MATCH($D64,FatTox!$A$4:$A$823,0)),\"\",IF(VLOOKUP($D64,FatTox!$A$4:$T$823,3,FALSE)=\"\",\"\",VLOOKUP($D64,FatTox!$A$4:$T$823,3,FALSE)))","v":""},{"$f":"IF(ISERROR(MATCH($D64,FatTox!$A$4:$A$823,0)),\"\",IF(ISERROR((VLOOKUP($D64,FatTox!$A$4:$T$823,5,FALSE)*70)/20),\"\",IF(VLOOKUP($D64,FatTox!$A$4:$T$823,5,FALSE)=\"\",\"\",((VLOOKUP($D64,FatTox!$A$4:$T$823,5,FALSE)*70)/20)*1000)))","v":""},{"$f":"IF(Sf.ig.17<>\"\",IF(ISERROR(Sf.ig.17/AOF.17),\"\",Sf.ig.17/AOF.17),\"\")","v":""},{"$f":"IF(ISERROR(MATCH($D64,FatTox!$A$4:$A$823,0)),\"\",IF(VLOOKUP($D64,FatTox!$A$4:$T$823,13,FALSE)=\"\",\"\",VLOOKUP($D64,FatTox!$A$4:$T$823,13,FALSE)))","v":""},{"$f":"IF(ISERROR(MATCH($D64,FatTox!$A$4:$A$823,0)),\"\",IF(VLOOKUP($D64,FatTox!$A$4:$T$823,14,FALSE)=\"\",\"\",VLOOKUP($D64,FatTox!$A$4:$T$823,14,FALSE)))","v":""},{"$f":"IF(ISERROR(MATCH($D64,FatTox!$A$4:$A$823,0)),\"\",IF(VLOOKUP($D64,FatTox!$A$4:$T$823,18,FALSE)=0,\"\",VLOOKUP($D64,FatTox!$A$4:$T$823,18,FALSE)))","v":""},{"$f":"IF(ISERROR(MATCH($D64,FatTox!$A$4:$A$823,0)),\"\",IF(VLOOKUP($D64,FatTox!$A$4:$T$823,5,FALSE)=0,\"\",VLOOKUP($D64,FatTox!$A$4:$T$823,5,FALSE)))","v":""},{"$f":"IF(ISERROR(MATCH($D64,FatTox!$A$4:$A$823,0)),\"\",IF(VLOOKUP($D64,FatTox!$A$4:$T$823,9,FALSE)=0,\"\",VLOOKUP($D64,FatTox!$A$4:$T$823,9,FALSE)))","v":""},{"$f":"IF(ISERROR(MATCH($D64,FatTox!$A$4:$A$823,0)),\"\",IF(VLOOKUP($D64,FatTox!$A$4:$T$823,20,FALSE)=0,\"\",VLOOKUP($D64,FatTox!$A$4:$T$823,20,FALSE)))","v":""},{"$f":"IF(ISERROR(MATCH($D64,FatTox!$A$4:$A$823,0)),\"\",IF(VLOOKUP($D64,FatTox!$A$4:$V$823,22,FALSE)=\"\",\"\",VLOOKUP($D64,FatTox!$A$4:$V$823,22,FALSE)))","v":""}]
[null,18,{"$f":"IF(ISERROR(MATCH($D65,FatTox!$A$4:$A$823,0)),\"\",VLOOKUP($D65,FatTox!$A$4:$T$823,2,FALSE))","v":""},0,{"$f":"IF(ISERROR(MATCH($D65,FatTox!$A$4:$A$823,0)),\"\",IF(ISERROR(MATCH($D65,FatTox!$A$4:$A$823,0)),\"\",VLOOKUP($D65,FatTox!$A$4:$T$823,17)))","v":""},{"$f":"IF(ISERROR(MATCH($D65,FatTox!$A$4:$A$823,0)),\"\",IF(VLOOKUP($D65,FatTox!$A$4:$T$823,7,FALSE)=\"\",\"\",VLOOKUP($D65,FatTox!$A$4:$T$823,7,FALSE)))","v":""},{"$f":"IF(ISERROR(MATCH($D65,FatTox!$A$4:$A$823,0)),\"\",IF(VLOOKUP($D65,FatTox!$A$4:$T$823,8,FALSE)=\"\",\"\",VLOOKUP($D65,FatTox!$A$4:$T$823,8,FALSE)))","v":""},{"$f":"IF(ISERROR(MATCH($D65,FatTox!$A$4:$A$823,0)),\"\",IF(VLOOKUP($D65,FatTox!$A$4:$T$823,9,FALSE)=\"\",\"\",VLOOKUP($D65,FatTox!$A$4:$T$823,9,FALSE)*20/70))","v":""},{"$f":"IF(ISERROR(MATCH($D65,FatTox!$A$4:$A$823,0)),\"\",IF(VLOOKUP($D65,FatTox!$A$4:$T$823,10,FALSE)=\"\",\"\",VLOOKUP($D65,FatTox!$A$4:$T$823,10,FALSE)))","v":""},{"$f":"IF(RfD.ig.cn.18<>\"\",IF(ISERROR(RfD.ig.cn.18*AOF.18),\"\",RfD.ig.cn.18*AOF.18),\"\")","v":""},{"$f":"RfD.ig.ag.18","v":""},{"$f":"IF(ISERROR(MATCH($D65,FatTox!$A$4:$A$823,0)),\"\",IF(VLOOKUP($D65,FatTox!$A$4:$T$823,3,FALSE)=\"\",\"\",VLOOKUP($D65,FatTox!$A$4:$T$823,3,FALSE)))","v":""},{"$f":"IF(ISERROR(MATCH($D65,FatTox!$A$4:$A$823,0)),\"\",IF(ISERROR((VLOOKUP($D65,FatTox!$A$4:$T$823,5,FALSE)*70)/20),\"\",IF(VLOOKUP($D65,FatTox!$A$4:$T$823,5,FALSE)=\"\",\"\",((VLOOKUP($D65,FatTox!$A$4:$T$823,5,FALSE)*70)/20)*1000)))","v":""},{"$f":"IF(Sf.ig.18<>\"\",IF(ISERROR(Sf.ig.18/AOF.18),\"\",Sf.ig.18/AOF.18),\"\")","v":""},{"$f":"IF(ISERROR(MATCH($D65,FatTox!$A$4:$A$823,0)),\"\",IF(VLOOKUP($D65,FatTox!$A$4:$T$823,13,FALSE)=\"\",\"\",VLOOKUP($D65,FatTox!$A$4:$T$823,13,FALSE)))","v":""},{"$f":"IF(ISERROR(MATCH($D65,FatTox!$A$4:$A$823,0)),\"\",IF(VLOOKUP($D65,FatTox!$A$4:$T$823,14,FALSE)=\"\",\"\",VLOOKUP($D65,FatTox!$A$4:$T$823,14,FALSE)))","v":""},{"$f":"IF(ISERROR(MATCH($D65,FatTox!$A$4:$A$823,0)),\"\",IF(VLOOKUP($D65,FatTox!$A$4:$T$823,18,FALSE)=0,\"\",VLOOKUP($D65,FatTox!$A$4:$T$823,18,FALSE)))","v":""},{"$f":"IF(ISERROR(MATCH($D65,FatTox!$A$4:$A$823,0)),\"\",IF(VLOOKUP($D65,FatTox!$A$4:$T$823,5,FALSE)=0,\"\",VLOOKUP($D65,FatTox!$A$4:$T$823,5,FALSE)))","v":""},{"$f":"IF(ISERROR(MATCH($D65,FatTox!$A$4:$A$823,0)),\"\",IF(VLOOKUP($D65,FatTox!$A$4:$T$823,9,FALSE)=0,\"\",VLOOKUP($D65,FatTox!$A$4:$T$823,9,FALSE)))","v":""},{"$f":"IF(ISERROR(MATCH($D65,FatTox!$A$4:$A$823,0)),\"\",IF(VLOOKUP($D65,FatTox!$A$4:$T$823,20,FALSE)=0,\"\",VLOOKUP($D65,FatTox!$A$4:$T$823,20,FALSE)))","v":""},{"$f":"IF(ISERROR(MATCH($D65,FatTox!$A$4:$A$823,0)),\"\",IF(VLOOKUP($D65,FatTox!$A$4:$V$823,22,FALSE)=\"\",\"\",VLOOKUP($D65,FatTox!$A$4:$V$823,22,FALSE)))","v":""}]
[null,19,{"$f":"IF(ISERROR(MATCH($D66,FatTox!$A$4:$A$823,0)),\"\",VLOOKUP($D66,FatTox!$A$4:$T$823,2,FALSE))","v":""},0,{"$f":"IF(ISERROR(MATCH($D66,FatTox!$A$4:$A$823,0)),\"\",IF(ISERROR(MATCH($D66,FatTox!$A$4:$A$823,0)),\"\",VLOOKUP($D66,FatTox!$A$4:$T$823,17)))","v":""},{"$f":"IF(ISERROR(MATCH($D66,FatTox!$A$4:$A$823,0)),\"\",IF(VLOOKUP($D66,FatTox!$A$4:$T$823,7,FALSE)=\"\",\"\",VLOOKUP($D66,FatTox!$A$4:$T$823,7,FALSE)))","v":""},{"$f":"IF(ISERROR(MATCH($D66,FatTox!$A$4:$A$823,0)),\"\",IF(VLOOKUP($D66,FatTox!$A$4:$T$823,8,FALSE)=\"\",\"\",VLOOKUP($D66,FatTox!$A$4:$T$823,8,FALSE)))","v":""},{"$f":"IF(ISERROR(MATCH($D66,FatTox!$A$4:$A$823,0)),\"\",IF(VLOOKUP($D66,FatTox!$A$4:$T$823,9,FALSE)=\"\",\"\",VLOOKUP($D66,FatTox!$A$4:$T$823,9,FALSE)*20/70))","v":""},{"$f":"IF(ISERROR(MATCH($D66,FatTox!$A$4:$A$823,0)),\"\",IF(VLOOKUP($D66,FatTox!$A$4:$T$823,10,FALSE)=\"\",\"\",VLOOKUP($D66,FatTox!$A$4:$T$823,10,FALSE)))","v":""},{"$f":"IF(RfD.ig.cn.19<>\"\",IF(ISERROR(RfD.ig.cn.19*AOF.19),\"\",RfD.ig.cn.19*AOF.19),\"\")","v":""},{"$f":"RfD.ig.ag.19","v":""},{"$f":"IF(ISERROR(MATCH($D66,FatTox!$A$4:$A$823,0)),\"\",IF(VLOOKUP($D66,FatTox!$A$4:$T$823,3,FALSE)=\"\",\"\",VLOOKUP($D66,FatTox!$A$4:$T$823,3,FALSE)))","v":""},{"$f":"IF(ISERROR(MATCH($D66,FatTox!$A$4:$A$823,0)),\"\",IF(ISERROR((VLOOKUP($D66,FatTox!$A$4:$T$823,5,FALSE)*70)/20),\"\",IF(VLOOKUP($D66,FatTox!$A$4:$T$823,5,FALSE)=\"\",\"\",((VLOOKUP($D66,FatTox!$A$4:$T$823,5,FALSE)*70)/20)*1000)))","v":""},{"$f":"IF(Sf.ig.19<>\"\",IF(ISERROR(Sf.ig.19/AOF.19),\"\",Sf.ig.19/AOF.19),\"\")","v":""},{"$f":"IF(ISERROR(MATCH($D66,FatTox!$A$4:$A$823,0)),\"\",IF(VLOOKUP($D66,FatTox!$A$4:$T$823,13,FALSE)=\"\",\"\",VLOOKUP($D66,FatTox!$A$4:$T$823,13,FALSE)))","v":""},{"$f":"IF(ISERROR(MATCH($D66,FatTox!$A$4:$A$823,0)),\"\",IF(VLOOKUP($D66,FatTox!$A$4:$T$823,14,FALSE)=\"\",\"\",VLOOKUP($D66,FatTox!$A$4:$T$823,14,FALSE)))","v":""},{"$f":"IF(ISERROR(MATCH($D66,FatTox!$A$4:$A$823,0)),\"\",IF(VLOOKUP($D66,FatTox!$A$4:$T$823,18,FALSE)=0,\"\",VLOOKUP($D66,FatTox!$A$4:$T$823,18,FALSE)))","v":""},{"$f":"IF(ISERROR(MATCH($D66,FatTox!$A$4:$A$823,0)),\"\",IF(VLOOKUP($D66,FatTox!$A$4:$T$823,5,FALSE)=0,\"\",VLOOKUP($D66,FatTox!$A$4:$T$823,5,FALSE)))","v":""},{"$f":"IF(ISERROR(MATCH($D66,FatTox!$A$4:$A$823,0)),\"\",IF(VLOOKUP($D66,FatTox!$A$4:$T$823,9,FALSE)=0,\"\",VLOOKUP($D66,FatTox!$A$4:$T$823,9,FALSE)))","v":""},{"$f":"IF(ISERROR(MATCH($D66,FatTox!$A$4:$A$823,0)),\"\",IF(VLOOKUP($D66,FatTox!$A$4:$T$823,20,FALSE)=0,\"\",VLOOKUP($D66,FatTox!$A$4:$T$823,20,FALSE)))","v":""},{"$f":"IF(ISERROR(MATCH($D66,FatTox!$A$4:$A$823,0)),\"\",IF(VLOOKUP($D66,FatTox!$A$4:$V$823,22,FALSE)=\"\",\"\",VLOOKUP($D66,FatTox!$A$4:$V$823,22,FALSE)))","v":""}]
[null,20,{"$f":"IF(ISERROR(MATCH($D67,FatTox!$A$4:$A$823,0)),\"\",VLOOKUP($D67,FatTox!$A$4:$T$823,2,FALSE))","v":""},0,{"$f":"IF(ISERROR(MATCH($D67,FatTox!$A$4:$A$823,0)),\"\",IF(ISERROR(MATCH($D67,FatTox!$A$4:$A$823,0)),\"\",VLOOKUP($D67,FatTox!$A$4:$T$823,17)))","v":""},{"$f":"IF(ISERROR(MATCH($D67,FatTox!$A$4:$A$823,0)),\"\",IF(VLOOKUP($D67,FatTox!$A$4:$T$823,7,FALSE)=\"\",\"\",VLOOKUP($D67,FatTox!$A$4:$T$823,7,FALSE)))","v":""},{"$f":"IF(ISERROR(MATCH($D67,FatTox!$A$4:$A$823,0)),\"\",IF(VLOOKUP($D67,FatTox!$A$4:$T$823,8,FALSE)=\"\",\"\",VLOOKUP($D67,FatTox!$A$4:$T$823,8,FALSE)))","v":""},{"$f":"IF(ISERROR(MATCH($D67,FatTox!$A$4:$A$823,0)),\"\",IF(VLOOKUP($D67,FatTox!$A$4:$T$823,9,FALSE)=\"\",\"\",VLOOKUP($D67,FatTox!$A$4:$T$823,9,FALSE)*20/70))","v":""},{"$f":"IF(ISERROR(MATCH($D67,FatTox!$A$4:$A$823,0)),\"\",IF(VLOOKUP($D67,FatTox!$A$4:$T$823,10,FALSE)=\"\",\"\",VLOOKUP($D67,FatTox!$A$4:$T$823,10,FALSE)))","v":""},{"$f":"IF(RfD.ig.cn.20<>\"\",IF(ISERROR(RfD.ig.cn.20*AOF.20),\"\",RfD.ig.cn.20*AOF.20),\"\")","v":""},{"$f":"RfD.ig.ag.20","v":""},{"$f":"IF(ISERROR(MATCH($D67,FatTox!$A$4:$A$823,0)),\"\",IF(VLOOKUP($D67,FatTox!$A$4:$T$823,3,FALSE)=\"\",\"\",VLOOKUP($D67,FatTox!$A$4:$T$823,3,FALSE)))","v":""},{"$f":"IF(ISERROR(MATCH($D67,FatTox!$A$4:$A$823,0)),\"\",IF(ISERROR((VLOOKUP($D67,FatTox!$A$4:$T$823,5,FALSE)*70)/20),\"\",IF(VLOOKUP($D67,FatTox!$A$4:$T$823,5,FALSE)=\"\",\"\",((VLOOKUP($D67,FatTox!$A$4:$T$823,5,FALSE)*70)/20)*1000)))","v":""},{"$f":"IF(Sf.ig.20<>\"\",IF(ISERROR(Sf.ig.20/AOF.20),\"\",Sf.ig.20/AOF.20),\"\")","v":""},{"$f":"IF(ISERROR(MATCH($D67,FatTox!$A$4:$A$823,0)),\"\",IF(VLOOKUP($D67,FatTox!$A$4:$T$823,13,FALSE)=\"\",\"\",VLOOKUP($D67,FatTox!$A$4:$T$823,13,FALSE)))","v":""},{"$f":"IF(ISERROR(MATCH($D67,FatTox!$A$4:$A$823,0)),\"\",IF(VLOOKUP($D67,FatTox!$A$4:$T$823,14,FALSE)=\"\",\"\",VLOOKUP($D67,FatTox!$A$4:$T$823,14,FALSE)))","v":""},{"$f":"IF(ISERROR(MATCH($D67,FatTox!$A$4:$A$823,0)),\"\",IF(VLOOKUP($D67,FatTox!$A$4:$T$823,18,FALSE)=0,\"\",VLOOKUP($D67,FatTox!$A$4:$T$823,18,FALSE)))","v":""},{"$f":"IF(ISERROR(MATCH($D67,FatTox!$A$4:$A$823,0)),\"\",IF(VLOOKUP($D67,FatTox!$A$4:$T$823,5,FALSE)=0,\"\",VLOOKUP($D67,FatTox!$A$4:$T$823,5,FALSE)))","v":""},{"$f":"IF(ISERROR(MATCH($D67,FatTox!$A$4:$A$823,0)),\"\",IF(VLOOKUP($D67,FatTox!$A$4:$T$823,9,FALSE)=0,\"\",VLOOKUP($D67,FatTox!$A$4:$T$823,9,FALSE)))","v":""},{"$f":"IF(ISERROR(MATCH($D67,FatTox!$A$4:$A$823,0)),\"\",IF(VLOOKUP($D67,FatTox!$A$4:$T$823,20,FALSE)=0,\"\",VLOOKUP($D67,FatTox!$A$4:$T$823,20,FALSE)))","v":""},{"$f":"IF(ISERROR(MATCH($D67,FatTox!$A$4:$A$823,0)),\"\",IF(VLOOKUP($D67,FatTox!$A$4:$V$823,22,FALSE)=\"\",\"\",VLOOKUP($D67,FatTox!$A$4:$V$823,22,FALSE)))","v":""}]
[null,21,{"$f":"IF(ISERROR(MATCH($D68,FatTox!$A$4:$A$823,0)),\"\",VLOOKUP($D68,FatTox!$A$4:$T$823,2,FALSE))","v":""},0,{"$f":"IF(ISERROR(MATCH($D68,FatTox!$A$4:$A$823,0)),\"\",IF(ISERROR(MATCH($D68,FatTox!$A$4:$A$823,0)),\"\",VLOOKUP($D68,FatTox!$A$4:$T$823,17)))","v":""},{"$f":"IF(ISERROR(MATCH($D68,FatTox!$A$4:$A$823,0)),\"\",IF(VLOOKUP($D68,FatTox!$A$4:$T$823,7,FALSE)=\"\",\"\",VLOOKUP($D68,FatTox!$A$4:$T$823,7,FALSE)))","v":""},{"$f":"IF(ISERROR(MATCH($D68,FatTox!$A$4:$A$823,0)),\"\",IF(VLOOKUP($D68,FatTox!$A$4:$T$823,8,FALSE)=\"\",\"\",VLOOKUP($D68,FatTox!$A$4:$T$823,8,FALSE)))","v":""},{"$f":"IF(ISERROR(MATCH($D68,FatTox!$A$4:$A$823,0)),\"\",IF(VLOOKUP($D68,FatTox!$A$4:$T$823,9,FALSE)=\"\",\"\",VLOOKUP($D68,FatTox!$A$4:$T$823,9,FALSE)*20/70))","v":""},{"$f":"IF(ISERROR(MATCH($D68,FatTox!$A$4:$A$823,0)),\"\",IF(VLOOKUP($D68,FatTox!$A$4:$T$823,10,FALSE)=\"\",\"\",VLOOKUP($D68,FatTox!$A$4:$T$823,10,FALSE)))","v":""},{"$f":"IF(RfD.ig.cn.21<>\"\",IF(ISERROR(RfD.ig.cn.21*AOF.21),\"\",RfD.ig.cn.21*AOF.21),\"\")","v":""},{"$f":"RfD.ig.ag.21","v":""},{"$f":"IF(ISERROR(MATCH($D68,FatTox!$A$4:$A$823,0)),\"\",IF(VLOOKUP($D68,FatTox!$A$4:$T$823,3,FALSE)=\"\",\"\",VLOOKUP($D68,FatTox!$A$4:$T$823,3,FALSE)))","v":""},{"$f":"IF(ISERROR(MATCH($D68,FatTox!$A$4:$A$823,0)),\"\",IF(ISERROR((VLOOKUP($D68,FatTox!$A$4:$T$823,5,FALSE)*70)/20),\"\",IF(VLOOKUP($D68,FatTox!$A$4:$T$823,5,FALSE)=\"\",\"\",((VLOOKUP($D68,FatTox!$A$4:$T$823,5,FALSE)*70)/20)*1000)))","v":""},{"$f":"IF(Sf.ig.21<>\"\",IF(ISERROR(Sf.ig.21/AOF.21),\"\",Sf.ig.21/AOF.21),\"\")","v":""},{"$f":"IF(ISERROR(MATCH($D68,FatTox!$A$4:$A$823,0)),\"\",IF(VLOOKUP($D68,FatTox!$A$4:$T$823,13,FALSE)=\"\",\"\",VLOOKUP($D68,FatTox!$A$4:$T$823,13,FALSE)))","v":""},{"$f":"IF(ISERROR(MATCH($D68,FatTox!$A$4:$A$823,0)),\"\",IF(VLOOKUP($D68,FatTox!$A$4:$T$823,14,FALSE)=\"\",\"\",VLOOKUP($D68,FatTox!$A$4:$T$823,14,FALSE)))","v":""},{"$f":"IF(ISERROR(MATCH($D68,FatTox!$A$4:$A$823,0)),\"\",IF(VLOOKUP($D68,FatTox!$A$4:$T$823,18,FALSE)=0,\"\",VLOOKUP($D68,FatTox!$A$4:$T$823,18,FALSE)))","v":""},{"$f":"IF(ISERROR(MATCH($D68,FatTox!$A$4:$A$823,0)),\"\",IF(VLOOKUP($D68,FatTox!$A$4:$T$823,5,FALSE)=0,\"\",VLOOKUP($D68,FatTox!$A$4:$T$823,5,FALSE)))","v":""},{"$f":"IF(ISERROR(MATCH($D68,FatTox!$A$4:$A$823,0)),\"\",IF(VLOOKUP($D68,FatTox!$A$4:$T$823,9,FALSE)=0,\"\",VLOOKUP($D68,FatTox!$A$4:$T$823,9,FALSE)))","v":""},{"$f":"IF(ISERROR(MATCH($D68,FatTox!$A$4:$A$823,0)),\"\",IF(VLOOKUP($D68,FatTox!$A$4:$T$823,20,FALSE)=0,\"\",VLOOKUP($D68,FatTox!$A$4:$T$823,20,FALSE)))","v":""},{"$f":"IF(ISERROR(MATCH($D68,FatTox!$A$4:$A$823,0)),\"\",IF(VLOOKUP($D68,FatTox!$A$4:$V$823,22,FALSE)=\"\",\"\",VLOOKUP($D68,FatTox!$A$4:$V$823,22,FALSE)))","v":""}]
[null,22,{"$f":"IF(ISERROR(MATCH($D69,FatTox!$A$4:$A$823,0)),\"\",VLOOKUP($D69,FatTox!$A$4:$T$823,2,FALSE))","v":""},0,{"$f":"IF(ISERROR(MATCH($D69,FatTox!$A$4:$A$823,0)),\"\",IF(ISERROR(MATCH($D69,FatTox!$A$4:$A$823,0)),\"\",VLOOKUP($D69,FatTox!$A$4:$T$823,17)))","v":""},{"$f":"IF(ISERROR(MATCH($D69,FatTox!$A$4:$A$823,0)),\"\",IF(VLOOKUP($D69,FatTox!$A$4:$T$823,7,FALSE)=\"\",\"\",VLOOKUP($D69,FatTox!$A$4:$T$823,7,FALSE)))","v":""},{"$f":"IF(ISERROR(MATCH($D69,FatTox!$A$4:$A$823,0)),\"\",IF(VLOOKUP($D69,FatTox!$A$4:$T$823,8,FALSE)=\"\",\"\",VLOOKUP($D69,FatTox!$A$4:$T$823,8,FALSE)))","v":""},{"$f":"IF(ISERROR(MATCH($D69,FatTox!$A$4:$A$823,0)),\"\",IF(VLOOKUP($D69,FatTox!$A$4:$T$823,9,FALSE)=\"\",\"\",VLOOKUP($D69,FatTox!$A$4:$T$823,9,FALSE)*20/70))","v":""},{"$f":"IF(ISERROR(MATCH($D69,FatTox!$A$4:$A$823,0)),\"\",IF(VLOOKUP($D69,FatTox!$A$4:$T$823,10,FALSE)=\"\",\"\",VLOOKUP($D69,FatTox!$A$4:$T$823,10,FALSE)))","v":""},{"$f":"IF(RfD.ig.cn.22<>\"\",IF(ISERROR(RfD.ig.cn.22*AOF.22),\"\",RfD.ig.cn.22*AOF.22),\"\")","v":""},{"$f":"RfD.ig.ag.22","v":""},{"$f":"IF(ISERROR(MATCH($D69,FatTox!$A$4:$A$823,0)),\"\",IF(VLOOKUP($D69,FatTox!$A$4:$T$823,3,FALSE)=\"\",\"\",VLOOKUP($D69,FatTox!$A$4:$T$823,3,FALSE)))","v":""},{"$f":"IF(ISERROR(MATCH($D69,FatTox!$A$4:$A$823,0)),\"\",IF(ISERROR((VLOOKUP($D69,FatTox!$A$4:$T$823,5,FALSE)*70)/20),\"\",IF(VLOOKUP($D69,FatTox!$A$4:$T$823,5,FALSE)=\"\",\"\",((VLOOKUP($D69,FatTox!$A$4:$T$823,5,FALSE)*70)/20)*1000)))","v":""},{"$f":"IF(Sf.ig.22<>\"\",IF(ISERROR(Sf.ig.22/AOF.22),\"\",Sf.ig.22/AOF.22),\"\")","v":""},{"$f":"IF(ISERROR(MATCH($D69,FatTox!$A$4:$A$823,0)),\"\",IF(VLOOKUP($D69,FatTox!$A$4:$T$823,13,FALSE)=\"\",\"\",VLOOKUP($D69,FatTox!$A$4:$T$823,13,FALSE)))","v":""},{"$f":"IF(ISERROR(MATCH($D69,FatTox!$A$4:$A$823,0)),\"\",IF(VLOOKUP($D69,FatTox!$A$4:$T$823,14,FALSE)=\"\",\"\",VLOOKUP($D69,FatTox!$A$4:$T$823,14,FALSE)))","v":""},{"$f":"IF(ISERROR(MATCH($D69,FatTox!$A$4:$A$823,0)),\"\",IF(VLOOKUP($D69,FatTox!$A$4:$T$823,18,FALSE)=0,\"\",VLOOKUP($D69,FatTox!$A$4:$T$823,18,FALSE)))","v":""},{"$f":"IF(ISERROR(MATCH($D69,FatTox!$A$4:$A$823,0)),\"\",IF(VLOOKUP($D69,FatTox!$A$4:$T$823,5,FALSE)=0,\"\",VLOOKUP($D69,FatTox!$A$4:$T$823,5,FALSE)))","v":""},{"$f":"IF(ISERROR(MATCH($D69,FatTox!$A$4:$A$823,0)),\"\",IF(VLOOKUP($D69,FatTox!$A$4:$T$823,9,FALSE)=0,\"\",VLOOKUP($D69,FatTox!$A$4:$T$823,9,FALSE)))","v":""},{"$f":"IF(ISERROR(MATCH($D69,FatTox!$A$4:$A$823,0)),\"\",IF(VLOOKUP($D69,FatTox!$A$4:$T$823,20,FALSE)=0,\"\",VLOOKUP($D69,FatTox!$A$4:$T$823,20,FALSE)))","v":""},{"$f":"IF(ISERROR(MATCH($D69,FatTox!$A$4:$A$823,0)),\"\",IF(VLOOKUP($D69,FatTox!$A$4:$V$823,22,FALSE)=\"\",\"\",VLOOKUP($D69,FatTox!$A$4:$V$823,22,FALSE)))","v":""}]
[null,23,{"$f":"IF(ISERROR(MATCH($D70,FatTox!$A$4:$A$823,0)),\"\",VLOOKUP($D70,FatTox!$A$4:$T$823,2,FALSE))","v":""},0,{"$f":"IF(ISERROR(MATCH($D70,FatTox!$A$4:$A$823,0)),\"\",IF(ISERROR(MATCH($D70,FatTox!$A$4:$A$823,0)),\"\",VLOOKUP($D70,FatTox!$A$4:$T$823,17)))","v":""},{"$f":"IF(ISERROR(MATCH($D70,FatTox!$A$4:$A$823,0)),\"\",IF(VLOOKUP($D70,FatTox!$A$4:$T$823,7,FALSE)=\"\",\"\",VLOOKUP($D70,FatTox!$A$4:$T$823,7,FALSE)))","v":""},{"$f":"IF(ISERROR(MATCH($D70,FatTox!$A$4:$A$823,0)),\"\",IF(VLOOKUP($D70,FatTox!$A$4:$T$823,8,FALSE)=\"\",\"\",VLOOKUP($D70,FatTox!$A$4:$T$823,8,FALSE)))","v":""},{"$f":"IF(ISERROR(MATCH($D70,FatTox!$A$4:$A$823,0)),\"\",IF(VLOOKUP($D70,FatTox!$A$4:$T$823,9,FALSE)=\"\",\"\",VLOOKUP($D70,FatTox!$A$4:$T$823,9,FALSE)*20/70))","v":""},{"$f":"IF(ISERROR(MATCH($D70,FatTox!$A$4:$A$823,0)),\"\",IF(VLOOKUP($D70,FatTox!$A$4:$T$823,10,FALSE)=\"\",\"\",VLOOKUP($D70,FatTox!$A$4:$T$823,10,FALSE)))","v":""},{"$f":"IF(RfD.ig.cn.23<>\"\",IF(ISERROR(RfD.ig.cn.23*AOF.23),\"\",RfD.ig.cn.23*AOF.23),\"\")","v":""},{"$f":"RfD.ig.ag.23","v":""},{"$f":"IF(ISERROR(MATCH($D70,FatTox!$A$4:$A$823,0)),\"\",IF(VLOOKUP($D70,FatTox!$A$4:$T$823,3,FALSE)=\"\",\"\",VLOOKUP($D70,FatTox!$A$4:$T$823,3,FALSE)))","v":""},{"$f":"IF(ISERROR(MATCH($D70,FatTox!$A$4:$A$823,0)),\"\",IF(ISERROR((VLOOKUP($D70,FatTox!$A$4:$T$823,5,FALSE)*70)/20),\"\",IF(VLOOKUP($D70,FatTox!$A$4:$T$823,5,FALSE)=\"\",\"\",((VLOOKUP($D70,FatTox!$A$4:$T$823,5,FALSE)*70)/20)*1000)))","v":""},{"$f":"IF(Sf.ig.23<>\"\",IF(ISERROR(Sf.ig.23/AOF.23),\"\",Sf.ig.23/AOF.23),\"\")","v":""},{"$f":"IF(ISERROR(MATCH($D70,FatTox!$A$4:$A$823,0)),\"\",IF(VLOOKUP($D70,FatTox!$A$4:$T$823,13,FALSE)=\"\",\"\",VLOOKUP($D70,FatTox!$A$4:$T$823,13,FALSE)))","v":""},{"$f":"IF(ISERROR(MATCH($D70,FatTox!$A$4:$A$823,0)),\"\",IF(VLOOKUP($D70,FatTox!$A$4:$T$823,14,FALSE)=\"\",\"\",VLOOKUP($D70,FatTox!$A$4:$T$823,14,FALSE)))","v":""},{"$f":"IF(ISERROR(MATCH($D70,FatTox!$A$4:$A$823,0)),\"\",IF(VLOOKUP($D70,FatTox!$A$4:$T$823,18,FALSE)=0,\"\",VLOOKUP($D70,FatTox!$A$4:$T$823,18,FALSE)))","v":""},{"$f":"IF(ISERROR(MATCH($D70,FatTox!$A$4:$A$823,0)),\"\",IF(VLOOKUP($D70,FatTox!$A$4:$T$823,5,FALSE)=0,\"\",VLOOKUP($D70,FatTox!$A$4:$T$823,5,FALSE)))","v":""},{"$f":"IF(ISERROR(MATCH($D70,FatTox!$A$4:$A$823,0)),\"\",IF(VLOOKUP($D70,FatTox!$A$4:$T$823,9,FALSE)=0,\"\",VLOOKUP($D70,FatTox!$A$4:$T$823,9,FALSE)))","v":""},{"$f":"IF(ISERROR(MATCH($D70,FatTox!$A$4:$A$823,0)),\"\",IF(VLOOKUP($D70,FatTox!$A$4:$T$823,20,FALSE)=0,\"\",VLOOKUP($D70,FatTox!$A$4:$T$823,20,FALSE)))","v":""},{"$f":"IF(ISERROR(MATCH($D70,FatTox!$A$4:$A$823,0)),\"\",IF(VLOOKUP($D70,FatTox!$A$4:$V$823,22,FALSE)=\"\",\"\",VLOOKUP($D70,FatTox!$A$4:$V$823,22,FALSE)))","v":""}]
[null,24,{"$f":"IF(ISERROR(MATCH($D71,FatTox!$A$4:$A$823,0)),\"\",VLOOKUP($D71,FatTox!$A$4:$T$823,2,FALSE))","v":""},0,{"$f":"IF(ISERROR(MATCH($D71,FatTox!$A$4:$A$823,0)),\"\",IF(ISERROR(MATCH($D71,FatTox!$A$4:$A$823,0)),\"\",VLOOKUP($D71,FatTox!$A$4:$T$823,17)))","v":""},{"$f":"IF(ISERROR(MATCH($D71,FatTox!$A$4:$A$823,0)),\"\",IF(VLOOKUP($D71,FatTox!$A$4:$T$823,7,FALSE)=\"\",\"\",VLOOKUP($D71,FatTox!$A$4:$T$823,7,FALSE)))","v":""},{"$f":"IF(ISERROR(MATCH($D71,FatTox!$A$4:$A$823,0)),\"\",IF(VLOOKUP($D71,FatTox!$A$4:$T$823,8,FALSE)=\"\",\"\",VLOOKUP($D71,FatTox!$A$4:$T$823,8,FALSE)))","v":""},{"$f":"IF(ISERROR(MATCH($D71,FatTox!$A$4:$A$823,0)),\"\",IF(VLOOKUP($D71,FatTox!$A$4:$T$823,9,FALSE)=\"\",\"\",VLOOKUP($D71,FatTox!$A$4:$T$823,9,FALSE)*20/70))","v":""},{"$f":"IF(ISERROR(MATCH($D71,FatTox!$A$4:$A$823,0)),\"\",IF(VLOOKUP($D71,FatTox!$A$4:$T$823,10,FALSE)=\"\",\"\",VLOOKUP($D71,FatTox!$A$4:$T$823,10,FALSE)))","v":""},{"$f":"IF(RfD.ig.cn.24<>\"\",IF(ISERROR(RfD.ig.cn.24*AOF.24),\"\",RfD.ig.cn.24*AOF.24),\"\")","v":""},{"$f":"RfD.ig.ag.24","v":""},{"$f":"IF(ISERROR(MATCH($D71,FatTox!$A$4:$A$823,0)),\"\",IF(VLOOKUP($D71,FatTox!$A$4:$T$823,3,FALSE)=\"\",\"\",VLOOKUP($D71,FatTox!$A$4:$T$823,3,FALSE)))","v":""},{"$f":"IF(ISERROR(MATCH($D71,FatTox!$A$4:$A$823,0)),\"\",IF(ISERROR((VLOOKUP($D71,FatTox!$A$4:$T$823,5,FALSE)*70)/20),\"\",IF(VLOOKUP($D71,FatTox!$A$4:$T$823,5,FALSE)=\"\",\"\",((VLOOKUP($D71,FatTox!$A$4:$T$823,5,FALSE)*70)/20)*1000)))","v":""},{"$f":"IF(Sf.ig.24<>\"\",IF(ISERROR(Sf.ig.24/AOF.24),\"\",Sf.ig.24/AOF.24),\"\")","v":""},{"$f":"IF(ISERROR(MATCH($D71,FatTox!$A$4:$A$823,0)),\"\",IF(VLOOKUP($D71,FatTox!$A$4:$T$823,13,FALSE)=\"\",\"\",VLOOKUP($D71,FatTox!$A$4:$T$823,13,FALSE)))","v":""},{"$f":"IF(ISERROR(MATCH($D71,FatTox!$A$4:$A$823,0)),\"\",IF(VLOOKUP($D71,FatTox!$A$4:$T$823,14,FALSE)=\"\",\"\",VLOOKUP($D71,FatTox!$A$4:$T$823,14,FALSE)))","v":""},{"$f":"IF(ISERROR(MATCH($D71,FatTox!$A$4:$A$823,0)),\"\",IF(VLOOKUP($D71,FatTox!$A$4:$T$823,18,FALSE)=0,\"\",VLOOKUP($D71,FatTox!$A$4:$T$823,18,FALSE)))","v":""},{"$f":"IF(ISERROR(MATCH($D71,FatTox!$A$4:$A$823,0)),\"\",IF(VLOOKUP($D71,FatTox!$A$4:$T$823,5,FALSE)=0,\"\",VLOOKUP($D71,FatTox!$A$4:$T$823,5,FALSE)))","v":""},{"$f":"IF(ISERROR(MATCH($D71,FatTox!$A$4:$A$823,0)),\"\",IF(VLOOKUP($D71,FatTox!$A$4:$T$823,9,FALSE)=0,\"\",VLOOKUP($D71,FatTox!$A$4:$T$823,9,FALSE)))","v":""},{"$f":"IF(ISERROR(MATCH($D71,FatTox!$A$4:$A$823,0)),\"\",IF(VLOOKUP($D71,FatTox!$A$4:$T$823,20,FALSE)=0,\"\",VLOOKUP($D71,FatTox!$A$4:$T$823,20,FALSE)))","v":""},{"$f":"IF(ISERROR(MATCH($D71,FatTox!$A$4:$A$823,0)),\"\",IF(VLOOKUP($D71,FatTox!$A$4:$V$823,22,FALSE)=\"\",\"\",VLOOKUP($D71,FatTox!$A$4:$V$823,22,FALSE)))","v":""}]
[null,25,{"$f":"IF(ISERROR(MATCH($D72,FatTox!$A$4:$A$823,0)),\"\",VLOOKUP($D72,FatTox!$A$4:$T$823,2,FALSE))","v":""},0,{"$f":"IF(ISERROR(MATCH($D72,FatTox!$A$4:$A$823,0)),\"\",IF(ISERROR(MATCH($D72,FatTox!$A$4:$A$823,0)),\"\",VLOOKUP($D72,FatTox!$A$4:$T$823,17)))","v":""},{"$f":"IF(ISERROR(MATCH($D72,FatTox!$A$4:$A$823,0)),\"\",IF(VLOOKUP($D72,FatTox!$A$4:$T$823,7,FALSE)=\"\",\"\",VLOOKUP($D72,FatTox!$A$4:$T$823,7,FALSE)))","v":""},{"$f":"IF(ISERROR(MATCH($D72,FatTox!$A$4:$A$823,0)),\"\",IF(VLOOKUP($D72,FatTox!$A$4:$T$823,8,FALSE)=\"\",\"\",VLOOKUP($D72,FatTox!$A$4:$T$823,8,FALSE)))","v":""},{"$f":"IF(ISERROR(MATCH($D72,FatTox!$A$4:$A$823,0)),\"\",IF(VLOOKUP($D72,FatTox!$A$4:$T$823,9,FALSE)=\"\",\"\",VLOOKUP($D72,FatTox!$A$4:$T$823,9,FALSE)*20/70))","v":""},{"$f":"IF(ISERROR(MATCH($D72,FatTox!$A$4:$A$823,0)),\"\",IF(VLOOKUP($D72,FatTox!$A$4:$T$823,10,FALSE)=\"\",\"\",VLOOKUP($D72,FatTox!$A$4:$T$823,10,FALSE)))","v":""},{"$f":"IF(RfD.ig.cn.25<>\"\",IF(ISERROR(RfD.ig.cn.25*AOF.25),\"\",RfD.ig.cn.25*AOF.25),\"\")","v":""},{"$f":"RfD.ig.ag.25","v":""},{"$f":"IF(ISERROR(MATCH($D72,FatTox!$A$4:$A$823,0)),\"\",IF(VLOOKUP($D72,FatTox!$A$4:$T$823,3,FALSE)=\"\",\"\",VLOOKUP($D72,FatTox!$A$4:$T$823,3,FALSE)))","v":""},{"$f":"IF(ISERROR(MATCH($D72,FatTox!$A$4:$A$823,0)),\"\",IF(ISERROR((VLOOKUP($D72,FatTox!$A$4:$T$823,5,FALSE)*70)/20),\"\",IF(VLOOKUP($D72,FatTox!$A$4:$T$823,5,FALSE)=\"\",\"\",((VLOOKUP($D72,FatTox!$A$4:$T$823,5,FALSE)*70)/20)*1000)))","v":""},{"$f":"IF(Sf.ig.25<>\"\",IF(ISERROR(Sf.ig.25/AOF.25),\"\",Sf.ig.25/AOF.25),\"\")","v":""},{"$f":"IF(ISERROR(MATCH($D72,FatTox!$A$4:$A$823,0)),\"\",IF(VLOOKUP($D72,FatTox!$A$4:$T$823,13,FALSE)=\"\",\"\",VLOOKUP($D72,FatTox!$A$4:$T$823,13,FALSE)))","v":""},{"$f":"IF(ISERROR(MATCH($D72,FatTox!$A$4:$A$823,0)),\"\",IF(VLOOKUP($D72,FatTox!$A$4:$T$823,14,FALSE)=\"\",\"\",VLOOKUP($D72,FatTox!$A$4:$T$823,14,FALSE)))","v":""},{"$f":"IF(ISERROR(MATCH($D72,FatTox!$A$4:$A$823,0)),\"\",IF(VLOOKUP($D72,FatTox!$A$4:$T$823,18,FALSE)=0,\"\",VLOOKUP($D72,FatTox!$A$4:$T$823,18,FALSE)))","v":""},{"$f":"IF(ISERROR(MATCH($D72,FatTox!$A$4:$A$823,0)),\"\",IF(VLOOKUP($D72,FatTox!$A$4:$T$823,5,FALSE)=0,\"\",VLOOKUP($D72,FatTox!$A$4:$T$823,5,FALSE)))","v":""},{"$f":"IF(ISERROR(MATCH($D72,FatTox!$A$4:$A$823,0)),\"\",IF(VLOOKUP($D72,FatTox!$A$4:$T$823,9,FALSE)=0,\"\",VLOOKUP($D72,FatTox!$A$4:$T$823,9,FALSE)))","v":""},{"$f":"IF(ISERROR(MATCH($D72,FatTox!$A$4:$A$823,0)),\"\",IF(VLOOKUP($D72,FatTox!$A$4:$T$823,20,FALSE)=0,\"\",VLOOKUP($D72,FatTox!$A$4:$T$823,20,FALSE)))","v":""},{"$f":"IF(ISERROR(MATCH($D72,FatTox!$A$4:$A$823,0)),\"\",IF(VLOOKUP($D72,FatTox!$A$4:$V$823,22,FALSE)=\"\",\"\",VLOOKUP($D72,FatTox!$A$4:$V$823,22,FALSE)))","v":""}]
[null,26,{"$f":"IF(ISERROR(MATCH($D73,FatTox!$A$4:$A$823,0)),\"\",VLOOKUP($D73,FatTox!$A$4:$T$823,2,FALSE))","v":""},0,{"$f":"IF(ISERROR(MATCH($D73,FatTox!$A$4:$A$823,0)),\"\",IF(ISERROR(MATCH($D73,FatTox!$A$4:$A$823,0)),\"\",VLOOKUP($D73,FatTox!$A$4:$T$823,17)))","v":""},{"$f":"IF(ISERROR(MATCH($D73,FatTox!$A$4:$A$823,0)),\"\",IF(VLOOKUP($D73,FatTox!$A$4:$T$823,7,FALSE)=\"\",\"\",VLOOKUP($D73,FatTox!$A$4:$T$823,7,FALSE)))","v":""},{"$f":"IF(ISERROR(MATCH($D73,FatTox!$A$4:$A$823,0)),\"\",IF(VLOOKUP($D73,FatTox!$A$4:$T$823,8,FALSE)=\"\",\"\",VLOOKUP($D73,FatTox!$A$4:$T$823,8,FALSE)))","v":""},{"$f":"IF(ISERROR(MATCH($D73,FatTox!$A$4:$A$823,0)),\"\",IF(VLOOKUP($D73,FatTox!$A$4:$T$823,9,FALSE)=\"\",\"\",VLOOKUP($D73,FatTox!$A$4:$T$823,9,FALSE)*20/70))","v":""},{"$f":"IF(ISERROR(MATCH($D73,FatTox!$A$4:$A$823,0)),\"\",IF(VLOOKUP($D73,FatTox!$A$4:$T$823,10,FALSE)=\"\",\"\",VLOOKUP($D73,FatTox!$A$4:$T$823,10,FALSE)))","v":""},{"$f":"IF(RfD.ig.cn.26<>\"\",IF(ISERROR(RfD.ig.cn.26*AOF.26),\"\",RfD.ig.cn.26*AOF.26),\"\")","v":""},{"$f":"RfD.ig.ag.26","v":""},{"$f":"IF(ISERROR(MATCH($D73,FatTox!$A$4:$A$823,0)),\"\",IF(VLOOKUP($D73,FatTox!$A$4:$T$823,3,FALSE)=\"\",\"\",VLOOKUP($D73,FatTox!$A$4:$T$823,3,FALSE)))","v":""},{"$f":"IF(ISERROR(MATCH($D73,FatTox!$A$4:$A$823,0)),\"\",IF(ISERROR((VLOOKUP($D73,FatTox!$A$4:$T$823,5,FALSE)*70)/20),\"\",IF(VLOOKUP($D73,FatTox!$A$4:$T$823,5,FALSE)=\"\",\"\",((VLOOKUP($D73,FatTox!$A$4:$T$823,5,FALSE)*70)/20)*1000)))","v":""},{"$f":"IF(Sf.ig.26<>\"\",IF(ISERROR(Sf.ig.26/AOF.26),\"\",Sf.ig.26/AOF.26),\"\")","v":""},{"$f":"IF(ISERROR(MATCH($D73,FatTox!$A$4:$A$823,0)),\"\",IF(VLOOKUP($D73,FatTox!$A$4:$T$823,13,FALSE)=\"\",\"\",VLOOKUP($D73,FatTox!$A$4:$T$823,13,FALSE)))","v":""},{"$f":"IF(ISERROR(MATCH($D73,FatTox!$A$4:$A$823,0)),\"\",IF(VLOOKUP($D73,FatTox!$A$4:$T$823,14,FALSE)=\"\",\"\",VLOOKUP($D73,FatTox!$A$4:$T$823,14,FALSE)))","v":""},{"$f":"IF(ISERROR(MATCH($D73,FatTox!$A$4:$A$823,0)),\"\",IF(VLOOKUP($D73,FatTox!$A$4:$T$823,18,FALSE)=0,\"\",VLOOKUP($D73,FatTox!$A$4:$T$823,18,FALSE)))","v":""},{"$f":"IF(ISERROR(MATCH($D73,FatTox!$A$4:$A$823,0)),\"\",IF(VLOOKUP($D73,FatTox!$A$4:$T$823,5,FALSE)=0,\"\",VLOOKUP($D73,FatTox!$A$4:$T$823,5,FALSE)))","v":""},{"$f":"IF(ISERROR(MATCH($D73,FatTox!$A$4:$A$823,0)),\"\",IF(VLOOKUP($D73,FatTox!$A$4:$T$823,9,FALSE)=0,\"\",VLOOKUP($D73,FatTox!$A$4:$T$823,9,FALSE)))","v":""},{"$f":"IF(ISERROR(MATCH($D73,FatTox!$A$4:$A$823,0)),\"\",IF(VLOOKUP($D73,FatTox!$A$4:$T$823,20,FALSE)=0,\"\",VLOOKUP($D73,FatTox!$A$4:$T$823,20,FALSE)))","v":""},{"$f":"IF(ISERROR(MATCH($D73,FatTox!$A$4:$A$823,0)),\"\",IF(VLOOKUP($D73,FatTox!$A$4:$V$823,22,FALSE)=\"\",\"\",VLOOKUP($D73,FatTox!$A$4:$V$823,22,FALSE)))","v":""}]
[null,27,{"$f":"IF(ISERROR(MATCH($D74,FatTox!$A$4:$A$823,0)),\"\",VLOOKUP($D74,FatTox!$A$4:$T$823,2,FALSE))","v":""},0,{"$f":"IF(ISERROR(MATCH($D74,FatTox!$A$4:$A$823,0)),\"\",IF(ISERROR(MATCH($D74,FatTox!$A$4:$A$823,0)),\"\",VLOOKUP($D74,FatTox!$A$4:$T$823,17)))","v":""},{"$f":"IF(ISERROR(MATCH($D74,FatTox!$A$4:$A$823,0)),\"\",IF(VLOOKUP($D74,FatTox!$A$4:$T$823,7,FALSE)=\"\",\"\",VLOOKUP($D74,FatTox!$A$4:$T$823,7,FALSE)))","v":""},{"$f":"IF(ISERROR(MATCH($D74,FatTox!$A$4:$A$823,0)),\"\",IF(VLOOKUP($D74,FatTox!$A$4:$T$823,8,FALSE)=\"\",\"\",VLOOKUP($D74,FatTox!$A$4:$T$823,8,FALSE)))","v":""},{"$f":"IF(ISERROR(MATCH($D74,FatTox!$A$4:$A$823,0)),\"\",IF(VLOOKUP($D74,FatTox!$A$4:$T$823,9,FALSE)=\"\",\"\",VLOOKUP($D74,FatTox!$A$4:$T$823,9,FALSE)*20/70))","v":""},{"$f":"IF(ISERROR(MATCH($D74,FatTox!$A$4:$A$823,0)),\"\",IF(VLOOKUP($D74,FatTox!$A$4:$T$823,10,FALSE)=\"\",\"\",VLOOKUP($D74,FatTox!$A$4:$T$823,10,FALSE)))","v":""},{"$f":"IF(RfD.ig.cn.27<>\"\",IF(ISERROR(RfD.ig.cn.27*AOF.27),\"\",RfD.ig.cn.27*AOF.27),\"\")","v":""},{"$f":"RfD.ig.ag.27","v":""},{"$f":"IF(ISERROR(MATCH($D74,FatTox!$A$4:$A$823,0)),\"\",IF(VLOOKUP($D74,FatTox!$A$4:$T$823,3,FALSE)=\"\",\"\",VLOOKUP($D74,FatTox!$A$4:$T$823,3,FALSE)))","v":""},{"$f":"IF(ISERROR(MATCH($D74,FatTox!$A$4:$A$823,0)),\"\",IF(ISERROR((VLOOKUP($D74,FatTox!$A$4:$T$823,5,FALSE)*70)/20),\"\",IF(VLOOKUP($D74,FatTox!$A$4:$T$823,5,FALSE)=\"\",\"\",((VLOOKUP($D74,FatTox!$A$4:$T$823,5,FALSE)*70)/20)*1000)))","v":""},{"$f":"IF(Sf.ig.27<>\"\",IF(ISERROR(Sf.ig.27/AOF.27),\"\",Sf.ig.27/AOF.27),\"\")","v":""},{"$f":"IF(ISERROR(MATCH($D74,FatTox!$A$4:$A$823,0)),\"\",IF(VLOOKUP($D74,FatTox!$A$4:$T$823,13,FALSE)=\"\",\"\",VLOOKUP($D74,FatTox!$A$4:$T$823,13,FALSE)))","v":""},{"$f":"IF(ISERROR(MATCH($D74,FatTox!$A$4:$A$823,0)),\"\",IF(VLOOKUP($D74,FatTox!$A$4:$T$823,14,FALSE)=\"\",\"\",VLOOKUP($D74,FatTox!$A$4:$T$823,14,FALSE)))","v":""},{"$f":"IF(ISERROR(MATCH($D74,FatTox!$A$4:$A$823,0)),\"\",IF(VLOOKUP($D74,FatTox!$A$4:$T$823,18,FALSE)=0,\"\",VLOOKUP($D74,FatTox!$A$4:$T$823,18,FALSE)))","v":""},{"$f":"IF(ISERROR(MATCH($D74,FatTox!$A$4:$A$823,0)),\"\",IF(VLOOKUP($D74,FatTox!$A$4:$T$823,5,FALSE)=0,\"\",VLOOKUP($D74,FatTox!$A$4:$T$823,5,FALSE)))","v":""},{"$f":"IF(ISERROR(MATCH($D74,FatTox!$A$4:$A$823,0)),\"\",IF(VLOOKUP($D74,FatTox!$A$4:$T$823,9,FALSE)=0,\"\",VLOOKUP($D74,FatTox!$A$4:$T$823,9,FALSE)))","v":""},{"$f":"IF(ISERROR(MATCH($D74,FatTox!$A$4:$A$823,0)),\"\",IF(VLOOKUP($D74,FatTox!$A$4:$T$823,20,FALSE)=0,\"\",VLOOKUP($D74,FatTox!$A$4:$T$823,20,FALSE)))","v":""},{"$f":"IF(ISERROR(MATCH($D74,FatTox!$A$4:$A$823,0)),\"\",IF(VLOOKUP($D74,FatTox!$A$4:$V$823,22,FALSE)=\"\",\"\",VLOOKUP($D74,FatTox!$A$4:$V$823,22,FALSE)))","v":""}]
[null,28,{"$f":"IF(ISERROR(MATCH($D75,FatTox!$A$4:$A$823,0)),\"\",VLOOKUP($D75,FatTox!$A$4:$T$823,2,FALSE))","v":""},0,{"$f":"IF(ISERROR(MATCH($D75,FatTox!$A$4:$A$823,0)),\"\",IF(ISERROR(MATCH($D75,FatTox!$A$4:$A$823,0)),\"\",VLOOKUP($D75,FatTox!$A$4:$T$823,17)))","v":""},{"$f":"IF(ISERROR(MATCH($D75,FatTox!$A$4:$A$823,0)),\"\",IF(VLOOKUP($D75,FatTox!$A$4:$T$823,7,FALSE)=\"\",\"\",VLOOKUP($D75,FatTox!$A$4:$T$823,7,FALSE)))","v":""},{"$f":"IF(ISERROR(MATCH($D75,FatTox!$A$4:$A$823,0)),\"\",IF(VLOOKUP($D75,FatTox!$A$4:$T$823,8,FALSE)=\"\",\"\",VLOOKUP($D75,FatTox!$A$4:$T$823,8,FALSE)))","v":""},{"$f":"IF(ISERROR(MATCH($D75,FatTox!$A$4:$A$823,0)),\"\",IF(VLOOKUP($D75,FatTox!$A$4:$T$823,9,FALSE)=\"\",\"\",VLOOKUP($D75,FatTox!$A$4:$T$823,9,FALSE)*20/70))","v":""},{"$f":"IF(ISERROR(MATCH($D75,FatTox!$A$4:$A$823,0)),\"\",IF(VLOOKUP($D75,FatTox!$A$4:$T$823,10,FALSE)=\"\",\"\",VLOOKUP($D75,FatTox!$A$4:$T$823,10,FALSE)))","v":""},{"$f":"IF(RfD.ig.cn.28<>\"\",IF(ISERROR(RfD.ig.cn.28*AOF.28),\"\",RfD.ig.cn.28*AOF.28),\"\")","v":""},{"$f":"RfD.ig.ag.28","v":""},{"$f":"IF(ISERROR(MATCH($D75,FatTox!$A$4:$A$823,0)),\"\",IF(VLOOKUP($D75,FatTox!$A$4:$T$823,3,FALSE)=\"\",\"\",VLOOKUP($D75,FatTox!$A$4:$T$823,3,FALSE)))","v":""},{"$f":"IF(ISERROR(MATCH($D75,FatTox!$A$4:$A$823,0)),\"\",IF(ISERROR((VLOOKUP($D75,FatTox!$A$4:$T$823,5,FALSE)*70)/20),\"\",IF(VLOOKUP($D75,FatTox!$A$4:$T$823,5,FALSE)=\"\",\"\",((VLOOKUP($D75,FatTox!$A$4:$T$823,5,FALSE)*70)/20)*1000)))","v":""},{"$f":"IF(Sf.ig.28<>\"\",IF(ISERROR(Sf.ig.28/AOF.28),\"\",Sf.ig.28/AOF.28),\"\")","v":""},{"$f":"IF(ISERROR(MATCH($D75,FatTox!$A$4:$A$823,0)),\"\",IF(VLOOKUP($D75,FatTox!$A$4:$T$823,13,FALSE)=\"\",\"\",VLOOKUP($D75,FatTox!$A$4:$T$823,13,FALSE)))","v":""},{"$f":"IF(ISERROR(MATCH($D75,FatTox!$A$4:$A$823,0)),\"\",IF(VLOOKUP($D75,FatTox!$A$4:$T$823,14,FALSE)=\"\",\"\",VLOOKUP($D75,FatTox!$A$4:$T$823,14,FALSE)))","v":""},{"$f":"IF(ISERROR(MATCH($D75,FatTox!$A$4:$A$823,0)),\"\",IF(VLOOKUP($D75,FatTox!$A$4:$T$823,18,FALSE)=0,\"\",VLOOKUP($D75,FatTox!$A$4:$T$823,18,FALSE)))","v":""},{"$f":"IF(ISERROR(MATCH($D75,FatTox!$A$4:$A$823,0)),\"\",IF(VLOOKUP($D75,FatTox!$A$4:$T$823,5,FALSE)=0,\"\",VLOOKUP($D75,FatTox!$A$4:$T$823,5,FALSE)))","v":""},{"$f":"IF(ISERROR(MATCH($D75,FatTox!$A$4:$A$823,0)),\"\",IF(VLOOKUP($D75,FatTox!$A$4:$T$823,9,FALSE)=0,\"\",VLOOKUP($D75,FatTox!$A$4:$T$823,9,FALSE)))","v":""},{"$f":"IF(ISERROR(MATCH($D75,FatTox!$A$4:$A$823,0)),\"\",IF(VLOOKUP($D75,FatTox!$A$4:$T$823,20,FALSE)=0,\"\",VLOOKUP($D75,FatTox!$A$4:$T$823,20,FALSE)))","v":""},{"$f":"IF(ISERROR(MATCH($D75,FatTox!$A$4:$A$823,0)),\"\",IF(VLOOKUP($D75,FatTox!$A$4:$V$823,22,FALSE)=\"\",\"\",VLOOKUP($D75,FatTox!$A$4:$V$823,22,FALSE)))","v":""}]
[null,29,{"$f":"IF(ISERROR(MATCH($D76,FatTox!$A$4:$A$823,0)),\"\",VLOOKUP($D76,FatTox!$A$4:$T$823,2,FALSE))","v":""},0,{"$f":"IF(ISERROR(MATCH($D76,FatTox!$A$4:$A$823,0)),\"\",IF(ISERROR(MATCH($D76,FatTox!$A$4:$A$823,0)),\"\",VLOOKUP($D76,FatTox!$A$4:$T$823,17)))","v":""},{"$f":"IF(ISERROR(MATCH($D76,FatTox!$A$4:$A$823,0)),\"\",IF(VLOOKUP($D76,FatTox!$A$4:$T$823,7,FALSE)=\"\",\"\",VLOOKUP($D76,FatTox!$A$4:$T$823,7,FALSE)))","v":""},{"$f":"IF(ISERROR(MATCH($D76,FatTox!$A$4:$A$823,0)),\"\",IF(VLOOKUP($D76,FatTox!$A$4:$T$823,8,FALSE)=\"\",\"\",VLOOKUP($D76,FatTox!$A$4:$T$823,8,FALSE)))","v":""},{"$f":"IF(ISERROR(MATCH($D76,FatTox!$A$4:$A$823,0)),\"\",IF(VLOOKUP($D76,FatTox!$A$4:$T$823,9,FALSE)=\"\",\"\",VLOOKUP($D76,FatTox!$A$4:$T$823,9,FALSE)*20/70))","v":""},{"$f":"IF(ISERROR(MATCH($D76,FatTox!$A$4:$A$823,0)),\"\",IF(VLOOKUP($D76,FatTox!$A$4:$T$823,10,FALSE)=\"\",\"\",VLOOKUP($D76,FatTox!$A$4:$T$823,10,FALSE)))","v":""},{"$f":"IF(RfD.ig.cn.29<>\"\",IF(ISERROR(RfD.ig.cn.29*AOF.29),\"\",RfD.ig.cn.29*AOF.29),\"\")","v":""},{"$f":"RfD.ig.ag.29","v":""},{"$f":"IF(ISERROR(MATCH($D76,FatTox!$A$4:$A$823,0)),\"\",IF(VLOOKUP($D76,FatTox!$A$4:$T$823,3,FALSE)=\"\",\"\",VLOOKUP($D76,FatTox!$A$4:$T$823,3,FALSE)))","v":""},{"$f":"IF(ISERROR(MATCH($D76,FatTox!$A$4:$A$823,0)),\"\",IF(ISERROR((VLOOKUP($D76,FatTox!$A$4:$T$823,5,FALSE)*70)/20),\"\",IF(VLOOKUP($D76,FatTox!$A$4:$T$823,5,FALSE)=\"\",\"\",((VLOOKUP($D76,FatTox!$A$4:$T$823,5,FALSE)*70)/20)*1000)))","v":""},{"$f":"IF(Sf.ig.29<>\"\",IF(ISERROR(Sf.ig.29/AOF.29),\"\",Sf.ig.29/AOF.29),\"\")","v":""},{"$f":"IF(ISERROR(MATCH($D76,FatTox!$A$4:$A$823,0)),\"\",IF(VLOOKUP($D76,FatTox!$A$4:$T$823,13,FALSE)=\"\",\"\",VLOOKUP($D76,FatTox!$A$4:$T$823,13,FALSE)))","v":""},{"$f":"IF(ISERROR(MATCH($D76,FatTox!$A$4:$A$823,0)),\"\",IF(VLOOKUP($D76,FatTox!$A$4:$T$823,14,FALSE)=\"\",\"\",VLOOKUP($D76,FatTox!$A$4:$T$823,14,FALSE)))","v":""},{"$f":"IF(ISERROR(MATCH($D76,FatTox!$A$4:$A$823,0)),\"\",IF(VLOOKUP($D76,FatTox!$A$4:$T$823,18,FALSE)=0,\"\",VLOOKUP($D76,FatTox!$A$4:$T$823,18,FALSE)))","v":""},{"$f":"IF(ISERROR(MATCH($D76,FatTox!$A$4:$A$823,0)),\"\",IF(VLOOKUP($D76,FatTox!$A$4:$T$823,5,FALSE)=0,\"\",VLOOKUP($D76,FatTox!$A$4:$T$823,5,FALSE)))","v":""},{"$f":"IF(ISERROR(MATCH($D76,FatTox!$A$4:$A$823,0)),\"\",IF(VLOOKUP($D76,FatTox!$A$4:$T$823,9,FALSE)=0,\"\",VLOOKUP($D76,FatTox!$A$4:$T$823,9,FALSE)))","v":""},{"$f":"IF(ISERROR(MATCH($D76,FatTox!$A$4:$A$823,0)),\"\",IF(VLOOKUP($D76,FatTox!$A$4:$T$823,20,FALSE)=0,\"\",VLOOKUP($D76,FatTox!$A$4:$T$823,20,FALSE)))","v":""},{"$f":"IF(ISERROR(MATCH($D76,FatTox!$A$4:$A$823,0)),\"\",IF(VLOOKUP($D76,FatTox!$A$4:$V$823,22,FALSE)=\"\",\"\",VLOOKUP($D76,FatTox!$A$4:$V$823,22,FALSE)))","v":""}]
[null,30,{"$f":"IF(ISERROR(MATCH($D77,FatTox!$A$4:$A$823,0)),\"\",VLOOKUP($D77,FatTox!$A$4:$T$823,2,FALSE))","v":""},0,{"$f":"IF(ISERROR(MATCH($D77,FatTox!$A$4:$A$823,0)),\"\",IF(ISERROR(MATCH($D77,FatTox!$A$4:$A$823,0)),\"\",VLOOKUP($D77,FatTox!$A$4:$T$823,17)))","v":""},{"$f":"IF(ISERROR(MATCH($D77,FatTox!$A$4:$A$823,0)),\"\",IF(VLOOKUP($D77,FatTox!$A$4:$T$823,7,FALSE)=\"\",\"\",VLOOKUP($D77,FatTox!$A$4:$T$823,7,FALSE)))","v":""},{"$f":"IF(ISERROR(MATCH($D77,FatTox!$A$4:$A$823,0)),\"\",IF(VLOOKUP($D77,FatTox!$A$4:$T$823,8,FALSE)=\"\",\"\",VLOOKUP($D77,FatTox!$A$4:$T$823,8,FALSE)))","v":""},{"$f":"IF(ISERROR(MATCH($D77,FatTox!$A$4:$A$823,0)),\"\",IF(VLOOKUP($D77,FatTox!$A$4:$T$823,9,FALSE)=\"\",\"\",VLOOKUP($D77,FatTox!$A$4:$T$823,9,FALSE)*20/70))","v":""},{"$f":"IF(ISERROR(MATCH($D77,FatTox!$A$4:$A$823,0)),\"\",IF(VLOOKUP($D77,FatTox!$A$4:$T$823,10,FALSE)=\"\",\"\",VLOOKUP($D77,FatTox!$A$4:$T$823,10,FALSE)))","v":""},{"$f":"IF(RfD.ig.cn.30<>\"\",IF(ISERROR(RfD.ig.cn.30*AOF.30),\"\",RfD.ig.cn.30*AOF.30),\"\")","v":""},{"$f":"RfD.ig.ag.30","v":""},{"$f":"IF(ISERROR(MATCH($D77,FatTox!$A$4:$A$823,0)),\"\",IF(VLOOKUP($D77,FatTox!$A$4:$T$823,3,FALSE)=\"\",\"\",VLOOKUP($D77,FatTox!$A$4:$T$823,3,FALSE)))","v":""},{"$f":"IF(ISERROR(MATCH($D77,FatTox!$A$4:$A$823,0)),\"\",IF(ISERROR((VLOOKUP($D77,FatTox!$A$4:$T$823,5,FALSE)*70)/20),\"\",IF(VLOOKUP($D77,FatTox!$A$4:$T$823,5,FALSE)=\"\",\"\",((VLOOKUP($D77,FatTox!$A$4:$T$823,5,FALSE)*70)/20)*1000)))","v":""},{"$f":"IF(Sf.ig.30<>\"\",IF(ISERROR(Sf.ig.30/AOF.30),\"\",Sf.ig.30/AOF.30),\"\")","v":""},{"$f":"IF(ISERROR(MATCH($D77,FatTox!$A$4:$A$823,0)),\"\",IF(VLOOKUP($D77,FatTox!$A$4:$T$823,13,FALSE)=\"\",\"\",VLOOKUP($D77,FatTox!$A$4:$T$823,13,FALSE)))","v":""},{"$f":"IF(ISERROR(MATCH($D77,FatTox!$A$4:$A$823,0)),\"\",IF(VLOOKUP($D77,FatTox!$A$4:$T$823,14,FALSE)=\"\",\"\",VLOOKUP($D77,FatTox!$A$4:$T$823,14,FALSE)))","v":""},{"$f":"IF(ISERROR(MATCH($D77,FatTox!$A$4:$A$823,0)),\"\",IF(VLOOKUP($D77,FatTox!$A$4:$T$823,18,FALSE)=0,\"\",VLOOKUP($D77,FatTox!$A$4:$T$823,18,FALSE)))","v":""},{"$f":"IF(ISERROR(MATCH($D77,FatTox!$A$4:$A$823,0)),\"\",IF(VLOOKUP($D77,FatTox!$A$4:$T$823,5,FALSE)=0,\"\",VLOOKUP($D77,FatTox!$A$4:$T$823,5,FALSE)))","v":""},{"$f":"IF(ISERROR(MATCH($D77,FatTox!$A$4:$A$823,0)),\"\",IF(VLOOKUP($D77,FatTox!$A$4:$T$823,9,FALSE)=0,\"\",VLOOKUP($D77,FatTox!$A$4:$T$823,9,FALSE)))","v":""},{"$f":"IF(ISERROR(MATCH($D77,FatTox!$A$4:$A$823,0)),\"\",IF(VLOOKUP($D77,FatTox!$A$4:$T$823,20,FALSE)=0,\"\",VLOOKUP($D77,FatTox!$A$4:$T$823,20,FALSE)))","v":""},{"$f":"IF(ISERROR(MATCH($D77,FatTox!$A$4:$A$823,0)),\"\",IF(VLOOKUP($D77,FatTox!$A$4:$V$823,22,FALSE)=\"\",\"\",VLOOKUP($D77,FatTox!$A$4:$V$823,22,FALSE)))","v":""}]
[]
[]
[]
[null,1,"83-32-9","Acenaphthene",null,null,"Acenafteno"]
[null,2,"30560-19-1","Acephate",null,null,"Acefato"]
[null,3,"75-07-0","Acetaldehyde",null,null,"Acetaldeído "]
[null,4,"34256-82-1","Acetochlor",null,null,"Acetocloro"]
[null,5,"67-64-1","Acetone",null,null,"Acetona"]
[null,6,"75-86-5","Acetone Cyanohydrin",null,null,"Acetona cianidrina"]
[null,7,"75-05-8","Acetonitrile",null,null,"Acetonitrila"]
[null,8,"98-86-2","Acetophenone",null,null,""]
[null,9,"53-96-3","Acetylaminofluorene, 2-",null,null,""]
[null,10,"107-02-8","Acrolein",null,null,"Acroleína"]
[null,11,"79-06-1","Acrylamide",null,null,"Acrilamida"]
[null,12,"79-10-7","Acrylic Acid",null,null,"Ácido acrílico"]
[null,13,"107-13-1","Acrylonitrile",null,null,"Acrilonitrila"]
[null,14,"111-69-3","Adiponitrile",null,null,"Adiponitrila"]
[null,15,"15972-60-8","Alachlor",null,null,"Alacloro"]
[null,16,"116-06-3","Aldicarb",null,null,"Aldicarbe"]
[null,17,"1646-88-4","Aldicarb Sulfone",null,null,"Aldicarbe Sulfona"]
[null,18,"1646-87-3","Aldicarb sulfoxide",null,null,""]
[null,19,"309-00-2","Aldrin",null,null,"Aldrin"]
[null,20,"107-18-6","Allyl Alcohol",null,null,"Álcool alílico"]
[null,21,"107-05-1","Allyl Chloride",null,null,"Cloreto de alila"]
[null,22,"7429-90-5","Aluminum",null,null,"Alumínio"]
[null,23,"20859-73-8","Aluminum Phosphide",null,null,"Fosfeto de alumínio"]
[null,24,"834-12-8","Ametryn",null,null,"Ametrina"]
[null,25,"92-67-1","Aminobiphenyl, 4-",null,null,""]
[null,26,"591-27-5","Aminophenol, m-",null,null,"m-Aminofenol"]
[null,27,"95-55-6","Aminophenol, o-",null,null,"o-aminofenol"]
[null,28,"123-30-8","Aminophenol, p-",null,null,"p-Aminofenol"]
[null,29,"33089-61-1","Amitraz",null,null,"Amitraz"]
[null,30,"7664-41-7","Ammonia",null,null,"Amônia"]
[null,31,"7790-98-9","Ammonium Perchlorate",null,null,"Perclorato de amônio"]
[null,32,"62037-80-3","Ammonium perfluoro-2-methyl-3-oxahexanoate",null,null,""]
[null,33,"131-74-8","Ammonium Picrate",null,null,""]
[null,34,"7773-06-0","Ammonium Sulfamate",null,null,"Sulfamato de amônio"]
[null,35,"75-85-4","Amyl Alcohol, tert-",null,null,""]
[null,36,"62-53-3","Aniline",null,null,"Anilina"]
[null,37,"120-12-7","Anthracene",null,null,"Antraceno"]
[null,38,"84-65-1","Anthraquinone, 9,10-",null,null,""]
[null,39,"7440-36-0","Antimony (metallic)",null,null,"Antimônio"]
[null,40,"1314-60-9","Antimony Pentoxide",null,null,"Pentóxido de antimônio"]
[null,41,"1332-81-6","Antimony Tetroxide",null,null,"Tetróxido de antimônio"]
[null,42,"1309-64-4","Antimony Trioxide",null,null,"Trióxido de antimônio "]
[null,43,"12674-11-2","Aroclor 1016",null,null,"Aroclor 1016"]
[null,44,"11104-28-2","Aroclor 1221",null,null,"Aroclor 1221"]
[null,45,"11141-16-5","Aroclor 1232",null,null,"Aroclor 1232"]
[null,46,"53469-21-9","Aroclor 1242",null,null,"Aroclor 1242"]
[null,47,"12672-29-6","Aroclor 1248",null,null,"Aroclor 1248"]
[null,48,"11097-69-1","Aroclor 1254",null,null,"Aroclor 1254"]
[null,49,"11096-82-5","Aroclor 1260",null,null,"Aroclor 1260"]
[null,50,"11126-42-4","Aroclor 5460",null,null,"Aroclor 5460"]
[null,51,"7440-38-2","Arsenic, Inorganic",null,null,"Arsênio"]
[null,52,"7784-42-1","Arsine",null,null,"Arsina"]
[null,53,"1332-21-4","Asbestos (units in fibers)",null,null,""]
[null,54,"3337-71-1","Asulam",null,null,"Asulam"]
[null,55,"1912-24-9","Atrazine",null,null,"Atrazina"]
[null,56,"492-80-8","Auramine",null,null,"Auramina"]
[null,57,"65195-55-3","Avermectin B1",null,null,"Abamectina"]
[null,58,"86-50-0","Azinphos-methyl",null,null,""]
[null,59,"103-33-3","Azobenzene",null,null,"Azobenzeno"]
[null,60,"123-77-3","Azodicarbonamide",null,null,"Azodicarbonamida"]
[null,61,"7440-39-3","Barium",null,null,"Bário"]
[null,62,"1861-40-1","Benfluralin",null,null,"Benfluralina"]
[null,63,"17804-35-2","Benomyl",null,null,"Benomil"]
[null,64,"83055-99-6","Bensulfuron-methyl",null,null,"Londax"]
[null,65,"25057-89-0","Bentazon",null,null,"Bentazona"]
[null,66,"56-55-3","Benz[a]anthracene",null,null,"Benzo(a)antraceno"]
[null,67,"100-52-7","Benzaldehyde",null,null,"Benzaldeído"]
[null,68,"71-43-2","Benzene",null,null,"Benzeno"]
[null,69,"6369-59-1","Benzenediamine-2-methyl sulfate, 1,4-",null,null,""]
[null,70,"108-98-5","Benzenethiol",null,null,"Benzenotiol"]
[null,71,"92-87-5","Benzidine",null,null,"Benzidina"]
[null,72,"192-97-2","Benzo(e)pyrene",null,null,""]
[null,73,"205-82-3","Benzo(j)fluoranthene",null,null,"Benzo(j)fluoranteno"]
[null,74,"50-32-8","Benzo[a]pyrene",null,null,"Benzo(a)pireno"]
[null,75,"205-99-2","Benzo[b]fluoranthene",null,null,"Benzo( b)fluoranteno"]
[null,76,"207-08-9","Benzo[k]fluoranthene",null,null,"Benzo (k)fluoranteno"]
[null,77,"65-85-0","Benzoic Acid",null,null,"Ácido benzóico"]
[null,78,"98-07-7","Benzotrichloride",null,null,"Triclorometilbenzeno"]
[null,79,"100-51-6","Benzyl Alcohol",null,null,"Álcool benzílico"]
[null,80,"100-44-7","Benzyl Chloride",null,null,"Cloreto de benzila"]
[null,81,"7440-41-7","Beryllium and compounds",null,null,"Berílio"]
[null,82,"42576-02-3","Bifenox",null,null,"Bifenoxi"]
[null,83,"82657-04-3","Biphenthrin",null,null,"Bifentrina"]
[null,84,"92-52-4","Biphenyl, 1,1'-",null,null,"Bifenila"]
[null,85,"108-60-1","Bis(2-chloro-1-methylethyl) ether",null,null,"2-Cloroisopropil éter"]
[null,86,"111-91-1","Bis(2-chloroethoxy)methane",null,null,"Diclorometoxietano"]
[null,87,"111-44-4","Bis(2-chloroethyl)ether",null,null,"Éter dicloroetílico"]
[null,88,"117-81-7","Bis(2-ethylhexyl)phthalate",null,null,"Ftalato de dioctila"]
[null,89,"542-88-1","Bis(chloromethyl)ether",null,null,"Éter bis-(clorometílico)"]
[null,90,"80-05-7","Bisphenol A",null,null,"Bisfenol A"]
[null,91,"7440-42-8","Boron And Borates Only",null,null,"Boro"]
[null,92,"10294-34-5","Boron Trichloride",null,null,"Tricloreto de boro"]
[null,93,"7637-07-2","Boron Trifluoride",null,null,"Trifluoreto de boro"]
[null,94,"15541-45-4","Bromate",null,null,"Bromato"]
[null,95,"107-04-0","Bromo-2-chloroethane, 1-",null,null,"1-bromo-2-cloroetano"]
[null,96,"1073-06-9","Bromo-3-fluorobenzene, 1-",null,null,"1-bromo-3-fluorobenzeno"]
[null,97,"460-00-4","Bromo-4-fluorobenzene, 1-",null,null,""]
[null,98,"79-08-3","Bromoacetic acid",null,null,""]
[null,99,"108-86-1","Bromobenzene",null,null,"Bromobenzeno"]
[null,100,"74-97-5","Bromochloromethane",null,null,"Bromoclorometano"]
[null,101,"75-27-4","Bromodichloromethane",null,null,"Bromodiclorometano"]
[null,102,"75-25-2","Bromoform",null,null,"Bromofórmio"]
[null,103,"74-83-9","Bromomethane",null,null,"Brometo de metila"]
[null,104,"2104-96-3","Bromophos",null,null,"Bromofós"]
[null,105,"106-94-5","Bromopropane, 1-",null,null,"1-bromopropano"]
[null,106,"1689-84-5","Bromoxynil",null,null,"Bromoxinil"]
[null,107,"1689-99-2","Bromoxynil Octanoate",null,null,"Octanoato de bromoxinil"]
[null,108,"106-99-0","Butadiene, 1,3-",null,null,"1,3- Butadieno"]
[null,109,"71-36-3","Butanol, N-",null,null,"1-Butanol"]
[null,110,"78-92-2","Butyl alcohol, sec-",null,null,""]
[null,111,"75-65-0","Butyl Alcohol, t-",null,null,""]
[null,112,"85-68-7","Butyl Benzyl Phthalate",null,null,"Ftalato de butil benzila"]
[null,113,"2008-41-5","Butylate",null,null,"Butilato"]
[null,114,"25013-16-5","Butylated hydroxyanisole",null,null,""]
[null,115,"128-37-0","Butylated hydroxytoluene",null,null,"Butilhidroxitolueno"]
[null,116,"104-51-8","Butylbenzene, n-",null,null,"Butilbenzeno"]
[null,117,"135-98-8","Butylbenzene, sec-",null,null,"sec-butilbenzeno"]
[null,118,"98-06-6","Butylbenzene, tert-",null,null,""]
[null,119,"85-70-1","Butylphthalyl Butylglycolate",null,null,"Butil ftalato butil glicolato"]
[null,120,"75-60-5","Cacodylic Acid",null,null,"Ácido cacodílico "]
[null,121,"7440-43-9-A","Cadmium (Diet)",null,null,"Cádmio"]
[null,122,"7440-43-9-B","Cadmium (Water)",null,null,"Cádmio"]
[null,123,"592-01-8","Calcium Cyanide",null,null,"Cianeto de cálcio"]
[null,124,"105-60-2","Caprolactam",null,null,"Caprolactama"]
[null,125,"2425-06-1","Captafol",null,null,"Captafol"]
[null,126,"133-06-2","Captan",null,null,"Captana"]
[null,127,"63-25-2","Carbaryl",null,null,"Carbaril"]
[null,128,"1563-66-2","Carbofuran",null,null,"Carbofurano"]
[null,129,"75-15-0","Carbon Disulfide",null,null,"Dissulfeto de Carbono"]
[null,130,"56-23-5","Carbon Tetrachloride",null,null,"Tetracloreto de carbono"]
[null,131,"463-58-1","Carbonyl Sulfide",null,null,"Sulfeto de carbonila"]
[null,132,"55285-14-8","Carbosulfan",null,null,"Carbosulfan"]
[null,133,"5234-68-4","Carboxin",null,null,"Carboxina"]
[null,134,"1306-38-3","Ceric oxide",null,null,""]
[null,135,"302-17-0","Chloral Hydrate",null,null,"Hidrato de cloral"]
[null,136,"133-90-4","Chloramben",null,null,"Clorambem"]
[null,137,"E701235","Chloramines, Organic",null,null,""]
[null,138,"118-75-2","Chloranil",null,null,"p-Cloranil"]
[null,139,"5103-71-9","Chlordane (alpha)",null,null,""]
[null,140,"5103-74-2","Chlordane (gamma)",null,null,""]
[null,141,"12789-03-6","Chlordane (technical mixture)",null,null,"Clordano"]
[null,142,"143-50-0","Chlordecone (Kepone)",null,null,"Clordecone (Kepone)"]
[null,143,"470-90-6","Chlorfenvinphos",null,null,""]
[null,144,"90982-32-4","Chlorimuron, Ethyl-",null,null,"Clorimuron etilíco"]
[null,145,"7782-50-5","Chlorine",null,null,"Cloro"]
[null,146,"10049-04-4","Chlorine Dioxide",null,null,"Dióxido de cloro"]
[null,147,"7758-19-2","Chlorite (Sodium Salt)",null,null,"Clorito de sódio"]
[null,148,"75-68-3","Chloro-1,1-difluoroethane, 1-",null,null,"1-Cloro-1,1-difluoretano"]
[null,149,"126-99-8","Chloro-1,3-butadiene, 2-",null,null,"Cloropreno"]
[null,150,"3165-93-3","Chloro-2-methylaniline HCl, 4-",null,null,"Cloreto de 4-cloro-o-toluidina"]
[null,151,"95-69-2","Chloro-2-methylaniline, 4-",null,null,"4-Cloro-o-toluidina "]
[null,152,"107-20-0","Chloroacetaldehyde, 2-",null,null,""]
[null,153,"79-11-8","Chloroacetic Acid",null,null,"Ácido cloroacético"]
[null,154,"532-27-4","Chloroacetophenone, 2-",null,null,"2-Cloroacetofenona"]
[null,155,"106-47-8","Chloroaniline, p-",null,null,"p-Cloroanilina"]
[null,156,"108-90-7","Chlorobenzene",null,null,"Clorobenzeno"]
[null,157,"98-66-8","Chlorobenzene sulfonic acid, p-",null,null,""]
[null,158,"510-15-6","Chlorobenzilate",null,null,"Clorobenzilato"]
[null,159,"74-11-3","Chlorobenzoic Acid, p-",null,null,""]
[null,160,"98-56-6","Chlorobenzotrifluoride, 4-",null,null,"4-clorobenzotrifluoreto"]
[null,161,"109-69-3","Chlorobutane, 1-",null,null,"1-Clorobutano"]
[null,162,"75-45-6","Chlorodifluoromethane",null,null,"Clorodifluormetano"]
[null,163,"107-07-3","Chloroethanol, 2-",null,null,"2-cloroetanol"]
[null,164,"67-66-3","Chloroform",null,null,"Clorofórmio"]
[null,165,"74-87-3","Chloromethane",null,null,"Cloreto de metila"]
[null,166,"107-30-2","Chloromethyl Methyl Ether",null,null,""]
[null,167,"91-58-7","Chloronaphthalene, Beta-",null,null,"2-Cloronaftaleno"]
[null,168,"88-73-3","Chloronitrobenzene, o-",null,null,"o-cloronitrobenzeno"]
[null,169,"100-00-5","Chloronitrobenzene, p-",null,null,"4-nitroclorobenzeno"]
[null,170,"95-57-8","Chlorophenol, 2-",null,null,"2-Clorofenol"]
[null,171,"76-06-2","Chloropicrin",null,null,""]
[null,172,"1897-45-6","Chlorothalonil",null,null,"Clorotalonil"]
[null,173,"95-49-8","Chlorotoluene, o-",null,null,"o-Clorotolueno"]
[null,174,"106-43-4","Chlorotoluene, p-",null,null,"p-Clorotolueno"]
[null,175,"54749-90-5","Chlorozotocin",null,null,""]
[null,176,"101-21-3","Chlorpropham",null,null,"Clorprofam"]
[null,177,"2921-88-2","Chlorpyrifos",null,null,"Clorpirifós"]
[null,178,"5598-13-0","Chlorpyrifos Methyl",null,null,"Clorpirifós-metil "]
[null,179,"64902-72-3","Chlorsulfuron",null,null,"Clorsulforon"]
[null,180,"1861-32-1","Chlorthal-dimethyl",null,null,"Clortal-dimetílico"]
[null,181,"60238-56-4","Chlorthiophos",null,null,"Clortiofós"]
[null,182,"16065-83-1","Chromium(III), Insoluble Salts",null,null,"Crômio III"]
[null,183,"18540-29-9","Chromium(VI)",null,null,"Cromo VI"]
[null,184,"7440-47-3","Chromium, Total",null,null,"Cromo total"]
[null,185,"218-01-9","Chrysene",null,null,"Criseno"]
[null,186,"74115-24-5","Clofentezine",null,null,"Clofentezina"]
[null,187,"7440-48-4","Cobalt",null,null,"Cobalto"]
[null,188,"E649830","Coke Oven Emissions",null,null,""]
[null,189,"7440-50-8","Copper",null,null,"Cobre "]
[null,190,"544-92-3","Copper Cyanide",null,null,"Cianeto de cobre (I)"]
[null,191,"108-39-4","Cresol, m-",null,null,"m-Cresol"]
[null,192,"95-48-7","Cresol, o-",null,null,"o-Cresol"]
[null,193,"106-44-5","Cresol, p-",null,null,"p-Cresol"]
[null,194,"59-50-7","Cresol, p-chloro-m-",null,null,""]
[null,195,"1319-77-3","Cresols",null,null,"Cresois"]
[null,196,"123-73-9","Crotonaldehyde, trans-",null,null,"Crotonaldeído"]
[null,197,"98-82-8","Cumene",null,null,"Cumeno"]
[null,198,"135-20-6","Cupferron",null,null,""]
[null,199,"21725-46-2","Cyanazine",null,null,"Cianazina"]
[null,200,"57-12-5","Cyanide (CN-)",null,null,"Cianeto "]
[null,201,"460-19-5","Cyanogen",null,null,"Cianogênio"]
[null,202,"506-68-3","Cyanogen Bromide",null,null,"Brometo de cianogênio"]
[null,203,"506-77-4","Cyanogen Chloride",null,null,"Cloreto de cianogênio"]
[null,204,"110-82-7","Cyclohexane",null,null,"Ciclohexano"]
[null,205,"87-84-3","Cyclohexane, 1,2,3,4,5-pentabromo-6-chloro-",null,null,"1,2,3,4,5-Pentabromo-6-clorociclohexano"]
[null,206,"108-94-1","Cyclohexanone",null,null,"Ciclohexanona"]
[null,207,"110-83-8","Cyclohexene",null,null,"Ciclohexeno"]
[null,208,"108-91-8","Cyclohexylamine",null,null,"Cicloexilamina"]
[null,209,"68359-37-5","Cyfluthrin",null,null,"Ciflutrina"]
[null,210,"66215-27-8","Cyromazine",null,null,"Ciromazina"]
[null,211,"75-99-0","Dalapon",null,null,"Dalapon"]
[null,212,"1596-84-5","Daminozide",null,null,"Daminozida"]
[null,213,"72-54-8","DDD, p,p`- (DDD)",null,null,"DDD"]
[null,214,"72-55-9","DDE, p,p'-",null,null,"DDE"]
[null,215,"50-29-3","DDT",null,null,"DDT"]
[null,216,"1163-19-5","Decabromodiphenyl ether, 2,2',3,3',4,4',5,5',6,6'- (BDE-209)",null,null,"2,2',3,3',4,4',5,5',6,6'-Decabromodifenil éter (BD"]
[null,217,"8065-48-3","Demeton",null,null,"Demeton"]
[null,218,"103-23-1","Di(2-ethylhexyl)adipate",null,null,"Di(2-etilhexil)adipato"]
[null,219,"2303-16-4","Diallate",null,null,"Dialato"]
[null,220,"333-41-5","Diazinon",null,null,"Diazinona"]
[null,221,"53-70-3","Dibenz[a,h]anthracene",null,null,"Dibenzo (a,h)antraceno"]
[null,222,"192-65-4","Dibenzo(a,e)pyrene",null,null,"Dibenzo(a,e)pireno"]
[null,223,"132-64-9","Dibenzofuran",null,null,"Dibenzofurano"]
[null,224,"96-12-8","Dibromo-3-chloropropane, 1,2-",null,null,"1,2-Dibromo-3-cloropropano"]
[null,225,"631-64-1","Dibromoacetic acid",null,null,""]
[null,226,"108-36-1","Dibromobenzene, 1,3-",null,null,"1,3-dibromobenzeno"]
[null,227,"106-37-6","Dibromobenzene, 1,4-",null,null,"1,4-Dibromobenzeno"]
[null,228,"124-48-1","Dibromochloromethane",null,null,"Dibromoclorometano"]
[null,229,"106-93-4","Dibromoethane, 1,2-",null,null,"1,2-Dibromoetano"]
[null,230,"74-95-3","Dibromomethane (Methylene Bromide)",null,null,"Dibromometano"]
[null,231,"84-74-2","Dibutyl Phthalate",null,null,"Dibutilftalato"]
[null,232,"E1790661","Dibutyltin Compounds",null,null,""]
[null,233,"1918-00-9","Dicamba",null,null,"Dicamba "]
[null,234,"3400-09-7","Dichloramine",null,null,""]
[null,235,"764-41-0","Dichloro-2-butene, 1,4-",null,null,"1,4-Dicloro-2-buteno"]
[null,236,"1476-11-5","Dichloro-2-butene, cis-1,4-",null,null,""]
[null,237,"110-57-6","Dichloro-2-butene, trans-1,4-",null,null,"Trans-1,4-dicloro-2-butano"]
[null,238,"79-43-6","Dichloroacetic Acid",null,null,"Ácido dicloroacético"]
[null,239,"95-50-1","Dichlorobenzene, 1,2-",null,null,"o-Diclorobenzeno"]
[null,240,"106-46-7","Dichlorobenzene, 1,4-",null,null,"p-Diclorobenzeno"]
[null,241,"91-94-1","Dichlorobenzidine, 3,3'-",null,null,"3,3'-Diclorobenzidina"]
[null,242,"90-98-2","Dichlorobenzophenone, 4,4'-",null,null,""]
[null,243,"75-71-8","Dichlorodifluoromethane",null,null,"Diclorodifluorometano"]
[null,244,"75-34-3","Dichloroethane, 1,1-",null,null,"1,1-Dicloroetano"]
[null,245,"107-06-2","Dichloroethane, 1,2-",null,null,"1,2-Dicloroetano"]
[null,246,"75-35-4","Dichloroethylene, 1,1-",null,null,"1,1-Dicloroeteno"]
[null,247,"156-59-2","Dichloroethylene, cis-1,2-",null,null,"1,2-Dicloroeteno-cis"]
[null,248,"156-60-5","Dichloroethylene, trans-1,2-",null,null,"1,2-Dicloroeteno-trans"]
[null,249,"120-83-2","Dichlorophenol, 2,4-",null,null,"2,4-Diclorofenol"]
[null,250,"94-75-7","Dichlorophenoxy Acetic Acid, 2,4-",null,null,"Ácido 2,4-diclorofenoxiacético (2,4-D)"]
[null,251,"78-87-5","Dichloropropane, 1,2-",null,null,"1,2-Dicloropropano"]
[null,252,"142-28-9","Dichloropropane, 1,3-",null,null,"1,3-Dicloropropano"]
[null,253,"616-23-9","Dichloropropanol, 2,3-",null,null,"2,3-Dicloropropanol"]
[null,254,"542-75-6","Dichloropropene, 1,3-",null,null,"1,3-Dicloropropeno"]
[null,255,"62-73-7","Dichlorvos",null,null,"Diclorvós"]
[null,256,"141-66-2","Dicrotophos",null,null,"Dicrotofós"]
[null,257,"77-73-6","Dicyclopentadiene",null,null,"Diciclopentadieno"]
[null,258,"60-57-1","Dieldrin",null,null,"Dieldrin"]
[null,259,"E17136615","Diesel Engine Exhaust",null,null,""]
[null,260,"111-42-2","Diethanolamine",null,null,"Dietanolamina"]
[null,261,"84-66-2","Diethyl Phthalate",null,null,"Dietilftalato "]
[null,262,"112-34-5","Diethylene Glycol Monobutyl Ether",null,null,"Éter monobutílico de dietilenoglicol"]
[null,263,"111-90-0","Diethylene Glycol Monoethyl Ether",null,null,""]
[null,264,"617-84-5","Diethylformamide",null,null,"n,n-Dietilformamida"]
[null,265,"56-53-1","Diethylstilbestrol",null,null,"Dietilstilbestrol"]
[null,266,"43222-48-6","Difenzoquat",null,null,"Difenzoquat"]
[null,267,"35367-38-5","Diflubenzuron",null,null,"Diflubenzurom"]
[null,268,"75-37-6","Difluoroethane, 1,1-",null,null,"1,1-Difluoroetano"]
[null,269,"420-45-1","Difluoropropane, 2,2-",null,null,""]
[null,270,"94-58-6","Dihydrosafrole",null,null,""]
[null,271,"108-20-3","Diisopropyl Ether",null,null,"Éter diisopropílico"]
[null,272,"1445-75-6","Diisopropyl Methylphosphonate",null,null,"Metilfosfonato de diisopropila (DIMP)"]
[null,273,"55290-64-7","Dimethipin",null,null,"Dimetipina"]
[null,274,"60-51-5","Dimethoate",null,null,"Dimetoato"]
[null,275,"119-90-4","Dimethoxybenzidine, 3,3'-",null,null,"3,3'-Dimetoxibenzidina"]
[null,276,"756-79-6","Dimethyl methylphosphonate",null,null,"Metilfosfanato de dimetila"]
[null,277,"60-11-7","Dimethylamino azobenzene [p-]",null,null,""]
[null,278,"21436-96-4","Dimethylaniline HCl, 2,4-",null,null,"Cloreto de 2,4-dimetilanilina"]
[null,279,"95-68-1","Dimethylaniline, 2,4-",null,null,"2,4-Dimetilanilina"]
[null,280,"121-69-7","Dimethylaniline, N,N-",null,null,"n,n-Dimetilanilina"]
[null,281,"57-97-6","Dimethylbenz(a)anthracene, 7,12-",null,null,""]
[null,282,"119-93-7","Dimethylbenzidine, 3,3'-",null,null,"3,3'-Dimetilbenzidina"]
[null,283,"68-12-2","Dimethylformamide",null,null,"n,n-Dimetilformamida"]
[null,284,"57-14-7","Dimethylhydrazine, 1,1-",null,null,"1,1-dimetilhidrazina"]
[null,285,"540-73-8","Dimethylhydrazine, 1,2-",null,null,"1,2-dimetilhidrazina"]
[null,286,"105-67-9","Dimethylphenol, 2,4-",null,null,"2,4-Dimetilfenol"]
[null,287,"576-26-1","Dimethylphenol, 2,6-",null,null,"2,6-Dimetilfenol"]
[null,288,"95-65-8","Dimethylphenol, 3,4-",null,null,"3,4-Dimetilfenol"]
[null,289,"120-61-6","Dimethylterephthalate",null,null,"Dimetiltereftalato (DMT)"]
[null,290,"513-37-1","Dimethylvinylchloride",null,null,""]
[null,291,"534-52-1","Dinitro-o-cresol, 4,6-",null,null,""]
[null,292,"131-89-5","Dinitro-o-cyclohexyl Phenol, 4,6-",null,null,"2-Ciclohexil-4,6-dinitrofenol"]
[null,293,"618-87-1","Dinitroaniline, 3,5-",null,null,""]
[null,294,"528-29-0","Dinitrobenzene, 1,2-",null,null,"o-Dinitrobenzeno"]
[null,295,"99-65-0","Dinitrobenzene, 1,3-",null,null,"m-Dinitrobenzeno"]
[null,296,"100-25-4","Dinitrobenzene, 1,4-",null,null,"p-Dinitrobenzeno"]
[null,297,"51-28-5","Dinitrophenol, 2,4-",null,null,"2,4-Dinitrofenol"]
[null,298,"E1615210","Dinitrotoluene Mixture, 2,4/2,6-",null,null,""]
[null,299,"121-14-2","Dinitrotoluene, 2,4-",null,null,"2,4-Dinitrotolueno"]
[null,300,"606-20-2","Dinitrotoluene, 2,6-",null,null,"2,6-Dinitrotolueno"]
[null,301,"35572-78-2","Dinitrotoluene, 2-Amino-4,6-",null,null,"2-Amino-4,6-dinitrotolueno"]
[null,302,"19406-51-0","Dinitrotoluene, 4-Amino-2,6-",null,null,"4-Amino-2,6-dinitrotolueno"]
[null,303,"25321-14-6","Dinitrotoluene, Technical grade",null,null,"Dinitrotolueno (mistura de isômeros)"]
[null,304,"88-85-7","Dinoseb",null,null,"Dinoseb"]
[null,305,"123-91-1","Dioxane, 1,4-",null,null,"1,4-Dioxano"]
[null,306,"957-51-7","Diphenamid",null,null,"Difenamida"]
[null,307,"101-84-8","Diphenyl Ether",null,null,"Éter difenílico"]
[null,308,"127-63-9","Diphenyl Sulfone",null,null,""]
[null,309,"122-39-4","Diphenylamine",null,null,"Difenilamina"]
[null,310,"122-66-7","Diphenylhydrazine, 1,2-",null,null,"1,2-Difenilhidrazina"]
[null,311,"2764-72-9","Diquat",null,null,""]
[null,312,"1937-37-7","Direct Black 38",null,null,"Direct black 38"]
[null,313,"2602-46-2","Direct Blue 6",null,null,"Direct blue 6"]
[null,314,"16071-86-6","Direct Brown 95",null,null,"Direct brown 95"]
[null,315,"298-04-4","Disulfoton",null,null,"Dissulfoton"]
[null,316,"505-29-3","Dithiane, 1,4-",null,null,"1,4-Ditiano"]
[null,317,"330-54-1","Diuron",null,null,"Diurom"]
[null,318,"2439-10-3","Dodine",null,null,"Dodina"]
[null,319,"115-29-7","Endosulfan",null,null,"Endosulfan"]
[null,320,"1031-07-8","Endosulfan Sulfate",null,null,""]
[null,321,"145-73-3","Endothall",null,null,"Endothall"]
[null,322,"72-20-8","Endrin",null,null,"Endrin"]
[null,323,"106-89-8","Epichlorohydrin",null,null,"Epicloridrina "]
[null,324,"106-88-7","Epoxybutane, 1,2-",null,null,"1,2-Epoxibutano (EBU)"]
[null,325,"759-94-4","EPTC",null,null,"EPTC"]
[null,326,"111-77-3","Ethanol, 2-(2-methoxyethoxy)-",null,null,""]
[null,327,"16672-87-0","Ethephon",null,null,"Etefom"]
[null,328,"563-12-2","Ethion",null,null,"Etion"]
[null,329,"111-15-9","Ethoxyethanol Acetate, 2-",null,null,"2-etóxi etil acetato"]
[null,330,"110-80-5","Ethoxyethanol, 2-",null,null,"2-etóxi etanol"]
[null,331,"141-78-6","Ethyl Acetate",null,null,"Etil Acetato ou Acetato de Etila"]
[null,332,"140-88-5","Ethyl Acrylate",null,null,"Etil acrilato ou Acrilato de Etila"]
[null,333,"75-00-3","Ethyl Chloride (Chloroethane)",null,null,"Etil Cloreto ou Cloreto de Etila"]
[null,334,"60-29-7","Ethyl Ether",null,null,"Etil éter ou Etóxi Etano"]
[null,335,"97-63-2","Ethyl Methacrylate",null,null,"Etil metacrilato ou Metacrilato de Etila"]
[null,336,"637-92-3","Ethyl Tertiary Butyl Ether (ETBE)",null,null,""]
[null,337,"2104-64-5","Ethyl-p-nitrophenyl Phosphonate",null,null," EPN (*)"]
[null,338,"100-41-4","Ethylbenzene",null,null,"Etilbenzeno"]
[null,339,"109-78-4","Ethylene Cyanohydrin",null,null,"Etilenocianidrina"]
[null,340,"107-15-3","Ethylene Diamine",null,null,"Etileno diamina"]
[null,341,"107-21-1","Ethylene Glycol",null,null,"Etilenoglicol "]
[null,342,"111-76-2","Ethylene Glycol Monobutyl Ether",null,null,"Etileno glicol monobutil éter (EGBE) ou 2-butóxi e"]
[null,343,"75-21-8","Ethylene Oxide",null,null,"Óxido de etileno"]
[null,344,"96-45-7","Ethylene Thiourea",null,null,"Etileno tiouréia (ETU)"]
[null,345,"151-56-4","Ethyleneimine",null,null,""]
[null,346,"84-72-0","Ethylphthalyl Ethyl Glycolate",null,null,"Etil ftalil etil glicolato (EPEG)"]
[null,347,"22224-92-6","Fenamiphos",null,null,"Fenamifós"]
[null,348,"39515-41-8","Fenpropathrin",null,null,"Fenpropatrina"]
[null,349,"51630-58-1","Fenvalerate",null,null,"Fenvalerato"]
[null,350,"2164-17-2","Fluometuron",null,null,"Fluometuron"]
[null,351,"206-44-0","Fluoranthene",null,null,"Fluoranteno"]
[null,352,"86-73-7","Fluorene",null,null,"Fluoreno"]
[null,353,"16984-48-8","Fluoride",null,null,"Fluoreto"]
[null,354,"7782-41-4","Fluorine (Soluble Fluoride)",null,null,"Fluoreto"]
[null,355,"59756-60-4","Fluridone",null,null,"Fluridona"]
[null,356,"56425-91-3","Flurprimidol",null,null,"Flurprimidol"]
[null,357,"85509-19-9","Flusilazole",null,null,"Flusilazol"]
[null,358,"66332-96-5","Flutolanil",null,null,"Flutolanil"]
[null,359,"69409-94-5","Fluvalinate",null,null,"Fluvalinato"]
[null,360,"133-07-3","Folpet",null,null,"Folpete"]
[null,361,"72178-02-0","Fomesafen",null,null,"Fomesafem"]
[null,362,"944-22-9","Fonofos",null,null,"Fonofós"]
[null,363,"50-00-0","Formaldehyde",null,null,"Formaldeído"]
[null,364,"64-18-6","Formic Acid",null,null,"Ácido fórmico"]
[null,365,"39148-24-8","Fosetyl-AL",null,null,"Fosetil-alumínio"]
[null,366,"110-00-9","Furan",null,null,"Furano"]
[null,367,"67-45-8","Furazolidone",null,null,"Furazolidona"]
[null,368,"98-01-1","Furfural",null,null,"Furfural ou Furaldeído (*)"]
[null,369,"531-82-8","Furium",null,null,"Furium (*)"]
[null,370,"60568-05-0","Furmecyclox",null,null,"Furmeciclox"]
[null,371,"77182-82-2","Glufosinate, Ammonium",null,null,"Glufosinato de amônio"]
[null,372,"111-30-8","Glutaraldehyde",null,null,""]
[null,373,"765-34-4","Glycidaldehyde",null,null,"Glicidaldeído (1)"]
[null,374,"1071-83-6","Glyphosate",null,null,"Glifosato "]
[null,375,"113-00-8","Guanidine",null,null,""]
[null,376,"50-01-1","Guanidine Chloride",null,null,""]
[null,377,"506-93-4","Guanidine Nitrate",null,null,""]
[null,378,"69806-40-2","Haloxyfop, Methyl",null,null,"Haloxifop-metil"]
[null,379,"76-44-8","Heptachlor",null,null,"Heptacloro "]
[null,380,"1024-57-3","Heptachlor Epoxide",null,null,"Heptacloro epóxido"]
[null,381,"39635-31-9","Heptachlorobiphenyl, 2,3,3',4,4',5,5'- (PCB 189)",null,null,"2,3,3',4,4',5,5'-Heptaclorobifenila (PCB 189)"]
[null,382,"111-71-7","Heptanal, n-",null,null,"n-heptanal"]
[null,383,"142-82-5","Heptane, N-",null,null,"n-heptano"]
[null,384,"87-82-1","Hexabromobenzene",null,null,"Hexabromo benzeno"]
[null,385,"68631-49-2","Hexabromodiphenyl ether, 2,2',4,4',5,5'- (BDE-153)",null,null,""]
[null,386,"118-74-1","Hexachlorobenzene",null,null,"Hexacloro benzeno"]
[null,387,"52663-72-6","Hexachlorobiphenyl, 2,3',4,4',5,5'- (PCB 167)",null,null,"2,3',4,4',5,5'-Hexaclorobifenila (PCB 167)"]
[null,388,"69782-90-7","Hexachlorobiphenyl, 2,3,3',4,4',5'- (PCB 157)",null,null,"2,3,3',4,4',5'-Hexaclorobifenila (PCB 157)"]
[null,389,"38380-08-4","Hexachlorobiphenyl, 2,3,3',4,4',5- (PCB 156)",null,null,"2,3,3',4,4',5-Hexaclorobifenila (PCB 156)"]
[null,390,"32774-16-6","Hexachlorobiphenyl, 3,3',4,4',5,5'- (PCB 169)",null,null,"3,3',4,4',5,5'-Hexaclorobifenila (PCB 169)"]
[null,391,"87-68-3","Hexachlorobutadiene",null,null,"Hexaclorobutadieno"]
[null,392,"319-84-6","Hexachlorocyclohexane, Alpha-",null,null,"alfa-BHC"]
[null,393,"319-85-7","Hexachlorocyclohexane, Beta-",null,null,"beta-BHC"]
[null,394,"58-89-9","Hexachlorocyclohexane, Gamma- (Lindane)",null,null,"gama-BHC"]
[null,395,"608-73-1","Hexachlorocyclohexane, Technical",null,null," Hexaclorociclohexano (BHC)"]
[null,396,"77-47-4","Hexachlorocyclopentadiene",null,null,"Hexaclorociclopentadieno"]
[null,397,"34465-46-8","Hexachlorodibenzo-p-dioxin, Mixture",null,null,""]
[null,398,"67-72-1","Hexachloroethane",null,null,"Hexacloroetano"]
[null,399,"70-30-4","Hexachlorophene",null,null,"Hexaclorofeno"]
[null,400,"13252-13-6","Hexafluoropropylene oxide dimer acid (HFPO-DA)",null,null,""]
[null,401,"121-82-4","Hexahydro-1,3,5-trinitro-1,3,5-triazine (RDX)",null,null,"Ciclonita ou RDX (*)"]
[null,402,"4035-89-6","Hexamethylene diisocyanate biuret",null,null,""]
[null,403,"3779-63-3","Hexamethylene diisocyanate isocyanurate",null,null,""]
[null,404,"822-06-0","Hexamethylene Diisocyanate, 1,6-",null,null,"1,6-diisocianato hexano"]
[null,405,"680-31-9","Hexamethylphosphoramide",null,null,""]
[null,406,"E5241997","Hexane, Commercial",null,null,""]
[null,407,"110-54-3","Hexane, N-",null,null,"Hexano"]
[null,408,"124-04-9","Hexanedioic Acid",null,null,"Ácido hexaniodióico"]
[null,409,"104-76-7","Hexanol, 1-,2-ethyl- (2-Ethyl-1-hexanol)",null,null,""]
[null,410,"591-78-6","Hexanone, 2-",null,null,"2-hexanona"]
[null,411,"51235-04-2","Hexazinone",null,null,"Hexazinona"]
[null,412,"78587-05-0","Hexythiazox",null,null,"Hexitiazoxi"]
[null,413,"67485-29-4","Hydramethylnon",null,null,"Hidrametilnona"]
[null,414,"302-01-2","Hydrazine",null,null,"Hidrazina"]
[null,415,"10034-93-2","Hydrazine Sulfate",null,null,"Sulfato de hidrazina"]
[null,416,"7647-01-0","Hydrogen Chloride",null,null,"Ácido clorídrico (Cloreto de hidrogênio)"]
[null,417,"74-90-8","Hydrogen Cyanide",null,null,"Ácido cianidríco"]
[null,418,"7664-39-3","Hydrogen Fluoride",null,null,"Fluoreto de hidrogênio"]
[null,419,"7783-06-4","Hydrogen Sulfide",null,null,"Ácido sulfídrico"]
[null,420,"123-31-9","Hydroquinone",null,null,"Hidroquinona"]
[null,421,"35554-44-0","Imazalil",null,null,"Imazalil"]
[null,422,"81335-37-7","Imazaquin",null,null,"Imazaquim"]
[null,423,"81335-77-5","Imazethapyr",null,null,"Imazetapir"]
[null,424,"193-39-5","Indeno[1,2,3-cd]pyrene",null,null,"Indeno(1,2,3-cd)pireno"]
[null,425,"7553-56-2","Iodine",null,null,""]
[null,426,"36734-19-7","Iprodione",null,null,"Iprodiona"]
[null,427,"7439-89-6","Iron",null,null,"Ferro"]
[null,428,"78-83-1","Isobutyl Alcohol",null,null,"Isobutanol ou Álcool isobutílico"]
[null,429,"78-59-1","Isophorone",null,null,"Isoforona"]
[null,430,"33820-53-0","Isopropalin",null,null,"Isopropalin"]
[null,431,"67-63-0","Isopropanol",null,null,"Isopropanol"]
[null,432,"1832-54-8","Isopropyl Methyl Phosphonic Acid",null,null,"Ácido isopropil metilfosfônico"]
[null,433,"82558-50-7","Isoxaben",null,null,"Isoxaben"]
[null,434,"E1737665","JP-7",null,null,"JP-7"]
[null,435,"77501-63-4","Lactofen",null,null,"Lactofen"]
[null,436,"78-97-7","Lactonitrile",null,null,""]
[null,437,"7439-91-0","Lanthanum",null,null,"Lantânio"]
[null,438,"100587-90-4","Lanthanum Acetate Hydrate",null,null,""]
[null,439,"10025-84-0","Lanthanum Chloride Heptahydrate",null,null,"Cloreto de lantânio heptahidratado"]
[null,440,"10099-58-8","Lanthanum Chloride, Anhydrous",null,null,""]
[null,441,"10277-43-7","Lanthanum Nitrate Hexahydrate",null,null,"Nitrato de lantânio hexahidratado"]
[null,442,"301-04-2","Lead acetate",null,null,"Acetato de chumbo"]
[null,443,"7439-92-1","Lead and Compounds",null,null,"Chumbo e seus compostos"]
[null,444,"7446-27-7","Lead Phosphate",null,null,"Fosfato de chumbo"]
[null,445,"1335-32-6","Lead subacetate",null,null,""]
[null,446,"541-25-3","Lewisite",null,null,""]
[null,447,"330-55-2","Linuron",null,null,"Linuron"]
[null,448,"7439-93-2","Lithium",null,null,"Lítio"]
[null,449,"7791-03-9","Lithium Perchlorate",null,null,"Perclorato de lítio"]
[null,450,"121-75-5","Malathion",null,null,"Malation"]
[null,451,"108-31-6","Maleic Anhydride",null,null,"Anidrido maléico"]
[null,452,"123-33-1","Maleic Hydrazide",null,null,"Hidrazida maléica"]
[null,453,"109-77-3","Malononitrile",null,null,"Malononitrila"]
[null,454,"8018-01-7","Mancozeb",null,null,"Mancozeb"]
[null,455,"12427-38-2","Maneb",null,null,"Maneb"]
[null,456,"7439-96-5-A","Manganese (Diet)",null,null,"Manganês "]
[null,457,"7439-96-5-B","Manganese (Non-diet)",null,null,"Manganês "]
[null,458,"94-74-6","MCPA",null,null,"MCPA "]
[null,459,"94-81-5","MCPB",null,null,"MCPB"]
[null,460,"93-65-2","MCPP",null,null,"MCPP"]
[null,461,"950-10-7","Mephosfolan",null,null,"Mefosfolan"]
[null,462,"24307-26-4","Mepiquat Chloride",null,null,"Cloreto de Mepiquat"]
[null,463,"149-30-4","Mercaptobenzothiazole, 2-",null,null,"2-mercaptobenzotiazólio"]
[null,464,"7487-94-7","Mercuric Chloride (and other Mercury salts)",null,null,"Cloreto mercúrico (e outos sais de mercúrio)"]
[null,465,"7439-97-6","Mercury (elemental)",null,null,"Mercúrio"]
[null,466,"150-50-5","Merphos",null,null,"Merfós"]
[null,467,"57837-19-1","Metalaxyl",null,null,"Metalaxil"]
[null,468,"126-98-7","Methacrylonitrile",null,null,"Metacrilonitrila"]
[null,469,"10265-92-6","Methamidophos",null,null,"Metamidofós"]
[null,470,"67-56-1","Methanol",null,null,"Álcool Metílico ou Metanol"]
[null,471,"950-37-8","Methidathion",null,null,"Metidationa"]
[null,472,"16752-77-5","Methomyl",null,null,"Metomil"]
[null,473,"99-59-2","Methoxy-5-nitroaniline, 2-",null,null,"2-metóxi-5-nitroanilina"]
[null,474,"72-43-5","Methoxychlor",null,null,"metoxicloro"]
[null,475,"110-49-6","Methoxyethanol Acetate, 2-",null,null,"2-metóxi etil acetato"]
[null,476,"109-86-4","Methoxyethanol, 2-",null,null,"2-metóxietanol"]
[null,477,"79-20-9","Methyl Acetate",null,null,"Acetato de metila"]
[null,478,"96-33-3","Methyl Acrylate",null,null,"Metil Acrilato ou Acrilato de metila"]
[null,479,"78-93-3","Methyl Ethyl Ketone (2-Butanone)",null,null,"Metil etil cetona (MEK)"]
[null,480,"60-34-4","Methyl Hydrazine",null,null,"Metil hidrazina"]
[null,481,"108-10-1","Methyl Isobutyl Ketone (4-methyl-2-pentanone)",null,null,"Metil isobutil cetona (MIBK)"]
[null,482,"624-83-9","Methyl Isocyanate",null,null,""]
[null,483,"22967-92-6","Methyl Mercury",null,null,"Metilmercúrio"]
[null,484,"80-62-6","Methyl Methacrylate",null,null,"Metacrilato de metila"]
[null,485,"66-27-3","Methyl methanesulfonate",null,null,""]
[null,486,"298-00-0","Methyl Parathion",null,null,"Metil paration"]
[null,487,"993-13-5","Methyl Phosphonic Acid",null,null,""]
[null,488,"25013-15-4","Methyl Styrene (Mixed Isomers)",null,null,"Metil estireno (isômeros) ou Vinil Tolueno (isômer"]
[null,489,"1634-04-4","Methyl tert-Butyl Ether (MTBE)",null,null,"Metil terc-butil éter (MTBE)"]
[null,490,"615-45-2","Methyl-1,4-benzenediamine dihydrochloride, 2-",null,null,""]
[null,491,"108-11-2","Methyl-2-Pentanol, 4-",null,null,"4-metil-2-pentanol"]
[null,492,"99-55-8","Methyl-5-Nitroaniline, 2-",null,null,"2-metil-5-nitroanilina"]
[null,493,"70-25-7","Methyl-N-nitro-N-nitrosoguanidine, N-",null,null,""]
[null,494,"636-21-5","Methylaniline Hydrochloride, 2-",null,null,"Cloreto de o-toluidina"]
[null,495,"124-58-3","Methylarsonic acid",null,null,"Ácido metilarsônico"]
[null,496,"74612-12-7","Methylbenzene,1-4-diamine monohydrochloride, 2-",null,null,""]
[null,497,"615-50-9","Methylbenzene-1,4-diamine sulfate, 2-",null,null,""]
[null,498,"56-49-5","Methylcholanthrene, 3-",null,null,""]
[null,499,"75-09-2","Methylene Chloride",null,null,"Cloreto de metileno ou Diclorometano"]
[null,500,"101-14-4","Methylene-bis(2-chloroaniline), 4,4'-",null,null,"4,4'-metileno bis(2-cloroanilina)"]
[null,501,"101-61-1","Methylene-bis(N,N-dimethyl) Aniline, 4,4'-",null,null,"4,4'-metileno bis(N,N'-dimetil)anilina"]
[null,502,"101-77-9","Methylenebisbenzenamine, 4,4'-",null,null,"4,4'-metileno dianilina"]
[null,503,"101-68-8","Methylenediphenyl Diisocyanate",null,null,"Metileno difenil diisocianato"]
[null,504,"90-12-0","Methylnaphthalene, 1-",null,null,"1-Metilnaftaleno"]
[null,505,"91-57-6","Methylnaphthalene, 2-",null,null,"2-Metilnaftaleno"]
[null,506,"98-83-9","Methylstyrene, Alpha-",null,null,"alfa-metil estireno"]
[null,507,"51218-45-2","Metolachlor",null,null,"Metolacloro"]
[null,508,"21087-64-9","Metribuzin",null,null,"Metribuzina"]
[null,509,"74223-64-6","Metsulfuron-methyl",null,null,"Metsulfurom metílico"]
[null,510,"E1790669","Midrange Aliphatic Hydrocarbon Streams",null,null,""]
[null,511,"8012-95-1","Mineral oils",null,null,"Óleos minerais"]
[null,512,"2385-85-5","Mirex",null,null,"Mirex"]
[null,513,"2212-67-1","Molinate",null,null,"Molinato"]
[null,514,"7439-98-7","Molybdenum",null,null,"Molibdênio"]
[null,515,"10599-90-3","Monochloramine",null,null,"Monocloramina"]
[null,516,"100-61-8","Monomethylaniline",null,null,"N-metilanilina"]
[null,517,"88671-89-0","Myclobutanil",null,null,"Miclobutanil"]
[null,518,"74-31-7","N,N'-Diphenyl-1,4-benzenediamine",null,null,"N,N'-difenil 1,4-benzenodiamina"]
[null,519,"300-76-5","Naled",null,null,"Naled"]
[null,520,"64742-95-6","Naphtha, High Flash Aromatic (HFAN)",null,null,""]
[null,521,"91-20-3","Naphthalene",null,null,"Naftaleno"]
[null,522,"91-59-8","Naphthylamine, 2-",null,null,"2-naftilamina"]
[null,523,"15299-99-7","Napropamide",null,null,"Napropamida"]
[null,524,"373-02-4","Nickel Acetate",null,null,"Acetato de níquel"]
[null,525,"3333-67-3","Nickel Carbonate",null,null,"Carbonato de níquel"]
[null,526,"13463-39-3","Nickel Carbonyl",null,null,""]
[null,527,"12054-48-7","Nickel Hydroxide",null,null,"Hidróxido de níquel"]
[null,528,"1313-99-1","Nickel Oxide",null,null,""]
[null,529,"E715532","Nickel Refinery Dust",null,null,""]
[null,530,"7440-02-0","Nickel Soluble Salts",null,null,"Níquel"]
[null,531,"12035-72-2","Nickel Subsulfide",null,null,"Sulfeto de níquel"]
[null,532,"1271-28-9","Nickelocene",null,null,""]
[null,533,"14797-55-8","Nitrate (measured as nitrogen)",null,null,"Nitrato"]
[null,534,"E701177","Nitrate + Nitrite (measured as nitrogen)",null,null,""]
[null,535,"14797-65-0","Nitrite (measured as nitrogen)",null,null,"Nitrito"]
[null,536,"88-74-4","Nitroaniline, 2-",null,null,"2-nitroanilina"]
[null,537,"100-01-6","Nitroaniline, 4-",null,null,"4-nitroanilina"]
[null,538,"98-95-3","Nitrobenzene",null,null,"Nitrobenzeno"]
[null,539,"9004-70-0","Nitrocellulose",null,null,"Nitrocelulose"]
[null,540,"67-20-9","Nitrofurantoin",null,null,"Nitrofurantoína"]
[null,541,"59-87-0","Nitrofurazone",null,null,"Nitrofurazona"]
[null,542,"55-63-0","Nitroglycerin",null,null,"Nitroglicerina"]
[null,543,"556-88-7","Nitroguanidine",null,null,"Nitroguanidina"]
[null,544,"75-52-5","Nitromethane",null,null,"Nitrometano"]
[null,545,"79-46-9","Nitropropane, 2-",null,null,"2-nitropropano"]
[null,546,"57835-92-4","Nitropyrene, 4-",null,null,"4-nitropireno"]
[null,547,"924-16-3","Nitroso-di-N-butylamine, N-",null,null,"N-Nitroso-di-n-butilamina"]
[null,548,"621-64-7","Nitroso-di-N-propylamine, N-",null,null,"N-Nitroso-di-N-propilamina"]
[null,549,"759-73-9","Nitroso-N-ethylurea, N-",null,null,"N-nitroso-N-etiluréia"]
[null,550,"684-93-5","Nitroso-N-methylurea, N-",null,null,""]
[null,551,"1116-54-7","Nitrosodiethanolamine, N-",null,null,"N-nitroso-dietanolamina"]
[null,552,"55-18-5","Nitrosodiethylamine, N-",null,null,"N-nitroso-dietilamina"]
[null,553,"62-75-9","Nitrosodimethylamine, N-",null,null,"N-nitroso-dimetilamina"]
[null,554,"86-30-6","Nitrosodiphenylamine, N-",null,null,"N-nitrosodifenilamina"]
[null,555,"10595-95-6","Nitrosomethylethylamine, N-",null,null,"N-Nitroso-N-metiletilamina"]
[null,556,"59-89-2","Nitrosomorpholine [N-]",null,null,""]
[null,557,"100-75-4","Nitrosopiperidine [N-]",null,null,""]
[null,558,"930-55-2","Nitrosopyrrolidine, N-",null,null,"N-nitrosopirrolidina"]
[null,559,"99-08-1","Nitrotoluene, m-",null,null,"m-nitrolueno"]
[null,560,"88-72-2","Nitrotoluene, o-",null,null,"o-nitrotolueno"]
[null,561,"99-99-0","Nitrotoluene, p-",null,null,"p-nitrotolueno"]
[null,562,"111-84-2","Nonane, n-",null,null,"n-nonano"]
[null,563,"27314-13-2","Norflurazon",null,null,"Norflurazon"]
[null,564,"32536-52-0","Octabromodiphenyl Ether",null,null,"Octabromodifenil éter"]
[null,565,"2691-41-0","Octahydro-1,3,5,7-tetranitro-1,3,5,7-tetrazocine (HMX)",null,null,"Ciclotetrametilenotetranitramina (HMX)"]
[null,566,"152-16-9","Octamethylpyrophosphoramide",null,null," schradan"]
[null,567,"117-84-0","Octyl Phthalate, di-N-",null,null,""]
[null,568,"19044-88-3","Oryzalin",null,null,"Orizalina"]
[null,569,"19666-30-9","Oxadiazon",null,null,"Oxadiazona"]
[null,570,"23135-22-0","Oxamyl",null,null,"Oxamil"]
[null,571,"42874-03-3","Oxyfluorfen",null,null,"Oxifluorfen (2)"]
[null,572,"76738-62-0","Paclobutrazol",null,null,"Paclobutrazol"]
[null,573,"1910-42-5","Paraquat Dichloride",null,null,"Dicloreto de paraquate"]
[null,574,"56-38-2","Parathion",null,null,"Paration"]
[null,575,"1114-71-2","Pebulate",null,null,"Pebulate"]
[null,576,"40487-42-1","Pendimethalin",null,null,"Pendimetalina"]
[null,577,"32534-81-9","Pentabromodiphenyl Ether",null,null,"Pentabromodifenil éter"]
[null,578,"60348-60-9","Pentabromodiphenyl ether, 2,2',4,4',5- (BDE-99)",null,null,""]
[null,579,"608-93-5","Pentachlorobenzene",null,null,"Pentaclorobenzeno"]
[null,580,"65510-44-3","Pentachlorobiphenyl, 2',3,4,4',5- (PCB 123)",null,null,"2,3',4,4',5'-Pentaclorobifenila (PCB 123)"]
[null,581,"31508-00-6","Pentachlorobiphenyl, 2,3',4,4',5- (PCB 118)",null,null,"2,3',4,4',5-Pentaclorobifenila (PCB 118)"]
[null,582,"32598-14-4","Pentachlorobiphenyl, 2,3,3',4,4'- (PCB 105)",null,null,"2,3,3',4,4'-Pentaclorobifenila (PCB 105)"]
[null,583,"74472-37-0","Pentachlorobiphenyl, 2,3,4,4',5- (PCB 114)",null,null,"2,3,4,4',5-Pentaclorobifenila (PCB 114)"]
[null,584,"57465-28-8","Pentachlorobiphenyl, 3,3',4,4',5- (PCB 126)",null,null,"3,3',4,4',5-Pentaclorobifenila (PCB 126)"]
[null,585,"76-01-7","Pentachloroethane",null,null,"Pentacloroetano"]
[null,586,"82-68-8","Pentachloronitrobenzene",null,null,"Pentacloronitrobenzeno (PCNB)"]
[null,587,"87-86-5","Pentachlorophenol",null,null,"Pentaclorofenol"]
[null,588,"78-11-5","Pentaerythritol tetranitrate (PETN)",null,null,""]
[null,589,"10159-46-3","Pentamethylphosphoramide (PMPA)",null,null,""]
[null,590,"109-66-0","Pentane, n-",null,null,"n-pentano"]
[null,591,"14797-73-0","Perchlorate and Perchlorate Salts",null,null,"Perclorato"]
[null,592,"45187-15-3","Perfluorobutanesulfonate",null,null,""]
[null,593,"375-73-5","Perfluorobutanesulfonic acid (PFBS)",null,null,""]
[null,594,"108427-53-8","Perfluorohexanesulfonate",null,null,""]
[null,595,"355-46-4","Perfluorohexanesulfonic acid (PFHxS)",null,null,""]
[null,596,"72007-68-2","Perfluorononanoate",null,null,""]
[null,597,"375-95-1","Perfluorononanoic acid (PFNA)",null,null,""]
[null,598,"45298-90-6","Perfluorooctanesulfonate",null,null,""]
[null,599,"1763-23-1","Perfluorooctanesulfonic acid (PFOS)",null,null,""]
[null,600,"45285-51-6","Perfluorooctanoate",null,null,""]
[null,601,"335-67-1","Perfluorooctanoic acid (PFOA)",null,null,""]
[null,602,"52645-53-1","Permethrin",null,null,"Permetrina"]
[null,603,"62-44-2","Phenacetin",null,null,""]
[null,604,"13684-63-4","Phenmedipham",null,null,"Fenmedifam"]
[null,605,"108-95-2","Phenol",null,null,"Fenol"]
[null,606,"114-26-1","Phenol, 2-(1-methylethoxy)-, methylcarbamate",null,null,"Propoxur"]
[null,607,"92-84-2","Phenothiazine",null,null,""]
[null,608,"103-72-0","Phenyl Isothiocyanate",null,null,"Isotiocianato de fenila"]
[null,609,"108-45-2","Phenylenediamine, m-",null,null,"m-fenilenodiamina"]
[null,610,"95-54-5","Phenylenediamine, o-",null,null,"o-fenilenodiamina"]
[null,611,"106-50-3","Phenylenediamine, p-",null,null,"p-fenilenodiamina"]
[null,612,"62-38-4","Phenylmercuric Acetate",null,null,"Acetato de fenilmercúrio"]
[null,613,"90-43-7","Phenylphenol, 2-",null,null,"2-fenil-fenol"]
[null,614,"298-02-2","Phorate",null,null,"Forato"]
[null,615,"75-44-5","Phosgene",null,null,"Fosgênio"]
[null,616,"732-11-6","Phosmet",null,null,"Fosmet"]
[null,617,"7803-51-2","Phosphine",null,null,"Fosfina"]
[null,618,"7664-38-2","Phosphoric Acid",null,null,"Ácido fosfórico"]
[null,619,"7723-14-0","Phosphorus, White",null,null,"Fósforo"]
[null,620,"100-21-0","Phthalic Acid, p-",null,null,"Ácido p-ftálico"]
[null,621,"85-44-9","Phthalic Anhydride",null,null,"Anidrido ftálico"]
[null,622,"1918-02-1","Picloram",null,null,"Picloram"]
[null,623,"96-91-3","Picramic Acid (2-Amino-4,6-dinitrophenol)",null,null,""]
[null,624,"88-89-1","Picric Acid (2,4,6-Trinitrophenol)",null,null,""]
[null,625,"29232-93-7","Pirimiphos, Methyl",null,null,"Pirimifós-metil"]
[null,626,"36355-01-8","Polybrominated Biphenyls",null,null,""]
[null,627,"1336-36-3-C","Polychlorinated Biphenyls (high risk)",null,null,"Bifenilas policloradas (alto risco)"]
[null,628,"1336-36-3-B","Polychlorinated Biphenyls (low risk)",null,null,"Bifenilas policloradas(baixo risco)"]
[null,629,"1336-36-3-A","Polychlorinated Biphenyls (lowest risk)",null,null,"Bifenilas policloradas (menor risco)"]
[null,630,"9016-87-9","Polymeric Methylene Diphenyl Diisocyanate (PMDI)",null,null,"Polimetileno polifenil isocianato (PMDI)"]
[null,631,"151-50-8","Potassium Cyanide",null,null,"Cianeto de potássio"]
[null,632,"7778-74-7","Potassium Perchlorate",null,null,"Perclorato de Potássio"]
[null,633,"29420-49-3","Potassium perfluorobutanesulfonate",null,null,""]
[null,634,"2795-39-3","Potassium perfluorooctanesulfonate",null,null,""]
[null,635,"506-61-6","Potassium Silver Cyanide",null,null,"Cianeto de prata e potássio"]
[null,636,"67747-09-5","Prochloraz",null,null,"Procloraz"]
[null,637,"26399-36-0","Profluralin",null,null,"Profluralina"]
[null,638,"1610-18-0","Prometon",null,null,"Prometon"]
[null,639,"7287-19-6","Prometryn",null,null,"Prometrina"]
[null,640,"23950-58-5","Pronamide",null,null,"Pronamida"]
[null,641,"1918-16-7","Propachlor",null,null,"Propacloro"]
[null,642,"709-98-8","Propanil",null,null,"Propanil"]
[null,643,"2312-35-8","Propargite",null,null,"Propargito"]
[null,644,"107-19-7","Propargyl Alcohol",null,null,"Álcool propargílico"]
[null,645,"139-40-2","Propazine",null,null,"Propazina"]
[null,646,"122-42-9","Propham",null,null,"Profam"]
[null,647,"60207-90-1","Propiconazole",null,null,"Propiconazol"]
[null,648,"123-38-6","Propionaldehyde",null,null,"Propionaldeído"]
[null,649,"103-65-1","Propyl benzene",null,null,"Propilbenzeno"]
[null,650,"115-07-1","Propylene",null,null,"Propileno"]
[null,651,"57-55-6","Propylene Glycol",null,null,"Propileno glicol"]
[null,652,"6423-43-4","Propylene Glycol Dinitrate",null,null,"Dinitrato de propileno glicol"]
[null,653,"107-98-2","Propylene Glycol Monomethyl Ether",null,null,"1-metóxi-2-propanol"]
[null,654,"75-56-9","Propylene Oxide",null,null,"Óxido de propileno"]
[null,655,"129-00-0","Pyrene",null,null,"Pireno"]
[null,656,"110-86-1","Pyridine",null,null,"Piridina"]
[null,657,"13593-03-8","Quinalphos",null,null,"Quinalfós"]
[null,658,"91-22-5","Quinoline",null,null,"Quinolina"]
[null,659,"76578-14-8","Quizalofop-ethyl",null,null,"Assure"]
[null,660,"E715557","Refractory Ceramic Fibers (units in fibers)",null,null,""]
[null,661,"10453-86-8","Resmethrin",null,null,"Resmetrina"]
[null,662,"299-84-3","Ronnel",null,null,"Ronnel ou Fenclorfós"]
[null,663,"83-79-4","Rotenone",null,null,"rotenona"]
[null,664,"94-59-7","Safrole",null,null,""]
[null,665,"7783-00-8","Selenious Acid",null,null,"Ácido selenioso"]
[null,666,"7782-49-2","Selenium",null,null,"Selênio"]
[null,667,"7446-34-6","Selenium Sulfide",null,null,""]
[null,668,"74051-80-2","Sethoxydim",null,null,"Setoxidim"]
[null,669,"7631-86-9","Silica (crystalline, respirable)",null,null,"Sílica (cristalina, respirável)"]
[null,670,"7440-22-4","Silver",null,null,"Prata"]
[null,671,"506-64-9","Silver Cyanide",null,null,"Cianeto de prata"]
[null,672,"122-34-9","Simazine",null,null,"Simazina"]
[null,673,"62476-59-9","Sodium Acifluorfen",null,null,"Acifluorfem de sódio"]
[null,674,"26628-22-8","Sodium Azide",null,null,"Azida de sódio"]
[null,675,"143-33-9","Sodium Cyanide",null,null,"Cianeto de sódio"]
[null,676,"148-18-5","Sodium Diethyldithiocarbamate",null,null,"Dietil ditiocarbamato de sódio"]
[null,677,"7681-49-4","Sodium Fluoride",null,null,"Fluoreto de sódio"]
[null,678,"62-74-8","Sodium Fluoroacetate",null,null,"Fluoracetato de sódio"]
[null,679,"13718-26-8","Sodium Metavanadate",null,null,"Metavanadato de sódio"]
[null,680,"7601-89-0","Sodium Perchlorate",null,null,"Perclorato de sódio"]
[null,681,"13472-45-2","Sodium Tungstate",null,null,""]
[null,682,"10213-10-2","Sodium Tungstate Dihydrate",null,null,""]
[null,683,"961-11-5","Stirofos (Tetrachlorovinphos)",null,null,"Tetraclorvinfós"]
[null,684,"7440-24-6","Strontium, Stable",null,null,"Estrôncio"]
[null,685,"57-24-9","Strychnine",null,null,"Estricnina"]
[null,686,"100-42-5","Styrene",null,null,"Estireno"]
[null,687,"57964-39-3","Styrene-Acrylonitrile (SAN) Trimer (THNA isomer)",null,null,""]
[null,688,"57964-40-6","Styrene-Acrylonitrile (SAN) Trimer (THNP isomer)",null,null,""]
[null,689,"126-33-0","Sulfolane",null,null,"Sulfolano"]
[null,690,"80-07-9","Sulfonylbis(4-chlorobenzene), 1,1'-",null,null,""]
[null,691,"7446-11-9","Sulfur Trioxide",null,null,"Trióxido de enxôfre"]
[null,692,"7664-93-9","Sulfuric Acid",null,null,"Ácido sulfúrico"]
[null,693,"140-57-8","Sulfurous acid, 2-chloroethyl 2-[4-(1,1-dimethylethyl)phenoxy]-1-methylethyl ester",null,null,"Aramite"]
[null,694,"1746-01-6","TCDD, 2,3,7,8-",null,null,"Tetraclorodibenzodioxina (2,3,7,8-TCDD)"]
[null,695,"21564-17-0","TCMTB",null,null,"TCMTB"]
[null,696,"34014-18-1","Tebuthiuron",null,null,"Tebutiuron"]
[null,697,"3383-96-8","Temephos",null,null,"Temefós"]
[null,698,"5902-51-2","Terbacil",null,null,"Terbacil"]
[null,699,"13071-79-9","Terbufos",null,null,"Terbufós"]
[null,700,"886-50-0","Terbutryn",null,null,"Terbutrina"]
[null,701,"540-88-5","Tert-Butyl Acetate",null,null,""]
[null,702,"5436-43-1","Tetrabromodiphenyl ether, 2,2',4,4'- (BDE-47)",null,null,""]
[null,703,"95-94-3","Tetrachlorobenzene, 1,2,4,5-",null,null,"1,2,4,5-tetraclorobenzeno"]
[null,704,"32598-13-3","Tetrachlorobiphenyl, 3,3',4,4'- (PCB 77)",null,null,"3,3',4,4'-Tetraclorobifenila (PCB 77)"]
[null,705,"70362-50-4","Tetrachlorobiphenyl, 3,4,4',5- (PCB 81)",null,null,"3,4,4',5-Tetraclorobifenila (PCB 81)"]
[null,706,"630-20-6","Tetrachloroethane, 1,1,1,2-",null,null,"1,1,1,2-tetracloroetano"]
[null,707,"79-34-5","Tetrachloroethane, 1,1,2,2-",null,null,"1,1,2,2-tetracloroetano"]
[null,708,"127-18-4","Tetrachloroethylene",null,null,"Tetracloroetileno"]
[null,709,"58-90-2","Tetrachlorophenol, 2,3,4,6-",null,null,"2,3,4,6-tetraclorofenol"]
[null,710,"5216-25-1","Tetrachlorotoluene, p- alpha, alpha, alpha-",null,null,"Tricloreto de p-clorobenzilo (*)"]
[null,711,"3689-24-5","Tetraethyl Dithiopyrophosphate",null,null,"Sulfotep"]
[null,712,"78-00-2","Tetraethyl Lead",null,null,"Chumbo tetraetila"]
[null,713,"811-97-2","Tetrafluoroethane, 1,1,1,2-",null,null,"1,1,1,2-tetrafluoretano"]
[null,714,"109-99-9","Tetrahydrofuran",null,null,"Tetrahidrofurano"]
[null,715,"16853-36-4","Tetramethylphosphoramide, -N,N,N',N\" (TMPA)",null,null,""]
[null,716,"479-45-8","Tetryl (Trinitrophenylmethylnitramine)",null,null,""]
[null,717,"1314-32-5","Thallic Oxide",null,null,""]
[null,718,"10102-45-1","Thallium (I) Nitrate",null,null,"Nitrato de Tálio (I)"]
[null,719,"7440-28-0","Thallium (Soluble Salts)",null,null,"Tálio"]
[null,720,"563-68-8","Thallium Acetate",null,null,"Acetato de tálio"]
[null,721,"6533-73-9","Thallium Carbonate",null,null,"Carbonato de Tálio"]
[null,722,"7791-12-0","Thallium Chloride",null,null,"Cloreto de Tálio"]
[null,723,"12039-52-0","Thallium Selenite",null,null,"Selenito de tálio"]
[null,724,"7446-18-6","Thallium Sulfate",null,null,"Sulfato de Tálio"]
[null,725,"79277-27-3","Thifensulfuron-methyl",null,null,"Tifensulfuron-metil (3)"]
[null,726,"28249-77-6","Thiobencarb",null,null,"Tiobencarbe"]
[null,727,"E1790665","Thiocyanates",null,null,""]
[null,728,"463-56-9","Thiocyanic Acid",null,null,"Tiocianato"]
[null,729,"111-48-8","Thiodiglycol",null,null,""]
[null,730,"39196-18-4","Thiofanox",null,null,"Tiofanox"]
[null,731,"23564-05-8","Thiophanate, Methyl",null,null,"Tiofanato-metílico"]
[null,732,"137-26-8","Thiram",null,null,"Tiram"]
[null,733,"7440-31-5","Tin",null,null,"Estanho"]
[null,734,"7550-45-0","Titanium Tetrachloride",null,null,"Tetracloreto de titânio"]
[null,735,"108-88-3","Toluene",null,null,"Tolueno"]
[null,736,"584-84-9","Toluene-2,4-diisocyanate",null,null,""]
[null,737,"95-70-5","Toluene-2,5-diamine",null,null,"Tolueno-2,5-diamina"]
[null,738,"91-08-7","Toluene-2,6-diisocyanate",null,null,""]
[null,739,"2687-25-4","Toluenediamine, 2,3-",null,null,""]
[null,740,"496-72-0","Toluenediamine, 3,4-",null,null,""]
[null,741,"99-94-5","Toluic Acid, p-",null,null,""]
[null,742,"95-53-4","Toluidine, o- (Methylaniline, 2-)",null,null,""]
[null,743,"106-49-0","Toluidine, p-",null,null,"p-toluidina"]
[null,744,"E1790670","Total Petroleum Hydrocarbons (Aliphatic High)",null,null,"TPH (alifático - C19-C32)"]
[null,745,"E1790666","Total Petroleum Hydrocarbons (Aliphatic Low)",null,null,"TPH (alifático - C5-C8)"]
[null,746,"E1790668","Total Petroleum Hydrocarbons (Aliphatic Medium)",null,null,"TPH (alifático - C9-C18)"]
[null,747,"E1790676","Total Petroleum Hydrocarbons (Aromatic High)",null,null,"TPH (aromático - C10-C32)"]
[null,748,"E1790674","Total Petroleum Hydrocarbons (Aromatic Medium)",null,null,"TPH (aromático - C9-C10)"]
[null,749,"8001-35-2","Toxaphene",null,null,"Toxafeno"]
[null,750,"E1841606","Toxaphene, Weathered",null,null,""]
[null,751,"66841-25-6","Tralomethrin",null,null,"Tralometrina"]
[null,752,"688-73-3","Tri-n-butyltin",null,null,"Compostos de Tributilestanho"]
[null,753,"102-76-1","Triacetin",null,null,"Triacetina"]
[null,754,"43121-43-3","Triadimefon",null,null,"Triadimefom"]
[null,755,"2303-17-5","Triallate",null,null,"Trialato"]
[null,756,"82097-50-5","Triasulfuron",null,null,"Triasulforon"]
[null,757,"101200-48-0","Tribenuron-methyl",null,null,"Tribenuron-metil"]
[null,758,"615-54-3","Tribromobenzene, 1,2,4-",null,null,"1,2,4-tribromobenzeno"]
[null,759,"118-79-6","Tribromophenol, 2,4,6-",null,null,"2,4,6-tribromofenol"]
[null,760,"78-48-8","Tribufos",null,null,"Tribufós"]
[null,761,"126-73-8","Tributyl Phosphate",null,null,"Tributilfosfato"]
[null,762,"E1790679","Tributyltin Compounds",null,null,""]
[null,763,"56-35-9","Tributyltin Oxide",null,null,"Óxido de bis(tributilestanho)"]
[null,764,"10025-85-1","Trichloramine",null,null,"Tricloroamina"]
[null,765,"76-13-1","Trichloro-1,2,2-trifluoroethane, 1,1,2-",null,null,"CFC-113 (Triclorotrifluoretano)"]
[null,766,"76-03-9","Trichloroacetic Acid",null,null,""]
[null,767,"33663-50-2","Trichloroaniline HCl, 2,4,6-",null,null,"Cloreto de 2,4,6-tricloroanilina"]
[null,768,"634-93-5","Trichloroaniline, 2,4,6-",null,null,"2,4,6-tricloroanilina"]
[null,769,"87-61-6","Trichlorobenzene, 1,2,3-",null,null,"1,2,3-triclorobenzeno"]
[null,770,"120-82-1","Trichlorobenzene, 1,2,4-",null,null,"1,2,4-triclorobenzeno"]
[null,771,"71-55-6","Trichloroethane, 1,1,1-",null,null,"1,1,1-tricloroetano"]
[null,772,"79-00-5","Trichloroethane, 1,1,2-",null,null,"1,1,2-tricloroetano"]
[null,773,"79-01-6","Trichloroethylene",null,null,"Tricloroetileno"]
[null,774,"75-69-4","Trichlorofluoromethane",null,null,"Triclorofluormetano"]
[null,775,"95-95-4","Trichlorophenol, 2,4,5-",null,null,"2,4,5-triclorofenol"]
[null,776,"88-06-2","Trichlorophenol, 2,4,6-",null,null,"2,4,6-triclorofenol"]
[null,777,"93-76-5","Trichlorophenoxyacetic Acid, 2,4,5-",null,null,"2,4,5-T"]
[null,778,"93-72-1","Trichlorophenoxypropionic acid, -2,4,5",null,null,"2,4,5-TP"]
[null,779,"598-77-6","Trichloropropane, 1,1,2-",null,null,"1,1,2-tricloropropano"]
[null,780,"96-18-4","Trichloropropane, 1,2,3-",null,null,"1,2,3-tricloropropano"]
[null,781,"96-19-5","Trichloropropene, 1,2,3-",null,null,"1,2,3-tricloropropeno"]
[null,782,"1330-78-5","Tricresyl Phosphate (TCP)",null,null,""]
[null,783,"58138-08-2","Tridiphane",null,null,"Tridifano"]
[null,784,"121-44-8","Triethylamine",null,null,"Trietilamina"]
[null,785,"112-27-6","Triethylene Glycol",null,null,"Trietilenoglicol"]
[null,786,"420-46-2","Trifluoroethane, 1,1,1-",null,null,""]
[null,787,"1582-09-8","Trifluralin",null,null,"Trifluralina"]
[null,788,"512-56-1","Trimethyl Phosphate",null,null,"Trimetilfosfato"]
[null,789,"526-73-8","Trimethylbenzene, 1,2,3-",null,null,"1,2,3-trimetilbenzeno"]
[null,790,"95-63-6","Trimethylbenzene, 1,2,4-",null,null,"1,2,4-trimetilbenzeno"]
[null,791,"108-67-8","Trimethylbenzene, 1,3,5-",null,null,"1,3,5-trimetilbenzeno"]
[null,792,"25167-70-8","Trimethylpentene, 2,4,4-",null,null,"2,4,4-trimetilpenteno"]
[null,793,"99-35-4","Trinitrobenzene, 1,3,5-",null,null,"1,3,5-trinitrobenzeno"]
[null,794,"118-96-7","Trinitrotoluene, 2,4,6-",null,null,"2,4,6-Trinitrotolueno"]
[null,795,"791-28-6","Triphenylphosphine Oxide",null,null,""]
[null,796,"13674-87-8","Tris(1,3-Dichloro-2-propyl) Phosphate",null,null,""]
[null,797,"13674-84-5","Tris(1-chloro-2-propyl)phosphate",null,null,""]
[null,798,"126-72-7","Tris(2,3-dibromopropyl)phosphate",null,null,""]
[null,799,"115-96-8","Tris(2-chloroethyl)phosphate",null,null,""]
[null,800,"78-42-2","Tris(2-ethylhexyl)phosphate",null,null,""]
[null,801,"7440-33-7","Tungsten",null,null,"Tungstênio"]
[null,802,"7440-61-1","Uranium",null,null,"Urânio"]
[null,803,"51-79-6","Urethane",null,null,""]
[null,804,"7440-62-2","Vanadium and Compounds",null,null,"Vanádio e compostos"]
[null,805,"1314-62-1","Vanadium Pentoxide",null,null,"Pentóxido de vanádio"]
[null,806,"1929-77-7","Vernolate",null,null,"Vernolato"]
[null,807,"50471-44-8","Vinclozolin",null,null,"Vinclozolina"]
[null,808,"108-05-4","Vinyl Acetate",null,null,"Acetato de vinila"]
[null,809,"593-60-2","Vinyl Bromide",null,null,"Brometo de vinila"]
[null,810,"75-01-4","Vinyl Chloride",null,null,"Cloreto de vinila"]
[null,811,"81-81-2","Warfarin",null,null,"Warfarin"]
[null,812,"108-38-3","Xylene, m-",null,null,"m-xileno"]
[null,813,"95-47-6","Xylene, o-",null,null,"o-xileno"]
[null,814,"106-42-3","Xylene, p-",null,null,"p-xileno"]
[null,815,"1330-20-7","Xylenes",null,null,"Xilenos (isômeros)"]
[null,816,"7440-66-6","Zinc and Compounds",null,null,"Zinco"]
[null,817,"557-21-1","Zinc Cyanide",null,null,"Cianeto de zinco"]
[null,818,"1314-84-7","Zinc Phosphide",null,null,"Fosfeto de zinco"]
[null,819,"12122-67-7","Zineb",null,null,"Zineb"]
[null,820,"7440-67-7","Zirconium",null,null,"Zircônio"]

{"sheet":"Meio Físico","index":2,"n_rows":35,"n_cols":8,"rows_kept":35,"cut":false,"hidden":false,"merged":[[24,1,24,7],[5,4,5,6],[28,1,28,7],[7,1,7,7],[11,1,11,7],[22,1,22,7],[5,2,6,2],[5,3,6,3],[5,1,6,1],[5,7,6,7],[1,2,1,4],[2,2,3,4],[2,5,3,7],[4,2,4,7],[1,5,1,7]]}
[]
[null,null,"IDENTIFICAÇÃO DA ÁREA",null,null,"DATA:"]
[null,null,{"$f":"CENÁRIOS!G3","v":0},null,null,{"$f":"CENÁRIOS!C3","v":0}]
[]
[null,null,"PLANILHA DE ENTRADA DE DADOS"]
[null,"PARÂMETROS","DESCRIÇÃO","UNIDADE",{"$f":"CENÁRIOS!H5","v":"TRABALHADOR EM OBRAS CIVIS E DE ESCAVAÇÃO"},null,null,"ESPECIFICO"]
[null,null,null,null,"REFERÊNCIA CETESB","VALORES ESPECÍFICOS","VALORES DE CÁLCULO"]
[null,"Cenários Associados a Intrusão de Vapores"]
[null,"Ab","Área das Fundações","cm2",{"$f":"MF!E9","v":200000},null,{"$f":"IF($F9<>0,$F9,$E9)","v":200000},{"$f":"IF($G9<>$E9,\"s\",\"\")","v":""}]
[null,"Lb","Pé Direito","cm",{"$f":"MF!E10","v":250},null,{"$f":"IF($F10<>0,$F10,$E10)","v":250},{"$f":"IF($G10<>$E10,\"s\",\"\")","v":""}]
[null,"Lcrk","Espessura das fundações/paredes de construções","cm",{"$f":"MF!E11","v":15},null,15,""]
[null,"Cenários Associados a Inalação de Vapores a partir do Solo e Água Subterrânea"]
[null,"Lss","Profundidade da Fonte no Solo Subsuperficial","cm",{"$f":"MF!E29","v":100},null,{"$f":"IF($F13<>0,$F13,$E13)","v":100},""]
[null,"dss","Espessura do Solo Subsuperficial Impactado","cm",{"$f":"MF!E30","v":345},null,{"$f":"IF($F14<>0,$F14,$E14)","v":345},""]
[null,"Wss","Largura do solo subsuperficial impactado","cm",{"$f":"MF!E39","v":4500},null,4500,""]
[null,"Lgw","Profundidade do Nível d'Água","cm",{"$f":"MF!E46","v":450},null,450,""]
[null,"T","Temperatura da Água Subterrânea","K",{"$f":"T","v":298},null,298,""]
[null,"Ww","Largura da área fonte na direção paralela ao fluxo da água subterrânea","cm",{"$f":"MF!E51","v":4500},null,4500,""]
[null,"δgw","Espessura da pluma dissolvida na água subterrânea","cm",{"$f":"MF!E56","v":200},null,200,""]
[null,"θT","Porosidade Total","-",{"$f":"MF!E32","v":0.46},null,0.46,""]
[null,"ρs","Densidade do Solo","g/cm³",{"$f":"MF!E34","v":1.3},null,1.3,""]
[null,"foc","Fração de Carbono Orgânico no Solo","g-C/g-solo",{"$f":"MF!E42","v":3.0000000000000001E-3},null,3.0000000000000001E-3,""]
[null,"Cenários Associados a Lixiviação do Solo Subsuperficial para Água Subterrânea"]
[null,"SIR","Taxa de infiltração no Solo","cm/ano",{"$f":"MF!E47","v":66.099999999999994},null,{"$f":"IF($F24<>0,$F24,$E24)","v":66.099999999999994},""]
[null,"Cenários Associados ao Contato Direto com Solo superficial"]
[null,"Ls","Espessura do Solo Superficial Impactado","cm",{"$f":"MF!E28","v":100},null,{"$f":"IF($F26<>0,$F26,$E26)","v":100},""]
[null,"A","Área de Emissão de Vapores","cm2",{"$f":"MF!E36","v":20250000},null,{"$f":"IF($F27<>0,$F27,$E27)","v":20250000},""]
[null,"Ws","Largura do solo superficial impactado","cm",{"$f":"MF!E40","v":4500},null,4500,""]
[null,"Cenários Associados ao Transporte de Contaminante em Meio Saturado"]
[null,"Sd","Espessura da Fonte na Água Subterrânea","cm",{"$f":"MF!E37","v":200},null,{"$f":"IF($F30<>0,$F30,$E30)","v":200},""]
[null,"Sw","Largura da Fonte","cm",{"$f":"MF!E38","v":4500},null,{"$f":"IF($F31<>0,$F31,$E31)","v":4500},""]
[null,"i","Gradiente Hidráulico","-",{"$f":"MF!E44","v":0.05},null,0.05,""]
[null,"K","Condutividade Hidráulica","cm/dia",{"$f":"MF!E45","v":11.23},null,11.23,""]
[null,"x","Distância entre a área fonte na água subterrânea e o Ponto de Exposição","cm",{"$f":"MF!E52","v":4500},null,4500,""]
[null,"θef","Porosidade Efetiva","cm³/cm³",{"$f":"MF!E58","v":0.12},null,0.12,""]

{"sheet":"PDE","index":3,"n_rows":40,"n_cols":27,"rows_kept":40,"cut":false,"hidden":false,"merged":[[1,11,1,13],[1,14,1,26],[6,8,8,8],[6,10,8,11],[4,12,4,26],[7,17,7,18],[7,14,7,15],[6,12,6,15],[5,12,5,16],[7,19,8,19],[6,19,6,20],[6,17,6,18],[5,22,5,26],[7,20,8,20],[5,17,5,21],[6,24,6,26],[9,10,9,11],[7,1,9,2],[2,1,6,2],[2,3,9,3],[6,5,6,6],[7,6,8,6],[7,5,8,5],[8,4,9,4],[4,4,7,4],[4,5,5,11],[2,4,3,26],[6,9,8,9],[6,21,8,21],[6,16,8,16],[7,12,7,13],[6,7,8,7],[7,26,8,26],[7,25,8,25],[7,22,8,22],[7,23,8,23],[6,22,6,23],[7,24,8,24]]}
[]
[null,"DATA: ",null,{"$f":"CENÁRIOS!C3","v":0},"IDENTIFICAÇÃO DA ÁREA:",null,{"$f":"CENÁRIOS!G3","v":0}]
[null,null,null,"CONTAMINANTE","CONCENTRAÇÕES DAS SQIs NO SOLO E ÁGUAS SUBTERRÂNEAS"]
[]
[null,null,null,null,"DISTÂNCIA DA FONTE AO PONTO DE EXPOSIÇÃO           ","CONCENTRAÇÃO NA FONTE",null,null,null,null,null,null,"CONCENTRAÇÃO NO PONTO DE EXPOSIÇÃO"]
[null,null,null,null,null,null,null,null,null,null,null,null,"NA FONTE DE CONTAMINAÇÃO",null,null,null,null,"FORA DA FONTE DE CONTAMINAÇÃO",null,null,null,null,"VEGETAIS"]
[null,null,null,null,null,"SOLO",null,"ÁGUA SUBTERRÂNEA","FAN       \nCALCULADO","FAN SUGERIDO                                PELO USUÁRIO","FAN PARA CÁLCULO",null,"AR",null,null,null,"ÁGUA SUBTERRÂNEA A PARTIR DA LIXIVIAÇÃO DO SOLO SUBSUPERFICIAL","AR",null,"ÁGUA SUBTERRÂNEA",null,"ÁGUA SUPERFICIAL","Estimativa da concentração de compostos metálicos",null,"Estimativa da concentração de compostos orgânicos"]
[null,"CAS N°",null,null,null,"SUPERFICIAL","SUBSUPERFICIAL",null,null,null,null,null,"A PARTIR DO SOLO SUBSUPERFICIAL",null,"A PARTIR DA ÁGUA SUBTERRÂNEA",null,null,"A PARTIR DA ÁGUA SUBTERRÂNEA",null,"A PARTIR DA LIXIVIAÇÃO DO SOLO","A PARTIR DO TRANSPORTE SATURADO",null,"Concentração da SQI no Desenvolvimento radicular                   (Cpr)","Concentração da SQI no Desenvolvimento foliar/estrutural         (Cps)","Concentração da SQI no sistema foliar/caule          (Cps)","Concentração da SQI na água presente nos poros         (Cpw)","Concentração da SQI no desenvolvimento radicular          (Cpr)"]
[null,null,null,null,"(centimetros)",null,null,null,null,null,null,null,"AMBIENTES ABERTOS","AMBIENTES FECHADOS","AMBIENTES ABERTOS","AMBIENTES FECHADOS",null,"AMBIENTES ABERTOS","AMBIENTES FECHADOS"]
[null,null,null,null,null,"(mg/kg)","(mg/kg)","(mg/L)","(-)","(-)","(-)",null,"(mg/m3)","(mg/m3)","(mg/m3)","(mg/m3)","(mg/L)","(mg/m3)","(mg/m3)","(mg/L)","(mg/L)","(mg/L)","(mg/kg dw)","(mg/kg dw)","(mg/kg dw)","(mg/L)","(mg/kg dw)"]
[null,1,{"$f":"SQI!$D9","v":0},{"$f":"SQI!C9","v":""},{"$f":"IF(PM.1=\"\",\"-\",x)","v":"-"},null,null,null,{"$f":"IF(FT!W8=0,\"-\",FT!W8)","v":"-"},null,{"$f":"IF($J11<>0,$J11,$I11)","v":"-"},{"$f":"IF($K11<>$I11,\"s\",\"\")","v":""},{"$f":"IF(OR(PM.1=\"\",FT!O8=\"-\"),\"-\",G11*FT!O8*1)","v":"-"},{"$f":"IF(OR(PM.1=\"\",FT!P8=\"-\"),\"-\",G11*FT!P8*1)","v":"-"},{"$f":"IF(OR(PM.1=\"\",FT!R8=\"-\"),\"-\",H11*FT!R8*1)","v":"-"},{"$f":"IF(OR(PM.1=\"\",FT!S8=\"-\"),\"-\",H11*FT!S8*1)","v":"-"},{"$f":"IF(OR(PM.1=\"\",FT!Q8=\"-\"),\"-\",G11*FT!Q8*10^-3)","v":"-"},{"$f":"IF(OR(PM.1=\"\",U11=\"-\",FT!R8=\"-\"),\"-\",U11*FT!R8*1)","v":"-"},{"$f":"IF(OR(PM.1=\"\",FT!S8=\"-\",U11=\"-\"),\"-\",U11*FT!S8*1)","v":"-"},{"$f":"IF(OR(PM.1=\"\",DAF.1=\"-\",Q11=\"-\"),\"-\",Q11*DAF.1)","v":"-"},{"$f":"IF(OR(PM.1=\"\",DAF.1=\"-\"),\"-\",H11*DAF.1)","v":"-"},{"$f":"IF(OR(PM.1=\"\",U11=\"-\"),\"-\",U11/10)","v":"-"},{"$f":"IF(OR(PM.1=\"\",BCF.1=\"-\",Tipo.1<>\"METAL\"),\"-\",((BCF.1*Cf.SoloSup.1)/frkveg))","v":"-"},{"$f":"IF(OR(PM.1=\"\",BCFF.1=\"-\",Tipo.1<>\"METAL\"),\"-\",((BCFF.1*Cf.SoloSup.1+Cdp.1)/frbveg))","v":"-"},{"$f":"IF(OR(PM.1=\"\",cpw.1=\"-\",Tipo.1=\"METAL\",tscf.1=\"-\",a.1=\"-\"),\"-\",(((cpw.1*tscf.1*Qveg)/(pplantveg*a.1*Vlveg))+Cdp.1*fdwsveg))","v":"-"},{"$f":"IF(OR(PM.1=\"\",pw.1=\"-\",Tipo.1=\"METAL\"),\"-\",((Cf.SoloSup.1*ps*pw.1)/Vwveg))","v":"-"},{"$f":"IF(OR(PM.1=\"\",BCFR.1=\"-\",Tipo.1=\"METAL\"),\"-\",(Cf.SoloSup.1*BCFR.1))","v":"-"}]
[null,2,{"$f":"SQI!$D10","v":0},{"$f":"SQI!C10","v":""},{"$f":"IF(PM.2=\"\",\"-\",x)","v":"-"},null,null,null,{"$f":"IF(FT!W9=0,\"-\",FT!W9)","v":"-"},null,{"$f":"IF($J12<>0,$J12,$I12)","v":"-"},{"$f":"IF($K12<>$I12,\"s\",\"\")","v":""},{"$f":"IF(OR(PM.2=\"\",FT!O9=\"-\"),\"-\",G12*FT!O9*1)","v":"-"},{"$f":"IF(OR(PM.2=\"\",FT!P9=\"-\"),\"-\",G12*FT!P9*1)","v":"-"},{"$f":"IF(OR(PM.2=\"\",FT!R9=\"-\"),\"-\",H12*FT!R9*1)","v":"-"},{"$f":"IF(OR(PM.2=\"\",FT!S9=\"-\"),\"-\",H12*FT!S9*1)","v":"-"},{"$f":"IF(OR(PM.2=\"\",FT!Q9=\"-\"),\"-\",G12*FT!Q9*10^-3)","v":"-"},{"$f":"IF(OR(PM.2=\"\",U12=\"-\",FT!R9=\"-\"),\"-\",U12*FT!R9*1)","v":"-"},{"$f":"IF(OR(PM.2=\"\",FT!S9=\"-\",U12=\"-\"),\"-\",U12*FT!S9*1)","v":"-"},{"$f":"IF(OR(PM.2=\"\",DAF.2=\"-\",Q12=\"-\"),\"-\",Q12*DAF.2)","v":"-"},{"$f":"IF(OR(PM.2=\"\",DAF.2=\"-\"),\"-\",H12*DAF.2)","v":"-"},"-",{"$f":"IF(OR(PM.2=\"\",BCF.2=\"-\",Tipo.2<>\"METAL\"),\"-\",((BCF.2*Cf.SoloSup.2)/frkveg))","v":"-"},{"$f":"IF(OR(PM.2=\"\",BCFF.2=\"-\",Tipo.2<>\"METAL\"),\"-\",((BCFF.2*Cf.SoloSup.2+Cdp.2)/frbveg))","v":"-"},{"$f":"IF(OR(PM.2=\"\",cpw.2=\"-\",Tipo.2=\"METAL\",tscf.2=\"-\",a.2=\"-\"),\"-\",(((cpw.2*tscf.2*Qveg)/(pplantveg*a.2*Vlveg))+Cdp.2*fdwsveg))","v":"-"},{"$f":"IF(OR(PM.2=\"\",pw.2=\"-\",Tipo.2=\"METAL\"),\"-\",((Cf.SoloSup.2*ps*pw.2)/Vwveg))","v":"-"},{"$f":"IF(OR(PM.2=\"\",BCFR.2=\"-\",Tipo.2=\"METAL\"),\"-\",(Cf.SoloSup.2*BCFR.2))","v":"-"}]
[null,3,{"$f":"SQI!$D11","v":0},{"$f":"SQI!C11","v":""},{"$f":"IF(PM.3=\"\",\"-\",x)","v":"-"},null,null,null,{"$f":"IF(FT!W10=0,\"-\",FT!W10)","v":"-"},null,"-","",{"$f":"IF(OR(PM.3=\"\",FT!O10=\"-\"),\"-\",G13*FT!O10*1)","v":"-"},{"$f":"IF(OR(PM.3=\"\",FT!P10=\"-\"),\"-\",G13*FT!P10*1)","v":"-"},{"$f":"IF(OR(PM.3=\"\",FT!R10=\"-\"),\"-\",H13*FT!R10*1)","v":"-"},{"$f":"IF(OR(PM.3=\"\",FT!S10=\"-\"),\"-\",H13*FT!S10*1)","v":"-"},{"$f":"IF(OR(PM.3=\"\",FT!Q10=\"-\"),\"-\",G13*FT!Q10*10^-3)","v":"-"},{"$f":"IF(OR(PM.3=\"\",U13=\"-\",FT!R10=\"-\"),\"-\",U13*FT!R10*1)","v":"-"},{"$f":"IF(OR(PM.3=\"\",FT!S10=\"-\",U13=\"-\"),\"-\",U13*FT!S10*1)","v":"-"},{"$f":"IF(OR(PM.3=\"\",DAF.3=\"-\",Q13=\"-\"),\"-\",Q13*DAF.3)","v":"-"},{"$f":"IF(OR(PM.3=\"\",DAF.3=\"-\"),\"-\",H13*DAF.3)","v":"-"},"-",{"$f":"IF(OR(PM.3=\"\",BCF.3=\"-\",Tipo.3<>\"METAL\"),\"-\",((BCF.3*Cf.SoloSup.3)/frkveg))","v":"-"},{"$f":"IF(OR(PM.3=\"\",BCFF.3=\"-\",Tipo.3<>\"METAL\"),\"-\",((BCFF.3*Cf.SoloSup.3+Cdp.3)/frbveg))","v":"-"},{"$f":"IF(OR(PM.3=\"\",cpw.3=\"-\",Tipo.3=\"METAL\",tscf.3=\"-\",a.3=\"-\"),\"-\",(((cpw.3*tscf.3*Qveg)/(pplantveg*a.3*Vlveg))+Cdp.3*fdwsveg))","v":"-"},{"$f":"IF(OR(PM.3=\"\",pw.3=\"-\",Tipo.3=\"METAL\"),\"-\",((Cf.SoloSup.3*ps*pw.3)/Vwveg))","v":"-"},{"$f":"IF(OR(PM.3=\"\",BCFR.3=\"-\",Tipo.3=\"METAL\"),\"-\",(Cf.SoloSup.3*BCFR.3))","v":"-"}]
[null,4,{"$f":"SQI!$D12","v":0},{"$f":"SQI!C12","v":""},{"$f":"IF(PM.4=\"\",\"-\",x)","v":"-"},null,null,null,{"$f":"IF(FT!W11=0,\"-\",FT!W11)","v":"-"},null,"-","",{"$f":"IF(OR(PM.4=\"\",FT!O11=\"-\"),\"-\",G14*FT!O11*1)","v":"-"},{"$f":"IF(OR(PM.4=\"\",FT!P11=\"-\"),\"-\",G14*FT!P11*1)","v":"-"},{"$f":"IF(OR(PM.4=\"\",FT!R11=\"-\"),\"-\",H14*FT!R11*1)","v":"-"},{"$f":"IF(OR(PM.4=\"\",FT!S11=\"-\"),\"-\",H14*FT!S11*1)","v":"-"},{"$f":"IF(OR(PM.4=\"\",FT!Q11=\"-\"),\"-\",G14*FT!Q11*10^-3)","v":"-"},{"$f":"IF(OR(PM.4=\"\",U14=\"-\",FT!R11=\"-\"),\"-\",U14*FT!R11*1)","v":"-"},{"$f":"IF(OR(PM.4=\"\",FT!S11=\"-\",U14=\"-\"),\"-\",U14*FT!S11*1)","v":"-"},{"$f":"IF(OR(PM.4=\"\",DAF.4=\"-\",Q14=\"-\"),\"-\",Q14*DAF.4)","v":"-"},{"$f":"IF(OR(PM.4=\"\",DAF.4=\"-\"),\"-\",H14*DAF.4)","v":"-"},"-",{"$f":"IF(OR(PM.4=\"\",BCF.4=\"-\",Tipo.4<>\"METAL\"),\"-\",((BCF.4*Cf.SoloSup.4)/frkveg))","v":"-"},{"$f":"IF(OR(PM.4=\"\",BCFF.4=\"-\",Tipo.4<>\"METAL\"),\"-\",((BCFF.4*Cf.SoloSup.4+Cdp.4)/frbveg))","v":"-"},{"$f":"IF(OR(PM.4=\"\",cpw.4=\"-\",Tipo.4=\"METAL\",tscf.4=\"-\",a.4=\"-\"),\"-\",(((cpw.4*tscf.4*Qveg)/(pplantveg*a.4*Vlveg))+Cdp.4*fdwsveg))","v":"-"},{"$f":"IF(OR(PM.4=\"\",pw.4=\"-\",Tipo.4=\"METAL\"),\"-\",((Cf.SoloSup.4*ps*pw.4)/Vwveg))","v":"-"},{"$f":"IF(OR(PM.4=\"\",BCFR.4=\"-\",Tipo.4=\"METAL\"),\"-\",(Cf.SoloSup.4*BCFR.4))","v":"-"}]
[null,5,{"$f":"SQI!$D13","v":0},{"$f":"SQI!C13","v":""},{"$f":"IF(PM.5=\"\",\"-\",x)","v":"-"},null,null,null,{"$f":"IF(FT!W12=0,\"-\",FT!W12)","v":"-"},null,"-","",{"$f":"IF(OR(PM.5=\"\",FT!O12=\"-\"),\"-\",G15*FT!O12*1)","v":"-"},{"$f":"IF(OR(PM.5=\"\",FT!P12=\"-\"),\"-\",G15*FT!P12*1)","v":"-"},{"$f":"IF(OR(PM.5=\"\",FT!R12=\"-\"),\"-\",H15*FT!R12*1)","v":"-"},{"$f":"IF(OR(PM.5=\"\",FT!S12=\"-\"),\"-\",H15*FT!S12*1)","v":"-"},{"$f":"IF(OR(PM.5=\"\",FT!Q12=\"-\"),\"-\",G15*FT!Q12*10^-3)","v":"-"},{"$f":"IF(OR(PM.5=\"\",U15=\"-\",FT!R12=\"-\"),\"-\",U15*FT!R12*1)","v":"-"},{"$f":"IF(OR(PM.5=\"\",FT!S12=\"-\",U15=\"-\"),\"-\",U15*FT!S12*1)","v":"-"},{"$f":"IF(OR(PM.5=\"\",DAF.5=\"-\",Q15=\"-\"),\"-\",Q15*DAF.5)","v":"-"},{"$f":"IF(OR(PM.5=\"\",DAF.5=\"-\"),\"-\",H15*DAF.5)","v":"-"},"-",{"$f":"IF(OR(PM.5=\"\",BCF.5=\"-\",Tipo.5<>\"METAL\"),\"-\",((BCF.5*Cf.SoloSup.5)/frkveg))","v":"-"},{"$f":"IF(OR(PM.5=\"\",BCFF.5=\"-\",Tipo.5<>\"METAL\"),\"-\",((BCFF.5*Cf.SoloSup.5+Cdp.5)/frbveg))","v":"-"},{"$f":"IF(OR(PM.5=\"\",cpw.5=\"-\",Tipo.5=\"METAL\",tscf.5=\"-\",a.5=\"-\"),\"-\",(((cpw.5*tscf.5*Qveg)/(pplantveg*a.5*Vlveg))+Cdp.5*fdwsveg))","v":"-"},{"$f":"IF(OR(PM.5=\"\",pw.5=\"-\",Tipo.5=\"METAL\"),\"-\",((Cf.SoloSup.5*ps*pw.5)/Vwveg))","v":"-"},{"$f":"IF(OR(PM.5=\"\",BCFR.5=\"-\",Tipo.5=\"METAL\"),\"-\",(Cf.SoloSup.5*BCFR.5))","v":"-"}]
[null,6,{"$f":"SQI!$D14","v":0},{"$f":"SQI!C14","v":""},{"$f":"IF(PM.6=\"\",\"-\",x)","v":"-"},null,null,null,{"$f":"IF(FT!W13=0,\"-\",FT!W13)","v":"-"},null,"-","",{"$f":"IF(OR(PM.6=\"\",FT!O13=\"-\"),\"-\",G16*FT!O13*1)","v":"-"},{"$f":"IF(OR(PM.6=\"\",FT!P13=\"-\"),\"-\",G16*FT!P13*1)","v":"-"},{"$f":"IF(OR(PM.6=\"\",FT!R13=\"-\"),\"-\",H16*FT!R13*1)","v":"-"},{"$f":"IF(OR(PM.6=\"\",FT!S13=\"-\"),\"-\",H16*FT!S13*1)","v":"-"},{"$f":"IF(OR(PM.6=\"\",FT!Q13=\"-\"),\"-\",G16*FT!Q13*10^-3)","v":"-"},{"$f":"IF(OR(PM.6=\"\",U16=\"-\",FT!R13=\"-\"),\"-\",U16*FT!R13*1)","v":"-"},{"$f":"IF(OR(PM.6=\"\",FT!S13=\"-\",U16=\"-\"),\"-\",U16*FT!S13*1)","v":"-"},{"$f":"IF(OR(PM.6=\"\",DAF.6=\"-\",Q16=\"-\"),\"-\",Q16*DAF.6)","v":"-"},{"$f":"IF(OR(PM.6=\"\",DAF.6=\"-\"),\"-\",H16*DAF.6)","v":"-"},"-",{"$f":"IF(OR(PM.6=\"\",BCF.6=\"-\",Tipo.6<>\"METAL\"),\"-\",((BCF.6*Cf.SoloSup.6)/frkveg))","v":"-"},{"$f":"IF(OR(PM.6=\"\",BCFF.6=\"-\",Tipo.6<>\"METAL\"),\"-\",((BCFF.6*Cf.SoloSup.6+Cdp.6)/frbveg))","v":"-"},{"$f":"IF(OR(PM.6=\"\",cpw.6=\"-\",Tipo.6=\"METAL\",tscf.6=\"-\",a.6=\"-\"),\"-\",(((cpw.6*tscf.6*Qveg)/(pplantveg*a.6*Vlveg))+Cdp.6*fdwsveg))","v":"-"},{"$f":"IF(OR(PM.6=\"\",pw.6=\"-\",Tipo.6=\"METAL\"),\"-\",((Cf.SoloSup.6*ps*pw.6)/Vwveg))","v":"-"},{"$f":"IF(OR(PM.6=\"\",BCFR.6=\"-\",Tipo.6=\"METAL\"),\"-\",(Cf.SoloSup.6*BCFR.6))","v":"-"}]
[null,7,{"$f":"SQI!$D15","v":0},{"$f":"SQI!C15","v":""},{"$f":"IF(PM.7=\"\",\"-\",x)","v":"-"},null,null,null,{"$f":"IF(FT!W14=0,\"-\",FT!W14)","v":"-"},null,"-","",{"$f":"IF(OR(PM.7=\"\",FT!O14=\"-\"),\"-\",G17*FT!O14*1)","v":"-"},{"$f":"IF(OR(PM.7=\"\",FT!P14=\"-\"),\"-\",G17*FT!P14*1)","v":"-"},{"$f":"IF(OR(PM.7=\"\",FT!R14=\"-\"),\"-\",H17*FT!R14*1)","v":"-"},{"$f":"IF(OR(PM.7=\"\",FT!S14=\"-\"),\"-\",H17*FT!S14*1)","v":"-"},{"$f":"IF(OR(PM.7=\"\",FT!Q14=\"-\"),\"-\",G17*FT!Q14*10^-3)","v":"-"},{"$f":"IF(OR(PM.7=\"\",U17=\"-\",FT!R14=\"-\"),\"-\",U17*FT!R14*1)","v":"-"},{"$f":"IF(OR(PM.7=\"\",FT!S14=\"-\",U17=\"-\"),\"-\",U17*FT!S14*1)","v":"-"},{"$f":"IF(OR(PM.7=\"\",DAF.7=\"-\",Q17=\"-\"),\"-\",Q17*DAF.7)","v":"-"},{"$f":"IF(OR(PM.7=\"\",DAF.7=\"-\"),\"-\",H17*DAF.7)","v":"-"},"-",{"$f":"IF(OR(PM.7=\"\",BCF.7=\"-\",Tipo.7<>\"METAL\"),\"-\",((BCF.7*Cf.SoloSup.7)/frkveg))","v":"-"},{"$f":"IF(OR(PM.7=\"\",BCFF.7=\"-\",Tipo.7<>\"METAL\"),\"-\",((BCFF.7*Cf.SoloSup.7+Cdp.7)/frbveg))","v":"-"},{"$f":"IF(OR(PM.7=\"\",cpw.7=\"-\",Tipo.7=\"METAL\",tscf.7=\"-\",a.7=\"-\"),\"-\",(((cpw.7*tscf.7*Qveg)/(pplantveg*a.7*Vlveg))+Cdp.7*fdwsveg))","v":"-"},{"$f":"IF(OR(PM.7=\"\",pw.7=\"-\",Tipo.7=\"METAL\"),\"-\",((Cf.SoloSup.7*ps*pw.7)/Vwveg))","v":"-"},{"$f":"IF(OR(PM.7=\"\",BCFR.7=\"-\",Tipo.7=\"METAL\"),\"-\",(Cf.SoloSup.7*BCFR.7))","v":"-"}]
[null,8,{"$f":"SQI!$D16","v":0},{"$f":"SQI!C16","v":""},{"$f":"IF(PM.8=\"\",\"-\",x)","v":"-"},null,null,null,{"$f":"IF(FT!W15=0,\"-\",FT!W15)","v":"-"},null,"-","",{"$f":"IF(OR(PM.8=\"\",FT!O15=\"-\"),\"-\",G18*FT!O15*1)","v":"-"},{"$f":"IF(OR(PM.8=\"\",FT!P15=\"-\"),\"-\",G18*FT!P15*1)","v":"-"},{"$f":"IF(OR(PM.8=\"\",FT!R15=\"-\"),\"-\",H18*FT!R15*1)","v":"-"},{"$f":"IF(OR(PM.8=\"\",FT!S15=\"-\"),\"-\",H18*FT!S15*1)","v":"-"},{"$f":"IF(OR(PM.8=\"\",FT!Q15=\"-\"),\"-\",G18*FT!Q15*10^-3)","v":"-"},{"$f":"IF(OR(PM.8=\"\",U18=\"-\",FT!R15=\"-\"),\"-\",U18*FT!R15*1)","v":"-"},{"$f":"IF(OR(PM.8=\"\",FT!S15=\"-\",U18=\"-\"),\"-\",U18*FT!S15*1)","v":"-"},{"$f":"IF(OR(PM.8=\"\",DAF.8=\"-\",Q18=\"-\"),\"-\",Q18*DAF.8)","v":"-"},{"$f":"IF(OR(PM.8=\"\",DAF.8=\"-\"),\"-\",H18*DAF.8)","v":"-"},"-",{"$f":"IF(OR(PM.8=\"\",BCF.8=\"-\",Tipo.8<>\"METAL\"),\"-\",((BCF.8*Cf.SoloSup.8)/frkveg))","v":"-"},{"$f":"IF(OR(PM.8=\"\",BCFF.8=\"-\",Tipo.8<>\"METAL\"),\"-\",((BCFF.8*Cf.SoloSup.8+Cdp.8)/frbveg))","v":"-"},{"$f":"IF(OR(PM.8=\"\",cpw.8=\"-\",Tipo.8=\"METAL\",tscf.8=\"-\",a.8=\"-\"),\"-\",(((cpw.8*tscf.8*Qveg)/(pplantveg*a.8*Vlveg))+Cdp.8*fdwsveg))","v":"-"},{"$f":"IF(OR(PM.8=\"\",pw.8=\"-\",Tipo.8=\"METAL\"),\"-\",((Cf.SoloSup.8*ps*pw.8)/Vwveg))","v":"-"},{"$f":"IF(OR(PM.8=\"\",BCFR.8=\"-\",Tipo.8=\"METAL\"),\"-\",(Cf.SoloSup.8*BCFR.8))","v":"-"}]
[null,9,{"$f":"SQI!$D17","v":0},{"$f":"SQI!C17","v":""},{"$f":"IF(PM.9=\"\",\"-\",x)","v":"-"},null,null,null,{"$f":"IF(FT!W16=0,\"-\",FT!W16)","v":"-"},null,"-","",{"$f":"IF(OR(PM.9=\"\",FT!O16=\"-\"),\"-\",G19*FT!O16*1)","v":"-"},{"$f":"IF(OR(PM.9=\"\",FT!P16=\"-\"),\"-\",G19*FT!P16*1)","v":"-"},{"$f":"IF(OR(PM.9=\"\",FT!R16=\"-\"),\"-\",H19*FT!R16*1)","v":"-"},{"$f":"IF(OR(PM.9=\"\",FT!S16=\"-\"),\"-\",H19*FT!S16*1)","v":"-"},{"$f":"IF(OR(PM.9=\"\",FT!Q16=\"-\"),\"-\",G19*FT!Q16*10^-3)","v":"-"},{"$f":"IF(OR(PM.9=\"\",U19=\"-\",FT!R16=\"-\"),\"-\",U19*FT!R16*1)","v":"-"},{"$f":"IF(OR(PM.9=\"\",FT!S16=\"-\",U19=\"-\"),\"-\",U19*FT!S16*1)","v":"-"},{"$f":"IF(OR(PM.9=\"\",DAF.9=\"-\",Q19=\"-\"),\"-\",Q19*DAF.9)","v":"-"},{"$f":"IF(OR(PM.9=\"\",DAF.9=\"-\"),\"-\",H19*DAF.9)","v":"-"},"-",{"$f":"IF(OR(PM.9=\"\",BCF.9=\"-\",Tipo.9<>\"METAL\"),\"-\",((BCF.9*Cf.SoloSup.9)/frkveg))","v":"-"},{"$f":"IF(OR(PM.9=\"\",BCFF.9=\"-\",Tipo.9<>\"METAL\"),\"-\",((BCFF.9*Cf.SoloSup.9+Cdp.9)/frbveg))","v":"-"},{"$f":"IF(OR(PM.9=\"\",cpw.9=\"-\",Tipo.9=\"METAL\",tscf.9=\"-\",a.9=\"-\"),\"-\",(((cpw.9*tscf.9*Qveg)/(pplantveg*a.9*Vlveg))+Cdp.9*fdwsveg))","v":"-"},{"$f":"IF(OR(PM.9=\"\",pw.9=\"-\",Tipo.9=\"METAL\"),\"-\",((Cf.SoloSup.9*ps*pw.9)/Vwveg))","v":"-"},{"$f":"IF(OR(PM.9=\"\",BCFR.9=\"-\",Tipo.9=\"METAL\"),\"-\",(Cf.SoloSup.9*BCFR.9))","v":"-"}]
[null,10,{"$f":"SQI!$D18","v":0},{"$f":"SQI!C18","v":""},{"$f":"IF(PM.10=\"\",\"-\",x)","v":"-"},null,null,null,{"$f":"IF(FT!W17=0,\"-\",FT!W17)","v":"-"},null,"-","",{"$f":"IF(OR(PM.10=\"\",FT!O17=\"-\"),\"-\",G20*FT!O17*1)","v":"-"},{"$f":"IF(OR(PM.10=\"\",FT!P17=\"-\"),\"-\",G20*FT!P17*1)","v":"-"},{"$f":"IF(OR(PM.10=\"\",FT!R17=\"-\"),\"-\",H20*FT!R17*1)","v":"-"},{"$f":"IF(OR(PM.10=\"\",FT!S17=\"-\"),\"-\",H20*FT!S17*1)","v":"-"},{"$f":"IF(OR(PM.10=\"\",FT!Q17=\"-\"),\"-\",G20*FT!Q17*10^-3)","v":"-"},{"$f":"IF(OR(PM.10=\"\",U20=\"-\",FT!R17=\"-\"),\"-\",U20*FT!R17*1)","v":"-"},{"$f":"IF(OR(PM.10=\"\",FT!S17=\"-\",U20=\"-\"),\"-\",U20*FT!S17*1)","v":"-"},{"$f":"IF(OR(PM.10=\"\",DAF.10=\"-\",Q20=\"-\"),\"-\",Q20*DAF.10)","v":"-"},{"$f":"IF(OR(PM.10=\"\",DAF.10=\"-\"),\"-\",H20*DAF.10)","v":"-"},"-",{"$f":"IF(OR(PM.10=\"\",BCF.10=\"-\",Tipo.10<>\"METAL\"),\"-\",((BCF.10*Cf.SoloSup.10)/frkveg))","v":"-"},{"$f":"IF(OR(PM.10=\"\",BCFF.10=\"-\",Tipo.10<>\"METAL\"),\"-\",((BCFF.10*Cf.SoloSup.10+Cdp.10)/frbveg))","v":"-"},{"$f":"IF(OR(PM.10=\"\",cpw.10=\"-\",Tipo.10=\"METAL\",tscf.10=\"-\",a.10=\"-\"),\"-\",(((cpw.10*tscf.10*Qveg)/(pplantveg*a.10*Vlveg))+Cdp.10*fdwsveg))","v":"-"},{"$f":"IF(OR(PM.10=\"\",pw.10=\"-\",Tipo.10=\"METAL\"),\"-\",((Cf.SoloSup.10*ps*pw.10)/Vwveg))","v":"-"},{"$f":"IF(OR(PM.10=\"\",BCFR.10=\"-\",Tipo.10=\"METAL\"),\"-\",(Cf.SoloSup.10*BCFR.10))","v":"-"}]
[null,11,{"$f":"SQI!$D19","v":0},{"$f":"SQI!C19","v":""},{"$f":"IF(PM.11=\"\",\"-\",x)","v":"-"},null,null,null,{"$f":"IF(FT!W18=0,\"-\",FT!W18)","v":"-"},null,"-","",{"$f":"IF(OR(PM.11=\"\",FT!O18=\"-\"),\"-\",G21*FT!O18*1)","v":"-"},{"$f":"IF(OR(PM.11=\"\",FT!P18=\"-\"),\"-\",G21*FT!P18*1)","v":"-"},{"$f":"IF(OR(PM.11=\"\",FT!R18=\"-\"),\"-\",H21*FT!R18*1)","v":"-"},{"$f":"IF(OR(PM.11=\"\",FT!S18=\"-\"),\"-\",H21*FT!S18*1)","v":"-"},{"$f":"IF(OR(PM.11=\"\",FT!Q18=\"-\"),\"-\",G21*FT!Q18*10^-3)","v":"-"},{"$f":"IF(OR(PM.11=\"\",U21=\"-\",FT!R18=\"-\"),\"-\",U21*FT!R18*1)","v":"-"},{"$f":"IF(OR(PM.11=\"\",FT!S18=\"-\",U21=\"-\"),\"-\",U21*FT!S18*1)","v":"-"},{"$f":"IF(OR(PM.11=\"\",DAF.11=\"-\",Q21=\"-\"),\"-\",Q21*DAF.11)","v":"-"},{"$f":"IF(OR(PM.11=\"\",DAF.11=\"-\"),\"-\",H21*DAF.11)","v":"-"},"-",{"$f":"IF(OR(PM.11=\"\",BCF.11=\"-\",Tipo.11<>\"METAL\"),\"-\",((BCF.11*Cf.SoloSup.11)/frkveg))","v":"-"},{"$f":"IF(OR(PM.11=\"\",BCFF.11=\"-\",Tipo.11<>\"METAL\"),\"-\",((BCFF.11*Cf.SoloSup.11+Cdp.11)/frbveg))","v":"-"},{"$f":"IF(OR(PM.11=\"\",cpw.11=\"-\",Tipo.11=\"METAL\",tscf.11=\"-\",a.11=\"-\"),\"-\",(((cpw.11*tscf.11*Qveg)/(pplantveg*a.11*Vlveg))+Cdp.11*fdwsveg))","v":"-"},{"$f":"IF(OR(PM.11=\"\",pw.11=\"-\",Tipo.11=\"METAL\"),\"-\",((Cf.SoloSup.11*ps*pw.11)/Vwveg))","v":"-"},{"$f":"IF(OR(PM.11=\"\",BCFR.11=\"-\",Tipo.11=\"METAL\"),\"-\",(Cf.SoloSup.11*BCFR.11))","v":"-"}]
[null,12,{"$f":"SQI!$D20","v":0},{"$f":"SQI!C20","v":""},{"$f":"IF(PM.12=\"\",\"-\",x)","v":"-"},null,null,null,{"$f":"IF(FT!W19=0,\"-\",FT!W19)","v":"-"},null,"-","",{"$f":"IF(OR(PM.12=\"\",FT!O19=\"-\"),\"-\",G22*FT!O19*1)","v":"-"},{"$f":"IF(OR(PM.12=\"\",FT!P19=\"-\"),\"-\",G22*FT!P19*1)","v":"-"},{"$f":"IF(OR(PM.12=\"\",FT!R19=\"-\"),\"-\",H22*FT!R19*1)","v":"-"},{"$f":"IF(OR(PM.12=\"\",FT!S19=\"-\"),\"-\",H22*FT!S19*1)","v":"-"},{"$f":"IF(OR(PM.12=\"\",FT!Q19=\"-\"),\"-\",G22*FT!Q19*10^-3)","v":"-"},{"$f":"IF(OR(PM.12=\"\",U22=\"-\",FT!R19=\"-\"),\"-\",U22*FT!R19*1)","v":"-"},{"$f":"IF(OR(PM.12=\"\",FT!S19=\"-\",U22=\"-\"),\"-\",U22*FT!S19*1)","v":"-"},{"$f":"IF(OR(PM.12=\"\",DAF.12=\"-\",Q22=\"-\"),\"-\",Q22*DAF.12)","v":"-"},{"$f":"IF(OR(PM.12=\"\",DAF.12=\"-\"),\"-\",H22*DAF.12)","v":"-"},"-",{"$f":"IF(OR(PM.12=\"\",BCF.12=\"-\",Tipo.12<>\"METAL\"),\"-\",((BCF.12*Cf.SoloSup.12)/frkveg))","v":"-"},{"$f":"IF(OR(PM.12=\"\",BCFF.12=\"-\",Tipo.12<>\"METAL\"),\"-\",((BCFF.12*Cf.SoloSup.12+Cdp.12)/frbveg))","v":"-"},{"$f":"IF(OR(PM.12=\"\",cpw.12=\"-\",Tipo.12=\"METAL\",tscf.12=\"-\",a.12=\"-\"),\"-\",(((cpw.12*tscf.12*Qveg)/(pplantveg*a.12*Vlveg))+Cdp.12*fdwsveg))","v":"-"},{"$f":"IF(OR(PM.12=\"\",pw.12=\"-\",Tipo.12=\"METAL\"),\"-\",((Cf.SoloSup.12*ps*pw.12)/Vwveg))","v":"-"},{"$f":"IF(OR(PM.12=\"\",BCFR.12=\"-\",Tipo.12=\"METAL\"),\"-\",(Cf.SoloSup.12*BCFR.12))","v":"-"}]
[null,13,{"$f":"SQI!$D21","v":0},{"$f":"SQI!C21","v":""},{"$f":"IF(PM.13=\"\",\"-\",x)","v":"-"},null,null,null,{"$f":"IF(FT!W20=0,\"-\",FT!W20)","v":"-"},null,"-","",{"$f":"IF(OR(PM.13=\"\",FT!O20=\"-\"),\"-\",G23*FT!O20*1)","v":"-"},{"$f":"IF(OR(PM.13=\"\",FT!P20=\"-\"),\"-\",G23*FT!P20*1)","v":"-"},{"$f":"IF(OR(PM.13=\"\",FT!R20=\"-\"),\"-\",H23*FT!R20*1)","v":"-"},{"$f":"IF(OR(PM.13=\"\",FT!S20=\"-\"),\"-\",H23*FT!S20*1)","v":"-"},{"$f":"IF(OR(PM.13=\"\",FT!Q20=\"-\"),\"-\",G23*FT!Q20*10^-3)","v":"-"},{"$f":"IF(OR(PM.13=\"\",U23=\"-\",FT!R20=\"-\"),\"-\",U23*FT!R20*1)","v":"-"},{"$f":"IF(OR(PM.13=\"\",FT!S20=\"-\",U23=\"-\"),\"-\",U23*FT!S20*1)","v":"-"},{"$f":"IF(OR(PM.13=\"\",DAF.13=\"-\",Q23=\"-\"),\"-\",Q23*DAF.13)","v":"-"},{"$f":"IF(OR(PM.13=\"\",DAF.13=\"-\"),\"-\",H23*DAF.13)","v":"-"},"-",{"$f":"IF(OR(PM.13=\"\",BCF.13=\"-\",Tipo.13<>\"METAL\"),\"-\",((BCF.13*Cf.SoloSup.13)/frkveg))","v":"-"},{"$f":"IF(OR(PM.13=\"\",BCFF.13=\"-\",Tipo.13<>\"METAL\"),\"-\",((BCFF.13*Cf.SoloSup.13+Cdp.13)/frbveg))","v":"-"},{"$f":"IF(OR(PM.13=\"\",cpw.13=\"-\",Tipo.13=\"METAL\",tscf.13=\"-\",a.13=\"-\"),\"-\",(((cpw.13*tscf.13*Qveg)/(pplantveg*a.13*Vlveg))+Cdp.13*fdwsveg))","v":"-"},{"$f":"IF(OR(PM.13=\"\",pw.13=\"-\",Tipo.13=\"METAL\"),\"-\",((Cf.SoloSup.13*ps*pw.13)/Vwveg))","v":"-"},{"$f":"IF(OR(PM.13=\"\",BCFR.13=\"-\",Tipo.13=\"METAL\"),\"-\",(Cf.SoloSup.13*BCFR.13))","v":"-"}]
[null,14,{"$f":"SQI!$D22","v":0},{"$f":"SQI!C22","v":""},{"$f":"IF(PM.14=\"\",\"-\",x)","v":"-"},null,null,null,{"$f":"IF(FT!W21=0,\"-\",FT!W21)","v":"-"},null,"-","",{"$f":"IF(OR(PM.14=\"\",FT!O21=\"-\"),\"-\",G24*FT!O21*1)","v":"-"},{"$f":"IF(OR(PM.14=\"\",FT!P21=\"-\"),\"-\",G24*FT!P21*1)","v":"-"},{"$f":"IF(OR(PM.14=\"\",FT!R21=\"-\"),\"-\",H24*FT!R21*1)","v":"-"},{"$f":"IF(OR(PM.14=\"\",FT!S21=\"-\"),\"-\",H24*FT!S21*1)","v":"-"},{"$f":"IF(OR(PM.14=\"\",FT!Q21=\"-\"),\"-\",G24*FT!Q21*10^-3)","v":"-"},{"$f":"IF(OR(PM.14=\"\",U24=\"-\",FT!R21=\"-\"),\"-\",U24*FT!R21*1)","v":"-"},{"$f":"IF(OR(PM.14=\"\",FT!S21=\"-\",U24=\"-\"),\"-\",U24*FT!S21*1)","v":"-"},{"$f":"IF(OR(PM.14=\"\",DAF.14=\"-\",Q24=\"-\"),\"-\",Q24*DAF.14)","v":"-"},{"$f":"IF(OR(PM.14=\"\",DAF.14=\"-\"),\"-\",H24*DAF.14)","v":"-"},"-",{"$f":"IF(OR(PM.14=\"\",BCF.14=\"-\",Tipo.14<>\"METAL\"),\"-\",((BCF.14*Cf.SoloSup.14)/frkveg))","v":"-"},{"$f":"IF(OR(PM.14=\"\",BCFF.14=\"-\",Tipo.14<>\"METAL\"),\"-\",((BCFF.14*Cf.SoloSup.14+Cdp.14)/frbveg))","v":"-"},{"$f":"IF(OR(PM.14=\"\",cpw.14=\"-\",Tipo.14=\"METAL\",tscf.14=\"-\",a.14=\"-\"),\"-\",(((cpw.14*tscf.14*Qveg)/(pplantveg*a.14*Vlveg))+Cdp.14*fdwsveg))","v":"-"},{"$f":"IF(OR(PM.14=\"\",pw.14=\"-\",Tipo.14=\"METAL\"),\"-\",((Cf.SoloSup.14*ps*pw.14)/Vwveg))","v":"-"},{"$f":"IF(OR(PM.14=\"\",BCFR.14=\"-\",Tipo.14=\"METAL\"),\"-\",(Cf.SoloSup.14*BCFR.14))","v":"-"}]
[null,15,{"$f":"SQI!$D23","v":0},{"$f":"SQI!C23","v":""},{"$f":"IF(PM.15=\"\",\"-\",x)","v":"-"},null,null,null,{"$f":"IF(FT!W22=0,\"-\",FT!W22)","v":"-"},null,"-","",{"$f":"IF(OR(PM.15=\"\",FT!O22=\"-\"),\"-\",G25*FT!O22*1)","v":"-"},{"$f":"IF(OR(PM.15=\"\",FT!P22=\"-\"),\"-\",G25*FT!P22*1)","v":"-"},{"$f":"IF(OR(PM.15=\"\",FT!R22=\"-\"),\"-\",H25*FT!R22*1)","v":"-"},{"$f":"IF(OR(PM.15=\"\",FT!S22=\"-\"),\"-\",H25*FT!S22*1)","v":"-"},{"$f":"IF(OR(PM.15=\"\",FT!Q22=\"-\"),\"-\",G25*FT!Q22*10^-3)","v":"-"},{"$f":"IF(OR(PM.15=\"\",U25=\"-\",FT!R22=\"-\"),\"-\",U25*FT!R22*1)","v":"-"},{"$f":"IF(OR(PM.15=\"\",FT!S22=\"-\",U25=\"-\"),\"-\",U25*FT!S22*1)","v":"-"},{"$f":"IF(OR(PM.15=\"\",DAF.15=\"-\",Q25=\"-\"),\"-\",Q25*DAF.15)","v":"-"},{"$f":"IF(OR(PM.15=\"\",DAF.15=\"-\"),\"-\",H25*DAF.15)","v":"-"},"-",{"$f":"IF(OR(PM.15=\"\",BCF.15=\"-\",Tipo.15<>\"METAL\"),\"-\",((BCF.15*Cf.SoloSup.15)/frkveg))","v":"-"},{"$f":"IF(OR(PM.15=\"\",BCFF.15=\"-\",Tipo.15<>\"METAL\"),\"-\",((BCFF.15*Cf.SoloSup.15+Cdp.15)/frbveg))","v":"-"},{"$f":"IF(OR(PM.15=\"\",cpw.15=\"-\",Tipo.15=\"METAL\",tscf.15=\"-\",a.15=\"-\"),\"-\",(((cpw.15*tscf.15*Qveg)/(pplantveg*a.15*Vlveg))+Cdp.15*fdwsveg))","v":"-"},{"$f":"IF(OR(PM.15=\"\",pw.15=\"-\",Tipo.15=\"METAL\"),\"-\",((Cf.SoloSup.15*ps*pw.15)/Vwveg))","v":"-"},{"$f":"IF(OR(PM.15=\"\",BCFR.15=\"-\",Tipo.15=\"METAL\"),\"-\",(Cf.SoloSup.15*BCFR.15))","v":"-"}]
[null,16,{"$f":"SQI!$D24","v":0},{"$f":"SQI!C24","v":""},{"$f":"IF(PM.16=\"\",\"-\",x)","v":"-"},null,null,null,{"$f":"IF(FT!W23=0,\"-\",FT!W23)","v":"-"},null,"-","",{"$f":"IF(OR(PM.16=\"\",FT!O23=\"-\"),\"-\",G26*FT!O23*1)","v":"-"},{"$f":"IF(OR(PM.16=\"\",FT!P23=\"-\"),\"-\",G26*FT!P23*1)","v":"-"},{"$f":"IF(OR(PM.16=\"\",FT!R23=\"-\"),\"-\",H26*FT!R23*1)","v":"-"},{"$f":"IF(OR(PM.16=\"\",FT!S23=\"-\"),\"-\",H26*FT!S23*1)","v":"-"},{"$f":"IF(OR(PM.16=\"\",FT!Q23=\"-\"),\"-\",G26*FT!Q23*10^-3)","v":"-"},{"$f":"IF(OR(PM.16=\"\",U26=\"-\",FT!R23=\"-\"),\"-\",U26*FT!R23*1)","v":"-"},{"$f":"IF(OR(PM.16=\"\",FT!S23=\"-\",U26=\"-\"),\"-\",U26*FT!S23*1)","v":"-"},{"$f":"IF(OR(PM.16=\"\",DAF.16=\"-\",Q26=\"-\"),\"-\",Q26*DAF.16)","v":"-"},{"$f":"IF(OR(PM.16=\"\",DAF.16=\"-\"),\"-\",H26*DAF.16)","v":"-"},"-",{"$f":"IF(OR(PM.16=\"\",BCF.16=\"-\",Tipo.16<>\"METAL\"),\"-\",((BCF.16*Cf.SoloSup.16)/frkveg))","v":"-"},{"$f":"IF(OR(PM.16=\"\",BCFF.16=\"-\",Tipo.16<>\"METAL\"),\"-\",((BCFF.16*Cf.SoloSup.16+Cdp.16)/frbveg))","v":"-"},{"$f":"IF(OR(PM.16=\"\",cpw.16=\"-\",Tipo.16=\"METAL\",tscf.16=\"-\",a.16=\"-\"),\"-\",(((cpw.16*tscf.16*Qveg)/(pplantveg*a.16*Vlveg))+Cdp.16*fdwsveg))","v":"-"},{"$f":"IF(OR(PM.16=\"\",pw.16=\"-\",Tipo.16=\"METAL\"),\"-\",((Cf.SoloSup.16*ps*pw.16)/Vwveg))","v":"-"},{"$f":"IF(OR(PM.16=\"\",BCFR.16=\"-\",Tipo.16=\"METAL\"),\"-\",(Cf.SoloSup.16*BCFR.16))","v":"-"}]
[null,17,{"$f":"SQI!$D25","v":0},{"$f":"SQI!C25","v":""},{"$f":"IF(PM.17=\"\",\"-\",x)","v":"-"},null,null,null,{"$f":"IF(FT!W24=0,\"-\",FT!W24)","v":"-"},null,"-","",{"$f":"IF(OR(PM.17=\"\",FT!O24=\"-\"),\"-\",G27*FT!O24*1)","v":"-"},{"$f":"IF(OR(PM.17=\"\",FT!P24=\"-\"),\"-\",G27*FT!P24*1)","v":"-"},{"$f":"IF(OR(PM.17=\"\",FT!R24=\"-\"),\"-\",H27*FT!R24*1)","v":"-"},{"$f":"IF(OR(PM.17=\"\",FT!S24=\"-\"),\"-\",H27*FT!S24*1)","v":"-"},{"$f":"IF(OR(PM.17=\"\",FT!Q24=\"-\"),\"-\",G27*FT!Q24*10^-3)","v":"-"},{"$f":"IF(OR(PM.17=\"\",U27=\"-\",FT!R24=\"-\"),\"-\",U27*FT!R24*1)","v":"-"},{"$f":"IF(OR(PM.17=\"\",FT!S24=\"-\",U27=\"-\"),\"-\",U27*FT!S24*1)","v":"-"},{"$f":"IF(OR(PM.17=\"\",DAF.17=\"-\",Q27=\"-\"),\"-\",Q27*DAF.17)","v":"-"},{"$f":"IF(OR(PM.17=\"\",DAF.17=\"-\"),\"-\",H27*DAF.17)","v":"-"},"-",{"$f":"IF(OR(PM.17=\"\",BCF.17=\"-\",Tipo.17<>\"METAL\"),\"-\",((BCF.17*Cf.SoloSup.17)/frkveg))","v":"-"},{"$f":"IF(OR(PM.17=\"\",BCFF.17=\"-\",Tipo.17<>\"METAL\"),\"-\",((BCFF.17*Cf.SoloSup.17+Cdp.17)/frbveg))","v":"-"},{"$f":"IF(OR(PM.17=\"\",cpw.17=\"-\",Tipo.17=\"METAL\",tscf.17=\"-\",a.17=\"-\"),\"-\",(((cpw.17*tscf.17*Qveg)/(pplantveg*a.17*Vlveg))+Cdp.17*fdwsveg))","v":"-"},{"$f":"IF(OR(PM.17=\"\",pw.17=\"-\",Tipo.17=\"METAL\"),\"-\",((Cf.SoloSup.17*ps*pw.17)/Vwveg))","v":"-"},{"$f":"IF(OR(PM.17=\"\",BCFR.17=\"-\",Tipo.17=\"METAL\"),\"-\",(Cf.SoloSup.17*BCFR.17))","v":"-"}]
[null,18,{"$f":"SQI!$D26","v":0},{"$f":"SQI!C26","v":""},{"$f":"IF(PM.18=\"\",\"-\",x)","v":"-"},null,null,null,{"$f":"IF(FT!W25=0,\"-\",FT!W25)","v":"-"},null,"-","",{"$f":"IF(OR(PM.18=\"\",FT!O25=\"-\"),\"-\",G28*FT!O25*1)","v":"-"},{"$f":"IF(OR(PM.18=\"\",FT!P25=\"-\"),\"-\",G28*FT!P25*1)","v":"-"},{"$f":"IF(OR(PM.18=\"\",FT!R25=\"-\"),\"-\",H28*FT!R25*1)","v":"-"},{"$f":"IF(OR(PM.18=\"\",FT!S25=\"-\"),\"-\",H28*FT!S25*1)","v":"-"},{"$f":"IF(OR(PM.18=\"\",FT!Q25=\"-\"),\"-\",G28*FT!Q25*10^-3)","v":"-"},{"$f":"IF(OR(PM.18=\"\",U28=\"-\",FT!R25=\"-\"),\"-\",U28*FT!R25*1)","v":"-"},{"$f":"IF(OR(PM.18=\"\",FT!S25=\"-\",U28=\"-\"),\"-\",U28*FT!S25*1)","v":"-"},{"$f":"IF(OR(PM.18=\"\",DAF.18=\"-\",Q28=\"-\"),\"-\",Q28*DAF.18)","v":"-"},{"$f":"IF(OR(PM.18=\"\",DAF.18=\"-\"),\"-\",H28*DAF.18)","v":"-"},"-",{"$f":"IF(OR(PM.18=\"\",BCF.18=\"-\",Tipo.18<>\"METAL\"),\"-\",((BCF.18*Cf.SoloSup.18)/frkveg))","v":"-"},{"$f":"IF(OR(PM.18=\"\",BCFF.18=\"-\",Tipo.18<>\"METAL\"),\"-\",((BCFF.18*Cf.SoloSup.18+Cdp.18)/frbveg))","v":"-"},{"$f":"IF(OR(PM.18=\"\",cpw.18=\"-\",Tipo.18=\"METAL\",tscf.18=\"-\",a.18=\"-\"),\"-\",(((cpw.18*tscf.18*Qveg)/(pplantveg*a.18*Vlveg))+Cdp.18*fdwsveg))","v":"-"},{"$f":"IF(OR(PM.18=\"\",pw.18=\"-\",Tipo.18=\"METAL\"),\"-\",((Cf.SoloSup.18*ps*pw.18)/Vwveg))","v":"-"},{"$f":"IF(OR(PM.18=\"\",BCFR.18=\"-\",Tipo.18=\"METAL\"),\"-\",(Cf.SoloSup.18*BCFR.18))","v":"-"}]
[null,19,{"$f":"SQI!$D27","v":0},{"$f":"SQI!C27","v":""},{"$f":"IF(PM.19=\"\",\"-\",x)","v":"-"},null,null,null,{"$f":"IF(FT!W26=0,\"-\",FT!W26)","v":"-"},null,"-","",{"$f":"IF(OR(PM.19=\"\",FT!O26=\"-\"),\"-\",G29*FT!O26*1)","v":"-"},{"$f":"IF(OR(PM.19=\"\",FT!P26=\"-\"),\"-\",G29*FT!P26*1)","v":"-"},{"$f":"IF(OR(PM.19=\"\",FT!R26=\"-\"),\"-\",H29*FT!R26*1)","v":"-"},{"$f":"IF(OR(PM.19=\"\",FT!S26=\"-\"),\"-\",H29*FT!S26*1)","v":"-"},{"$f":"IF(OR(PM.19=\"\",FT!Q26=\"-\"),\"-\",G29*FT!Q26*10^-3)","v":"-"},{"$f":"IF(OR(PM.19=\"\",U29=\"-\",FT!R26=\"-\"),\"-\",U29*FT!R26*1)","v":"-"},{"$f":"IF(OR(PM.19=\"\",FT!S26=\"-\",U29=\"-\"),\"-\",U29*FT!S26*1)","v":"-"},{"$f":"IF(OR(PM.19=\"\",DAF.19=\"-\",Q29=\"-\"),\"-\",Q29*DAF.19)","v":"-"},{"$f":"IF(OR(PM.19=\"\",DAF.19=\"-\"),\"-\",H29*DAF.19)","v":"-"},"-",{"$f":"IF(OR(PM.19=\"\",BCF.19=\"-\",Tipo.19<>\"METAL\"),\"-\",((BCF.19*Cf.SoloSup.19)/frkveg))","v":"-"},{"$f":"IF(OR(PM.19=\"\",BCFF.19=\"-\",Tipo.19<>\"METAL\"),\"-\",((BCFF.19*Cf.SoloSup.19+Cdp.19)/frbveg))","v":"-"},{"$f":"IF(OR(PM.19=\"\",cpw.19=\"-\",Tipo.19=\"METAL\",tscf.19=\"-\",a.19=\"-\"),\"-\",(((cpw.19*tscf.19*Qveg)/(pplantveg*a.19*Vlveg))+Cdp.19*fdwsveg))","v":"-"},{"$f":"IF(OR(PM.19=\"\",pw.19=\"-\",Tipo.19=\"METAL\"),\"-\",((Cf.SoloSup.19*ps*pw.19)/Vwveg))","v":"-"},{"$f":"IF(OR(PM.19=\"\",BCFR.19=\"-\",Tipo.19=\"METAL\"),\"-\",(Cf.SoloSup.19*BCFR.19))","v":"-"}]
[null,20,{"$f":"SQI!$D28","v":0},{"$f":"SQI!C28","v":""},{"$f":"IF(PM.20=\"\",\"-\",x)","v":"-"},null,null,null,{"$f":"IF(FT!W27=0,\"-\",FT!W27)","v":"-"},null,"-","",{"$f":"IF(OR(PM.20=\"\",FT!O27=\"-\"),\"-\",G30*FT!O27*1)","v":"-"},{"$f":"IF(OR(PM.20=\"\",FT!P27=\"-\"),\"-\",G30*FT!P27*1)","v":"-"},{"$f":"IF(OR(PM.20=\"\",FT!R27=\"-\"),\"-\",H30*FT!R27*1)","v":"-"},{"$f":"IF(OR(PM.20=\"\",FT!S27=\"-\"),\"-\",H30*FT!S27*1)","v":"-"},{"$f":"IF(OR(PM.20=\"\",FT!Q27=\"-\"),\"-\",G30*FT!Q27*10^-3)","v":"-"},{"$f":"IF(OR(PM.20=\"\",U30=\"-\",FT!R27=\"-\"),\"-\",U30*FT!R27*1)","v":"-"},{"$f":"IF(OR(PM.20=\"\",FT!S27=\"-\",U30=\"-\"),\"-\",U30*FT!S27*1)","v":"-"},{"$f":"IF(OR(PM.20=\"\",DAF.20=\"-\",Q30=\"-\"),\"-\",Q30*DAF.20)","v":"-"},{"$f":"IF(OR(PM.20=\"\",DAF.20=\"-\"),\"-\",H30*DAF.20)","v":"-"},"-",{"$f":"IF(OR(PM.20=\"\",BCF.20=\"-\",Tipo.20<>\"METAL\"),\"-\",((BCF.20*Cf.SoloSup.20)/frkveg))","v":"-"},{"$f":"IF(OR(PM.20=\"\",BCFF.20=\"-\",Tipo.20<>\"METAL\"),\"-\",((BCFF.20*Cf.SoloSup.20+Cdp.20)/frbveg))","v":"-"},{"$f":"IF(OR(PM.20=\"\",cpw.20=\"-\",Tipo.20=\"METAL\",tscf.20=\"-\",a.20=\"-\"),\"-\",(((cpw.20*tscf.20*Qveg)/(pplantveg*a.20*Vlveg))+Cdp.20*fdwsveg))","v":"-"},{"$f":"IF(OR(PM.20=\"\",pw.20=\"-\",Tipo.20=\"METAL\"),\"-\",((Cf.SoloSup.20*ps*pw.20)/Vwveg))","v":"-"},{"$f":"IF(OR(PM.20=\"\",BCFR.20=\"-\",Tipo.20=\"METAL\"),\"-\",(Cf.SoloSup.20*BCFR.20))","v":"-"}]
[null,21,{"$f":"SQI!$D29","v":0},{"$f":"SQI!C29","v":""},{"$f":"IF(PM.21=\"\",\"-\",x)","v":"-"},null,null,null,{"$f":"IF(FT!W28=0,\"-\",FT!W28)","v":"-"},null,"-","",{"$f":"IF(OR(PM.21=\"\",FT!O28=\"-\"),\"-\",G31*FT!O28*1)","v":"-"},{"$f":"IF(OR(PM.21=\"\",FT!P28=\"-\"),\"-\",G31*FT!P28*1)","v":"-"},{"$f":"IF(OR(PM.21=\"\",FT!R28=\"-\"),\"-\",H31*FT!R28*1)","v":"-"},{"$f":"IF(OR(PM.21=\"\",FT!S28=\"-\"),\"-\",H31*FT!S28*1)","v":"-"},{"$f":"IF(OR(PM.21=\"\",FT!Q28=\"-\"),\"-\",G31*FT!Q28*10^-3)","v":"-"},{"$f":"IF(OR(PM.21=\"\",U31=\"-\",FT!R28=\"-\"),\"-\",U31*FT!R28*1)","v":"-"},{"$f":"IF(OR(PM.21=\"\",FT!S28=\"-\",U31=\"-\"),\"-\",U31*FT!S28*1)","v":"-"},{"$f":"IF(OR(PM.21=\"\",DAF.21=\"-\",Q31=\"-\"),\"-\",Q31*DAF.21)","v":"-"},{"$f":"IF(OR(PM.21=\"\",DAF.21=\"-\"),\"-\",H31*DAF.21)","v":"-"},"-",{"$f":"IF(OR(PM.21=\"\",BCF.21=\"-\",Tipo.21<>\"METAL\"),\"-\",((BCF.21*Cf.SoloSup.21)/frkveg))","v":"-"},{"$f":"IF(OR(PM.21=\"\",BCFF.21=\"-\",Tipo.21<>\"METAL\"),\"-\",((BCFF.21*Cf.SoloSup.21+Cdp.21)/frbveg))","v":"-"},{"$f":"IF(OR(PM.21=\"\",cpw.21=\"-\",Tipo.21=\"METAL\",tscf.21=\"-\",a.21=\"-\"),\"-\",(((cpw.21*tscf.21*Qveg)/(pplantveg*a.21*Vlveg))+Cdp.21*fdwsveg))","v":"-"},{"$f":"IF(OR(PM.21=\"\",pw.21=\"-\",Tipo.21=\"METAL\"),\"-\",((Cf.SoloSup.21*ps*pw.21)/Vwveg))","v":"-"},{"$f":"IF(OR(PM.21=\"\",BCFR.21=\"-\",Tipo.21=\"METAL\"),\"-\",(Cf.SoloSup.21*BCFR.21))","v":"-"}]
[null,22,{"$f":"SQI!$D30","v":0},{"$f":"SQI!C30","v":""},{"$f":"IF(PM.22=\"\",\"-\",x)","v":"-"},null,null,null,{"$f":"IF(FT!W29=0,\"-\",FT!W29)","v":"-"},null,"-","",{"$f":"IF(OR(PM.22=\"\",FT!O29=\"-\"),\"-\",G32*FT!O29*1)","v":"-"},{"$f":"IF(OR(PM.22=\"\",FT!P29=\"-\"),\"-\",G32*FT!P29*1)","v":"-"},{"$f":"IF(OR(PM.22=\"\",FT!R29=\"-\"),\"-\",H32*FT!R29*1)","v":"-"},{"$f":"IF(OR(PM.22=\"\",FT!S29=\"-\"),\"-\",H32*FT!S29*1)","v":"-"},{"$f":"IF(OR(PM.22=\"\",FT!Q29=\"-\"),\"-\",G32*FT!Q29*10^-3)","v":"-"},{"$f":"IF(OR(PM.22=\"\",U32=\"-\",FT!R29=\"-\"),\"-\",U32*FT!R29*1)","v":"-"},{"$f":"IF(OR(PM.22=\"\",FT!S29=\"-\",U32=\"-\"),\"-\",U32*FT!S29*1)","v":"-"},{"$f":"IF(OR(PM.22=\"\",DAF.22=\"-\",Q32=\"-\"),\"-\",Q32*DAF.22)","v":"-"},{"$f":"IF(OR(PM.22=\"\",DAF.22=\"-\"),\"-\",H32*DAF.22)","v":"-"},"-",{"$f":"IF(OR(PM.22=\"\",BCF.22=\"-\",Tipo.22<>\"METAL\"),\"-\",((BCF.22*Cf.SoloSup.22)/frkveg))","v":"-"},{"$f":"IF(OR(PM.22=\"\",BCFF.22=\"-\",Tipo.22<>\"METAL\"),\"-\",((BCFF.22*Cf.SoloSup.22+Cdp.22)/frbveg))","v":"-"},{"$f":"IF(OR(PM.22=\"\",cpw.22=\"-\",Tipo.22=\"METAL\",tscf.22=\"-\",a.22=\"-\"),\"-\",(((cpw.22*tscf.22*Qveg)/(pplantveg*a.22*Vlveg))+Cdp.22*fdwsveg))","v":"-"},{"$f":"IF(OR(PM.22=\"\",pw.22=\"-\",Tipo.22=\"METAL\"),\"-\",((Cf.SoloSup.22*ps*pw.22)/Vwveg))","v":"-"},{"$f":"IF(OR(PM.22=\"\",BCFR.22=\"-\",Tipo.22=\"METAL\"),\"-\",(Cf.SoloSup.22*BCFR.22))","v":"-"}]
[null,23,{"$f":"SQI!$D31","v":0},{"$f":"SQI!C31","v":""},{"$f":"IF(PM.23=\"\",\"-\",x)","v":"-"},null,null,null,{"$f":"IF(FT!W30=0,\"-\",FT!W30)","v":"-"},null,"-","",{"$f":"IF(OR(PM.23=\"\",FT!O30=\"-\"),\"-\",G33*FT!O30*1)","v":"-"},{"$f":"IF(OR(PM.23=\"\",FT!P30=\"-\"),\"-\",G33*FT!P30*1)","v":"-"},{"$f":"IF(OR(PM.23=\"\",FT!R30=\"-\"),\"-\",H33*FT!R30*1)","v":"-"},{"$f":"IF(OR(PM.23=\"\",FT!S30=\"-\"),\"-\",H33*FT!S30*1)","v":"-"},{"$f":"IF(OR(PM.23=\"\",FT!Q30=\"-\"),\"-\",G33*FT!Q30*10^-3)","v":"-"},{"$f":"IF(OR(PM.23=\"\",U33=\"-\",FT!R30=\"-\"),\"-\",U33*FT!R30*1)","v":"-"},{"$f":"IF(OR(PM.23=\"\",FT!S30=\"-\",U33=\"-\"),\"-\",U33*FT!S30*1)","v":"-"},{"$f":"IF(OR(PM.23=\"\",DAF.23=\"-\",Q33=\"-\"),\"-\",Q33*DAF.23)","v":"-"},{"$f":"IF(OR(PM.23=\"\",DAF.23=\"-\"),\"-\",H33*DAF.23)","v":"-"},"-",{"$f":"IF(OR(PM.23=\"\",BCF.23=\"-\",Tipo.23<>\"METAL\"),\"-\",((BCF.23*Cf.SoloSup.23)/frkveg))","v":"-"},{"$f":"IF(OR(PM.23=\"\",BCFF.23=\"-\",Tipo.23<>\"METAL\"),\"-\",((BCFF.23*Cf.SoloSup.23+Cdp.23)/frbveg))","v":"-"},{"$f":"IF(OR(PM.23=\"\",cpw.23=\"-\",Tipo.23=\"METAL\",tscf.23=\"-\",a.23=\"-\"),\"-\",(((cpw.23*tscf.23*Qveg)/(pplantveg*a.23*Vlveg))+Cdp.23*fdwsveg))","v":"-"},{"$f":"IF(OR(PM.23=\"\",pw.23=\"-\",Tipo.23=\"METAL\"),\"-\",((Cf.SoloSup.23*ps*pw.23)/Vwveg))","v":"-"},{"$f":"IF(OR(PM.23=\"\",BCFR.23=\"-\",Tipo.23=\"METAL\"),\"-\",(Cf.SoloSup.23*BCFR.23))","v":"-"}]
[null,24,{"$f":"SQI!$D32","v":0},{"$f":"SQI!C32","v":""},{"$f":"IF(PM.24=\"\",\"-\",x)","v":"-"},null,null,null,{"$f":"IF(FT!W31=0,\"-\",FT!W31)","v":"-"},null,"-","",{"$f":"IF(OR(PM.24=\"\",FT!O31=\"-\"),\"-\",G34*FT!O31*1)","v":"-"},{"$f":"IF(OR(PM.24=\"\",FT!P31=\"-\"),\"-\",G34*FT!P31*1)","v":"-"},{"$f":"IF(OR(PM.24=\"\",FT!R31=\"-\"),\"-\",H34*FT!R31*1)","v":"-"},{"$f":"IF(OR(PM.24=\"\",FT!S31=\"-\"),\"-\",H34*FT!S31*1)","v":"-"},{"$f":"IF(OR(PM.24=\"\",FT!Q31=\"-\"),\"-\",G34*FT!Q31*10^-3)","v":"-"},{"$f":"IF(OR(PM.24=\"\",U34=\"-\",FT!R31=\"-\"),\"-\",U34*FT!R31*1)","v":"-"},{"$f":"IF(OR(PM.24=\"\",FT!S31=\"-\",U34=\"-\"),\"-\",U34*FT!S31*1)","v":"-"},{"$f":"IF(OR(PM.24=\"\",DAF.24=\"-\",Q34=\"-\"),\"-\",Q34*DAF.24)","v":"-"},{"$f":"IF(OR(PM.24=\"\",DAF.24=\"-\"),\"-\",H34*DAF.24)","v":"-"},"-",{"$f":"IF(OR(PM.24=\"\",BCF.24=\"-\",Tipo.24<>\"METAL\"),\"-\",((BCF.24*Cf.SoloSup.24)/frkveg))","v":"-"},{"$f":"IF(OR(PM.24=\"\",BCFF.24=\"-\",Tipo.24<>\"METAL\"),\"-\",((BCFF.24*Cf.SoloSup.24+Cdp.24)/frbveg))","v":"-"},{"$f":"IF(OR(PM.24=\"\",cpw.24=\"-\",Tipo.24=\"METAL\",tscf.24=\"-\",a.24=\"-\"),\"-\",(((cpw.24*tscf.24*Qveg)/(pplantveg*a.24*Vlveg))+Cdp.24*fdwsveg))","v":"-"},{"$f":"IF(OR(PM.24=\"\",pw.24=\"-\",Tipo.24=\"METAL\"),\"-\",((Cf.SoloSup.24*ps*pw.24)/Vwveg))","v":"-"},{"$f":"IF(OR(PM.24=\"\",BCFR.24=\"-\",Tipo.24=\"METAL\"),\"-\",(Cf.SoloSup.24*BCFR.24))","v":"-"}]
[null,25,{"$f":"SQI!$D33","v":0},{"$f":"SQI!C33","v":""},{"$f":"IF(PM.25=\"\",\"-\",x)","v":"-"},null,null,null,{"$f":"IF(FT!W32=0,\"-\",FT!W32)","v":"-"},null,"-","",{"$f":"IF(OR(PM.25=\"\",FT!O32=\"-\"),\"-\",G35*FT!O32*1)","v":"-"},{"$f":"IF(OR(PM.25=\"\",FT!P32=\"-\"),\"-\",G35*FT!P32*1)","v":"-"},{"$f":"IF(OR(PM.25=\"\",FT!R32=\"-\"),\"-\",H35*FT!R32*1)","v":"-"},{"$f":"IF(OR(PM.25=\"\",FT!S32=\"-\"),\"-\",H35*FT!S32*1)","v":"-"},{"$f":"IF(OR(PM.25=\"\",FT!Q32=\"-\"),\"-\",G35*FT!Q32*10^-3)","v":"-"},{"$f":"IF(OR(PM.25=\"\",U35=\"-\",FT!R32=\"-\"),\"-\",U35*FT!R32*1)","v":"-"},{"$f":"IF(OR(PM.25=\"\",FT!S32=\"-\",U35=\"-\"),\"-\",U35*FT!S32*1)","v":"-"},{"$f":"IF(OR(PM.25=\"\",DAF.25=\"-\",Q35=\"-\"),\"-\",Q35*DAF.25)","v":"-"},{"$f":"IF(OR(PM.25=\"\",DAF.25=\"-\"),\"-\",H35*DAF.25)","v":"-"},"-",{"$f":"IF(OR(PM.25=\"\",BCF.25=\"-\",Tipo.25<>\"METAL\"),\"-\",((BCF.25*Cf.SoloSup.25)/frkveg))","v":"-"},{"$f":"IF(OR(PM.25=\"\",BCFF.25=\"-\",Tipo.25<>\"METAL\"),\"-\",((BCFF.25*Cf.SoloSup.25+Cdp.25)/frbveg))","v":"-"},{"$f":"IF(OR(PM.25=\"\",cpw.25=\"-\",Tipo.25=\"METAL\",tscf.25=\"-\",a.25=\"-\"),\"-\",(((cpw.25*tscf.25*Qveg)/(pplantveg*a.25*Vlveg))+Cdp.25*fdwsveg))","v":"-"},{"$f":"IF(OR(PM.25=\"\",pw.25=\"-\",Tipo.25=\"METAL\"),\"-\",((Cf.SoloSup.25*ps*pw.25)/Vwveg))","v":"-"},{"$f":"IF(OR(PM.25=\"\",BCFR.25=\"-\",Tipo.25=\"METAL\"),\"-\",(Cf.SoloSup.25*BCFR.25))","v":"-"}]
[null,26,{"$f":"SQI!$D34","v":0},{"$f":"SQI!C34","v":""},{"$f":"IF(PM.26=\"\",\"-\",x)","v":"-"},null,null,null,{"$f":"IF(FT!W33=0,\"-\",FT!W33)","v":"-"},null,"-","",{"$f":"IF(OR(PM.26=\"\",FT!O33=\"-\"),\"-\",G36*FT!O33*1)","v":"-"},{"$f":"IF(OR(PM.26=\"\",FT!P33=\"-\"),\"-\",G36*FT!P33*1)","v":"-"},{"$f":"IF(OR(PM.26=\"\",FT!R33=\"-\"),\"-\",H36*FT!R33*1)","v":"-"},{"$f":"IF(OR(PM.26=\"\",FT!S33=\"-\"),\"-\",H36*FT!S33*1)","v":"-"},{"$f":"IF(OR(PM.26=\"\",FT!Q33=\"-\"),\"-\",G36*FT!Q33*10^-3)","v":"-"},{"$f":"IF(OR(PM.26=\"\",U36=\"-\",FT!R33=\"-\"),\"-\",U36*FT!R33*1)","v":"-"},{"$f":"IF(OR(PM.26=\"\",FT!S33=\"-\",U36=\"-\"),\"-\",U36*FT!S33*1)","v":"-"},{"$f":"IF(OR(PM.26=\"\",DAF.26=\"-\",Q36=\"-\"),\"-\",Q36*DAF.26)","v":"-"},{"$f":"IF(OR(PM.26=\"\",DAF.26=\"-\"),\"-\",H36*DAF.26)","v":"-"},"-",{"$f":"IF(OR(PM.26=\"\",BCF.26=\"-\",Tipo.26<>\"METAL\"),\"-\",((BCF.26*Cf.SoloSup.26)/frkveg))","v":"-"},{"$f":"IF(OR(PM.26=\"\",BCFF.26=\"-\",Tipo.26<>\"METAL\"),\"-\",((BCFF.26*Cf.SoloSup.26+Cdp.26)/frbveg))","v":"-"},{"$f":"IF(OR(PM.26=\"\",cpw.26=\"-\",Tipo.26=\"METAL\",tscf.26=\"-\",a.26=\"-\"),\"-\",(((cpw.26*tscf.26*Qveg)/(pplantveg*a.26*Vlveg))+Cdp.26*fdwsveg))","v":"-"},{"$f":"IF(OR(PM.26=\"\",pw.26=\"-\",Tipo.26=\"METAL\"),\"-\",((Cf.SoloSup.26*ps*pw.26)/Vwveg))","v":"-"},{"$f":"IF(OR(PM.26=\"\",BCFR.26=\"-\",Tipo.26=\"METAL\"),\"-\",(Cf.SoloSup.26*BCFR.26))","v":"-"}]
[null,27,{"$f":"SQI!$D35","v":0},{"$f":"SQI!C35","v":""},{"$f":"IF(PM.27=\"\",\"-\",x)","v":"-"},null,null,null,{"$f":"IF(FT!W34=0,\"-\",FT!W34)","v":"-"},null,"-","",{"$f":"IF(OR(PM.27=\"\",FT!O34=\"-\"),\"-\",G37*FT!O34*1)","v":"-"},{"$f":"IF(OR(PM.27=\"\",FT!P34=\"-\"),\"-\",G37*FT!P34*1)","v":"-"},{"$f":"IF(OR(PM.27=\"\",FT!R34=\"-\"),\"-\",H37*FT!R34*1)","v":"-"},{"$f":"IF(OR(PM.27=\"\",FT!S34=\"-\"),\"-\",H37*FT!S34*1)","v":"-"},{"$f":"IF(OR(PM.27=\"\",FT!Q34=\"-\"),\"-\",G37*FT!Q34*10^-3)","v":"-"},{"$f":"IF(OR(PM.27=\"\",U37=\"-\",FT!R34=\"-\"),\"-\",U37*FT!R34*1)","v":"-"},{"$f":"IF(OR(PM.27=\"\",FT!S34=\"-\",U37=\"-\"),\"-\",U37*FT!S34*1)","v":"-"},{"$f":"IF(OR(PM.27=\"\",DAF.27=\"-\",Q37=\"-\"),\"-\",Q37*DAF.27)","v":"-"},{"$f":"IF(OR(PM.27=\"\",DAF.27=\"-\"),\"-\",H37*DAF.27)","v":"-"},"-",{"$f":"IF(OR(PM.27=\"\",BCF.27=\"-\",Tipo.27<>\"METAL\"),\"-\",((BCF.27*Cf.SoloSup.27)/frkveg))","v":"-"},{"$f":"IF(OR(PM.27=\"\",BCFF.27=\"-\",Tipo.27<>\"METAL\"),\"-\",((BCFF.27*Cf.SoloSup.27+Cdp.27)/frbveg))","v":"-"},{"$f":"IF(OR(PM.27=\"\",cpw.27=\"-\",Tipo.27=\"METAL\",tscf.27=\"-\",a.27=\"-\"),\"-\",(((cpw.27*tscf.27*Qveg)/(pplantveg*a.27*Vlveg))+Cdp.27*fdwsveg))","v":"-"},{"$f":"IF(OR(PM.27=\"\",pw.27=\"-\",Tipo.27=\"METAL\"),\"-\",((Cf.SoloSup.27*ps*pw.27)/Vwveg))","v":"-"},{"$f":"IF(OR(PM.27=\"\",BCFR.27=\"-\",Tipo.27=\"METAL\"),\"-\",(Cf.SoloSup.27*BCFR.27))","v":"-"}]
[null,28,{"$f":"SQI!$D36","v":0},{"$f":"SQI!C36","v":""},{"$f":"IF(PM.28=\"\",\"-\",x)","v":"-"},null,null,null,{"$f":"IF(FT!W35=0,\"-\",FT!W35)","v":"-"},null,"-","",{"$f":"IF(OR(PM.28=\"\",FT!O35=\"-\"),\"-\",G38*FT!O35*1)","v":"-"},{"$f":"IF(OR(PM.28=\"\",FT!P35=\"-\"),\"-\",G38*FT!P35*1)","v":"-"},{"$f":"IF(OR(PM.28=\"\",FT!R35=\"-\"),\"-\",H38*FT!R35*1)","v":"-"},{"$f":"IF(OR(PM.28=\"\",FT!S35=\"-\"),\"-\",H38*FT!S35*1)","v":"-"},{"$f":"IF(OR(PM.28=\"\",FT!Q35=\"-\"),\"-\",G38*FT!Q35*10^-3)","v":"-"},{"$f":"IF(OR(PM.28=\"\",U38=\"-\",FT!R35=\"-\"),\"-\",U38*FT!R35*1)","v":"-"},{"$f":"IF(OR(PM.28=\"\",FT!S35=\"-\",U38=\"-\"),\"-\",U38*FT!S35*1)","v":"-"},{"$f":"IF(OR(PM.28=\"\",DAF.28=\"-\",Q38=\"-\"),\"-\",Q38*DAF.28)","v":"-"},{"$f":"IF(OR(PM.28=\"\",DAF.28=\"-\"),\"-\",H38*DAF.28)","v":"-"},"-",{"$f":"IF(OR(PM.28=\"\",BCF.28=\"-\",Tipo.28<>\"METAL\"),\"-\",((BCF.28*Cf.SoloSup.28)/frkveg))","v":"-"},{"$f":"IF(OR(PM.28=\"\",BCFF.28=\"-\",Tipo.28<>\"METAL\"),\"-\",((BCFF.28*Cf.SoloSup.28+Cdp.28)/frbveg))","v":"-"},{"$f":"IF(OR(PM.28=\"\",cpw.28=\"-\",Tipo.28=\"METAL\",tscf.28=\"-\",a.28=\"-\"),\"-\",(((cpw.28*tscf.28*Qveg)/(pplantveg*a.28*Vlveg))+Cdp.28*fdwsveg))","v":"-"},{"$f":"IF(OR(PM.28=\"\",pw.28=\"-\",Tipo.28=\"METAL\"),\"-\",((Cf.SoloSup.28*ps*pw.28)/Vwveg))","v":"-"},{"$f":"IF(OR(PM.28=\"\",BCFR.28=\"-\",Tipo.28=\"METAL\"),\"-\",(Cf.SoloSup.28*BCFR.28))","v":"-"}]
[null,29,{"$f":"SQI!$D37","v":0},{"$f":"SQI!C37","v":""},{"$f":"IF(PM.29=\"\",\"-\",x)","v":"-"},null,null,null,{"$f":"IF(FT!W36=0,\"-\",FT!W36)","v":"-"},null,"-","",{"$f":"IF(OR(PM.29=\"\",FT!O36=\"-\"),\"-\",G39*FT!O36*1)","v":"-"},{"$f":"IF(OR(PM.29=\"\",FT!P36=\"-\"),\"-\",G39*FT!P36*1)","v":"-"},{"$f":"IF(OR(PM.29=\"\",FT!R36=\"-\"),\"-\",H39*FT!R36*1)","v":"-"},{"$f":"IF(OR(PM.29=\"\",FT!S36=\"-\"),\"-\",H39*FT!S36*1)","v":"-"},{"$f":"IF(OR(PM.29=\"\",FT!Q36=\"-\"),\"-\",G39*FT!Q36*10^-3)","v":"-"},{"$f":"IF(OR(PM.29=\"\",U39=\"-\",FT!R36=\"-\"),\"-\",U39*FT!R36*1)","v":"-"},{"$f":"IF(OR(PM.29=\"\",FT!S36=\"-\",U39=\"-\"),\"-\",U39*FT!S36*1)","v":"-"},{"$f":"IF(OR(PM.29=\"\",DAF.29=\"-\",Q39=\"-\"),\"-\",Q39*DAF.29)","v":"-"},{"$f":"IF(OR(PM.29=\"\",DAF.29=\"-\"),\"-\",H39*DAF.29)","v":"-"},"-",{"$f":"IF(OR(PM.29=\"\",BCF.29=\"-\",Tipo.29<>\"METAL\"),\"-\",((BCF.29*Cf.SoloSup.29)/frkveg))","v":"-"},{"$f":"IF(OR(PM.29=\"\",BCFF.29=\"-\",Tipo.29<>\"METAL\"),\"-\",((BCFF.29*Cf.SoloSup.29+Cdp.29)/frbveg))","v":"-"},{"$f":"IF(OR(PM.29=\"\",cpw.29=\"-\",Tipo.29=\"METAL\",tscf.29=\"-\",a.29=\"-\"),\"-\",(((cpw.29*tscf.29*Qveg)/(pplantveg*a.29*Vlveg))+Cdp.29*fdwsveg))","v":"-"},{"$f":"IF(OR(PM.29=\"\",pw.29=\"-\",Tipo.29=\"METAL\"),\"-\",((Cf.SoloSup.29*ps*pw.29)/Vwveg))","v":"-"},{"$f":"IF(OR(PM.29=\"\",BCFR.29=\"-\",Tipo.29=\"METAL\"),\"-\",(Cf.SoloSup.29*BCFR.29))","v":"-"}]
[null,30,{"$f":"SQI!$D38","v":0},{"$f":"SQI!C38","v":""},{"$f":"IF(PM.30=\"\",\"-\",x)","v":"-"},null,null,null,{"$f":"IF(FT!W37=0,\"-\",FT!W37)","v":"-"},null,"-","",{"$f":"IF(OR(PM.30=\"\",FT!O37=\"-\"),\"-\",G40*FT!O37*1)","v":"-"},{"$f":"IF(OR(PM.30=\"\",FT!P37=\"-\"),\"-\",G40*FT!P37*1)","v":"-"},{"$f":"IF(OR(PM.30=\"\",FT!R37=\"-\"),\"-\",H40*FT!R37*1)","v":"-"},{"$f":"IF(OR(PM.30=\"\",FT!S37=\"-\"),\"-\",H40*FT!S37*1)","v":"-"},{"$f":"IF(OR(PM.30=\"\",FT!Q37=\"-\"),\"-\",G40*FT!Q37*10^-3)","v":"-"},{"$f":"IF(OR(PM.30=\"\",U40=\"-\",FT!R37=\"-\"),\"-\",U40*FT!R37*1)","v":"-"},{"$f":"IF(OR(PM.30=\"\",FT!S37=\"-\",U40=\"-\"),\"-\",U40*FT!S37*1)","v":"-"},{"$f":"IF(OR(PM.30=\"\",DAF.30=\"-\",Q40=\"-\"),\"-\",Q40*DAF.30)","v":"-"},{"$f":"IF(OR(PM.30=\"\",DAF.30=\"-\"),\"-\",H40*DAF.30)","v":"-"},"-",{"$f":"IF(OR(PM.30=\"\",BCF.30=\"-\",Tipo.30<>\"METAL\"),\"-\",((BCF.30*Cf.SoloSup.30)/frkveg))","v":"-"},{"$f":"IF(OR(PM.30=\"\",BCFF.30=\"-\",Tipo.30<>\"METAL\"),\"-\",((BCFF.30*Cf.SoloSup.30+Cdp.30)/frbveg))","v":"-"},{"$f":"IF(OR(PM.30=\"\",cpw.30=\"-\",Tipo.30=\"METAL\",tscf.30=\"-\",a.30=\"-\"),\"-\",(((cpw.30*tscf.30*Qveg)/(pplantveg*a.30*Vlveg))+Cdp.30*fdwsveg))","v":"-"},{"$f":"IF(OR(PM.30=\"\",pw.30=\"-\",Tipo.30=\"METAL\"),\"-\",((Cf.SoloSup.30*ps*pw.30)/Vwveg))","v":"-"},{"$f":"IF(OR(PM.30=\"\",BCFR.30=\"-\",Tipo.30=\"METAL\"),\"-\",(Cf.SoloSup.30*BCFR.30))","v":"-"}]

{"sheet":"PDE Ar","index":4,"n_rows":35,"n_cols":6,"rows_kept":35,"cut":false,"hidden":false,"merged":[[2,4,2,5],[2,3,4,3],[4,4,4,5],[2,1,2,2],[1,1,1,2]]}
[]
[null,"DATA: ",null,{"$f":"CENÁRIOS!C3","v":0},"IDENTIFICAÇÃO DA ÁREA:",{"$f":"CENÁRIOS!G3","v":0}]
[null,null,null,"CONTAMINANTE","CONCENTRAÇÕES DAS SQIs NO AR AMBIENTE E NO AR DO SOLO"]
[null,null,null,null,"Ar ambiente","Ar do solo"]
[null,null,null,null,"µg/m3"]
[null,1,{"$f":"SQI!$D9","v":0},{"$f":"SQI!C9","v":""}]
[null,2,{"$f":"SQI!$D10","v":0},{"$f":"SQI!C10","v":""}]
[null,3,{"$f":"SQI!$D11","v":0},{"$f":"SQI!C11","v":""}]
[null,4,{"$f":"SQI!$D12","v":0},{"$f":"SQI!C12","v":""}]
[null,5,{"$f":"SQI!$D13","v":0},{"$f":"SQI!C13","v":""}]
[null,6,{"$f":"SQI!$D14","v":0},{"$f":"SQI!C14","v":""}]
[null,7,{"$f":"SQI!$D15","v":0},{"$f":"SQI!C15","v":""}]
[null,8,{"$f":"SQI!$D16","v":0},{"$f":"SQI!C16","v":""}]
[null,9,{"$f":"SQI!$D17","v":0},{"$f":"SQI!C17","v":""}]
[null,10,{"$f":"SQI!$D18","v":0},{"$f":"SQI!C18","v":""}]
[null,11,{"$f":"SQI!$D19","v":0},{"$f":"SQI!C19","v":""}]
[null,12,{"$f":"SQI!$D20","v":0},{"$f":"SQI!C20","v":""}]
[null,13,{"$f":"SQI!$D21","v":0},{"$f":"SQI!C21","v":""}]
[null,14,{"$f":"SQI!$D22","v":0},{"$f":"SQI!C22","v":""}]
[null,15,{"$f":"SQI!$D23","v":0},{"$f":"SQI!C23","v":""}]
[null,16,{"$f":"SQI!$D24","v":0},{"$f":"SQI!C24","v":""}]
[null,17,{"$f":"SQI!$D25","v":0},{"$f":"SQI!C25","v":""}]
[null,18,{"$f":"SQI!$D26","v":0},{"$f":"SQI!C26","v":""}]
[null,19,{"$f":"SQI!$D27","v":0},{"$f":"SQI!C27","v":""}]
[null,20,{"$f":"SQI!$D28","v":0},{"$f":"SQI!C28","v":""}]
[null,21,{"$f":"SQI!$D29","v":0},{"$f":"SQI!C29","v":""}]
[null,22,{"$f":"SQI!$D30","v":0},{"$f":"SQI!C30","v":""}]
[null,23,{"$f":"SQI!$D31","v":0},{"$f":"SQI!C31","v":""}]
[null,24,{"$f":"SQI!$D32","v":0},{"$f":"SQI!C32","v":""}]
[null,25,{"$f":"SQI!$D33","v":0},{"$f":"SQI!C33","v":""}]
[null,26,{"$f":"SQI!$D34","v":0},{"$f":"SQI!C34","v":""}]
[null,27,{"$f":"SQI!$D35","v":0},{"$f":"SQI!C35","v":""}]
[null,28,{"$f":"SQI!$D36","v":0},{"$f":"SQI!C36","v":""}]
[null,29,{"$f":"SQI!$D37","v":0},{"$f":"SQI!C37","v":""}]
[null,30,{"$f":"SQI!$D38","v":0},{"$f":"SQI!C38","v":""}]

{"sheet":"Risco Solo","index":5,"n_rows":75,"n_cols":29,"rows_kept":75,"cut":false,"hidden":false,"merged":[[2,26,8,27],[65,1,66,1],[65,2,66,2],[65,3,66,3],[57,1,58,1],[57,2,58,2],[57,3,58,3],[59,1,60,1],[59,2,60,2],[59,3,60,3],[55,1,56,1],[55,2,56,2],[55,3,56,3],[49,1,50,1],[49,2,50,2],[49,3,50,3],[51,1,52,1],[51,2,52,2],[51,3,52,3],[53,1,54,1],[53,2,54,2],[53,3,54,3],[43,1,44,1],[43,2,44,2],[67,1,68,1],[67,2,68,2],[67,3,68,3],[61,1,62,1],[61,2,62,2],[61,3,62,3],[63,1,64,1],[63,2,64,2],[63,3,64,3],[43,3,44,3],[45,1,46,1],[45,2,46,2],[45,3,46,3],[47,1,48,1],[47,2,48,2],[47,3,48,3],[37,1,38,1],[37,2,38,2],[37,3,38,3],[39,1,40,1],[39,2,40,2],[39,3,40,3],[41,1,42,1],[41,2,42,2],[41,3,42,3],[31,1,32,1],[31,2,32,2],[31,3,32,3],[33,1,34,1],[33,2,34,2],[33,3,34,3],[35,1,36,1],[35,2,36,2],[35,3,36,3],[25,1,26,1],[25,2,26,2],[25,3,26,3],[27,1,28,1],[27,2,28,2],[27,3,28,3],[29,1,30,1],[29,2,30,2],[29,3,30,3],[19,1,20,1],[19,2,20,2],[19,3,20,3],[21,1,22,1],[21,2,22,2],[21,3,22,3],[23,1,24,1],[23,2,24,2],[23,3,24,3],[13,1,14,1],[13,2,14,2],[13,3,14,3],[15,1,16,1],[15,2,16,2],[15,3,16,3],[7,9,8,10],[17,1,18,1],[17,2,18,2],[17,3,18,3],[8,5,8,6],[4,5,4,22],[5,5,5,16],[5,23,5,24],[4,23,4,24],[1,9,1,23],[9,1,10,1],[9,2,10,2],[9,3,10,3],[7,11,8,12],[3,5,3,24],[2,28,8,29],[70,1,71,2],[70,3,70,4],[2,3,8,3],[2,4,8,4],[71,3,71,4],[7,1,8,2],[2,1,6,2],[11,1,12,1],[11,2,12,2],[11,3,12,3],[7,17,8,18],[6,17,6,20],[7,19,8,20],[7,5,7,8],[7,13,8,14],[7,15,8,16],[2,5,2,24],[6,23,8,24],[6,21,8,22],[5,17,5,22],[8,7,8,8],[6,13,6,16],[6,5,6,12]]}
[]
[null,"DATA:",null,{"$f":"CENÁRIOS!C3","v":0},null,"IDENTIFICAÇÃO DA ÁREA:",null,null,null,{"$f":"CENÁRIOS!G3","v":0}]
[null,null,null,"CONTAMINANTE","EFEITO","RISCO CARCINOGÊNICO E NÃO CARCINOGÊNICO PARA SOLO SUPERFICIAL E SUBSUPERFICIAL",null,null,null,null,null,null,null,null,null,null,null,null,null,null,null,null,null,null,null,null,"RISCO CUMULATIVO POR SQI PARA RECEPTOR NA FONTE DE CONTAMINAÇÃO",null,"RISCO CUMULATIVO POR SQI PARA RECEPTOR FORA DA FONTE DE CONTAMINAÇÃO"]
[null,null,null,null,null,{"$f":"CENÁRIOS!H5","v":"TRABALHADOR EM OBRAS CIVIS E DE ESCAVAÇÃO"}]
[null,null,null,null,null,"RECEPTOR NA FONTE DE CONTAMINAÇÃO",null,null,null,null,null,null,null,null,null,null,null,null,null,null,null,null,null,"RECEPTOR FORA DA FONTE DE CONTAMINAÇÃO"]
[null,null,null,null,null,"SUPERFICIAL",null,null,null,null,null,null,null,null,null,null,null,"SUBSUPERFICIAL",null,null,null,null,null,"SUBSUPERFICIAL"]
[null,null,null,null,null,"CONTATO DIRETO",null,null,null,null,null,null,null,"INGESTÃO DE VEGETAIS",null,null,null,"INALAÇÃO",null,null,null,"INGESTÃO DE ÁGUA SUBTERRÂNEA A PARTIR DA LIXIVIAÇÃO DO SOLO\n",null,"INGESTÃO DE ÁGUA SUBTERRÂNEA A PARTIR DA LIXIVIAÇÃO DO SOLO\n"]
[null,"CAS N°",null,null,null,"INALAÇÃO",null,null,null,"CONTATO DÉRMICO",null,"INGESTÃO",null,"INGESTÃO DE COMPOSTOS METÁLICOS",null,"INGESTÃO DE COMPOSTOS ORGÂNICOS",null,"AMBIENTES ABERTOS",null,"AMBIENTES FECHADOS"]
[null,null,null,null,null,"VAPORES",null,"PARTÍCULAS"]
[null,1,{"$f":"SQI!D9","v":0},{"$f":"SQI!C9","v":""},"C",{"$f":"IF(CENÁRIOS!$H$11=TRUE,IF(PM.1=\"\",\"-\",IF(OR(Sf.in.1=\"-\",Sf.in.1=\"\",Sf.in.1=0,FT!M8=\"-\"),\"-\",(Cf.SoloSup.1*FT!M8*IF.Solo.Ina.Vap.a.c*Sf.in.1))),\"-\")","v":"-"},null,{"$f":"IF(CENÁRIOS!$H$12=TRUE,IF(PM.1=\"\",\"-\",IF(OR(Sf.in.1=\"-\",Sf.in.1=\"\",Sf.in.1=0,FT!N8=\"-\"),\"-\",(Cf.SoloSup.1*FT!N8*IF.Solo.Ina.Par.a.c*Sf.in.1))),\"-\")","v":"-"},null,{"$f":"IF(CENÁRIOS!$H$13=TRUE,IF(PM.1=\"\",\"-\",IF(OR(Sf.dm.1=\"-\",Sf.dm.1=\"\",Sf.dm.1=0,ABSd.1=\"\"),\"-\",(Cf.SoloSup.1*ABSd.1*IF.Solo.Con.Der.a.c*Sf.dm.1))),\"-\")","v":"-"},null,{"$f":"IF(CENÁRIOS!$H$14=TRUE,IF(PM.1=\"\",\"-\",IF(OR(Sf.ig.1=\"-\",Sf.ig.1=\"\",Sf.ig.1=0),\"-\",(Cf.SoloSup.1*IF.Solo.Ing.a.c*Biodisp.1*Sf.ig.1))),\"-\")","v":"-"},null,{"$f":"IF(CENÁRIOS!$H$15=TRUE,IF(PM.1=\"\",\"-\",IF(OR(Sf.ig.1=\"-\",Sf.ig.1=\"\",Sf.ig.1=0,BCF.1=\"-\",Tipo.1<>\"METAL\"),\"-\",(Cf.SoloSup.1*(IF.Solo.Ing.Veg.c.i*Sf.ig.1)*(IRL.i*((BCFF.1+cdpx.1)/frbveg)+(IRR.i*(BCF.1/frkveg)))))),\"-\")","v":"-"},null,{"$f":"IF(CENÁRIOS!$H$15=TRUE,IF(OR(PM.1=\"\",Tipo.1=\"METAL\"),\"-\",IF(OR(Sf.ig.1=\"-\",Sf.ig.1=\"\",Sf.ig.1=0,BCFR.1=\"-\",a.1=\"-\"),\"-\",((Cf.SoloSup.1*(IF.Solo.Ing.Veg.c.i*Sf.ig.1)*(IRL.i*(((ps*pw.1*tscf.1*Qveg)/(Vwveg*pplantveg*a.1*Vlveg))+cdpx.1*fdwsveg)+(IRR.i*BCFR.1)))))),\"-\")","v":"-"},null,{"$f":"IF(CENÁRIOS!$H$16=TRUE,IF(PM.1=\"\",\"-\",IF(OR(Sf.in.1=\"-\",Sf.in.1=\"\",Sf.in.1=0,Cf.ArSoloSub.Abe.1=\"-\"),\"-\",(Cf.ArSoloSub.Abe.1*IF.SoloSub.Ina.Abe.a.c*Sf.in.1))),\"-\")","v":"-"},null,{"$f":"IF(CENÁRIOS!$H$17=TRUE,IF(PM.1=\"\",\"-\",IF(OR(Sf.in.1=\"-\",Sf.in.1=\"\",Sf.in.1=0,Cf.ArSoloSub.Fec.1=\"-\"),\"-\",(Cf.ArSoloSub.Fec.1*IF.SoloSub.Ina.Fec.a.c*Sf.in.1))),\"-\")","v":"-"},null,{"$f":"IF(CENÁRIOS!$H$18=TRUE,IF(PM.1=\"\",\"-\",IF(OR(Sf.ig.1=\"-\",Sf.ig.1=\"\",Sf.ig.1=0,Cf.AguaLixSoloSub.1=\"-\"),\"-\",(Cf.AguaLixSoloSub.1*IF.SoloSub.Lix.AS.a.c*Sf.ig.1))),\"-\")","v":"-"},null,{"$f":"IF(CENÁRIOS!$I$18=TRUE,IF(PM.1=\"\",\"-\",IF(OR(Sf.ig.1=\"-\",Sf.ig.1=\"\",Sf.ig.1=0,Cff.AguaLixSoloSub.1=\"-\"),\"-\",(Cff.AguaLixSoloSub.1*IF.SoloSub.Lix.AS.a.c*Sf.ig.1))),\"-\")","v":"-"},null,null,{"$f":"IF(SUM(F10:V10)=0,\"-\",SUM(F10:V10))","v":"-"},null,{"$f":"X10","v":"-"}]
[null,null,null,null,"NC",{"$f":"IF(CENÁRIOS!$H$11=TRUE,IF(PM.1=\"\",\"-\",IF(OR(RfD.in.cn.1=\"-\",RfD.in.cn.1=\"\",RfD.in.cn.1=0,FT!M8=\"-\"),\"-\",(Cf.SoloSup.1*FT!M8*IF.Solo.Ina.Vap.a.nc/RfD.in.cn.1))),\"-\")","v":"-"},null,{"$f":"IF(CENÁRIOS!$H$12=TRUE,IF(PM.1=\"\",\"-\",IF(OR(RfD.in.cn.1=\"-\",RfD.in.cn.1=\"\",RfD.in.cn.1=0,FT!N8=\"-\"),\"-\",(Cf.SoloSup.1*FT!N8*IF.Solo.Ina.Par.a.nc/RfD.in.cn.1))),\"-\")","v":"-"},null,{"$f":"IF(CENÁRIOS!$H$13=TRUE,IF(PM.1=\"\",\"-\",IF(OR(RfD.dm.cn.1=\"-\",RfD.dm.cn.1=\"\",RfD.dm.cn.1=0,ABSd.1=\"\"),\"-\",(Cf.SoloSup.1*ABSd.1*IF.Solo.Con.Der.a.nc/RfD.dm.cn.1))),\"-\")","v":"-"},null,{"$f":"IF(CENÁRIOS!$H$14=TRUE,IF(PM.1=\"\",\"-\",IF(OR(RfD.ig.cn.1=\"-\",RfD.ig.cn.1=\"\",RfD.ig.cn.1=0),\"-\",(Cf.SoloSup.1*IF.Solo.Ing.a.nc*Biodisp.1/RfD.ig.cn.1))),\"-\")","v":"-"},null,{"$f":"IF(CENÁRIOS!$H$15=TRUE,IF(PM.1=\"\",\"-\",IF(OR(RfD.ig.cn.1=\"-\",RfD.ig.cn.1=\"\",RfD.ig.cn.1=0,BCF.1=\"-\",Tipo.1<>\"METAL\"),\"-\",(Cf.SoloSup.1*((IF.Solo.Ing.Veg.nc.i)*(IRL.i*((BCFF.1+cdpx.1)/frbveg)+(IRR.i*(BCF.1/frkveg))))/RfD.ig.cn.1))),\"-\")","v":"-"},null,{"$f":"IF(CENÁRIOS!$H$15=TRUE,IF(OR(PM.1=\"\",Tipo.1=\"METAL\"),\"-\",IF(OR(RfD.ig.cn.1=\"-\",RfD.ig.cn.1=\"\",RfD.ig.cn.1=0,BCFR.1=\"-\",a.1=\"-\"),\"-\",((Cf.SoloSup.1*IF.Solo.Ing.Veg.nc.i*(IRL.i*(((ps*pw.1*tscf.1*Qveg)/(Vwveg*pplantveg*a.1*Vlveg))+cdpx.1*fdwsveg)+(IRR.i*BCFR.1)))/RfD.ig.cn.1))),\"-\")","v":"-"},null,{"$f":"IF(CENÁRIOS!$H$16=TRUE,IF(PM.1=\"\",\"-\",IF(OR(RfD.in.cn.1=\"-\",RfD.in.cn.1=\"\",RfD.in.cn.1=0,Cf.ArSoloSub.Abe.1=\"-\"),\"-\",(Cf.ArSoloSub.Abe.1*IF.SoloSub.Ina.Abe.a.nc/RfD.in.cn.1))),\"-\")","v":"-"},null,{"$f":"IF(CENÁRIOS!$H$17=TRUE,IF(PM.1=\"\",\"-\",IF(OR(RfD.in.cn.1=\"-\",RfD.in.cn.1=\"\",RfD.in.cn.1=0,Cf.ArSoloSub.Fec.1=\"-\"),\"-\",(Cf.ArSoloSub.Fec.1*IF.SoloSub.Ina.Fec.a.nc/RfD.in.cn.1))),\"-\")","v":"-"},null,{"$f":"IF(CENÁRIOS!$H$18=TRUE,IF(PM.1=\"\",\"-\",IF(OR(RfD.ig.cn.1=\"-\",RfD.ig.cn.1=\"\",RfD.ig.cn.1=0,Cf.AguaLixSoloSub.1=\"-\"),\"-\",(Cf.AguaLixSoloSub.1*IF.SoloSub.Lix.AS.a.nc/RfD.ig.cn.1))),\"-\")","v":"-"},null,{"$f":"IF(CENÁRIOS!$I$18=TRUE,IF(PM.1=\"\",\"-\",IF(OR(RfD.ig.cn.1=\"-\",RfD.ig.cn.1=\"\",RfD.ig.cn.1=0,Cff.AguaLixSoloSub.1=\"-\"),\"-\",(Cff.AguaLixSoloSub.1*IF.SoloSub.Lix.AS.a.nc/RfD.ig.cn.1))),\"-\")","v":"-"},null,null,"-",null,"-"]
[null,2,{"$f":"SQI!D10","v":0},{"$f":"SQI!C10","v":""},"C",{"$f":"IF(CENÁRIOS!$H$11=TRUE,IF(PM.2=\"\",\"-\",IF(OR(Sf.in.2=\"-\",Sf.in.2=\"\",Sf.in.2=0,FT!M9=\"-\"),\"-\",(Cf.SoloSup.2*FT!M9*IF.Solo.Ina.Vap.a.c*Sf.in.2))),\"-\")","v":"-"},null,{"$f":"IF(CENÁRIOS!$H$12=TRUE,IF(PM.2=\"\",\"-\",IF(OR(Sf.in.2=\"-\",Sf.in.2=\"\",Sf.in.2=0,FT!N9=\"-\"),\"-\",(Cf.SoloSup.2*FT!N9*IF.Solo.Ina.Par.a.c*Sf.in.2))),\"-\")","v":"-"},null,{"$f":"IF(CENÁRIOS!$H$13=TRUE,IF(PM.2=\"\",\"-\",IF(OR(Sf.dm.2=\"-\",Sf.dm.2=\"\",Sf.dm.2=0,ABSd.2=\"\"),\"-\",(Cf.SoloSup.2*ABSd.2*IF.Solo.Con.Der.a.c*Sf.dm.2))),\"-\")","v":"-"},null,{"$f":"IF(CENÁRIOS!$H$14=TRUE,IF(PM.2=\"\",\"-\",IF(OR(Sf.ig.2=\"-\",Sf.ig.2=\"\",Sf.ig.2=0),\"-\",(Cf.SoloSup.2*IF.Solo.Ing.a.c*Biodisp.2*Sf.ig.2))),\"-\")","v":"-"},null,{"$f":"IF(CENÁRIOS!$H$15=TRUE,IF(PM.2=\"\",\"-\",IF(OR(Sf.ig.2=\"-\",Sf.ig.2=\"\",Sf.ig.2=0,BCF.2=\"-\",Tipo.2<>\"METAL\"),\"-\",(Cf.SoloSup.2*(IF.Solo.Ing.Veg.c.i*Sf.ig.2)*(IRL.i*((BCFF.2+cdpx.2)/frbveg)+(IRR.i*(BCF.2/frkveg)))))),\"-\")","v":"-"},null,{"$f":"IF(CENÁRIOS!$H$15=TRUE,IF(OR(PM.2=\"\",Tipo.2=\"METAL\"),\"-\",IF(OR(Sf.ig.2=\"-\",Sf.ig.2=\"\",Sf.ig.2=0,BCFR.2=\"-\",a.2=\"-\"),\"-\",((Cf.SoloSup.2*(IF.Solo.Ing.Veg.c.i*Sf.ig.2)*(IRL.i*(((ps*pw.2*tscf.2*Qveg)/(Vwveg*pplantveg*a.2*Vlveg))+cdpx.2*fdwsveg)+(IRR.i*BCFR.2)))))),\"-\")","v":"-"},null,{"$f":"IF(CENÁRIOS!$H$16=TRUE,IF(PM.2=\"\",\"-\",IF(OR(Sf.in.2=\"-\",Sf.in.2=\"\",Sf.in.2=0,Cf.ArSoloSub.Abe.2=\"-\"),\"-\",(Cf.ArSoloSub.Abe.2*IF.SoloSub.Ina.Abe.a.c*Sf.in.2))),\"-\")","v":"-"},null,{"$f":"IF(CENÁRIOS!$H$17=TRUE,IF(PM.2=\"\",\"-\",IF(OR(Sf.in.2=\"-\",Sf.in.2=\"\",Sf.in.2=0,Cf.ArSoloSub.Fec.2=\"-\"),\"-\",(Cf.ArSoloSub.Fec.2*IF.SoloSub.Ina.Fec.a.c*Sf.in.2))),\"-\")","v":"-"},null,{"$f":"IF(CENÁRIOS!$H$18=TRUE,IF(PM.2=\"\",\"-\",IF(OR(Sf.ig.2=\"-\",Sf.ig.2=\"\",Sf.ig.2=0,Cf.AguaLixSoloSub.2=\"-\"),\"-\",(Cf.AguaLixSoloSub.2*IF.SoloSub.Lix.AS.a.c*Sf.ig.2))),\"-\")","v":"-"},null,{"$f":"IF(CENÁRIOS!$I$18=TRUE,IF(PM.2=\"\",\"-\",IF(OR(Sf.ig.2=\"-\",Sf.ig.2=\"\",Sf.ig.2=0,Cff.AguaLixSoloSub.2=\"-\"),\"-\",(Cff.AguaLixSoloSub.2*IF.SoloSub.Lix.AS.a.c*Sf.ig.2))),\"-\")","v":"-"},null,null,"-",null,"-"]
[null,null,null,null,"NC",{"$f":"IF(CENÁRIOS!$H$11=TRUE,IF(PM.2=\"\",\"-\",IF(OR(RfD.in.cn.2=\"-\",RfD.in.cn.2=\"\",RfD.in.cn.2=0,FT!M9=\"-\"),\"-\",(Cf.SoloSup.2*FT!M9*IF.Solo.Ina.Vap.a.nc/RfD.in.cn.2))),\"-\")","v":"-"},null,{"$f":"IF(CENÁRIOS!$H$12=TRUE,IF(PM.2=\"\",\"-\",IF(OR(RfD.in.cn.2=\"-\",RfD.in.cn.2=\"\",RfD.in.cn.2=0,FT!N9=\"-\"),\"-\",(Cf.SoloSup.2*FT!N9*IF.Solo.Ina.Par.a.nc/RfD.in.cn.2))),\"-\")","v":"-"},null,{"$f":"IF(CENÁRIOS!$H$13=TRUE,IF(PM.2=\"\",\"-\",IF(OR(RfD.dm.cn.2=\"-\",RfD.dm.cn.2=\"\",RfD.dm.cn.2=0,ABSd.2=\"\"),\"-\",(Cf.SoloSup.2*ABSd.2*IF.Solo.Con.Der.a.nc/RfD.dm.cn.2))),\"-\")","v":"-"},null,{"$f":"IF(CENÁRIOS!$H$14=TRUE,IF(PM.2=\"\",\"-\",IF(OR(RfD.ig.cn.2=\"-\",RfD.ig.cn.2=\"\",RfD.ig.cn.2=0),\"-\",(Cf.SoloSup.2*IF.Solo.Ing.a.nc*Biodisp.2/RfD.ig.cn.2))),\"-\")","v":"-"},null,{"$f":"IF(CENÁRIOS!$H$15=TRUE,IF(PM.2=\"\",\"-\",IF(OR(RfD.ig.cn.2=\"-\",RfD.ig.cn.2=\"\",RfD.ig.cn.2=0,BCF.2=\"-\",Tipo.2<>\"METAL\"),\"-\",(Cf.SoloSup.2*((IF.Solo.Ing.Veg.nc.i)*(IRL.i*((BCFF.2+cdpx.2)/frbveg)+(IRR.i*(BCF.2/frkveg))))/RfD.ig.cn.2))),\"-\")","v":"-"},null,{"$f":"IF(CENÁRIOS!$H$15=TRUE,IF(OR(PM.2=\"\",Tipo.2=\"METAL\"),\"-\",IF(OR(RfD.ig.cn.2=\"-\",RfD.ig.cn.2=\"\",RfD.ig.cn.2=0,BCFR.2=\"-\",a.2=\"-\"),\"-\",((Cf.SoloSup.2*IF.Solo.Ing.Veg.nc.i*(IRL.i*(((ps*pw.2*tscf.2*Qveg)/(Vwveg*pplantveg*a.2*Vlveg))+cdpx.2*fdwsveg)+(IRR.i*BCFR.2)))/RfD.ig.cn.2))),\"-\")","v":"-"},null,{"$f":"IF(CENÁRIOS!$H$16=TRUE,IF(PM.2=\"\",\"-\",IF(OR(RfD.in.cn.2=\"-\",RfD.in.cn.2=\"\",RfD.in.cn.2=0,Cf.ArSoloSub.Abe.2=\"-\"),\"-\",(Cf.ArSoloSub.Abe.2*IF.SoloSub.Ina.Abe.a.nc/RfD.in.cn.2))),\"-\")","v":"-"},null,{"$f":"IF(CENÁRIOS!$H$17=TRUE,IF(PM.2=\"\",\"-\",IF(OR(RfD.in.cn.2=\"-\",RfD.in.cn.2=\"\",RfD.in.cn.2=0,Cf.ArSoloSub.Fec.2=\"-\"),\"-\",(Cf.ArSoloSub.Fec.2*IF.SoloSub.Ina.Fec.a.nc/RfD.in.cn.2))),\"-\")","v":"-"},null,{"$f":"IF(CENÁRIOS!$H$18=TRUE,IF(PM.2=\"\",\"-\",IF(OR(RfD.ig.cn.2=\"-\",RfD.ig.cn.2=\"\",RfD.ig.cn.2=0,Cf.AguaLixSoloSub.2=\"-\"),\"-\",(Cf.AguaLixSoloSub.2*IF.SoloSub.Lix.AS.a.nc/RfD.ig.cn.2))),\"-\")","v":"-"},null,{"$f":"IF(CENÁRIOS!$I$18=TRUE,IF(PM.2=\"\",\"-\",IF(OR(RfD.ig.cn.2=\"-\",RfD.ig.cn.2=\"\",RfD.ig.cn.2=0,Cff.AguaLixSoloSub.2=\"-\"),\"-\",(Cff.AguaLixSoloSub.2*IF.SoloSub.Lix.AS.a.nc/RfD.ig.cn.2))),\"-\")","v":"-"},null,null,"-",null,"-"]
[null,3,{"$f":"SQI!D11","v":0},{"$f":"SQI!C11","v":""},"C",{"$f":"IF(CENÁRIOS!$H$11=TRUE,IF(PM.3=\"\",\"-\",IF(OR(Sf.in.3=\"-\",Sf.in.3=\"\",Sf.in.3=0,FT!M10=\"-\"),\"-\",(Cf.SoloSup.3*FT!M10*IF.Solo.Ina.Vap.a.c*Sf.in.3))),\"-\")","v":"-"},null,{"$f":"IF(CENÁRIOS!$H$12=TRUE,IF(PM.3=\"\",\"-\",IF(OR(Sf.in.3=\"-\",Sf.in.3=\"\",Sf.in.3=0,FT!N10=\"-\"),\"-\",(Cf.SoloSup.3*FT!N10*IF.Solo.Ina.Par.a.c*Sf.in.3))),\"-\")","v":"-"},null,{"$f":"IF(CENÁRIOS!$H$13=TRUE,IF(PM.3=\"\",\"-\",IF(OR(Sf.dm.3=\"-\",Sf.dm.3=\"\",Sf.dm.3=0,ABSd.3=\"\"),\"-\",(Cf.SoloSup.3*ABSd.3*IF.Solo.Con.Der.a.c*Sf.dm.3))),\"-\")","v":"-"},null,{"$f":"IF(CENÁRIOS!$H$14=TRUE,IF(PM.3=\"\",\"-\",IF(OR(Sf.ig.3=\"-\",Sf.ig.3=\"\",Sf.ig.3=0),\"-\",(Cf.SoloSup.3*IF.Solo.Ing.a.c*Biodisp.3*Sf.ig.3))),\"-\")","v":"-"},null,{"$f":"IF(CENÁRIOS!$H$15=TRUE,IF(PM.3=\"\",\"-\",IF(OR(Sf.ig.3=\"-\",Sf.ig.3=\"\",Sf.ig.3=0,BCF.3=\"-\",Tipo.3<>\"METAL\"),\"-\",(Cf.SoloSup.3*(IF.Solo.Ing.Veg.c.i*Sf.ig.3)*(IRL.i*((BCFF.3+cdpx.3)/frbveg)+(IRR.i*(BCF.3/frkveg)))))),\"-\")","v":"-"},null,{"$f":"IF(CENÁRIOS!$H$15=TRUE,IF(OR(PM.3=\"\",Tipo.3=\"METAL\"),\"-\",IF(OR(Sf.ig.3=\"-\",Sf.ig.3=\"\",Sf.ig.3=0,BCFR.3=\"-\",a.3=\"-\"),\"-\",((Cf.SoloSup.3*(IF.Solo.Ing.Veg.c.i*Sf.ig.3)*(IRL.i*(((ps*pw.3*tscf.3*Qveg)/(Vwveg*pplantveg*a.3*Vlveg))+cdpx.3*fdwsveg)+(IRR.i*BCFR.3)))))),\"-\")","v":"-"},null,{"$f":"IF(CENÁRIOS!$H$16=TRUE,IF(PM.3=\"\",\"-\",IF(OR(Sf.in.3=\"-\",Sf.in.3=\"\",Sf.in.3=0,Cf.ArSoloSub.Abe.3=\"-\"),\"-\",(Cf.ArSoloSub.Abe.3*IF.SoloSub.Ina.Abe.a.c*Sf.in.3))),\"-\")","v":"-"},null,{"$f":"IF(CENÁRIOS!$H$17=TRUE,IF(PM.3=\"\",\"-\",IF(OR(Sf.in.3=\"-\",Sf.in.3=\"\",Sf.in.3=0,Cf.ArSoloSub.Fec.3=\"-\"),\"-\",(Cf.ArSoloSub.Fec.3*IF.SoloSub.Ina.Fec.a.c*Sf.in.3))),\"-\")","v":"-"},null,{"$f":"IF(CENÁRIOS!$H$18=TRUE,IF(PM.3=\"\",\"-\",IF(OR(Sf.ig.3=\"-\",Sf.ig.3=\"\",Sf.ig.3=0,Cf.AguaLixSoloSub.3=\"-\"),\"-\",(Cf.AguaLixSoloSub.3*IF.SoloSub.Lix.AS.a.c*Sf.ig.3))),\"-\")","v":"-"},null,{"$f":"IF(CENÁRIOS!$I$18=TRUE,IF(PM.3=\"\",\"-\",IF(OR(Sf.ig.3=\"-\",Sf.ig.3=\"\",Sf.ig.3=0,Cff.AguaLixSoloSub.3=\"-\"),\"-\",(Cff.AguaLixSoloSub.3*IF.SoloSub.Lix.AS.a.c*Sf.ig.3))),\"-\")","v":"-"},null,null,"-",null,"-"]
[null,null,null,null,"NC",{"$f":"IF(CENÁRIOS!$H$11=TRUE,IF(PM.3=\"\",\"-\",IF(OR(RfD.in.cn.3=\"-\",RfD.in.cn.3=\"\",RfD.in.cn.3=0,FT!M10=\"-\"),\"-\",(Cf.SoloSup.3*FT!M10*IF.Solo.Ina.Vap.a.nc/RfD.in.cn.3))),\"-\")","v":"-"},null,{"$f":"IF(CENÁRIOS!$H$12=TRUE,IF(PM.3=\"\",\"-\",IF(OR(RfD.in.cn.3=\"-\",RfD.in.cn.3=\"\",RfD.in.cn.3=0,FT!N10=\"-\"),\"-\",(Cf.SoloSup.3*FT!N10*IF.Solo.Ina.Par.a.nc/RfD.in.cn.3))),\"-\")","v":"-"},null,{"$f":"IF(CENÁRIOS!$H$13=TRUE,IF(PM.3=\"\",\"-\",IF(OR(RfD.dm.cn.3=\"-\",RfD.dm.cn.3=\"\",RfD.dm.cn.3=0,ABSd.3=\"\"),\"-\",(Cf.SoloSup.3*ABSd.3*IF.Solo.Con.Der.a.nc/RfD.dm.cn.3))),\"-\")","v":"-"},null,{"$f":"IF(CENÁRIOS!$H$14=TRUE,IF(PM.3=\"\",\"-\",IF(OR(RfD.ig.cn.3=\"-\",RfD.ig.cn.3=\"\",RfD.ig.cn.3=0),\"-\",(Cf.SoloSup.3*IF.Solo.Ing.a.nc*Biodisp.3/RfD.ig.cn.3))),\"-\")","v":"-"},null,{"$f":"IF(CENÁRIOS!$H$15=TRUE,IF(PM.3=\"\",\"-\",IF(OR(RfD.ig.cn.3=\"-\",RfD.ig.cn.3=\"\",RfD.ig.cn.3=0,BCF.3=\"-\",Tipo.3<>\"METAL\"),\"-\",(Cf.SoloSup.3*((IF.Solo.Ing.Veg.nc.i)*(IRL.i*((BCFF.3+cdpx.3)/frbveg)+(IRR.i*(BCF.3/frkveg))))/RfD.ig.cn.3))),\"-\")","v":"-"},null,{"$f":"IF(CENÁRIOS!$H$15=TRUE,IF(OR(PM.3=\"\",Tipo.3=\"METAL\"),\"-\",IF(OR(RfD.ig.cn.3=\"-\",RfD.ig.cn.3=\"\",RfD.ig.cn.3=0,BCFR.3=\"-\",a.3=\"-\"),\"-\",((Cf.SoloSup.3*IF.Solo.Ing.Veg.nc.i*(IRL.i*(((ps*pw.3*tscf.3*Qveg)/(Vwveg*pplantveg*a.3*Vlveg))+cdpx.3*fdwsveg)+(IRR.i*BCFR.3)))/RfD.ig.cn.3))),\"-\")","v":"-"},null,{"$f":"IF(CENÁRIOS!$H$16=TRUE,IF(PM.3=\"\",\"-\",IF(OR(RfD.in.cn.3=\"-\",RfD.in.cn.3=\"\",RfD.in.cn.3=0,Cf.ArSoloSub.Abe.3=\"-\"),\"-\",(Cf.ArSoloSub.Abe.3*IF.SoloSub.Ina.Abe.a.nc/RfD.in.cn.3))),\"-\")","v":"-"},null,{"$f":"IF(CENÁRIOS!$H$17=TRUE,IF(PM.3=\"\",\"-\",IF(OR(RfD.in.cn.3=\"-\",RfD.in.cn.3=\"\",RfD.in.cn.3=0,Cf.ArSoloSub.Fec.3=\"-\"),\"-\",(Cf.ArSoloSub.Fec.3*IF.SoloSub.Ina.Fec.a.nc/RfD.in.cn.3))),\"-\")","v":"-"},null,{"$f":"IF(CENÁRIOS!$H$18=TRUE,IF(PM.3=\"\",\"-\",IF(OR(RfD.ig.cn.3=\"-\",RfD.ig.cn.3=\"\",RfD.ig.cn.3=0,Cf.AguaLixSoloSub.3=\"-\"),\"-\",(Cf.AguaLixSoloSub.3*IF.SoloSub.Lix.AS.a.nc/RfD.ig.cn.3))),\"-\")","v":"-"},null,{"$f":"IF(CENÁRIOS!$I$18=TRUE,IF(PM.3=\"\",\"-\",IF(OR(RfD.ig.cn.3=\"-\",RfD.ig.cn.3=\"\",RfD.ig.cn.3=0,Cff.AguaLixSoloSub.3=\"-\"),\"-\",(Cff.AguaLixSoloSub.3*IF.SoloSub.Lix.AS.a.nc/RfD.ig.cn.3))),\"-\")","v":"-"},null,null,"-",null,"-"]
[null,4,{"$f":"SQI!D12","v":0},{"$f":"SQI!C12","v":""},"C",{"$f":"IF(CENÁRIOS!$H$11=TRUE,IF(PM.4=\"\",\"-\",IF(OR(Sf.in.4=\"-\",Sf.in.4=\"\",Sf.in.4=0,FT!M11=\"-\"),\"-\",(Cf.SoloSup.4*FT!M11*IF.Solo.Ina.Vap.a.c*Sf.in.4))),\"-\")","v":"-"},null,{"$f":"IF(CENÁRIOS!$H$12=TRUE,IF(PM.4=\"\",\"-\",IF(OR(Sf.in.4=\"-\",Sf.in.4=\"\",Sf.in.4=0,FT!N11=\"-\"),\"-\",(Cf.SoloSup.4*FT!N11*IF.Solo.Ina.Par.a.c*Sf.in.4))),\"-\")","v":"-"},null,{"$f":"IF(CENÁRIOS!$H$13=TRUE,IF(PM.4=\"\",\"-\",IF(OR(Sf.dm.4=\"-\",Sf.dm.4=\"\",Sf.dm.4=0,ABSd.4=\"\"),\"-\",(Cf.SoloSup.4*ABSd.4*IF.Solo.Con.Der.a.c*Sf.dm.4))),\"-\")","v":"-"},null,{"$f":"IF(CENÁRIOS!$H$14=TRUE,IF(PM.4=\"\",\"-\",IF(OR(Sf.ig.4=\"-\",Sf.ig.4=\"\",Sf.ig.4=0),\"-\",(Cf.SoloSup.4*IF.Solo.Ing.a.c*Biodisp.4*Sf.ig.4))),\"-\")","v":"-"},null,{"$f":"IF(CENÁRIOS!$H$15=TRUE,IF(PM.4=\"\",\"-\",IF(OR(Sf.ig.4=\"-\",Sf.ig.4=\"\",Sf.ig.4=0,BCF.4=\"-\",Tipo.4<>\"METAL\"),\"-\",(Cf.SoloSup.4*(IF.Solo.Ing.Veg.c.i*Sf.ig.4)*(IRL.i*((BCFF.4+cdpx.4)/frbveg)+(IRR.i*(BCF.4/frkveg)))))),\"-\")","v":"-"},null,{"$f":"IF(CENÁRIOS!$H$15=TRUE,IF(OR(PM.4=\"\",Tipo.4=\"METAL\"),\"-\",IF(OR(Sf.ig.4=\"-\",Sf.ig.4=\"\",Sf.ig.4=0,BCFR.4=\"-\",a.4=\"-\"),\"-\",((Cf.SoloSup.4*(IF.Solo.Ing.Veg.c.i*Sf.ig.4)*(IRL.i*(((ps*pw.4*tscf.4*Qveg)/(Vwveg*pplantveg*a.4*Vlveg))+cdpx.4*fdwsveg)+(IRR.i*BCFR.4)))))),\"-\")","v":"-"},null,{"$f":"IF(CENÁRIOS!$H$16=TRUE,IF(PM.4=\"\",\"-\",IF(OR(Sf.in.4=\"-\",Sf.in.4=\"\",Sf.in.4=0,Cf.ArSoloSub.Abe.4=\"-\"),\"-\",(Cf.ArSoloSub.Abe.4*IF.SoloSub.Ina.Abe.a.c*Sf.in.4))),\"-\")","v":"-"},null,{"$f":"IF(CENÁRIOS!$H$17=TRUE,IF(PM.4=\"\",\"-\",IF(OR(Sf.in.4=\"-\",Sf.in.4=\"\",Sf.in.4=0,Cf.ArSoloSub.Fec.4=\"-\"),\"-\",(Cf.ArSoloSub.Fec.4*IF.SoloSub.Ina.Fec.a.c*Sf.in.4))),\"-\")","v":"-"},null,{"$f":"IF(CENÁRIOS!$H$18=TRUE,IF(PM.4=\"\",\"-\",IF(OR(Sf.ig.4=\"-\",Sf.ig.4=\"\",Sf.ig.4=0,Cf.AguaLixSoloSub.4=\"-\"),\"-\",(Cf.AguaLixSoloSub.4*IF.SoloSub.Lix.AS.a.c*Sf.ig.4))),\"-\")","v":"-"},null,{"$f":"IF(CENÁRIOS!$I$18=TRUE,IF(PM.4=\"\",\"-\",IF(OR(Sf.ig.4=\"-\",Sf.ig.4=\"\",Sf.ig.4=0,Cff.AguaLixSoloSub.4=\"-\"),\"-\",(Cff.AguaLixSoloSub.4*IF.SoloSub.Lix.AS.a.c*Sf.ig.4))),\"-\")","v":"-"},null,null,"-",null,"-"]
[null,null,null,null,"NC",{"$f":"IF(CENÁRIOS!$H$11=TRUE,IF(PM.4=\"\",\"-\",IF(OR(RfD.in.cn.4=\"-\",RfD.in.cn.4=\"\",RfD.in.cn.4=0,FT!M11=\"-\"),\"-\",(Cf.SoloSup.4*FT!M11*IF.Solo.Ina.Vap.a.nc/RfD.in.cn.4))),\"-\")","v":"-"},null,{"$f":"IF(CENÁRIOS!$H$12=TRUE,IF(PM.4=\"\",\"-\",IF(OR(RfD.in.cn.4=\"-\",RfD.in.cn.4=\"\",RfD.in.cn.4=0,FT!N11=\"-\"),\"-\",(Cf.SoloSup.4*FT!N11*IF.Solo.Ina.Par.a.nc/RfD.in.cn.4))),\"-\")","v":"-"},null,{"$f":"IF(CENÁRIOS!$H$13=TRUE,IF(PM.4=\"\",\"-\",IF(OR(RfD.dm.cn.4=\"-\",RfD.dm.cn.4=\"\",RfD.dm.cn.4=0,ABSd.4=\"\"),\"-\",(Cf.SoloSup.4*ABSd.4*IF.Solo.Con.Der.a.nc/RfD.dm.cn.4))),\"-\")","v":"-"},null,{"$f":"IF(CENÁRIOS!$H$14=TRUE,IF(PM.4=\"\",\"-\",IF(OR(RfD.ig.cn.4=\"-\",RfD.ig.cn.4=\"\",RfD.ig.cn.4=0),\"-\",(Cf.SoloSup.4*IF.Solo.Ing.a.nc*Biodisp.4/RfD.ig.cn.4))),\"-\")","v":"-"},null,{"$f":"IF(CENÁRIOS!$H$15=TRUE,IF(PM.4=\"\",\"-\",IF(OR(RfD.ig.cn.4=\"-\",RfD.ig.cn.4=\"\",RfD.ig.cn.4=0,BCF.4=\"-\",Tipo.4<>\"METAL\"),\"-\",(Cf.SoloSup.4*((IF.Solo.Ing.Veg.nc.i)*(IRL.i*((BCFF.4+cdpx.4)/frbveg)+(IRR.i*(BCF.4/frkveg))))/RfD.ig.cn.4))),\"-\")","v":"-"},null,{"$f":"IF(CENÁRIOS!$H$15=TRUE,IF(OR(PM.4=\"\",Tipo.4=\"METAL\"),\"-\",IF(OR(RfD.ig.cn.4=\"-\",RfD.ig.cn.4=\"\",RfD.ig.cn.4=0,BCFR.4=\"-\",a.4=\"-\"),\"-\",((Cf.SoloSup.4*IF.Solo.Ing.Veg.nc.i*(IRL.i*(((ps*pw.4*tscf.4*Qveg)/(Vwveg*pplantveg*a.4*Vlveg))+cdpx.4*fdwsveg)+(IRR.i*BCFR.4)))/RfD.ig.cn.4))),\"-\")","v":"-"},null,{"$f":"IF(CENÁRIOS!$H$16=TRUE,IF(PM.4=\"\",\"-\",IF(OR(RfD.in.cn.4=\"-\",RfD.in.cn.4=\"\",RfD.in.cn.4=0,Cf.ArSoloSub.Abe.4=\"-\"),\"-\",(Cf.ArSoloSub.Abe.4*IF.SoloSub.Ina.Abe.a.nc/RfD.in.cn.4))),\"-\")","v":"-"},null,{"$f":"IF(CENÁRIOS!$H$17=TRUE,IF(PM.4=\"\",\"-\",IF(OR(RfD.in.cn.4=\"-\",RfD.in.cn.4=\"\",RfD.in.cn.4=0,Cf.ArSoloSub.Fec.4=\"-\"),\"-\",(Cf.ArSoloSub.Fec.4*IF.SoloSub.Ina.Fec.a.nc/RfD.in.cn.4))),\"-\")","v":"-"},null,{"$f":"IF(CENÁRIOS!$H$18=TRUE,IF(PM.4=\"\",\"-\",IF(OR(RfD.ig.cn.4=\"-\",RfD.ig.cn.4=\"\",RfD.ig.cn.4=0,Cf.AguaLixSoloSub.4=\"-\"),\"-\",(Cf.AguaLixSoloSub.4*IF.SoloSub.Lix.AS.a.nc/RfD.ig.cn.4))),\"-\")","v":"-"},null,{"$f":"IF(CENÁRIOS!$I$18=TRUE,IF(PM.4=\"\",\"-\",IF(OR(RfD.ig.cn.4=\"-\",RfD.ig.cn.4=\"\",RfD.ig.cn.4=0,Cff.AguaLixSoloSub.4=\"-\"),\"-\",(Cff.AguaLixSoloSub.4*IF.SoloSub.Lix.AS.a.nc/RfD.ig.cn.4))),\"-\")","v":"-"},null,null,"-",null,"-"]
[null,5,{"$f":"SQI!D13","v":0},{"$f":"SQI!C13","v":""},"C",{"$f":"IF(CENÁRIOS!$H$11=TRUE,IF(PM.5=\"\",\"-\",IF(OR(Sf.in.5=\"-\",Sf.in.5=\"\",Sf.in.5=0,FT!M12=\"-\"),\"-\",(Cf.SoloSup.5*FT!M12*IF.Solo.Ina.Vap.a.c*Sf.in.5))),\"-\")","v":"-"},null,{"$f":"IF(CENÁRIOS!$H$12=TRUE,IF(PM.5=\"\",\"-\",IF(OR(Sf.in.5=\"-\",Sf.in.5=\"\",Sf.in.5=0,FT!N12=\"-\"),\"-\",(Cf.SoloSup.5*FT!N12*IF.Solo.Ina.Par.a.c*Sf.in.5))),\"-\")","v":"-"},null,{"$f":"IF(CENÁRIOS!$H$13=TRUE,IF(PM.5=\"\",\"-\",IF(OR(Sf.dm.5=\"-\",Sf.dm.5=\"\",Sf.dm.5=0,ABSd.5=\"\"),\"-\",(Cf.SoloSup.5*ABSd.5*IF.Solo.Con.Der.a.c*Sf.dm.5))),\"-\")","v":"-"},null,{"$f":"IF(CENÁRIOS!$H$14=TRUE,IF(PM.5=\"\",\"-\",IF(OR(Sf.ig.5=\"-\",Sf.ig.5=\"\",Sf.ig.5=0),\"-\",(Cf.SoloSup.5*IF.Solo.Ing.a.c*Biodisp.5*Sf.ig.5))),\"-\")","v":"-"},null,{"$f":"IF(CENÁRIOS!$H$15=TRUE,IF(PM.5=\"\",\"-\",IF(OR(Sf.ig.5=\"-\",Sf.ig.5=\"\",Sf.ig.5=0,BCF.5=\"-\",Tipo.5<>\"METAL\"),\"-\",(Cf.SoloSup.5*(IF.Solo.Ing.Veg.c.i*Sf.ig.5)*(IRL.i*((BCFF.5+cdpx.5)/frbveg)+(IRR.i*(BCF.5/frkveg)))))),\"-\")","v":"-"},null,{"$f":"IF(CENÁRIOS!$H$15=TRUE,IF(OR(PM.5=\"\",Tipo.5=\"METAL\"),\"-\",IF(OR(Sf.ig.5=\"-\",Sf.ig.5=\"\",Sf.ig.5=0,BCFR.5=\"-\",a.5=\"-\"),\"-\",((Cf.SoloSup.5*(IF.Solo.Ing.Veg.c.i*Sf.ig.5)*(IRL.i*(((ps*pw.5*tscf.5*Qveg)/(Vwveg*pplantveg*a.5*Vlveg))+cdpx.5*fdwsveg)+(IRR.i*BCFR.5)))))),\"-\")","v":"-"},null,{"$f":"IF(CENÁRIOS!$H$16=TRUE,IF(PM.5=\"\",\"-\",IF(OR(Sf.in.5=\"-\",Sf.in.5=\"\",Sf.in.5=0,Cf.ArSoloSub.Abe.5=\"-\"),\"-\",(Cf.ArSoloSub.Abe.5*IF.SoloSub.Ina.Abe.a.c*Sf.in.5))),\"-\")","v":"-"},null,{"$f":"IF(CENÁRIOS!$H$17=TRUE,IF(PM.5=\"\",\"-\",IF(OR(Sf.in.5=\"-\",Sf.in.5=\"\",Sf.in.5=0,Cf.ArSoloSub.Fec.5=\"-\"),\"-\",(Cf.ArSoloSub.Fec.5*IF.SoloSub.Ina.Fec.a.c*Sf.in.5))),\"-\")","v":"-"},null,{"$f":"IF(CENÁRIOS!$H$18=TRUE,IF(PM.5=\"\",\"-\",IF(OR(Sf.ig.5=\"-\",Sf.ig.5=\"\",Sf.ig.5=0,Cf.AguaLixSoloSub.5=\"-\"),\"-\",(Cf.AguaLixSoloSub.5*IF.SoloSub.Lix.AS.a.c*Sf.ig.5))),\"-\")","v":"-"},null,{"$f":"IF(CENÁRIOS!$I$18=TRUE,IF(PM.5=\"\",\"-\",IF(OR(Sf.ig.5=\"-\",Sf.ig.5=\"\",Sf.ig.5=0,Cff.AguaLixSoloSub.5=\"-\"),\"-\",(Cff.AguaLixSoloSub.5*IF.SoloSub.Lix.AS.a.c*Sf.ig.5))),\"-\")","v":"-"},null,null,"-",null,"-"]
[null,null,null,null,"NC",{"$f":"IF(CENÁRIOS!$H$11=TRUE,IF(PM.5=\"\",\"-\",IF(OR(RfD.in.cn.5=\"-\",RfD.in.cn.5=\"\",RfD.in.cn.5=0,FT!M12=\"-\"),\"-\",(Cf.SoloSup.5*FT!M12*IF.Solo.Ina.Vap.a.nc/RfD.in.cn.5))),\"-\")","v":"-"},null,{"$f":"IF(CENÁRIOS!$H$12=TRUE,IF(PM.5=\"\",\"-\",IF(OR(RfD.in.cn.5=\"-\",RfD.in.cn.5=\"\",RfD.in.cn.5=0,FT!N12=\"-\"),\"-\",(Cf.SoloSup.5*FT!N12*IF.Solo.Ina.Par.a.nc/RfD.in.cn.5))),\"-\")","v":"-"},null,{"$f":"IF(CENÁRIOS!$H$13=TRUE,IF(PM.5=\"\",\"-\",IF(OR(RfD.dm.cn.5=\"-\",RfD.dm.cn.5=\"\",RfD.dm.cn.5=0,ABSd.5=\"\"),\"-\",(Cf.SoloSup.5*ABSd.5*IF.Solo.Con.Der.a.nc/RfD.dm.cn.5))),\"-\")","v":"-"},null,{"$f":"IF(CENÁRIOS!$H$14=TRUE,IF(PM.5=\"\",\"-\",IF(OR(RfD.ig.cn.5=\"-\",RfD.ig.cn.5=\"\",RfD.ig.cn.5=0),\"-\",(Cf.SoloSup.5*IF.Solo.Ing.a.nc*Biodisp.5/RfD.ig.cn.5))),\"-\")","v":"-"},null,{"$f":"IF(CENÁRIOS!$H$15=TRUE,IF(PM.5=\"\",\"-\",IF(OR(RfD.ig.cn.5=\"-\",RfD.ig.cn.5=\"\",RfD.ig.cn.5=0,BCF.5=\"-\",Tipo.5<>\"METAL\"),\"-\",(Cf.SoloSup.5*((IF.Solo.Ing.Veg.nc.i)*(IRL.i*((BCFF.5+cdpx.5)/frbveg)+(IRR.i*(BCF.5/frkveg))))/RfD.ig.cn.5))),\"-\")","v":"-"},null,{"$f":"IF(CENÁRIOS!$H$15=TRUE,IF(OR(PM.5=\"\",Tipo.5=\"METAL\"),\"-\",IF(OR(RfD.ig.cn.5=\"-\",RfD.ig.cn.5=\"\",RfD.ig.cn.5=0,BCFR.5=\"-\",a.5=\"-\"),\"-\",((Cf.SoloSup.5*IF.Solo.Ing.Veg.nc.i*(IRL.i*(((ps*pw.5*tscf.5*Qveg)/(Vwveg*pplantveg*a.5*Vlveg))+cdpx.5*fdwsveg)+(IRR.i*BCFR.5)))/RfD.ig.cn.5))),\"-\")","v":"-"},null,{"$f":"IF(CENÁRIOS!$H$16=TRUE,IF(PM.5=\"\",\"-\",IF(OR(RfD.in.cn.5=\"-\",RfD.in.cn.5=\"\",RfD.in.cn.5=0,Cf.ArSoloSub.Abe.5=\"-\"),\"-\",(Cf.ArSoloSub.Abe.5*IF.SoloSub.Ina.Abe.a.nc/RfD.in.cn.5))),\"-\")","v":"-"},null,{"$f":"IF(CENÁRIOS!$H$17=TRUE,IF(PM.5=\"\",\"-\",IF(OR(RfD.in.cn.5=\"-\",RfD.in.cn.5=\"\",RfD.in.cn.5=0,Cf.ArSoloSub.Fec.5=\"-\"),\"-\",(Cf.ArSoloSub.Fec.5*IF.SoloSub.Ina.Fec.a.nc/RfD.in.cn.5))),\"-\")","v":"-"},null,{"$f":"IF(CENÁRIOS!$H$18=TRUE,IF(PM.5=\"\",\"-\",IF(OR(RfD.ig.cn.5=\"-\",RfD.ig.cn.5=\"\",RfD.ig.cn.5=0,Cf.AguaLixSoloSub.5=\"-\"),\"-\",(Cf.AguaLixSoloSub.5*IF.SoloSub.Lix.AS.a.nc/RfD.ig.cn.5))),\"-\")","v":"-"},null,{"$f":"IF(CENÁRIOS!$I$18=TRUE,IF(PM.5=\"\",\"-\",IF(OR(RfD.ig.cn.5=\"-\",RfD.ig.cn.5=\"\",RfD.ig.cn.5=0,Cff.AguaLixSoloSub.5=\"-\"),\"-\",(Cff.AguaLixSoloSub.5*IF.SoloSub.Lix.AS.a.nc/RfD.ig.cn.5))),\"-\")","v":"-"},null,null,"-",null,"-"]
[null,6,{"$f":"SQI!D14","v":0},{"$f":"SQI!C14","v":""},"C",{"$f":"IF(CENÁRIOS!$H$11=TRUE,IF(PM.6=\"\",\"-\",IF(OR(Sf.in.6=\"-\",Sf.in.6=\"\",Sf.in.6=0,FT!M13=\"-\"),\"-\",(Cf.SoloSup.6*FT!M13*IF.Solo.Ina.Vap.a.c*Sf.in.6))),\"-\")","v":"-"},null,{"$f":"IF(CENÁRIOS!$H$12=TRUE,IF(PM.6=\"\",\"-\",IF(OR(Sf.in.6=\"-\",Sf.in.6=\"\",Sf.in.6=0,FT!N13=\"-\"),\"-\",(Cf.SoloSup.6*FT!N13*IF.Solo.Ina.Par.a.c*Sf.in.6))),\"-\")","v":"-"},null,{"$f":"IF(CENÁRIOS!$H$13=TRUE,IF(PM.6=\"\",\"-\",IF(OR(Sf.dm.6=\"-\",Sf.dm.6=\"\",Sf.dm.6=0,ABSd.6=\"\"),\"-\",(Cf.SoloSup.6*ABSd.6*IF.Solo.Con.Der.a.c*Sf.dm.6))),\"-\")","v":"-"},null,{"$f":"IF(CENÁRIOS!$H$14=TRUE,IF(PM.6=\"\",\"-\",IF(OR(Sf.ig.6=\"-\",Sf.ig.6=\"\",Sf.ig.6=0),\"-\",(Cf.SoloSup.6*IF.Solo.Ing.a.c*Biodisp.6*Sf.ig.6))),\"-\")","v":"-"},null,{"$f":"IF(CENÁRIOS!$H$15=TRUE,IF(PM.6=\"\",\"-\",IF(OR(Sf.ig.6=\"-\",Sf.ig.6=\"\",Sf.ig.6=0,BCF.6=\"-\",Tipo.6<>\"METAL\"),\"-\",(Cf.SoloSup.6*(IF.Solo.Ing.Veg.c.i*Sf.ig.6)*(IRL.i*((BCFF.6+cdpx.6)/frbveg)+(IRR.i*(BCF.6/frkveg)))))),\"-\")","v":"-"},null,{"$f":"IF(CENÁRIOS!$H$15=TRUE,IF(OR(PM.6=\"\",Tipo.6=\"METAL\"),\"-\",IF(OR(Sf.ig.6=\"-\",Sf.ig.6=\"\",Sf.ig.6=0,BCFR.6=\"-\",a.6=\"-\"),\"-\",((Cf.SoloSup.6*(IF.Solo.Ing.Veg.c.i*Sf.ig.6)*(IRL.i*(((ps*pw.6*tscf.6*Qveg)/(Vwveg*pplantveg*a.6*Vlveg))+cdpx.6*fdwsveg)+(IRR.i*BCFR.6)))))),\"-\")","v":"-"},null,{"$f":"IF(CENÁRIOS!$H$16=TRUE,IF(PM.6=\"\",\"-\",IF(OR(Sf.in.6=\"-\",Sf.in.6=\"\",Sf.in.6=0,Cf.ArSoloSub.Abe.6=\"-\"),\"-\",(Cf.ArSoloSub.Abe.6*IF.SoloSub.Ina.Abe.a.c*Sf.in.6))),\"-\")","v":"-"},null,{"$f":"IF(CENÁRIOS!$H$17=TRUE,IF(PM.6=\"\",\"-\",IF(OR(Sf.in.6=\"-\",Sf.in.6=\"\",Sf.in.6=0,Cf.ArSoloSub.Fec.6=\"-\"),\"-\",(Cf.ArSoloSub.Fec.6*IF.SoloSub.Ina.Fec.a.c*Sf.in.6))),\"-\")","v":"-"},null,{"$f":"IF(CENÁRIOS!$H$18=TRUE,IF(PM.6=\"\",\"-\",IF(OR(Sf.ig.6=\"-\",Sf.ig.6=\"\",Sf.ig.6=0,Cf.AguaLixSoloSub.6=\"-\"),\"-\",(Cf.AguaLixSoloSub.6*IF.SoloSub.Lix.AS.a.c*Sf.ig.6))),\"-\")","v":"-"},null,{"$f":"IF(CENÁRIOS!$I$18=TRUE,IF(PM.6=\"\",\"-\",IF(OR(Sf.ig.6=\"-\",Sf.ig.6=\"\",Sf.ig.6=0,Cff.AguaLixSoloSub.6=\"-\"),\"-\",(Cff.AguaLixSoloSub.6*IF.SoloSub.Lix.AS.a.c*Sf.ig.6))),\"-\")","v":"-"},null,null,"-",null,"-"]
[null,null,null,null,"NC",{"$f":"IF(CENÁRIOS!$H$11=TRUE,IF(PM.6=\"\",\"-\",IF(OR(RfD.in.cn.6=\"-\",RfD.in.cn.6=\"\",RfD.in.cn.6=0,FT!M13=\"-\"),\"-\",(Cf.SoloSup.6*FT!M13*IF.Solo.Ina.Vap.a.nc/RfD.in.cn.6))),\"-\")","v":"-"},null,{"$f":"IF(CENÁRIOS!$H$12=TRUE,IF(PM.6=\"\",\"-\",IF(OR(RfD.in.cn.6=\"-\",RfD.in.cn.6=\"\",RfD.in.cn.6=0,FT!N13=\"-\"),\"-\",(Cf.SoloSup.6*FT!N13*IF.Solo.Ina.Par.a.nc/RfD.in.cn.6))),\"-\")","v":"-"},null,{"$f":"IF(CENÁRIOS!$H$13=TRUE,IF(PM.6=\"\",\"-\",IF(OR(RfD.dm.cn.6=\"-\",RfD.dm.cn.6=\"\",RfD.dm.cn.6=0,ABSd.6=\"\"),\"-\",(Cf.SoloSup.6*ABSd.6*IF.Solo.Con.Der.a.nc/RfD.dm.cn.6))),\"-\")","v":"-"},null,{"$f":"IF(CENÁRIOS!$H$14=TRUE,IF(PM.6=\"\",\"-\",IF(OR(RfD.ig.cn.6=\"-\",RfD.ig.cn.6=\"\",RfD.ig.cn.6=0),\"-\",(Cf.SoloSup.6*IF.Solo.Ing.a.nc*Biodisp.6/RfD.ig.cn.6))),\"-\")","v":"-"},null,{"$f":"IF(CENÁRIOS!$H$15=TRUE,IF(PM.6=\"\",\"-\",IF(OR(RfD.ig.cn.6=\"-\",RfD.ig.cn.6=\"\",RfD.ig.cn.6=0,BCF.6=\"-\",Tipo.6<>\"METAL\"),\"-\",(Cf.SoloSup.6*((IF.Solo.Ing.Veg.nc.i)*(IRL.i*((BCFF.6+cdpx.6)/frbveg)+(IRR.i*(BCF.6/frkveg))))/RfD.ig.cn.6))),\"-\")","v":"-"},null,{"$f":"IF(CENÁRIOS!$H$15=TRUE,IF(OR(PM.6=\"\",Tipo.6=\"METAL\"),\"-\",IF(OR(RfD.ig.cn.6=\"-\",RfD.ig.cn.6=\"\",RfD.ig.cn.6=0,BCFR.6=\"-\",a.6=\"-\"),\"-\",((Cf.SoloSup.6*IF.Solo.Ing.Veg.nc.i*(IRL.i*(((ps*pw.6*tscf.6*Qveg)/(Vwveg*pplantveg*a.6*Vlveg))+cdpx.6*fdwsveg)+(IRR.i*BCFR.6)))/RfD.ig.cn.6))),\"-\")","v":"-"},null,{"$f":"IF(CENÁRIOS!$H$16=TRUE,IF(PM.6=\"\",\"-\",IF(OR(RfD.in.cn.6=\"-\",RfD.in.cn.6=\"\",RfD.in.cn.6=0,Cf.ArSoloSub.Abe.6=\"-\"),\"-\",(Cf.ArSoloSub.Abe.6*IF.SoloSub.Ina.Abe.a.nc/RfD.in.cn.6))),\"-\")","v":"-"},null,{"$f":"IF(CENÁRIOS!$H$17=TRUE,IF(PM.6=\"\",\"-\",IF(OR(RfD.in.cn.6=\"-\",RfD.in.cn.6=\"\",RfD.in.cn.6=0,Cf.ArSoloSub.Fec.6=\"-\"),\"-\",(Cf.ArSoloSub.Fec.6*IF.SoloSub.Ina.Fec.a.nc/RfD.in.cn.6))),\"-\")","v":"-"},null,{"$f":"IF(CENÁRIOS!$H$18=TRUE,IF(PM.6=\"\",\"-\",IF(OR(RfD.ig.cn.6=\"-\",RfD.ig.cn.6=\"\",RfD.ig.cn.6=0,Cf.AguaLixSoloSub.6=\"-\"),\"-\",(Cf.AguaLixSoloSub.6*IF.SoloSub.Lix.AS.a.nc/RfD.ig.cn.6))),\"-\")","v":"-"},null,{"$f":"IF(CENÁRIOS!$I$18=TRUE,IF(PM.6=\"\",\"-\",IF(OR(RfD.ig.cn.6=\"-\",RfD.ig.cn.6=\"\",RfD.ig.cn.6=0,Cff.AguaLixSoloSub.6=\"-\"),\"-\",(Cff.AguaLixSoloSub.6*IF.SoloSub.Lix.AS.a.nc/RfD.ig.cn.6))),\"-\")","v":"-"},null,null,"-",null,"-"]
[null,7,{"$f":"SQI!D15","v":0},{"$f":"SQI!C15","v":""},"C",{"$f":"IF(CENÁRIOS!$H$11=TRUE,IF(PM.7=\"\",\"-\",IF(OR(Sf.in.7=\"-\",Sf.in.7=\"\",Sf.in.7=0,FT!M14=\"-\"),\"-\",(Cf.SoloSup.7*FT!M14*IF.Solo.Ina.Vap.a.c*Sf.in.7))),\"-\")","v":"-"},null,{"$f":"IF(CENÁRIOS!$H$12=TRUE,IF(PM.7=\"\",\"-\",IF(OR(Sf.in.7=\"-\",Sf.in.7=\"\",Sf.in.7=0,FT!N14=\"-\"),\"-\",(Cf.SoloSup.7*FT!N14*IF.Solo.Ina.Par.a.c*Sf.in.7))),\"-\")","v":"-"},null,{"$f":"IF(CENÁRIOS!$H$13=TRUE,IF(PM.7=\"\",\"-\",IF(OR(Sf.dm.7=\"-\",Sf.dm.7=\"\",Sf.dm.7=0,ABSd.7=\"\"),\"-\",(Cf.SoloSup.7*ABSd.7*IF.Solo.Con.Der.a.c*Sf.dm.7))),\"-\")","v":"-"},null,{"$f":"IF(CENÁRIOS!$H$14=TRUE,IF(PM.7=\"\",\"-\",IF(OR(Sf.ig.7=\"-\",Sf.ig.7=\"\",Sf.ig.7=0),\"-\",(Cf.SoloSup.7*IF.Solo.Ing.a.c*Biodisp.7*Sf.ig.7))),\"-\")","v":"-"},null,{"$f":"IF(CENÁRIOS!$H$15=TRUE,IF(PM.7=\"\",\"-\",IF(OR(Sf.ig.7=\"-\",Sf.ig.7=\"\",Sf.ig.7=0,BCF.7=\"-\",Tipo.7<>\"METAL\"),\"-\",(Cf.SoloSup.7*(IF.Solo.Ing.Veg.c.i*Sf.ig.7)*(IRL.i*((BCFF.7+cdpx.7)/frbveg)+(IRR.i*(BCF.7/frkveg)))))),\"-\")","v":"-"},null,{"$f":"IF(CENÁRIOS!$H$15=TRUE,IF(OR(PM.7=\"\",Tipo.7=\"METAL\"),\"-\",IF(OR(Sf.ig.7=\"-\",Sf.ig.7=\"\",Sf.ig.7=0,BCFR.7=\"-\",a.7=\"-\"),\"-\",((Cf.SoloSup.7*(IF.Solo.Ing.Veg.c.i*Sf.ig.7)*(IRL.i*(((ps*pw.7*tscf.7*Qveg)/(Vwveg*pplantveg*a.7*Vlveg))+cdpx.7*fdwsveg)+(IRR.i*BCFR.7)))))),\"-\")","v":"-"},null,{"$f":"IF(CENÁRIOS!$H$16=TRUE,IF(PM.7=\"\",\"-\",IF(OR(Sf.in.7=\"-\",Sf.in.7=\"\",Sf.in.7=0,Cf.ArSoloSub.Abe.7=\"-\"),\"-\",(Cf.ArSoloSub.Abe.7*IF.SoloSub.Ina.Abe.a.c*Sf.in.7))),\"-\")","v":"-"},null,{"$f":"IF(CENÁRIOS!$H$17=TRUE,IF(PM.7=\"\",\"-\",IF(OR(Sf.in.7=\"-\",Sf.in.7=\"\",Sf.in.7=0,Cf.ArSoloSub.Fec.7=\"-\"),\"-\",(Cf.ArSoloSub.Fec.7*IF.SoloSub.Ina.Fec.a.c*Sf.in.7))),\"-\")","v":"-"},null,{"$f":"IF(CENÁRIOS!$H$18=TRUE,IF(PM.7=\"\",\"-\",IF(OR(Sf.ig.7=\"-\",Sf.ig.7=\"\",Sf.ig.7=0,Cf.AguaLixSoloSub.7=\"-\"),\"-\",(Cf.AguaLixSoloSub.7*IF.SoloSub.Lix.AS.a.c*Sf.ig.7))),\"-\")","v":"-"},null,{"$f":"IF(CENÁRIOS!$I$18=TRUE,IF(PM.7=\"\",\"-\",IF(OR(Sf.ig.7=\"-\",Sf.ig.7=\"\",Sf.ig.7=0,Cff.AguaLixSoloSub.7=\"-\"),\"-\",(Cff.AguaLixSoloSub.7*IF.SoloSub.Lix.AS.a.c*Sf.ig.7))),\"-\")","v":"-"},null,null,"-",null,"-"]
[null,null,null,null,"NC",{"$f":"IF(CENÁRIOS!$H$11=TRUE,IF(PM.7=\"\",\"-\",IF(OR(RfD.in.cn.7=\"-\",RfD.in.cn.7=\"\",RfD.in.cn.7=0,FT!M14=\"-\"),\"-\",(Cf.SoloSup.7*FT!M14*IF.Solo.Ina.Vap.a.nc/RfD.in.cn.7))),\"-\")","v":"-"},null,{"$f":"IF(CENÁRIOS!$H$12=TRUE,IF(PM.7=\"\",\"-\",IF(OR(RfD.in.cn.7=\"-\",RfD.in.cn.7=\"\",RfD.in.cn.7=0,FT!N14=\"-\"),\"-\",(Cf.SoloSup.7*FT!N14*IF.Solo.Ina.Par.a.nc/RfD.in.cn.7))),\"-\")","v":"-"},null,{"$f":"IF(CENÁRIOS!$H$13=TRUE,IF(PM.7=\"\",\"-\",IF(OR(RfD.dm.cn.7=\"-\",RfD.dm.cn.7=\"\",RfD.dm.cn.7=0,ABSd.7=\"\"),\"-\",(Cf.SoloSup.7*ABSd.7*IF.Solo.Con.Der.a.nc/RfD.dm.cn.7))),\"-\")","v":"-"},null,{"$f":"IF(CENÁRIOS!$H$14=TRUE,IF(PM.7=\"\",\"-\",IF(OR(RfD.ig.cn.7=\"-\",RfD.ig.cn.7=\"\",RfD.ig.cn.7=0),\"-\",(Cf.SoloSup.7*IF.Solo.Ing.a.nc*Biodisp.7/RfD.ig.cn.7))),\"-\")","v":"-"},null,{"$f":"IF(CENÁRIOS!$H$15=TRUE,IF(PM.7=\"\",\"-\",IF(OR(RfD.ig.cn.7=\"-\",RfD.ig.cn.7=\"\",RfD.ig.cn.7=0,BCF.7=\"-\",Tipo.7<>\"METAL\"),\"-\",(Cf.SoloSup.7*((IF.Solo.Ing.Veg.nc.i)*(IRL.i*((BCFF.7+cdpx.7)/frbveg)+(IRR.i*(BCF.7/frkveg))))/RfD.ig.cn.7))),\"-\")","v":"-"},null,{"$f":"IF(CENÁRIOS!$H$15=TRUE,IF(OR(PM.7=\"\",Tipo.7=\"METAL\"),\"-\",IF(OR(RfD.ig.cn.7=\"-\",RfD.ig.cn.7=\"\",RfD.ig.cn.7=0,BCFR.7=\"-\",a.7=\"-\"),\"-\",((Cf.SoloSup.7*IF.Solo.Ing.Veg.nc.i*(IRL.i*(((ps*pw.7*tscf.7*Qveg)/(Vwveg*pplantveg*a.7*Vlveg))+cdpx.7*fdwsveg)+(IRR.i*BCFR.7)))/RfD.ig.cn.7))),\"-\")","v":"-"},null,{"$f":"IF(CENÁRIOS!$H$16=TRUE,IF(PM.7=\"\",\"-\",IF(OR(RfD.in.cn.7=\"-\",RfD.in.cn.7=\"\",RfD.in.cn.7=0,Cf.ArSoloSub.Abe.7=\"-\"),\"-\",(Cf.ArSoloSub.Abe.7*IF.SoloSub.Ina.Abe.a.nc/RfD.in.cn.7))),\"-\")","v":"-"},null,{"$f":"IF(CENÁRIOS!$H$17=TRUE,IF(PM.7=\"\",\"-\",IF(OR(RfD.in.cn.7=\"-\",RfD.in.cn.7=\"\",RfD.in.cn.7=0,Cf.ArSoloSub.Fec.7=\"-\"),\"-\",(Cf.ArSoloSub.Fec.7*IF.SoloSub.Ina.Fec.a.nc/RfD.in.cn.7))),\"-\")","v":"-"},null,{"$f":"IF(CENÁRIOS!$H$18=TRUE,IF(PM.7=\"\",\"-\",IF(OR(RfD.ig.cn.7=\"-\",RfD.ig.cn.7=\"\",RfD.ig.cn.7=0,Cf.AguaLixSoloSub.7=\"-\"),\"-\",(Cf.AguaLixSoloSub.7*IF.SoloSub.Lix.AS.a.nc/RfD.ig.cn.7))),\"-\")","v":"-"},null,{"$f":"IF(CENÁRIOS!$I$18=TRUE,IF(PM.7=\"\",\"-\",IF(OR(RfD.ig.cn.7=\"-\",RfD.ig.cn.7=\"\",RfD.ig.cn.7=0,Cff.AguaLixSoloSub.7=\"-\"),\"-\",(Cff.AguaLixSoloSub.7*IF.SoloSub.Lix.AS.a.nc/RfD.ig.cn.7))),\"-\")","v":"-"},null,null,"-",null,"-"]
[null,8,{"$f":"SQI!D16","v":0},{"$f":"SQI!C16","v":""},"C",{"$f":"IF(CENÁRIOS!$H$11=TRUE,IF(PM.8=\"\",\"-\",IF(OR(Sf.in.8=\"-\",Sf.in.8=\"\",Sf.in.8=0,FT!M15=\"-\"),\"-\",(Cf.SoloSup.8*FT!M15*IF.Solo.Ina.Vap.a.c*Sf.in.8))),\"-\")","v":"-"},null,{"$f":"IF(CENÁRIOS!$H$12=TRUE,IF(PM.8=\"\",\"-\",IF(OR(Sf.in.8=\"-\",Sf.in.8=\"\",Sf.in.8=0,FT!N15=\"-\"),\"-\",(Cf.SoloSup.8*FT!N15*IF.Solo.Ina.Par.a.c*Sf.in.8))),\"-\")","v":"-"},null,{"$f":"IF(CENÁRIOS!$H$13=TRUE,IF(PM.8=\"\",\"-\",IF(OR(Sf.dm.8=\"-\",Sf.dm.8=\"\",Sf.dm.8=0,ABSd.8=\"\"),\"-\",(Cf.SoloSup.8*ABSd.8*IF.Solo.Con.Der.a.c*Sf.dm.8))),\"-\")","v":"-"},null,{"$f":"IF(CENÁRIOS!$H$14=TRUE,IF(PM.8=\"\",\"-\",IF(OR(Sf.ig.8=\"-\",Sf.ig.8=\"\",Sf.ig.8=0),\"-\",(Cf.SoloSup.8*IF.Solo.Ing.a.c*Biodisp.8*Sf.ig.8))),\"-\")","v":"-"},null,{"$f":"IF(CENÁRIOS!$H$15=TRUE,IF(PM.8=\"\",\"-\",IF(OR(Sf.ig.8=\"-\",Sf.ig.8=\"\",Sf.ig.8=0,BCF.8=\"-\",Tipo.8<>\"METAL\"),\"-\",(Cf.SoloSup.8*(IF.Solo.Ing.Veg.c.i*Sf.ig.8)*(IRL.i*((BCFF.8+cdpx.8)/frbveg)+(IRR.i*(BCF.8/frkveg)))))),\"-\")","v":"-"},null,{"$f":"IF(CENÁRIOS!$H$15=TRUE,IF(OR(PM.8=\"\",Tipo.8=\"METAL\"),\"-\",IF(OR(Sf.ig.8=\"-\",Sf.ig.8=\"\",Sf.ig.8=0,BCFR.8=\"-\",a.8=\"-\"),\"-\",((Cf.SoloSup.8*(IF.Solo.Ing.Veg.c.i*Sf.ig.8)*(IRL.i*(((ps*pw.8*tscf.8*Qveg)/(Vwveg*pplantveg*a.8*Vlveg))+cdpx.8*fdwsveg)+(IRR.i*BCFR.8)))))),\"-\")","v":"-"},null,{"$f":"IF(CENÁRIOS!$H$16=TRUE,IF(PM.8=\"\",\"-\",IF(OR(Sf.in.8=\"-\",Sf.in.8=\"\",Sf.in.8=0,Cf.ArSoloSub.Abe.8=\"-\"),\"-\",(Cf.ArSoloSub.Abe.8*IF.SoloSub.Ina.Abe.a.c*Sf.in.8))),\"-\")","v":"-"},null,{"$f":"IF(CENÁRIOS!$H$17=TRUE,IF(PM.8=\"\",\"-\",IF(OR(Sf.in.8=\"-\",Sf.in.8=\"\",Sf.in.8=0,Cf.ArSoloSub.Fec.8=\"-\"),\"-\",(Cf.ArSoloSub.Fec.8*IF.SoloSub.Ina.Fec.a.c*Sf.in.8))),\"-\")","v":"-"},null,{"$f":"IF(CENÁRIOS!$H$18=TRUE,IF(PM.8=\"\",\"-\",IF(OR(Sf.ig.8=\"-\",Sf.ig.8=\"\",Sf.ig.8=0,Cf.AguaLixSoloSub.8=\"-\"),\"-\",(Cf.AguaLixSoloSub.8*IF.SoloSub.Lix.AS.a.c*Sf.ig.8))),\"-\")","v":"-"},null,{"$f":"IF(CENÁRIOS!$I$18=TRUE,IF(PM.8=\"\",\"-\",IF(OR(Sf.ig.8=\"-\",Sf.ig.8=\"\",Sf.ig.8=0,Cff.AguaLixSoloSub.8=\"-\"),\"-\",(Cff.AguaLixSoloSub.8*IF.SoloSub.Lix.AS.a.c*Sf.ig.8))),\"-\")","v":"-"},null,null,"-",null,"-"]
[null,null,null,null,"NC",{"$f":"IF(CENÁRIOS!$H$11=TRUE,IF(PM.8=\"\",\"-\",IF(OR(RfD.in.cn.8=\"-\",RfD.in.cn.8=\"\",RfD.in.cn.8=0,FT!M15=\"-\"),\"-\",(Cf.SoloSup.8*FT!M15*IF.Solo.Ina.Vap.a.nc/RfD.in.cn.8))),\"-\")","v":"-"},null,{"$f":"IF(CENÁRIOS!$H$12=TRUE,IF(PM.8=\"\",\"-\",IF(OR(RfD.in.cn.8=\"-\",RfD.in.cn.8=\"\",RfD.in.cn.8=0,FT!N15=\"-\"),\"-\",(Cf.SoloSup.8*FT!N15*IF.Solo.Ina.Par.a.nc/RfD.in.cn.8))),\"-\")","v":"-"},null,{"$f":"IF(CENÁRIOS!$H$13=TRUE,IF(PM.8=\"\",\"-\",IF(OR(RfD.dm.cn.8=\"-\",RfD.dm.cn.8=\"\",RfD.dm.cn.8=0,ABSd.8=\"\"),\"-\",(Cf.SoloSup.8*ABSd.8*IF.Solo.Con.Der.a.nc/RfD.dm.cn.8))),\"-\")","v":"-"},null,{"$f":"IF(CENÁRIOS!$H$14=TRUE,IF(PM.8=\"\",\"-\",IF(OR(RfD.ig.cn.8=\"-\",RfD.ig.cn.8=\"\",RfD.ig.cn.8=0),\"-\",(Cf.SoloSup.8*IF.Solo.Ing.a.nc*Biodisp.8/RfD.ig.cn.8))),\"-\")","v":"-"},null,{"$f":"IF(CENÁRIOS!$H$15=TRUE,IF(PM.8=\"\",\"-\",IF(OR(RfD.ig.cn.8=\"-\",RfD.ig.cn.8=\"\",RfD.ig.cn.8=0,BCF.8=\"-\",Tipo.8<>\"METAL\"),\"-\",(Cf.SoloSup.8*((IF.Solo.Ing.Veg.nc.i)*(IRL.i*((BCFF.8+cdpx.8)/frbveg)+(IRR.i*(BCF.8/frkveg))))/RfD.ig.cn.8))),\"-\")","v":"-"},null,{"$f":"IF(CENÁRIOS!$H$15=TRUE,IF(OR(PM.8=\"\",Tipo.8=\"METAL\"),\"-\",IF(OR(RfD.ig.cn.8=\"-\",RfD.ig.cn.8=\"\",RfD.ig.cn.8=0,BCFR.8=\"-\",a.8=\"-\"),\"-\",((Cf.SoloSup.8*IF.Solo.Ing.Veg.nc.i*(IRL.i*(((ps*pw.8*tscf.8*Qveg)/(Vwveg*pplantveg*a.8*Vlveg))+cdpx.8*fdwsveg)+(IRR.i*BCFR.8)))/RfD.ig.cn.8))),\"-\")","v":"-"},null,{"$f":"IF(CENÁRIOS!$H$16=TRUE,IF(PM.8=\"\",\"-\",IF(OR(RfD.in.cn.8=\"-\",RfD.in.cn.8=\"\",RfD.in.cn.8=0,Cf.ArSoloSub.Abe.8=\"-\"),\"-\",(Cf.ArSoloSub.Abe.8*IF.SoloSub.Ina.Abe.a.nc/RfD.in.cn.8))),\"-\")","v":"-"},null,{"$f":"IF(CENÁRIOS!$H$17=TRUE,IF(PM.8=\"\",\"-\",IF(OR(RfD.in.cn.8=\"-\",RfD.in.cn.8=\"\",RfD.in.cn.8=0,Cf.ArSoloSub.Fec.8=\"-\"),\"-\",(Cf.ArSoloSub.Fec.8*IF.SoloSub.Ina.Fec.a.nc/RfD.in.cn.8))),\"-\")","v":"-"},null,{"$f":"IF(CENÁRIOS!$H$18=TRUE,IF(PM.8=\"\",\"-\",IF(OR(RfD.ig.cn.8=\"-\",RfD.ig.cn.8=\"\",RfD.ig.cn.8=0,Cf.AguaLixSoloSub.8=\"-\"),\"-\",(Cf.AguaLixSoloSub.8*IF.SoloSub.Lix.AS.a.nc/RfD.ig.cn.8))),\"-\")","v":"-"},null,{"$f":"IF(CENÁRIOS!$I$18=TRUE,IF(PM.8=\"\",\"-\",IF(OR(RfD.ig.cn.8=\"-\",RfD.ig.cn.8=\"\",RfD.ig.cn.8=0,Cff.AguaLixSoloSub.8=\"-\"),\"-\",(Cff.AguaLixSoloSub.8*IF.SoloSub.Lix.AS.a.nc/RfD.ig.cn.8))),\"-\")","v":"-"},null,null,"-",null,"-"]
[null,9,{"$f":"SQI!D17","v":0},{"$f":"SQI!C17","v":""},"C",{"$f":"IF(CENÁRIOS!$H$11=TRUE,IF(PM.9=\"\",\"-\",IF(OR(Sf.in.9=\"-\",Sf.in.9=\"\",Sf.in.9=0,FT!M16=\"-\"),\"-\",(Cf.SoloSup.9*FT!M16*IF.Solo.Ina.Vap.a.c*Sf.in.9))),\"-\")","v":"-"},null,{"$f":"IF(CENÁRIOS!$H$12=TRUE,IF(PM.9=\"\",\"-\",IF(OR(Sf.in.9=\"-\",Sf.in.9=\"\",Sf.in.9=0,FT!N16=\"-\"),\"-\",(Cf.SoloSup.9*FT!N16*IF.Solo.Ina.Par.a.c*Sf.in.9))),\"-\")","v":"-"},null,{"$f":"IF(CENÁRIOS!$H$13=TRUE,IF(PM.9=\"\",\"-\",IF(OR(Sf.dm.9=\"-\",Sf.dm.9=\"\",Sf.dm.9=0,ABSd.9=\"\"),\"-\",(Cf.SoloSup.9*ABSd.9*IF.Solo.Con.Der.a.c*Sf.dm.9))),\"-\")","v":"-"},null,{"$f":"IF(CENÁRIOS!$H$14=TRUE,IF(PM.9=\"\",\"-\",IF(OR(Sf.ig.9=\"-\",Sf.ig.9=\"\",Sf.ig.9=0),\"-\",(Cf.SoloSup.9*IF.Solo.Ing.a.c*Biodisp.9*Sf.ig.9))),\"-\")","v":"-"},null,{"$f":"IF(CENÁRIOS!$H$15=TRUE,IF(PM.9=\"\",\"-\",IF(OR(Sf.ig.9=\"-\",Sf.ig.9=\"\",Sf.ig.9=0,BCF.9=\"-\",Tipo.9<>\"METAL\"),\"-\",(Cf.SoloSup.9*(IF.Solo.Ing.Veg.c.i*Sf.ig.9)*(IRL.i*((BCFF.9+cdpx.9)/frbveg)+(IRR.i*(BCF.9/frkveg)))))),\"-\")","v":"-"},null,{"$f":"IF(CENÁRIOS!$H$15=TRUE,IF(OR(PM.9=\"\",Tipo.9=\"METAL\"),\"-\",IF(OR(Sf.ig.9=\"-\",Sf.ig.9=\"\",Sf.ig.9=0,BCFR.9=\"-\",a.9=\"-\"),\"-\",((Cf.SoloSup.9*(IF.Solo.Ing.Veg.c.i*Sf.ig.9)*(IRL.i*(((ps*pw.9*tscf.9*Qveg)/(Vwveg*pplantveg*a.9*Vlveg))+cdpx.9*fdwsveg)+(IRR.i*BCFR.9)))))),\"-\")","v":"-"},null,{"$f":"IF(CENÁRIOS!$H$16=TRUE,IF(PM.9=\"\",\"-\",IF(OR(Sf.in.9=\"-\",Sf.in.9=\"\",Sf.in.9=0,Cf.ArSoloSub.Abe.9=\"-\"),\"-\",(Cf.ArSoloSub.Abe.9*IF.SoloSub.Ina.Abe.a.c*Sf.in.9))),\"-\")","v":"-"},null,{"$f":"IF(CENÁRIOS!$H$17=TRUE,IF(PM.9=\"\",\"-\",IF(OR(Sf.in.9=\"-\",Sf.in.9=\"\",Sf.in.9=0,Cf.ArSoloSub.Fec.9=\"-\"),\"-\",(Cf.ArSoloSub.Fec.9*IF.SoloSub.Ina.Fec.a.c*Sf.in.9))),\"-\")","v":"-"},null,{"$f":"IF(CENÁRIOS!$H$18=TRUE,IF(PM.9=\"\",\"-\",IF(OR(Sf.ig.9=\"-\",Sf.ig.9=\"\",Sf.ig.9=0,Cf.AguaLixSoloSub.9=\"-\"),\"-\",(Cf.AguaLixSoloSub.9*IF.SoloSub.Lix.AS.a.c*Sf.ig.9))),\"-\")","v":"-"},null,{"$f":"IF(CENÁRIOS!$I$18=TRUE,IF(PM.9=\"\",\"-\",IF(OR(Sf.ig.9=\"-\",Sf.ig.9=\"\",Sf.ig.9=0,Cff.AguaLixSoloSub.9=\"-\"),\"-\",(Cff.AguaLixSoloSub.9*IF.SoloSub.Lix.AS.a.c*Sf.ig.9))),\"-\")","v":"-"},null,null,"-",null,"-"]
[null,null,null,null,"NC",{"$f":"IF(CENÁRIOS!$H$11=TRUE,IF(PM.9=\"\",\"-\",IF(OR(RfD.in.cn.9=\"-\",RfD.in.cn.9=\"\",RfD.in.cn.9=0,FT!M16=\"-\"),\"-\",(Cf.SoloSup.9*FT!M16*IF.Solo.Ina.Vap.a.nc/RfD.in.cn.9))),\"-\")","v":"-"},null,{"$f":"IF(CENÁRIOS!$H$12=TRUE,IF(PM.9=\"\",\"-\",IF(OR(RfD.in.cn.9=\"-\",RfD.in.cn.9=\"\",RfD.in.cn.9=0,FT!N16=\"-\"),\"-\",(Cf.SoloSup.9*FT!N16*IF.Solo.Ina.Par.a.nc/RfD.in.cn.9))),\"-\")","v":"-"},null,{"$f":"IF(CENÁRIOS!$H$13=TRUE,IF(PM.9=\"\",\"-\",IF(OR(RfD.dm.cn.9=\"-\",RfD.dm.cn.9=\"\",RfD.dm.cn.9=0,ABSd.9=\"\"),\"-\",(Cf.SoloSup.9*ABSd.9*IF.Solo.Con.Der.a.nc/RfD.dm.cn.9))),\"-\")","v":"-"},null,{"$f":"IF(CENÁRIOS!$H$14=TRUE,IF(PM.9=\"\",\"-\",IF(OR(RfD.ig.cn.9=\"-\",RfD.ig.cn.9=\"\",RfD.ig.cn.9=0),\"-\",(Cf.SoloSup.9*IF.Solo.Ing.a.nc*Biodisp.9/RfD.ig.cn.9))),\"-\")","v":"-"},null,{"$f":"IF(CENÁRIOS!$H$15=TRUE,IF(PM.9=\"\",\"-\",IF(OR(RfD.ig.cn.9=\"-\",RfD.ig.cn.9=\"\",RfD.ig.cn.9=0,BCF.9=\"-\",Tipo.9<>\"METAL\"),\"-\",(Cf.SoloSup.9*((IF.Solo.Ing.Veg.nc.i)*(IRL.i*((BCFF.9+cdpx.9)/frbveg)+(IRR.i*(BCF.9/frkveg))))/RfD.ig.cn.9))),\"-\")","v":"-"},null,{"$f":"IF(CENÁRIOS!$H$15=TRUE,IF(OR(PM.9=\"\",Tipo.9=\"METAL\"),\"-\",IF(OR(RfD.ig.cn.9=\"-\",RfD.ig.cn.9=\"\",RfD.ig.cn.9=0,BCFR.9=\"-\",a.9=\"-\"),\"-\",((Cf.SoloSup.9*IF.Solo.Ing.Veg.nc.i*(IRL.i*(((ps*pw.9*tscf.9*Qveg)/(Vwveg*pplantveg*a.9*Vlveg))+cdpx.9*fdwsveg)+(IRR.i*BCFR.9)))/RfD.ig.cn.9))),\"-\")","v":"-"},null,{"$f":"IF(CENÁRIOS!$H$16=TRUE,IF(PM.9=\"\",\"-\",IF(OR(RfD.in.cn.9=\"-\",RfD.in.cn.9=\"\",RfD.in.cn.9=0,Cf.ArSoloSub.Abe.9=\"-\"),\"-\",(Cf.ArSoloSub.Abe.9*IF.SoloSub.Ina.Abe.a.nc/RfD.in.cn.9))),\"-\")","v":"-"},null,{"$f":"IF(CENÁRIOS!$H$17=TRUE,IF(PM.9=\"\",\"-\",IF(OR(RfD.in.cn.9=\"-\",RfD.in.cn.9=\"\",RfD.in.cn.9=0,Cf.ArSoloSub.Fec.9=\"-\"),\"-\",(Cf.ArSoloSub.Fec.9*IF.SoloSub.Ina.Fec.a.nc/RfD.in.cn.9))),\"-\")","v":"-"},null,{"$f":"IF(CENÁRIOS!$H$18=TRUE,IF(PM.9=\"\",\"-\",IF(OR(RfD.ig.cn.9=\"-\",RfD.ig.cn.9=\"\",RfD.ig.cn.9=0,Cf.AguaLixSoloSub.9=\"-\"),\"-\",(Cf.AguaLixSoloSub.9*IF.SoloSub.Lix.AS.a.nc/RfD.ig.cn.9))),\"-\")","v":"-"},null,{"$f":"IF(CENÁRIOS!$I$18=TRUE,IF(PM.9=\"\",\"-\",IF(OR(RfD.ig.cn.9=\"-\",RfD.ig.cn.9=\"\",RfD.ig.cn.9=0,Cff.AguaLixSoloSub.9=\"-\"),\"-\",(Cff.AguaLixSoloSub.9*IF.SoloSub.Lix.AS.a.nc/RfD.ig.cn.9))),\"-\")","v":"-"},null,null,"-",null,"-"]
[null,10,{"$f":"SQI!D18","v":0},{"$f":"SQI!C18","v":""},"C",{"$f":"IF(CENÁRIOS!$H$11=TRUE,IF(PM.10=\"\",\"-\",IF(OR(Sf.in.10=\"-\",Sf.in.10=\"\",Sf.in.10=0,FT!M17=\"-\"),\"-\",(Cf.SoloSup.10*FT!M17*IF.Solo.Ina.Vap.a.c*Sf.in.10))),\"-\")","v":"-"},null,{"$f":"IF(CENÁRIOS!$H$12=TRUE,IF(PM.10=\"\",\"-\",IF(OR(Sf.in.10=\"-\",Sf.in.10=\"\",Sf.in.10=0,FT!N17=\"-\"),\"-\",(Cf.SoloSup.10*FT!N17*IF.Solo.Ina.Par.a.c*Sf.in.10))),\"-\")","v":"-"},null,{"$f":"IF(CENÁRIOS!$H$13=TRUE,IF(PM.10=\"\",\"-\",IF(OR(Sf.dm.10=\"-\",Sf.dm.10=\"\",Sf.dm.10=0,ABSd.10=\"\"),\"-\",(Cf.SoloSup.10*ABSd.10*IF.Solo.Con.Der.a.c*Sf.dm.10))),\"-\")","v":"-"},null,{"$f":"IF(CENÁRIOS!$H$14=TRUE,IF(PM.10=\"\",\"-\",IF(OR(Sf.ig.10=\"-\",Sf.ig.10=\"\",Sf.ig.10=0),\"-\",(Cf.SoloSup.10*IF.Solo.Ing.a.c*Biodisp.10*Sf.ig.10))),\"-\")","v":"-"},null,{"$f":"IF(CENÁRIOS!$H$15=TRUE,IF(PM.10=\"\",\"-\",IF(OR(Sf.ig.10=\"-\",Sf.ig.10=\"\",Sf.ig.10=0,BCF.10=\"-\",Tipo.10<>\"METAL\"),\"-\",(Cf.SoloSup.10*(IF.Solo.Ing.Veg.c.i*Sf.ig.10)*(IRL.i*((BCFF.10+cdpx.10)/frbveg)+(IRR.i*(BCF.10/frkveg)))))),\"-\")","v":"-"},null,{"$f":"IF(CENÁRIOS!$H$15=TRUE,IF(OR(PM.10=\"\",Tipo.10=\"METAL\"),\"-\",IF(OR(Sf.ig.10=\"-\",Sf.ig.10=\"\",Sf.ig.10=0,BCFR.10=\"-\",a.10=\"-\"),\"-\",((Cf.SoloSup.10*(IF.Solo.Ing.Veg.c.i*Sf.ig.10)*(IRL.i*(((ps*pw.10*tscf.10*Qveg)/(Vwveg*pplantveg*a.10*Vlveg))+cdpx.10*fdwsveg)+(IRR.i*BCFR.10)))))),\"-\")","v":"-"},null,{"$f":"IF(CENÁRIOS!$H$16=TRUE,IF(PM.10=\"\",\"-\",IF(OR(Sf.in.10=\"-\",Sf.in.10=\"\",Sf.in.10=0,Cf.ArSoloSub.Abe.10=\"-\"),\"-\",(Cf.ArSoloSub.Abe.10*IF.SoloSub.Ina.Abe.a.c*Sf.in.10))),\"-\")","v":"-"},null,{"$f":"IF(CENÁRIOS!$H$17=TRUE,IF(PM.10=\"\",\"-\",IF(OR(Sf.in.10=\"-\",Sf.in.10=\"\",Sf.in.10=0,Cf.ArSoloSub.Fec.10=\"-\"),\"-\",(Cf.ArSoloSub.Fec.10*IF.SoloSub.Ina.Fec.a.c*Sf.in.10))),\"-\")","v":"-"},null,{"$f":"IF(CENÁRIOS!$H$18=TRUE,IF(PM.10=\"\",\"-\",IF(OR(Sf.ig.10=\"-\",Sf.ig.10=\"\",Sf.ig.10=0,Cf.AguaLixSoloSub.10=\"-\"),\"-\",(Cf.AguaLixSoloSub.10*IF.SoloSub.Lix.AS.a.c*Sf.ig.10))),\"-\")","v":"-"},null,{"$f":"IF(CENÁRIOS!$I$18=TRUE,IF(PM.10=\"\",\"-\",IF(OR(Sf.ig.10=\"-\",Sf.ig.10=\"\",Sf.ig.10=0,Cff.AguaLixSoloSub.10=\"-\"),\"-\",(Cff.AguaLixSoloSub.10*IF.SoloSub.Lix.AS.a.c*Sf.ig.10))),\"-\")","v":"-"},null,null,"-",null,"-"]
[null,null,null,null,"NC",{"$f":"IF(CENÁRIOS!$H$11=TRUE,IF(PM.10=\"\",\"-\",IF(OR(RfD.in.cn.10=\"-\",RfD.in.cn.10=\"\",RfD.in.cn.10=0,FT!M17=\"-\"),\"-\",(Cf.SoloSup.10*FT!M17*IF.Solo.Ina.Vap.a.nc/RfD.in.cn.10))),\"-\")","v":"-"},null,{"$f":"IF(CENÁRIOS!$H$12=TRUE,IF(PM.10=\"\",\"-\",IF(OR(RfD.in.cn.10=\"-\",RfD.in.cn.10=\"\",RfD.in.cn.10=0,FT!N17=\"-\"),\"-\",(Cf.SoloSup.10*FT!N17*IF.Solo.Ina.Par.a.nc/RfD.in.cn.10))),\"-\")","v":"-"},null,{"$f":"IF(CENÁRIOS!$H$13=TRUE,IF(PM.10=\"\",\"-\",IF(OR(RfD.dm.cn.10=\"-\",RfD.dm.cn.10=\"\",RfD.dm.cn.10=0,ABSd.10=\"\"),\"-\",(Cf.SoloSup.10*ABSd.10*IF.Solo.Con.Der.a.nc/RfD.dm.cn.10))),\"-\")","v":"-"},null,{"$f":"IF(CENÁRIOS!$H$14=TRUE,IF(PM.10=\"\",\"-\",IF(OR(RfD.ig.cn.10=\"-\",RfD.ig.cn.10=\"\",RfD.ig.cn.10=0),\"-\",(Cf.SoloSup.10*IF.Solo.Ing.a.nc*Biodisp.10/RfD.ig.cn.10))),\"-\")","v":"-"},null,{"$f":"IF(CENÁRIOS!$H$15=TRUE,IF(PM.10=\"\",\"-\",IF(OR(RfD.ig.cn.10=\"-\",RfD.ig.cn.10=\"\",RfD.ig.cn.10=0,BCF.10=\"-\",Tipo.10<>\"METAL\"),\"-\",(Cf.SoloSup.10*((IF.Solo.Ing.Veg.nc.i)*(IRL.i*((BCFF.10+cdpx.10)/frbveg)+(IRR.i*(BCF.10/frkveg))))/RfD.ig.cn.10))),\"-\")","v":"-"},null,{"$f":"IF(CENÁRIOS!$H$15=TRUE,IF(OR(PM.10=\"\",Tipo.10=\"METAL\"),\"-\",IF(OR(RfD.ig.cn.10=\"-\",RfD.ig.cn.10=\"\",RfD.ig.cn.10=0,BCFR.10=\"-\",a.10=\"-\"),\"-\",((Cf.SoloSup.10*IF.Solo.Ing.Veg.nc.i*(IRL.i*(((ps*pw.10*tscf.10*Qveg)/(Vwveg*pplantveg*a.10*Vlveg))+cdpx.10*fdwsveg)+(IRR.i*BCFR.10)))/RfD.ig.cn.10))),\"-\")","v":"-"},null,{"$f":"IF(CENÁRIOS!$H$16=TRUE,IF(PM.10=\"\",\"-\",IF(OR(RfD.in.cn.10=\"-\",RfD.in.cn.10=\"\",RfD.in.cn.10=0,Cf.ArSoloSub.Abe.10=\"-\"),\"-\",(Cf.ArSoloSub.Abe.10*IF.SoloSub.Ina.Abe.a.nc/RfD.in.cn.10))),\"-\")","v":"-"},null,{"$f":"IF(CENÁRIOS!$H$17=TRUE,IF(PM.10=\"\",\"-\",IF(OR(RfD.in.cn.10=\"-\",RfD.in.cn.10=\"\",RfD.in.cn.10=0,Cf.ArSoloSub.Fec.10=\"-\"),\"-\",(Cf.ArSoloSub.Fec.10*IF.SoloSub.Ina.Fec.a.nc/RfD.in.cn.10))),\"-\")","v":"-"},null,{"$f":"IF(CENÁRIOS!$H$18=TRUE,IF(PM.10=\"\",\"-\",IF(OR(RfD.ig.cn.10=\"-\",RfD.ig.cn.10=\"\",RfD.ig.cn.10=0,Cf.AguaLixSoloSub.10=\"-\"),\"-\",(Cf.AguaLixSoloSub.10*IF.SoloSub.Lix.AS.a.nc/RfD.ig.cn.10))),\"-\")","v":"-"},null,{"$f":"IF(CENÁRIOS!$I$18=TRUE,IF(PM.10=\"\",\"-\",IF(OR(RfD.ig.cn.10=\"-\",RfD.ig.cn.10=\"\",RfD.ig.cn.10=0,Cff.AguaLixSoloSub.10=\"-\"),\"-\",(Cff.AguaLixSoloSub.10*IF.SoloSub.Lix.AS.a.nc/RfD.ig.cn.10))),\"-\")","v":"-"},null,null,"-",null,"-"]
[null,11,{"$f":"SQI!D19","v":0},{"$f":"SQI!C19","v":""},"C",{"$f":"IF(CENÁRIOS!$H$11=TRUE,IF(PM.11=\"\",\"-\",IF(OR(Sf.in.11=\"-\",Sf.in.11=\"\",Sf.in.11=0,FT!M18=\"-\"),\"-\",(Cf.SoloSup.11*FT!M18*IF.Solo.Ina.Vap.a.c*Sf.in.11))),\"-\")","v":"-"},null,{"$f":"IF(CENÁRIOS!$H$12=TRUE,IF(PM.11=\"\",\"-\",IF(OR(Sf.in.11=\"-\",Sf.in.11=\"\",Sf.in.11=0,FT!N18=\"-\"),\"-\",(Cf.SoloSup.11*FT!N18*IF.Solo.Ina.Par.a.c*Sf.in.11))),\"-\")","v":"-"},null,{"$f":"IF(CENÁRIOS!$H$13=TRUE,IF(PM.11=\"\",\"-\",IF(OR(Sf.dm.11=\"-\",Sf.dm.11=\"\",Sf.dm.11=0,ABSd.11=\"\"),\"-\",(Cf.SoloSup.11*ABSd.11*IF.Solo.Con.Der.a.c*Sf.dm.11))),\"-\")","v":"-"},null,{"$f":"IF(CENÁRIOS!$H$14=TRUE,IF(PM.11=\"\",\"-\",IF(OR(Sf.ig.11=\"-\",Sf.ig.11=\"\",Sf.ig.11=0),\"-\",(Cf.SoloSup.11*IF.Solo.Ing.a.c*Biodisp.11*Sf.ig.11))),\"-\")","v":"-"},null,{"$f":"IF(CENÁRIOS!$H$15=TRUE,IF(PM.11=\"\",\"-\",IF(OR(Sf.ig.11=\"-\",Sf.ig.11=\"\",Sf.ig.11=0,BCF.11=\"-\",Tipo.11<>\"METAL\"),\"-\",(Cf.SoloSup.11*(IF.Solo.Ing.Veg.c.i*Sf.ig.11)*(IRL.i*((BCFF.11+cdpx.11)/frbveg)+(IRR.i*(BCF.11/frkveg)))))),\"-\")","v":"-"},null,{"$f":"IF(CENÁRIOS!$H$15=TRUE,IF(OR(PM.11=\"\",Tipo.11=\"METAL\"),\"-\",IF(OR(Sf.ig.11=\"-\",Sf.ig.11=\"\",Sf.ig.11=0,BCFR.11=\"-\",a.11=\"-\"),\"-\",((Cf.SoloSup.11*(IF.Solo.Ing.Veg.c.i*Sf.ig.11)*(IRL.i*(((ps*pw.11*tscf.11*Qveg)/(Vwveg*pplantveg*a.11*Vlveg))+cdpx.11*fdwsveg)+(IRR.i*BCFR.11)))))),\"-\")","v":"-"},null,{"$f":"IF(CENÁRIOS!$H$16=TRUE,IF(PM.11=\"\",\"-\",IF(OR(Sf.in.11=\"-\",Sf.in.11=\"\",Sf.in.11=0,Cf.ArSoloSub.Abe.11=\"-\"),\"-\",(Cf.ArSoloSub.Abe.11*IF.SoloSub.Ina.Abe.a.c*Sf.in.11))),\"-\")","v":"-"},null,{"$f":"IF(CENÁRIOS!$H$17=TRUE,IF(PM.11=\"\",\"-\",IF(OR(Sf.in.11=\"-\",Sf.in.11=\"\",Sf.in.11=0,Cf.ArSoloSub.Fec.11=\"-\"),\"-\",(Cf.ArSoloSub.Fec.11*IF.SoloSub.Ina.Fec.a.c*Sf.in.11))),\"-\")","v":"-"},null,{"$f":"IF(CENÁRIOS!$H$18=TRUE,IF(PM.11=\"\",\"-\",IF(OR(Sf.ig.11=\"-\",Sf.ig.11=\"\",Sf.ig.11=0,Cf.AguaLixSoloSub.11=\"-\"),\"-\",(Cf.AguaLixSoloSub.11*IF.SoloSub.Lix.AS.a.c*Sf.ig.11))),\"-\")","v":"-"},null,{"$f":"IF(CENÁRIOS!$I$18=TRUE,IF(PM.11=\"\",\"-\",IF(OR(Sf.ig.11=\"-\",Sf.ig.11=\"\",Sf.ig.11=0,Cff.AguaLixSoloSub.11=\"-\"),\"-\",(Cff.AguaLixSoloSub.11*IF.SoloSub.Lix.AS.a.c*Sf.ig.11))),\"-\")","v":"-"},null,null,"-",null,"-"]
[null,null,null,null,"NC",{"$f":"IF(CENÁRIOS!$H$11=TRUE,IF(PM.11=\"\",\"-\",IF(OR(RfD.in.cn.11=\"-\",RfD.in.cn.11=\"\",RfD.in.cn.11=0,FT!M18=\"-\"),\"-\",(Cf.SoloSup.11*FT!M18*IF.Solo.Ina.Vap.a.nc/RfD.in.cn.11))),\"-\")","v":"-"},null,{"$f":"IF(CENÁRIOS!$H$12=TRUE,IF(PM.11=\"\",\"-\",IF(OR(RfD.in.cn.11=\"-\",RfD.in.cn.11=\"\",RfD.in.cn.11=0,FT!N18=\"-\"),\"-\",(Cf.SoloSup.11*FT!N18*IF.Solo.Ina.Par.a.nc/RfD.in.cn.11))),\"-\")","v":"-"},null,{"$f":"IF(CENÁRIOS!$H$13=TRUE,IF(PM.11=\"\",\"-\",IF(OR(RfD.dm.cn.11=\"-\",RfD.dm.cn.11=\"\",RfD.dm.cn.11=0,ABSd.11=\"\"),\"-\",(Cf.SoloSup.11*ABSd.11*IF.Solo.Con.Der.a.nc/RfD.dm.cn.11))),\"-\")","v":"-"},null,{"$f":"IF(CENÁRIOS!$H$14=TRUE,IF(PM.11=\"\",\"-\",IF(OR(RfD.ig.cn.11=\"-\",RfD.ig.cn.11=\"\",RfD.ig.cn.11=0),\"-\",(Cf.SoloSup.11*IF.Solo.Ing.a.nc*Biodisp.11/RfD.ig.cn.11))),\"-\")","v":"-"},null,{"$f":"IF(CENÁRIOS!$H$15=TRUE,IF(PM.11=\"\",\"-\",IF(OR(RfD.ig.cn.11=\"-\",RfD.ig.cn.11=\"\",RfD.ig.cn.11=0,BCF.11=\"-\",Tipo.11<>\"METAL\"),\"-\",(Cf.SoloSup.11*((IF.Solo.Ing.Veg.nc.i)*(IRL.i*((BCFF.11+cdpx.11)/frbveg)+(IRR.i*(BCF.11/frkveg))))/RfD.ig.cn.11))),\"-\")","v":"-"},null,{"$f":"IF(CENÁRIOS!$H$15=TRUE,IF(OR(PM.11=\"\",Tipo.11=\"METAL\"),\"-\",IF(OR(RfD.ig.cn.11=\"-\",RfD.ig.cn.11=\"\",RfD.ig.cn.11=0,BCFR.11=\"-\",a.11=\"-\"),\"-\",((Cf.SoloSup.11*IF.Solo.Ing.Veg.nc.i*(IRL.i*(((ps*pw.11*tscf.11*Qveg)/(Vwveg*pplantveg*a.11*Vlveg))+cdpx.11*fdwsveg)+(IRR.i*BCFR.11)))/RfD.ig.cn.11))),\"-\")","v":"-"},null,{"$f":"IF(CENÁRIOS!$H$16=TRUE,IF(PM.11=\"\",\"-\",IF(OR(RfD.in.cn.11=\"-\",RfD.in.cn.11=\"\",RfD.in.cn.11=0,Cf.ArSoloSub.Abe.11=\"-\"),\"-\",(Cf.ArSoloSub.Abe.11*IF.SoloSub.Ina.Abe.a.nc/RfD.in.cn.11))),\"-\")","v":"-"},null,{"$f":"IF(CENÁRIOS!$H$17=TRUE,IF(PM.11=\"\",\"-\",IF(OR(RfD.in.cn.11=\"-\",RfD.in.cn.11=\"\",RfD.in.cn.11=0,Cf.ArSoloSub.Fec.11=\"-\"),\"-\",(Cf.ArSoloSub.Fec.11*IF.SoloSub.Ina.Fec.a.nc/RfD.in.cn.11))),\"-\")","v":"-"},null,{"$f":"IF(CENÁRIOS!$H$18=TRUE,IF(PM.11=\"\",\"-\",IF(OR(RfD.ig.cn.11=\"-\",RfD.ig.cn.11=\"\",RfD.ig.cn.11=0,Cf.AguaLixSoloSub.11=\"-\"),\"-\",(Cf.AguaLixSoloSub.11*IF.SoloSub.Lix.AS.a.nc/RfD.ig.cn.11))),\"-\")","v":"-"},null,{"$f":"IF(CENÁRIOS!$I$18=TRUE,IF(PM.11=\"\",\"-\",IF(OR(RfD.ig.cn.11=\"-\",RfD.ig.cn.11=\"\",RfD.ig.cn.11=0,Cff.AguaLixSoloSub.11=\"-\"),\"-\",(Cff.AguaLixSoloSub.11*IF.SoloSub.Lix.AS.a.nc/RfD.ig.cn.11))),\"-\")","v":"-"},null,null,"-",null,"-"]
[null,12,{"$f":"SQI!D20","v":0},{"$f":"SQI!C20","v":""},"C",{"$f":"IF(CENÁRIOS!$H$11=TRUE,IF(PM.12=\"\",\"-\",IF(OR(Sf.in.12=\"-\",Sf.in.12=\"\",Sf.in.12=0,FT!M19=\"-\"),\"-\",(Cf.SoloSup.12*FT!M19*IF.Solo.Ina.Vap.a.c*Sf.in.12))),\"-\")","v":"-"},null,{"$f":"IF(CENÁRIOS!$H$12=TRUE,IF(PM.12=\"\",\"-\",IF(OR(Sf.in.12=\"-\",Sf.in.12=\"\",Sf.in.12=0,FT!N19=\"-\"),\"-\",(Cf.SoloSup.12*FT!N19*IF.Solo.Ina.Par.a.c*Sf.in.12))),\"-\")","v":"-"},null,{"$f":"IF(CENÁRIOS!$H$13=TRUE,IF(PM.12=\"\",\"-\",IF(OR(Sf.dm.12=\"-\",Sf.dm.12=\"\",Sf.dm.12=0,ABSd.12=\"\"),\"-\",(Cf.SoloSup.12*ABSd.12*IF.Solo.Con.Der.a.c*Sf.dm.12))),\"-\")","v":"-"},null,{"$f":"IF(CENÁRIOS!$H$14=TRUE,IF(PM.12=\"\",\"-\",IF(OR(Sf.ig.12=\"-\",Sf.ig.12=\"\",Sf.ig.12=0),\"-\",(Cf.SoloSup.12*IF.Solo.Ing.a.c*Biodisp.12*Sf.ig.12))),\"-\")","v":"-"},null,{"$f":"IF(CENÁRIOS!$H$15=TRUE,IF(PM.12=\"\",\"-\",IF(OR(Sf.ig.12=\"-\",Sf.ig.12=\"\",Sf.ig.12=0,BCF.12=\"-\",Tipo.12<>\"METAL\"),\"-\",(Cf.SoloSup.12*(IF.Solo.Ing.Veg.c.i*Sf.ig.12)*(IRL.i*((BCFF.12+cdpx.12)/frbveg)+(IRR.i*(BCF.12/frkveg)))))),\"-\")","v":"-"},null,{"$f":"IF(CENÁRIOS!$H$15=TRUE,IF(OR(PM.12=\"\",Tipo.12=\"METAL\"),\"-\",IF(OR(Sf.ig.12=\"-\",Sf.ig.12=\"\",Sf.ig.12=0,BCFR.12=\"-\",a.12=\"-\"),\"-\",((Cf.SoloSup.12*(IF.Solo.Ing.Veg.c.i*Sf.ig.12)*(IRL.i*(((ps*pw.12*tscf.12*Qveg)/(Vwveg*pplantveg*a.12*Vlveg))+cdpx.12*fdwsveg)+(IRR.i*BCFR.12)))))),\"-\")","v":"-"},null,{"$f":"IF(CENÁRIOS!$H$16=TRUE,IF(PM.12=\"\",\"-\",IF(OR(Sf.in.12=\"-\",Sf.in.12=\"\",Sf.in.12=0,Cf.ArSoloSub.Abe.12=\"-\"),\"-\",(Cf.ArSoloSub.Abe.12*IF.SoloSub.Ina.Abe.a.c*Sf.in.12))),\"-\")","v":"-"},null,{"$f":"IF(CENÁRIOS!$H$17=TRUE,IF(PM.12=\"\",\"-\",IF(OR(Sf.in.12=\"-\",Sf.in.12=\"\",Sf.in.12=0,Cf.ArSoloSub.Fec.12=\"-\"),\"-\",(Cf.ArSoloSub.Fec.12*IF.SoloSub.Ina.Fec.a.c*Sf.in.12))),\"-\")","v":"-"},null,{"$f":"IF(CENÁRIOS!$H$18=TRUE,IF(PM.12=\"\",\"-\",IF(OR(Sf.ig.12=\"-\",Sf.ig.12=\"\",Sf.ig.12=0,Cf.AguaLixSoloSub.12=\"-\"),\"-\",(Cf.AguaLixSoloSub.12*IF.SoloSub.Lix.AS.a.c*Sf.ig.12))),\"-\")","v":"-"},null,{"$f":"IF(CENÁRIOS!$I$18=TRUE,IF(PM.12=\"\",\"-\",IF(OR(Sf.ig.12=\"-\",Sf.ig.12=\"\",Sf.ig.12=0,Cff.AguaLixSoloSub.12=\"-\"),\"-\",(Cff.AguaLixSoloSub.12*IF.SoloSub.Lix.AS.a.c*Sf.ig.12))),\"-\")","v":"-"},null,null,"-",null,"-"]
[null,null,null,null,"NC",{"$f":"IF(CENÁRIOS!$H$11=TRUE,IF(PM.12=\"\",\"-\",IF(OR(RfD.in.cn.12=\"-\",RfD.in.cn.12=\"\",RfD.in.cn.12=0,FT!M19=\"-\"),\"-\",(Cf.SoloSup.12*FT!M19*IF.Solo.Ina.Vap.a.nc/RfD.in.cn.12))),\"-\")","v":"-"},null,{"$f":"IF(CENÁRIOS!$H$12=TRUE,IF(PM.12=\"\",\"-\",IF(OR(RfD.in.cn.12=\"-\",RfD.in.cn.12=\"\",RfD.in.cn.12=0,FT!N19=\"-\"),\"-\",(Cf.SoloSup.12*FT!N19*IF.Solo.Ina.Par.a.nc/RfD.in.cn.12))),\"-\")","v":"-"},null,{"$f":"IF(CENÁRIOS!$H$13=TRUE,IF(PM.12=\"\",\"-\",IF(OR(RfD.dm.cn.12=\"-\",RfD.dm.cn.12=\"\",RfD.dm.cn.12=0,ABSd.12=\"\"),\"-\",(Cf.SoloSup.12*ABSd.12*IF.Solo.Con.Der.a.nc/RfD.dm.cn.12))),\"-\")","v":"-"},null,{"$f":"IF(CENÁRIOS!$H$14=TRUE,IF(PM.12=\"\",\"-\",IF(OR(RfD.ig.cn.12=\"-\",RfD.ig.cn.12=\"\",RfD.ig.cn.12=0),\"-\",(Cf.SoloSup.12*IF.Solo.Ing.a.nc*Biodisp.12/RfD.ig.cn.12))),\"-\")","v":"-"},null,{"$f":"IF(CENÁRIOS!$H$15=TRUE,IF(PM.12=\"\",\"-\",IF(OR(RfD.ig.cn.12=\"-\",RfD.ig.cn.12=\"\",RfD.ig.cn.12=0,BCF.12=\"-\",Tipo.12<>\"METAL\"),\"-\",(Cf.SoloSup.12*((IF.Solo.Ing.Veg.nc.i)*(IRL.i*((BCFF.12+cdpx.12)/frbveg)+(IRR.i*(BCF.12/frkveg))))/RfD.ig.cn.12))),\"-\")","v":"-"},null,{"$f":"IF(CENÁRIOS!$H$15=TRUE,IF(OR(PM.12=\"\",Tipo.12=\"METAL\"),\"-\",IF(OR(RfD.ig.cn.12=\"-\",RfD.ig.cn.12=\"\",RfD.ig.cn.12=0,BCFR.12=\"-\",a.12=\"-\"),\"-\",((Cf.SoloSup.12*IF.Solo.Ing.Veg.nc.i*(IRL.i*(((ps*pw.12*tscf.12*Qveg)/(Vwveg*pplantveg*a.12*Vlveg))+cdpx.12*fdwsveg)+(IRR.i*BCFR.12)))/RfD.ig.cn.12))),\"-\")","v":"-"},null,{"$f":"IF(CENÁRIOS!$H$16=TRUE,IF(PM.12=\"\",\"-\",IF(OR(RfD.in.cn.12=\"-\",RfD.in.cn.12=\"\",RfD.in.cn.12=0,Cf.ArSoloSub.Abe.12=\"-\"),\"-\",(Cf.ArSoloSub.Abe.12*IF.SoloSub.Ina.Abe.a.nc/RfD.in.cn.12))),\"-\")","v":"-"},null,{"$f":"IF(CENÁRIOS!$H$17=TRUE,IF(PM.12=\"\",\"-\",IF(OR(RfD.in.cn.12=\"-\",RfD.in.cn.12=\"\",RfD.in.cn.12=0,Cf.ArSoloSub.Fec.12=\"-\"),\"-\",(Cf.ArSoloSub.Fec.12*IF.SoloSub.Ina.Fec.a.nc/RfD.in.cn.12))),\"-\")","v":"-"},null,{"$f":"IF(CENÁRIOS!$H$18=TRUE,IF(PM.12=\"\",\"-\",IF(OR(RfD.ig.cn.12=\"-\",RfD.ig.cn.12=\"\",RfD.ig.cn.12=0,Cf.AguaLixSoloSub.12=\"-\"),\"-\",(Cf.AguaLixSoloSub.12*IF.SoloSub.Lix.AS.a.nc/RfD.ig.cn.12))),\"-\")","v":"-"},null,{"$f":"IF(CENÁRIOS!$I$18=TRUE,IF(PM.12=\"\",\"-\",IF(OR(RfD.ig.cn.12=\"-\",RfD.ig.cn.12=\"\",RfD.ig.cn.12=0,Cff.AguaLixSoloSub.12=\"-\"),\"-\",(Cff.AguaLixSoloSub.12*IF.SoloSub.Lix.AS.a.nc/RfD.ig.cn.12))),\"-\")","v":"-"},null,null,"-",null,"-"]
[null,13,{"$f":"SQI!D21","v":0},{"$f":"SQI!C21","v":""},"C",{"$f":"IF(CENÁRIOS!$H$11=TRUE,IF(PM.13=\"\",\"-\",IF(OR(Sf.in.13=\"-\",Sf.in.13=\"\",Sf.in.13=0,FT!M20=\"-\"),\"-\",(Cf.SoloSup.13*FT!M20*IF.Solo.Ina.Vap.a.c*Sf.in.13))),\"-\")","v":"-"},null,{"$f":"IF(CENÁRIOS!$H$12=TRUE,IF(PM.13=\"\",\"-\",IF(OR(Sf.in.13=\"-\",Sf.in.13=\"\",Sf.in.13=0,FT!N20=\"-\"),\"-\",(Cf.SoloSup.13*FT!N20*IF.Solo.Ina.Par.a.c*Sf.in.13))),\"-\")","v":"-"},null,{"$f":"IF(CENÁRIOS!$H$13=TRUE,IF(PM.13=\"\",\"-\",IF(OR(Sf.dm.13=\"-\",Sf.dm.13=\"\",Sf.dm.13=0,ABSd.13=\"\"),\"-\",(Cf.SoloSup.13*ABSd.13*IF.Solo.Con.Der.a.c*Sf.dm.13))),\"-\")","v":"-"},null,{"$f":"IF(CENÁRIOS!$H$14=TRUE,IF(PM.13=\"\",\"-\",IF(OR(Sf.ig.13=\"-\",Sf.ig.13=\"\",Sf.ig.13=0),\"-\",(Cf.SoloSup.13*IF.Solo.Ing.a.c*Biodisp.13*Sf.ig.13))),\"-\")","v":"-"},null,{"$f":"IF(CENÁRIOS!$H$15=TRUE,IF(PM.13=\"\",\"-\",IF(OR(Sf.ig.13=\"-\",Sf.ig.13=\"\",Sf.ig.13=0,BCF.13=\"-\",Tipo.13<>\"METAL\"),\"-\",(Cf.SoloSup.13*(IF.Solo.Ing.Veg.c.i*Sf.ig.13)*(IRL.i*((BCFF.13+cdpx.13)/frbveg)+(IRR.i*(BCF.13/frkveg)))))),\"-\")","v":"-"},null,{"$f":"IF(CENÁRIOS!$H$15=TRUE,IF(OR(PM.13=\"\",Tipo.13=\"METAL\"),\"-\",IF(OR(Sf.ig.13=\"-\",Sf.ig.13=\"\",Sf.ig.13=0,BCFR.13=\"-\",a.13=\"-\"),\"-\",((Cf.SoloSup.13*(IF.Solo.Ing.Veg.c.i*Sf.ig.13)*(IRL.i*(((ps*pw.13*tscf.13*Qveg)/(Vwveg*pplantveg*a.13*Vlveg))+cdpx.13*fdwsveg)+(IRR.i*BCFR.13)))))),\"-\")","v":"-"},null,{"$f":"IF(CENÁRIOS!$H$16=TRUE,IF(PM.13=\"\",\"-\",IF(OR(Sf.in.13=\"-\",Sf.in.13=\"\",Sf.in.13=0,Cf.ArSoloSub.Abe.13=\"-\"),\"-\",(Cf.ArSoloSub.Abe.13*IF.SoloSub.Ina.Abe.a.c*Sf.in.13))),\"-\")","v":"-"},null,{"$f":"IF(CENÁRIOS!$H$17=TRUE,IF(PM.13=\"\",\"-\",IF(OR(Sf.in.13=\"-\",Sf.in.13=\"\",Sf.in.13=0,Cf.ArSoloSub.Fec.13=\"-\"),\"-\",(Cf.ArSoloSub.Fec.13*IF.SoloSub.Ina.Fec.a.c*Sf.in.13))),\"-\")","v":"-"},null,{"$f":"IF(CENÁRIOS!$H$18=TRUE,IF(PM.13=\"\",\"-\",IF(OR(Sf.ig.13=\"-\",Sf.ig.13=\"\",Sf.ig.13=0,Cf.AguaLixSoloSub.13=\"-\"),\"-\",(Cf.AguaLixSoloSub.13*IF.SoloSub.Lix.AS.a.c*Sf.ig.13))),\"-\")","v":"-"},null,{"$f":"IF(CENÁRIOS!$I$18=TRUE,IF(PM.13=\"\",\"-\",IF(OR(Sf.ig.13=\"-\",Sf.ig.13=\"\",Sf.ig.13=0,Cff.AguaLixSoloSub.13=\"-\"),\"-\",(Cff.AguaLixSoloSub.13*IF.SoloSub.Lix.AS.a.c*Sf.ig.13))),\"-\")","v":"-"},null,null,"-",null,"-"]
[null,null,null,null,"NC",{"$f":"IF(CENÁRIOS!$H$11=TRUE,IF(PM.13=\"\",\"-\",IF(OR(RfD.in.cn.13=\"-\",RfD.in.cn.13=\"\",RfD.in.cn.13=0,FT!M20=\"-\"),\"-\",(Cf.SoloSup.13*FT!M20*IF.Solo.Ina.Vap.a.nc/RfD.in.cn.13))),\"-\")","v":"-"},null,{"$f":"IF(CENÁRIOS!$H$12=TRUE,IF(PM.13=\"\",\"-\",IF(OR(RfD.in.cn.13=\"-\",RfD.in.cn.13=\"\",RfD.in.cn.13=0,FT!N20=\"-\"),\"-\",(Cf.SoloSup.13*FT!N20*IF.Solo.Ina.Par.a.nc/RfD.in.cn.13))),\"-\")","v":"-"},null,{"$f":"IF(CENÁRIOS!$H$13=TRUE,IF(PM.13=\"\",\"-\",IF(OR(RfD.dm.cn.13=\"-\",RfD.dm.cn.13=\"\",RfD.dm.cn.13=0,ABSd.13=\"\"),\"-\",(Cf.SoloSup.13*ABSd.13*IF.Solo.Con.Der.a.nc/RfD.dm.cn.13))),\"-\")","v":"-"},null,{"$f":"IF(CENÁRIOS!$H$14=TRUE,IF(PM.13=\"\",\"-\",IF(OR(RfD.ig.cn.13=\"-\",RfD.ig.cn.13=\"\",RfD.ig.cn.13=0),\"-\",(Cf.SoloSup.13*IF.Solo.Ing.a.nc*Biodisp.13/RfD.ig.cn.13))),\"-\")","v":"-"},null,{"$f":"IF(CENÁRIOS!$H$15=TRUE,IF(PM.13=\"\",\"-\",IF(OR(RfD.ig.cn.13=\"-\",RfD.ig.cn.13=\"\",RfD.ig.cn.13=0,BCF.13=\"-\",Tipo.13<>\"METAL\"),\"-\",(Cf.SoloSup.13*((IF.Solo.Ing.Veg.nc.i)*(IRL.i*((BCFF.13+cdpx.13)/frbveg)+(IRR.i*(BCF.13/frkveg))))/RfD.ig.cn.13))),\"-\")","v":"-"},null,{"$f":"IF(CENÁRIOS!$H$15=TRUE,IF(OR(PM.13=\"\",Tipo.13=\"METAL\"),\"-\",IF(OR(RfD.ig.cn.13=\"-\",RfD.ig.cn.13=\"\",RfD.ig.cn.13=0,BCFR.13=\"-\",a.13=\"-\"),\"-\",((Cf.SoloSup.13*IF.Solo.Ing.Veg.nc.i*(IRL.i*(((ps*pw.13*tscf.13*Qveg)/(Vwveg*pplantveg*a.13*Vlveg))+cdpx.13*fdwsveg)+(IRR.i*BCFR.13)))/RfD.ig.cn.13))),\"-\")","v":"-"},null,{"$f":"IF(CENÁRIOS!$H$16=TRUE,IF(PM.13=\"\",\"-\",IF(OR(RfD.in.cn.13=\"-\",RfD.in.cn.13=\"\",RfD.in.cn.13=0,Cf.ArSoloSub.Abe.13=\"-\"),\"-\",(Cf.ArSoloSub.Abe.13*IF.SoloSub.Ina.Abe.a.nc/RfD.in.cn.13))),\"-\")","v":"-"},null,{"$f":"IF(CENÁRIOS!$H$17=TRUE,IF(PM.13=\"\",\"-\",IF(OR(RfD.in.cn.13=\"-\",RfD.in.cn.13=\"\",RfD.in.cn.13=0,Cf.ArSoloSub.Fec.13=\"-\"),\"-\",(Cf.ArSoloSub.Fec.13*IF.SoloSub.Ina.Fec.a.nc/RfD.in.cn.13))),\"-\")","v":"-"},null,{"$f":"IF(CENÁRIOS!$H$18=TRUE,IF(PM.13=\"\",\"-\",IF(OR(RfD.ig.cn.13=\"-\",RfD.ig.cn.13=\"\",RfD.ig.cn.13=0,Cf.AguaLixSoloSub.13=\"-\"),\"-\",(Cf.AguaLixSoloSub.13*IF.SoloSub.Lix.AS.a.nc/RfD.ig.cn.13))),\"-\")","v":"-"},null,{"$f":"IF(CENÁRIOS!$I$18=TRUE,IF(PM.13=\"\",\"-\",IF(OR(RfD.ig.cn.13=\"-\",RfD.ig.cn.13=\"\",RfD.ig.cn.13=0,Cff.AguaLixSoloSub.13=\"-\"),\"-\",(Cff.AguaLixSoloSub.13*IF.SoloSub.Lix.AS.a.nc/RfD.ig.cn.13))),\"-\")","v":"-"},null,null,"-",null,"-"]
[null,14,{"$f":"SQI!D22","v":0},{"$f":"SQI!C22","v":""},"C",{"$f":"IF(CENÁRIOS!$H$11=TRUE,IF(PM.14=\"\",\"-\",IF(OR(Sf.in.14=\"-\",Sf.in.14=\"\",Sf.in.14=0,FT!M21=\"-\"),\"-\",(Cf.SoloSup.14*FT!M21*IF.Solo.Ina.Vap.a.c*Sf.in.14))),\"-\")","v":"-"},null,{"$f":"IF(CENÁRIOS!$H$12=TRUE,IF(PM.14=\"\",\"-\",IF(OR(Sf.in.14=\"-\",Sf.in.14=\"\",Sf.in.14=0,FT!N21=\"-\"),\"-\",(Cf.SoloSup.14*FT!N21*IF.Solo.Ina.Par.a.c*Sf.in.14))),\"-\")","v":"-"},null,{"$f":"IF(CENÁRIOS!$H$13=TRUE,IF(PM.14=\"\",\"-\",IF(OR(Sf.dm.14=\"-\",Sf.dm.14=\"\",Sf.dm.14=0,ABSd.14=\"\"),\"-\",(Cf.SoloSup.14*ABSd.14*IF.Solo.Con.Der.a.c*Sf.dm.14))),\"-\")","v":"-"},null,{"$f":"IF(CENÁRIOS!$H$14=TRUE,IF(PM.14=\"\",\"-\",IF(OR(Sf.ig.14=\"-\",Sf.ig.14=\"\",Sf.ig.14=0),\"-\",(Cf.SoloSup.14*IF.Solo.Ing.a.c*Biodisp.14*Sf.ig.14))),\"-\")","v":"-"},null,{"$f":"IF(CENÁRIOS!$H$15=TRUE,IF(PM.14=\"\",\"-\",IF(OR(Sf.ig.14=\"-\",Sf.ig.14=\"\",Sf.ig.14=0,BCF.14=\"-\",Tipo.14<>\"METAL\"),\"-\",(Cf.SoloSup.14*(IF.Solo.Ing.Veg.c.i*Sf.ig.14)*(IRL.i*((BCFF.14+cdpx.14)/frbveg)+(IRR.i*(BCF.14/frkveg)))))),\"-\")","v":"-"},null,{"$f":"IF(CENÁRIOS!$H$15=TRUE,IF(OR(PM.14=\"\",Tipo.14=\"METAL\"),\"-\",IF(OR(Sf.ig.14=\"-\",Sf.ig.14=\"\",Sf.ig.14=0,BCFR.14=\"-\",a.14=\"-\"),\"-\",((Cf.SoloSup.14*(IF.Solo.Ing.Veg.c.i*Sf.ig.14)*(IRL.i*(((ps*pw.14*tscf.14*Qveg)/(Vwveg*pplantveg*a.14*Vlveg))+cdpx.14*fdwsveg)+(IRR.i*BCFR.14)))))),\"-\")","v":"-"},null,{"$f":"IF(CENÁRIOS!$H$16=TRUE,IF(PM.14=\"\",\"-\",IF(OR(Sf.in.14=\"-\",Sf.in.14=\"\",Sf.in.14=0,Cf.ArSoloSub.Abe.14=\"-\"),\"-\",(Cf.ArSoloSub.Abe.14*IF.SoloSub.Ina.Abe.a.c*Sf.in.14))),\"-\")","v":"-"},null,{"$f":"IF(CENÁRIOS!$H$17=TRUE,IF(PM.14=\"\",\"-\",IF(OR(Sf.in.14=\"-\",Sf.in.14=\"\",Sf.in.14=0,Cf.ArSoloSub.Fec.14=\"-\"),\"-\",(Cf.ArSoloSub.Fec.14*IF.SoloSub.Ina.Fec.a.c*Sf.in.14))),\"-\")","v":"-"},null,{"$f":"IF(CENÁRIOS!$H$18=TRUE,IF(PM.14=\"\",\"-\",IF(OR(Sf.ig.14=\"-\",Sf.ig.14=\"\",Sf.ig.14=0,Cf.AguaLixSoloSub.14=\"-\"),\"-\",(Cf.AguaLixSoloSub.14*IF.SoloSub.Lix.AS.a.c*Sf.ig.14))),\"-\")","v":"-"},null,{"$f":"IF(CENÁRIOS!$I$18=TRUE,IF(PM.14=\"\",\"-\",IF(OR(Sf.ig.14=\"-\",Sf.ig.14=\"\",Sf.ig.14=0,Cff.AguaLixSoloSub.14=\"-\"),\"-\",(Cff.AguaLixSoloSub.14*IF.SoloSub.Lix.AS.a.c*Sf.ig.14))),\"-\")","v":"-"},null,null,"-",null,"-"]
[null,null,null,null,"NC",{"$f":"IF(CENÁRIOS!$H$11=TRUE,IF(PM.14=\"\",\"-\",IF(OR(RfD.in.cn.14=\"-\",RfD.in.cn.14=\"\",RfD.in.cn.14=0,FT!M21=\"-\"),\"-\",(Cf.SoloSup.14*FT!M21*IF.Solo.Ina.Vap.a.nc/RfD.in.cn.14))),\"-\")","v":"-"},null,{"$f":"IF(CENÁRIOS!$H$12=TRUE,IF(PM.14=\"\",\"-\",IF(OR(RfD.in.cn.14=\"-\",RfD.in.cn.14=\"\",RfD.in.cn.14=0,FT!N21=\"-\"),\"-\",(Cf.SoloSup.14*FT!N21*IF.Solo.Ina.Par.a.nc/RfD.in.cn.14))),\"-\")","v":"-"},null,{"$f":"IF(CENÁRIOS!$H$13=TRUE,IF(PM.14=\"\",\"-\",IF(OR(RfD.dm.cn.14=\"-\",RfD.dm.cn.14=\"\",RfD.dm.cn.14=0,ABSd.14=\"\"),\"-\",(Cf.SoloSup.14*ABSd.14*IF.Solo.Con.Der.a.nc/RfD.dm.cn.14))),\"-\")","v":"-"},null,{"$f":"IF(CENÁRIOS!$H$14=TRUE,IF(PM.14=\"\",\"-\",IF(OR(RfD.ig.cn.14=\"-\",RfD.ig.cn.14=\"\",RfD.ig.cn.14=0),\"-\",(Cf.SoloSup.14*IF.Solo.Ing.a.nc*Biodisp.14/RfD.ig.cn.14))),\"-\")","v":"-"},null,{"$f":"IF(CENÁRIOS!$H$15=TRUE,IF(PM.14=\"\",\"-\",IF(OR(RfD.ig.cn.14=\"-\",RfD.ig.cn.14=\"\",RfD.ig.cn.14=0,BCF.14=\"-\",Tipo.14<>\"METAL\"),\"-\",(Cf.SoloSup.14*((IF.Solo.Ing.Veg.nc.i)*(IRL.i*((BCFF.14+cdpx.14)/frbveg)+(IRR.i*(BCF.14/frkveg))))/RfD.ig.cn.14))),\"-\")","v":"-"},null,{"$f":"IF(CENÁRIOS!$H$15=TRUE,IF(OR(PM.14=\"\",Tipo.14=\"METAL\"),\"-\",IF(OR(RfD.ig.cn.14=\"-\",RfD.ig.cn.14=\"\",RfD.ig.cn.14=0,BCFR.14=\"-\",a.14=\"-\"),\"-\",((Cf.SoloSup.14*IF.Solo.Ing.Veg.nc.i*(IRL.i*(((ps*pw.14*tscf.14*Qveg)/(Vwveg*pplantveg*a.14*Vlveg))+cdpx.14*fdwsveg)+(IRR.i*BCFR.14)))/RfD.ig.cn.14))),\"-\")","v":"-"},null,{"$f":"IF(CENÁRIOS!$H$16=TRUE,IF(PM.14=\"\",\"-\",IF(OR(RfD.in.cn.14=\"-\",RfD.in.cn.14=\"\",RfD.in.cn.14=0,Cf.ArSoloSub.Abe.14=\"-\"),\"-\",(Cf.ArSoloSub.Abe.14*IF.SoloSub.Ina.Abe.a.nc/RfD.in.cn.14))),\"-\")","v":"-"},null,{"$f":"IF(CENÁRIOS!$H$17=TRUE,IF(PM.14=\"\",\"-\",IF(OR(RfD.in.cn.14=\"-\",RfD.in.cn.14=\"\",RfD.in.cn.14=0,Cf.ArSoloSub.Fec.14=\"-\"),\"-\",(Cf.ArSoloSub.Fec.14*IF.SoloSub.Ina.Fec.a.nc/RfD.in.cn.14))),\"-\")","v":"-"},null,{"$f":"IF(CENÁRIOS!$H$18=TRUE,IF(PM.14=\"\",\"-\",IF(OR(RfD.ig.cn.14=\"-\",RfD.ig.cn.14=\"\",RfD.ig.cn.14=0,Cf.AguaLixSoloSub.14=\"-\"),\"-\",(Cf.AguaLixSoloSub.14*IF.SoloSub.Lix.AS.a.nc/RfD.ig.cn.14))),\"-\")","v":"-"},null,{"$f":"IF(CENÁRIOS!$I$18=TRUE,IF(PM.14=\"\",\"-\",IF(OR(RfD.ig.cn.14=\"-\",RfD.ig.cn.14=\"\",RfD.ig.cn.14=0,Cff.AguaLixSoloSub.14=\"-\"),\"-\",(Cff.AguaLixSoloSub.14*IF.SoloSub.Lix.AS.a.nc/RfD.ig.cn.14))),\"-\")","v":"-"},null,null,"-",null,"-"]
[null,15,{"$f":"SQI!D23","v":0},{"$f":"SQI!C23","v":""},"C",{"$f":"IF(CENÁRIOS!$H$11=TRUE,IF(PM.15=\"\",\"-\",IF(OR(Sf.in.15=\"-\",Sf.in.15=\"\",Sf.in.15=0,FT!M22=\"-\"),\"-\",(Cf.SoloSup.15*FT!M22*IF.Solo.Ina.Vap.a.c*Sf.in.15))),\"-\")","v":"-"},null,{"$f":"IF(CENÁRIOS!$H$12=TRUE,IF(PM.15=\"\",\"-\",IF(OR(Sf.in.15=\"-\",Sf.in.15=\"\",Sf.in.15=0,FT!N22=\"-\"),\"-\",(Cf.SoloSup.15*FT!N22*IF.Solo.Ina.Par.a.c*Sf.in.15))),\"-\")","v":"-"},null,{"$f":"IF(CENÁRIOS!$H$13=TRUE,IF(PM.15=\"\",\"-\",IF(OR(Sf.dm.15=\"-\",Sf.dm.15=\"\",Sf.dm.15=0,ABSd.15=\"\"),\"-\",(Cf.SoloSup.15*ABSd.15*IF.Solo.Con.Der.a.c*Sf.dm.15))),\"-\")","v":"-"},null,{"$f":"IF(CENÁRIOS!$H$14=TRUE,IF(PM.15=\"\",\"-\",IF(OR(Sf.ig.15=\"-\",Sf.ig.15=\"\",Sf.ig.15=0),\"-\",(Cf.SoloSup.15*IF.Solo.Ing.a.c*Biodisp.15*Sf.ig.15))),\"-\")","v":"-"},null,{"$f":"IF(CENÁRIOS!$H$15=TRUE,IF(PM.15=\"\",\"-\",IF(OR(Sf.ig.15=\"-\",Sf.ig.15=\"\",Sf.ig.15=0,BCF.15=\"-\",Tipo.15<>\"METAL\"),\"-\",(Cf.SoloSup.15*(IF.Solo.Ing.Veg.c.i*Sf.ig.15)*(IRL.i*((BCFF.15+cdpx.15)/frbveg)+(IRR.i*(BCF.15/frkveg)))))),\"-\")","v":"-"},null,{"$f":"IF(CENÁRIOS!$H$15=TRUE,IF(OR(PM.15=\"\",Tipo.15=\"METAL\"),\"-\",IF(OR(Sf.ig.15=\"-\",Sf.ig.15=\"\",Sf.ig.15=0,BCFR.15=\"-\",a.15=\"-\"),\"-\",((Cf.SoloSup.15*(IF.Solo.Ing.Veg.c.i*Sf.ig.15)*(IRL.i*(((ps*pw.15*tscf.15*Qveg)/(Vwveg*pplantveg*a.15*Vlveg))+cdpx.15*fdwsveg)+(IRR.i*BCFR.15)))))),\"-\")","v":"-"},null,{"$f":"IF(CENÁRIOS!$H$16=TRUE,IF(PM.15=\"\",\"-\",IF(OR(Sf.in.15=\"-\",Sf.in.15=\"\",Sf.in.15=0,Cf.ArSoloSub.Abe.15=\"-\"),\"-\",(Cf.ArSoloSub.Abe.15*IF.SoloSub.Ina.Abe.a.c*Sf.in.15))),\"-\")","v":"-"},null,{"$f":"IF(CENÁRIOS!$H$17=TRUE,IF(PM.15=\"\",\"-\",IF(OR(Sf.in.15=\"-\",Sf.in.15=\"\",Sf.in.15=0,Cf.ArSoloSub.Fec.15=\"-\"),\"-\",(Cf.ArSoloSub.Fec.15*IF.SoloSub.Ina.Fec.a.c*Sf.in.15))),\"-\")","v":"-"},null,{"$f":"IF(CENÁRIOS!$H$18=TRUE,IF(PM.15=\"\",\"-\",IF(OR(Sf.ig.15=\"-\",Sf.ig.15=\"\",Sf.ig.15=0,Cf.AguaLixSoloSub.15=\"-\"),\"-\",(Cf.AguaLixSoloSub.15*IF.SoloSub.Lix.AS.a.c*Sf.ig.15))),\"-\")","v":"-"},null,{"$f":"IF(CENÁRIOS!$I$18=TRUE,IF(PM.15=\"\",\"-\",IF(OR(Sf.ig.15=\"-\",Sf.ig.15=\"\",Sf.ig.15=0,Cff.AguaLixSoloSub.15=\"-\"),\"-\",(Cff.AguaLixSoloSub.15*IF.SoloSub.Lix.AS.a.c*Sf.ig.15))),\"-\")","v":"-"},null,null,"-",null,"-"]
[null,null,null,null,"NC",{"$f":"IF(CENÁRIOS!$H$11=TRUE,IF(PM.15=\"\",\"-\",IF(OR(RfD.in.cn.15=\"-\",RfD.in.cn.15=\"\",RfD.in.cn.15=0,FT!M22=\"-\"),\"-\",(Cf.SoloSup.15*FT!M22*IF.Solo.Ina.Vap.a.nc/RfD.in.cn.15))),\"-\")","v":"-"},null,{"$f":"IF(CENÁRIOS!$H$12=TRUE,IF(PM.15=\"\",\"-\",IF(OR(RfD.in.cn.15=\"-\",RfD.in.cn.15=\"\",RfD.in.cn.15=0,FT!N22=\"-\"),\"-\",(Cf.SoloSup.15*FT!N22*IF.Solo.Ina.Par.a.nc/RfD.in.cn.15))),\"-\")","v":"-"},null,{"$f":"IF(CENÁRIOS!$H$13=TRUE,IF(PM.15=\"\",\"-\",IF(OR(RfD.dm.cn.15=\"-\",RfD.dm.cn.15=\"\",RfD.dm.cn.15=0,ABSd.15=\"\"),\"-\",(Cf.SoloSup.15*ABSd.15*IF.Solo.Con.Der.a.nc/RfD.dm.cn.15))),\"-\")","v":"-"},null,{"$f":"IF(CENÁRIOS!$H$14=TRUE,IF(PM.15=\"\",\"-\",IF(OR(RfD.ig.cn.15=\"-\",RfD.ig.cn.15=\"\",RfD.ig.cn.15=0),\"-\",(Cf.SoloSup.15*IF.Solo.Ing.a.nc*Biodisp.15/RfD.ig.cn.15))),\"-\")","v":"-"},null,{"$f":"IF(CENÁRIOS!$H$15=TRUE,IF(PM.15=\"\",\"-\",IF(OR(RfD.ig.cn.15=\"-\",RfD.ig.cn.15=\"\",RfD.ig.cn.15=0,BCF.15=\"-\",Tipo.15<>\"METAL\"),\"-\",(Cf.SoloSup.15*((IF.Solo.Ing.Veg.nc.i)*(IRL.i*((BCFF.15+cdpx.15)/frbveg)+(IRR.i*(BCF.15/frkveg))))/RfD.ig.cn.15))),\"-\")","v":"-"},null,{"$f":"IF(CENÁRIOS!$H$15=TRUE,IF(OR(PM.15=\"\",Tipo.15=\"METAL\"),\"-\",IF(OR(RfD.ig.cn.15=\"-\",RfD.ig.cn.15=\"\",RfD.ig.cn.15=0,BCFR.15=\"-\",a.15=\"-\"),\"-\",((Cf.SoloSup.15*IF.Solo.Ing.Veg.nc.i*(IRL.i*(((ps*pw.15*tscf.15*Qveg)/(Vwveg*pplantveg*a.15*Vlveg))+cdpx.15*fdwsveg)+(IRR.i*BCFR.15)))/RfD.ig.cn.15))),\"-\")","v":"-"},null,{"$f":"IF(CENÁRIOS!$H$16=TRUE,IF(PM.15=\"\",\"-\",IF(OR(RfD.in.cn.15=\"-\",RfD.in.cn.15=\"\",RfD.in.cn.15=0,Cf.ArSoloSub.Abe.15=\"-\"),\"-\",(Cf.ArSoloSub.Abe.15*IF.SoloSub.Ina.Abe.a.nc/RfD.in.cn.15))),\"-\")","v":"-"},null,{"$f":"IF(CENÁRIOS!$H$17=TRUE,IF(PM.15=\"\",\"-\",IF(OR(RfD.in.cn.15=\"-\",RfD.in.cn.15=\"\",RfD.in.cn.15=0,Cf.ArSoloSub.Fec.15=\"-\"),\"-\",(Cf.ArSoloSub.Fec.15*IF.SoloSub.Ina.Fec.a.nc/RfD.in.cn.15))),\"-\")","v":"-"},null,{"$f":"IF(CENÁRIOS!$H$18=TRUE,IF(PM.15=\"\",\"-\",IF(OR(RfD.ig.cn.15=\"-\",RfD.ig.cn.15=\"\",RfD.ig.cn.15=0,Cf.AguaLixSoloSub.15=\"-\"),\"-\",(Cf.AguaLixSoloSub.15*IF.SoloSub.Lix.AS.a.nc/RfD.ig.cn.15))),\"-\")","v":"-"},null,{"$f":"IF(CENÁRIOS!$I$18=TRUE,IF(PM.15=\"\",\"-\",IF(OR(RfD.ig.cn.15=\"-\",RfD.ig.cn.15=\"\",RfD.ig.cn.15=0,Cff.AguaLixSoloSub.15=\"-\"),\"-\",(Cff.AguaLixSoloSub.15*IF.SoloSub.Lix.AS.a.nc/RfD.ig.cn.15))),\"-\")","v":"-"},null,null,"-",null,"-"]
[null,16,{"$f":"SQI!D24","v":0},{"$f":"SQI!C24","v":""},"C",{"$f":"IF(CENÁRIOS!$H$11=TRUE,IF(PM.16=\"\",\"-\",IF(OR(Sf.in.16=\"-\",Sf.in.16=\"\",Sf.in.16=0,FT!M23=\"-\"),\"-\",(Cf.SoloSup.16*FT!M23*IF.Solo.Ina.Vap.a.c*Sf.in.16))),\"-\")","v":"-"},null,{"$f":"IF(CENÁRIOS!$H$12=TRUE,IF(PM.16=\"\",\"-\",IF(OR(Sf.in.16=\"-\",Sf.in.16=\"\",Sf.in.16=0,FT!N23=\"-\"),\"-\",(Cf.SoloSup.16*FT!N23*IF.Solo.Ina.Par.a.c*Sf.in.16))),\"-\")","v":"-"},null,{"$f":"IF(CENÁRIOS!$H$13=TRUE,IF(PM.16=\"\",\"-\",IF(OR(Sf.dm.16=\"-\",Sf.dm.16=\"\",Sf.dm.16=0,ABSd.16=\"\"),\"-\",(Cf.SoloSup.16*ABSd.16*IF.Solo.Con.Der.a.c*Sf.dm.16))),\"-\")","v":"-"},null,{"$f":"IF(CENÁRIOS!$H$14=TRUE,IF(PM.16=\"\",\"-\",IF(OR(Sf.ig.16=\"-\",Sf.ig.16=\"\",Sf.ig.16=0),\"-\",(Cf.SoloSup.16*IF.Solo.Ing.a.c*Biodisp.16*Sf.ig.16))),\"-\")","v":"-"},null,{"$f":"IF(CENÁRIOS!$H$15=TRUE,IF(PM.16=\"\",\"-\",IF(OR(Sf.ig.16=\"-\",Sf.ig.16=\"\",Sf.ig.16=0,BCF.16=\"-\",Tipo.16<>\"METAL\"),\"-\",(Cf.SoloSup.16*(IF.Solo.Ing.Veg.c.i*Sf.ig.16)*(IRL.i*((BCFF.16+cdpx.16)/frbveg)+(IRR.i*(BCF.16/frkveg)))))),\"-\")","v":"-"},null,{"$f":"IF(CENÁRIOS!$H$15=TRUE,IF(OR(PM.16=\"\",Tipo.16=\"METAL\"),\"-\",IF(OR(Sf.ig.16=\"-\",Sf.ig.16=\"\",Sf.ig.16=0,BCFR.16=\"-\",a.16=\"-\"),\"-\",((Cf.SoloSup.16*(IF.Solo.Ing.Veg.c.i*Sf.ig.16)*(IRL.i*(((ps*pw.16*tscf.16*Qveg)/(Vwveg*pplantveg*a.16*Vlveg))+cdpx.16*fdwsveg)+(IRR.i*BCFR.16)))))),\"-\")","v":"-"},null,{"$f":"IF(CENÁRIOS!$H$16=TRUE,IF(PM.16=\"\",\"-\",IF(OR(Sf.in.16=\"-\",Sf.in.16=\"\",Sf.in.16=0,Cf.ArSoloSub.Abe.16=\"-\"),\"-\",(Cf.ArSoloSub.Abe.16*IF.SoloSub.Ina.Abe.a.c*Sf.in.16))),\"-\")","v":"-"},null,{"$f":"IF(CENÁRIOS!$H$17=TRUE,IF(PM.16=\"\",\"-\",IF(OR(Sf.in.16=\"-\",Sf.in.16=\"\",Sf.in.16=0,Cf.ArSoloSub.Fec.16=\"-\"),\"-\",(Cf.ArSoloSub.Fec.16*IF.SoloSub.Ina.Fec.a.c*Sf.in.16))),\"-\")","v":"-"},null,{"$f":"IF(CENÁRIOS!$H$18=TRUE,IF(PM.16=\"\",\"-\",IF(OR(Sf.ig.16=\"-\",Sf.ig.16=\"\",Sf.ig.16=0,Cf.AguaLixSoloSub.16=\"-\"),\"-\",(Cf.AguaLixSoloSub.16*IF.SoloSub.Lix.AS.a.c*Sf.ig.16))),\"-\")","v":"-"},null,{"$f":"IF(CENÁRIOS!$I$18=TRUE,IF(PM.16=\"\",\"-\",IF(OR(Sf.ig.16=\"-\",Sf.ig.16=\"\",Sf.ig.16=0,Cff.AguaLixSoloSub.16=\"-\"),\"-\",(Cff.AguaLixSoloSub.16*IF.SoloSub.Lix.AS.a.c*Sf.ig.16))),\"-\")","v":"-"},null,null,"-",null,"-"]
[null,null,null,null,"NC",{"$f":"IF(CENÁRIOS!$H$11=TRUE,IF(PM.16=\"\",\"-\",IF(OR(RfD.in.cn.16=\"-\",RfD.in.cn.16=\"\",RfD.in.cn.16=0,FT!M23=\"-\"),\"-\",(Cf.SoloSup.16*FT!M23*IF.Solo.Ina.Vap.a.nc/RfD.in.cn.16))),\"-\")","v":"-"},null,{"$f":"IF(CENÁRIOS!$H$12=TRUE,IF(PM.16=\"\",\"-\",IF(OR(RfD.in.cn.16=\"-\",RfD.in.cn.16=\"\",RfD.in.cn.16=0,FT!N23=\"-\"),\"-\",(Cf.SoloSup.16*FT!N23*IF.Solo.Ina.Par.a.nc/RfD.in.cn.16))),\"-\")","v":"-"},null,{"$f":"IF(CENÁRIOS!$H$13=TRUE,IF(PM.16=\"\",\"-\",IF(OR(RfD.dm.cn.16=\"-\",RfD.dm.cn.16=\"\",RfD.dm.cn.16=0,ABSd.16=\"\"),\"-\",(Cf.SoloSup.16*ABSd.16*IF.Solo.Con.Der.a.nc/RfD.dm.cn.16))),\"-\")","v":"-"},null,{"$f":"IF(CENÁRIOS!$H$14=TRUE,IF(PM.16=\"\",\"-\",IF(OR(RfD.ig.cn.16=\"-\",RfD.ig.cn.16=\"\",RfD.ig.cn.16=0),\"-\",(Cf.SoloSup.16*IF.Solo.Ing.a.nc*Biodisp.16/RfD.ig.cn.16))),\"-\")","v":"-"},null,{"$f":"IF(CENÁRIOS!$H$15=TRUE,IF(PM.16=\"\",\"-\",IF(OR(RfD.ig.cn.16=\"-\",RfD.ig.cn.16=\"\",RfD.ig.cn.16=0,BCF.16=\"-\",Tipo.16<>\"METAL\"),\"-\",(Cf.SoloSup.16*((IF.Solo.Ing.Veg.nc.i)*(IRL.i*((BCFF.16+cdpx.16)/frbveg)+(IRR.i*(BCF.16/frkveg))))/RfD.ig.cn.16))),\"-\")","v":"-"},null,{"$f":"IF(CENÁRIOS!$H$15=TRUE,IF(OR(PM.16=\"\",Tipo.16=\"METAL\"),\"-\",IF(OR(RfD.ig.cn.16=\"-\",RfD.ig.cn.16=\"\",RfD.ig.cn.16=0,BCFR.16=\"-\",a.16=\"-\"),\"-\",((Cf.SoloSup.16*IF.Solo.Ing.Veg.nc.i*(IRL.i*(((ps*pw.16*tscf.16*Qveg)/(Vwveg*pplantveg*a.16*Vlveg))+cdpx.16*fdwsveg)+(IRR.i*BCFR.16)))/RfD.ig.cn.16))),\"-\")","v":"-"},null,{"$f":"IF(CENÁRIOS!$H$16=TRUE,IF(PM.16=\"\",\"-\",IF(OR(RfD.in.cn.16=\"-\",RfD.in.cn.16=\"\",RfD.in.cn.16=0,Cf.ArSoloSub.Abe.16=\"-\"),\"-\",(Cf.ArSoloSub.Abe.16*IF.SoloSub.Ina.Abe.a.nc/RfD.in.cn.16))),\"-\")","v":"-"},null,{"$f":"IF(CENÁRIOS!$H$17=TRUE,IF(PM.16=\"\",\"-\",IF(OR(RfD.in.cn.16=\"-\",RfD.in.cn.16=\"\",RfD.in.cn.16=0,Cf.ArSoloSub.Fec.16=\"-\"),\"-\",(Cf.ArSoloSub.Fec.16*IF.SoloSub.Ina.Fec.a.nc/RfD.in.cn.16))),\"-\")","v":"-"},null,{"$f":"IF(CENÁRIOS!$H$18=TRUE,IF(PM.16=\"\",\"-\",IF(OR(RfD.ig.cn.16=\"-\",RfD.ig.cn.16=\"\",RfD.ig.cn.16=0,Cf.AguaLixSoloSub.16=\"-\"),\"-\",(Cf.AguaLixSoloSub.16*IF.SoloSub.Lix.AS.a.nc/RfD.ig.cn.16))),\"-\")","v":"-"},null,{"$f":"IF(CENÁRIOS!$I$18=TRUE,IF(PM.16=\"\",\"-\",IF(OR(RfD.ig.cn.16=\"-\",RfD.ig.cn.16=\"\",RfD.ig.cn.16=0,Cff.AguaLixSoloSub.16=\"-\"),\"-\",(Cff.AguaLixSoloSub.16*IF.SoloSub.Lix.AS.a.nc/RfD.ig.cn.16))),\"-\")","v":"-"},null,null,"-",null,"-"]
[null,17,{"$f":"SQI!D25","v":0},{"$f":"SQI!C25","v":""},"C",{"$f":"IF(CENÁRIOS!$H$11=TRUE,IF(PM.17=\"\",\"-\",IF(OR(Sf.in.17=\"-\",Sf.in.17=\"\",Sf.in.17=0,FT!M24=\"-\"),\"-\",(Cf.SoloSup.17*FT!M24*IF.Solo.Ina.Vap.a.c*Sf.in.17))),\"-\")","v":"-"},null,{"$f":"IF(CENÁRIOS!$H$12=TRUE,IF(PM.17=\"\",\"-\",IF(OR(Sf.in.17=\"-\",Sf.in.17=\"\",Sf.in.17=0,FT!N24=\"-\"),\"-\",(Cf.SoloSup.17*FT!N24*IF.Solo.Ina.Par.a.c*Sf.in.17))),\"-\")","v":"-"},null,{"$f":"IF(CENÁRIOS!$H$13=TRUE,IF(PM.17=\"\",\"-\",IF(OR(Sf.dm.17=\"-\",Sf.dm.17=\"\",Sf.dm.17=0,ABSd.17=\"\"),\"-\",(Cf.SoloSup.17*ABSd.17*IF.Solo.Con.Der.a.c*Sf.dm.17))),\"-\")","v":"-"},null,{"$f":"IF(CENÁRIOS!$H$14=TRUE,IF(PM.17=\"\",\"-\",IF(OR(Sf.ig.17=\"-\",Sf.ig.17=\"\",Sf.ig.17=0),\"-\",(Cf.SoloSup.17*IF.Solo.Ing.a.c*Biodisp.17*Sf.ig.17))),\"-\")","v":"-"},null,{"$f":"IF(CENÁRIOS!$H$15=TRUE,IF(PM.17=\"\",\"-\",IF(OR(Sf.ig.17=\"-\",Sf.ig.17=\"\",Sf.ig.17=0,BCF.17=\"-\",Tipo.17<>\"METAL\"),\"-\",(Cf.SoloSup.17*(IF.Solo.Ing.Veg.c.i*Sf.ig.17)*(IRL.i*((BCFF.17+cdpx.17)/frbveg)+(IRR.i*(BCF.17/frkveg)))))),\"-\")","v":"-"},null,{"$f":"IF(CENÁRIOS!$H$15=TRUE,IF(OR(PM.17=\"\",Tipo.17=\"METAL\"),\"-\",IF(OR(Sf.ig.17=\"-\",Sf.ig.17=\"\",Sf.ig.17=0,BCFR.17=\"-\",a.17=\"-\"),\"-\",((Cf.SoloSup.17*(IF.Solo.Ing.Veg.c.i*Sf.ig.17)*(IRL.i*(((ps*pw.17*tscf.17*Qveg)/(Vwveg*pplantveg*a.17*Vlveg))+cdpx.17*fdwsveg)+(IRR.i*BCFR.17)))))),\"-\")","v":"-"},null,{"$f":"IF(CENÁRIOS!$H$16=TRUE,IF(PM.17=\"\",\"-\",IF(OR(Sf.in.17=\"-\",Sf.in.17=\"\",Sf.in.17=0,Cf.ArSoloSub.Abe.17=\"-\"),\"-\",(Cf.ArSoloSub.Abe.17*IF.SoloSub.Ina.Abe.a.c*Sf.in.17))),\"-\")","v":"-"},null,{"$f":"IF(CENÁRIOS!$H$17=TRUE,IF(PM.17=\"\",\"-\",IF(OR(Sf.in.17=\"-\",Sf.in.17=\"\",Sf.in.17=0,Cf.ArSoloSub.Fec.17=\"-\"),\"-\",(Cf.ArSoloSub.Fec.17*IF.SoloSub.Ina.Fec.a.c*Sf.in.17))),\"-\")","v":"-"},null,{"$f":"IF(CENÁRIOS!$H$18=TRUE,IF(PM.17=\"\",\"-\",IF(OR(Sf.ig.17=\"-\",Sf.ig.17=\"\",Sf.ig.17=0,Cf.AguaLixSoloSub.17=\"-\"),\"-\",(Cf.AguaLixSoloSub.17*IF.SoloSub.Lix.AS.a.c*Sf.ig.17))),\"-\")","v":"-"},null,{"$f":"IF(CENÁRIOS!$I$18=TRUE,IF(PM.17=\"\",\"-\",IF(OR(Sf.ig.17=\"-\",Sf.ig.17=\"\",Sf.ig.17=0,Cff.AguaLixSoloSub.17=\"-\"),\"-\",(Cff.AguaLixSoloSub.17*IF.SoloSub.Lix.AS.a.c*Sf.ig.17))),\"-\")","v":"-"},null,null,{"$f":"IF(SUM(F42:V42)=0,\"-\",SUM(F42:V42))","v":"-"},null,{"$f":"X42","v":"-"}]
[null,null,null,null,"NC",{"$f":"IF(CENÁRIOS!$H$11=TRUE,IF(PM.17=\"\",\"-\",IF(OR(RfD.in.cn.17=\"-\",RfD.in.cn.17=\"\",RfD.in.cn.17=0,FT!M24=\"-\"),\"-\",(Cf.SoloSup.17*FT!M24*IF.Solo.Ina.Vap.a.nc/RfD.in.cn.17))),\"-\")","v":"-"},null,{"$f":"IF(CENÁRIOS!$H$12=TRUE,IF(PM.17=\"\",\"-\",IF(OR(RfD.in.cn.17=\"-\",RfD.in.cn.17=\"\",RfD.in.cn.17=0,FT!N24=\"-\"),\"-\",(Cf.SoloSup.17*FT!N24*IF.Solo.Ina.Par.a.nc/RfD.in.cn.17))),\"-\")","v":"-"},null,{"$f":"IF(CENÁRIOS!$H$13=TRUE,IF(PM.17=\"\",\"-\",IF(OR(RfD.dm.cn.17=\"-\",RfD.dm.cn.17=\"\",RfD.dm.cn.17=0,ABSd.17=\"\"),\"-\",(Cf.SoloSup.17*ABSd.17*IF.Solo.Con.Der.a.nc/RfD.dm.cn.17))),\"-\")","v":"-"},null,{"$f":"IF(CENÁRIOS!$H$14=TRUE,IF(PM.17=\"\",\"-\",IF(OR(RfD.ig.cn.17=\"-\",RfD.ig.cn.17=\"\",RfD.ig.cn.17=0),\"-\",(Cf.SoloSup.17*IF.Solo.Ing.a.nc*Biodisp.17/RfD.ig.cn.17))),\"-\")","v":"-"},null,{"$f":"IF(CENÁRIOS!$H$15=TRUE,IF(PM.17=\"\",\"-\",IF(OR(RfD.ig.cn.17=\"-\",RfD.ig.cn.17=\"\",RfD.ig.cn.17=0,BCF.17=\"-\",Tipo.17<>\"METAL\"),\"-\",(Cf.SoloSup.17*((IF.Solo.Ing.Veg.nc.i)*(IRL.i*((BCFF.17+cdpx.17)/frbveg)+(IRR.i*(BCF.17/frkveg))))/RfD.ig.cn.17))),\"-\")","v":"-"},null,{"$f":"IF(CENÁRIOS!$H$15=TRUE,IF(OR(PM.17=\"\",Tipo.17=\"METAL\"),\"-\",IF(OR(RfD.ig.cn.17=\"-\",RfD.ig.cn.17=\"\",RfD.ig.cn.17=0,BCFR.17=\"-\",a.17=\"-\"),\"-\",((Cf.SoloSup.17*IF.Solo.Ing.Veg.nc.i*(IRL.i*(((ps*pw.17*tscf.17*Qveg)/(Vwveg*pplantveg*a.17*Vlveg))+cdpx.17*fdwsveg)+(IRR.i*BCFR.17)))/RfD.ig.cn.17))),\"-\")","v":"-"},null,{"$f":"IF(CENÁRIOS!$H$16=TRUE,IF(PM.17=\"\",\"-\",IF(OR(RfD.in.cn.17=\"-\",RfD.in.cn.17=\"\",RfD.in.cn.17=0,Cf.ArSoloSub.Abe.17=\"-\"),\"-\",(Cf.ArSoloSub.Abe.17*IF.SoloSub.Ina.Abe.a.nc/RfD.in.cn.17))),\"-\")","v":"-"},null,{"$f":"IF(CENÁRIOS!$H$17=TRUE,IF(PM.17=\"\",\"-\",IF(OR(RfD.in.cn.17=\"-\",RfD.in.cn.17=\"\",RfD.in.cn.17=0,Cf.ArSoloSub.Fec.17=\"-\"),\"-\",(Cf.ArSoloSub.Fec.17*IF.SoloSub.Ina.Fec.a.nc/RfD.in.cn.17))),\"-\")","v":"-"},null,{"$f":"IF(CENÁRIOS!$H$18=TRUE,IF(PM.17=\"\",\"-\",IF(OR(RfD.ig.cn.17=\"-\",RfD.ig.cn.17=\"\",RfD.ig.cn.17=0,Cf.AguaLixSoloSub.17=\"-\"),\"-\",(Cf.AguaLixSoloSub.17*IF.SoloSub.Lix.AS.a.nc/RfD.ig.cn.17))),\"-\")","v":"-"},null,{"$f":"IF(CENÁRIOS!$I$18=TRUE,IF(PM.17=\"\",\"-\",IF(OR(RfD.ig.cn.17=\"-\",RfD.ig.cn.17=\"\",RfD.ig.cn.17=0,Cff.AguaLixSoloSub.17=\"-\"),\"-\",(Cff.AguaLixSoloSub.17*IF.SoloSub.Lix.AS.a.nc/RfD.ig.cn.17))),\"-\")","v":"-"},null,null,"-",null,"-"]
[null,18,{"$f":"SQI!D26","v":0},{"$f":"SQI!C26","v":""},"C",{"$f":"IF(CENÁRIOS!$H$11=TRUE,IF(PM.18=\"\",\"-\",IF(OR(Sf.in.18=\"-\",Sf.in.18=\"\",Sf.in.18=0,FT!M25=\"-\"),\"-\",(Cf.SoloSup.18*FT!M25*IF.Solo.Ina.Vap.a.c*Sf.in.18))),\"-\")","v":"-"},null,{"$f":"IF(CENÁRIOS!$H$12=TRUE,IF(PM.18=\"\",\"-\",IF(OR(Sf.in.18=\"-\",Sf.in.18=\"\",Sf.in.18=0,FT!N25=\"-\"),\"-\",(Cf.SoloSup.18*FT!N25*IF.Solo.Ina.Par.a.c*Sf.in.18))),\"-\")","v":"-"},null,{"$f":"IF(CENÁRIOS!$H$13=TRUE,IF(PM.18=\"\",\"-\",IF(OR(Sf.dm.18=\"-\",Sf.dm.18=\"\",Sf.dm.18=0,ABSd.18=\"\"),\"-\",(Cf.SoloSup.18*ABSd.18*IF.Solo.Con.Der.a.c*Sf.dm.18))),\"-\")","v":"-"},null,{"$f":"IF(CENÁRIOS!$H$14=TRUE,IF(PM.18=\"\",\"-\",IF(OR(Sf.ig.18=\"-\",Sf.ig.18=\"\",Sf.ig.18=0),\"-\",(Cf.SoloSup.18*IF.Solo.Ing.a.c*Biodisp.18*Sf.ig.18))),\"-\")","v":"-"},null,{"$f":"IF(CENÁRIOS!$H$15=TRUE,IF(PM.18=\"\",\"-\",IF(OR(Sf.ig.18=\"-\",Sf.ig.18=\"\",Sf.ig.18=0,BCF.18=\"-\",Tipo.18<>\"METAL\"),\"-\",(Cf.SoloSup.18*(IF.Solo.Ing.Veg.c.i*Sf.ig.18)*(IRL.i*((BCFF.18+cdpx.18)/frbveg)+(IRR.i*(BCF.18/frkveg)))))),\"-\")","v":"-"},null,{"$f":"IF(CENÁRIOS!$H$15=TRUE,IF(OR(PM.18=\"\",Tipo.18=\"METAL\"),\"-\",IF(OR(Sf.ig.18=\"-\",Sf.ig.18=\"\",Sf.ig.18=0,BCFR.18=\"-\",a.18=\"-\"),\"-\",((Cf.SoloSup.18*(IF.Solo.Ing.Veg.c.i*Sf.ig.18)*(IRL.i*(((ps*pw.18*tscf.18*Qveg)/(Vwveg*pplantveg*a.18*Vlveg))+cdpx.18*fdwsveg)+(IRR.i*BCFR.18)))))),\"-\")","v":"-"},null,{"$f":"IF(CENÁRIOS!$H$16=TRUE,IF(PM.18=\"\",\"-\",IF(OR(Sf.in.18=\"-\",Sf.in.18=\"\",Sf.in.18=0,Cf.ArSoloSub.Abe.18=\"-\"),\"-\",(Cf.ArSoloSub.Abe.18*IF.SoloSub.Ina.Abe.a.c*Sf.in.18))),\"-\")","v":"-"},null,{"$f":"IF(CENÁRIOS!$H$17=TRUE,IF(PM.18=\"\",\"-\",IF(OR(Sf.in.18=\"-\",Sf.in.18=\"\",Sf.in.18=0,Cf.ArSoloSub.Fec.18=\"-\"),\"-\",(Cf.ArSoloSub.Fec.18*IF.SoloSub.Ina.Fec.a.c*Sf.in.18))),\"-\")","v":"-"},null,{"$f":"IF(CENÁRIOS!$H$18=TRUE,IF(PM.18=\"\",\"-\",IF(OR(Sf.ig.18=\"-\",Sf.ig.18=\"\",Sf.ig.18=0,Cf.AguaLixSoloSub.18=\"-\"),\"-\",(Cf.AguaLixSoloSub.18*IF.SoloSub.Lix.AS.a.c*Sf.ig.18))),\"-\")","v":"-"},null,{"$f":"IF(CENÁRIOS!$I$18=TRUE,IF(PM.18=\"\",\"-\",IF(OR(Sf.ig.18=\"-\",Sf.ig.18=\"\",Sf.ig.18=0,Cff.AguaLixSoloSub.18=\"-\"),\"-\",(Cff.AguaLixSoloSub.18*IF.SoloSub.Lix.AS.a.c*Sf.ig.18))),\"-\")","v":"-"},null,null,"-",null,"-"]
[null,null,null,null,"NC",{"$f":"IF(CENÁRIOS!$H$11=TRUE,IF(PM.18=\"\",\"-\",IF(OR(RfD.in.cn.18=\"-\",RfD.in.cn.18=\"\",RfD.in.cn.18=0,FT!M25=\"-\"),\"-\",(Cf.SoloSup.18*FT!M25*IF.Solo.Ina.Vap.a.nc/RfD.in.cn.18))),\"-\")","v":"-"},null,{"$f":"IF(CENÁRIOS!$H$12=TRUE,IF(PM.18=\"\",\"-\",IF(OR(RfD.in.cn.18=\"-\",RfD.in.cn.18=\"\",RfD.in.cn.18=0,FT!N25=\"-\"),\"-\",(Cf.SoloSup.18*FT!N25*IF.Solo.Ina.Par.a.nc/RfD.in.cn.18))),\"-\")","v":"-"},null,{"$f":"IF(CENÁRIOS!$H$13=TRUE,IF(PM.18=\"\",\"-\",IF(OR(RfD.dm.cn.18=\"-\",RfD.dm.cn.18=\"\",RfD.dm.cn.18=0,ABSd.18=\"\"),\"-\",(Cf.SoloSup.18*ABSd.18*IF.Solo.Con.Der.a.nc/RfD.dm.cn.18))),\"-\")","v":"-"},null,{"$f":"IF(CENÁRIOS!$H$14=TRUE,IF(PM.18=\"\",\"-\",IF(OR(RfD.ig.cn.18=\"-\",RfD.ig.cn.18=\"\",RfD.ig.cn.18=0),\"-\",(Cf.SoloSup.18*IF.Solo.Ing.a.nc*Biodisp.18/RfD.ig.cn.18))),\"-\")","v":"-"},null,{"$f":"IF(CENÁRIOS!$H$15=TRUE,IF(PM.18=\"\",\"-\",IF(OR(RfD.ig.cn.18=\"-\",RfD.ig.cn.18=\"\",RfD.ig.cn.18=0,BCF.18=\"-\",Tipo.18<>\"METAL\"),\"-\",(Cf.SoloSup.18*((IF.Solo.Ing.Veg.nc.i)*(IRL.i*((BCFF.18+cdpx.18)/frbveg)+(IRR.i*(BCF.18/frkveg))))/RfD.ig.cn.18))),\"-\")","v":"-"},null,{"$f":"IF(CENÁRIOS!$H$15=TRUE,IF(OR(PM.18=\"\",Tipo.18=\"METAL\"),\"-\",IF(OR(RfD.ig.cn.18=\"-\",RfD.ig.cn.18=\"\",RfD.ig.cn.18=0,BCFR.18=\"-\",a.18=\"-\"),\"-\",((Cf.SoloSup.18*IF.Solo.Ing.Veg.nc.i*(IRL.i*(((ps*pw.18*tscf.18*Qveg)/(Vwveg*pplantveg*a.18*Vlveg))+cdpx.18*fdwsveg)+(IRR.i*BCFR.18)))/RfD.ig.cn.18))),\"-\")","v":"-"},null,{"$f":"IF(CENÁRIOS!$H$16=TRUE,IF(PM.18=\"\",\"-\",IF(OR(RfD.in.cn.18=\"-\",RfD.in.cn.18=\"\",RfD.in.cn.18=0,Cf.ArSoloSub.Abe.18=\"-\"),\"-\",(Cf.ArSoloSub.Abe.18*IF.SoloSub.Ina.Abe.a.nc/RfD.in.cn.18))),\"-\")","v":"-"},null,{"$f":"IF(CENÁRIOS!$H$17=TRUE,IF(PM.18=\"\",\"-\",IF(OR(RfD.in.cn.18=\"-\",RfD.in.cn.18=\"\",RfD.in.cn.18=0,Cf.ArSoloSub.Fec.18=\"-\"),\"-\",(Cf.ArSoloSub.Fec.18*IF.SoloSub.Ina.Fec.a.nc/RfD.in.cn.18))),\"-\")","v":"-"},null,{"$f":"IF(CENÁRIOS!$H$18=TRUE,IF(PM.18=\"\",\"-\",IF(OR(RfD.ig.cn.18=\"-\",RfD.ig.cn.18=\"\",RfD.ig.cn.18=0,Cf.AguaLixSoloSub.18=\"-\"),\"-\",(Cf.AguaLixSoloSub.18*IF.SoloSub.Lix.AS.a.nc/RfD.ig.cn.18))),\"-\")","v":"-"},null,{"$f":"IF(CENÁRIOS!$I$18=TRUE,IF(PM.18=\"\",\"-\",IF(OR(RfD.ig.cn.18=\"-\",RfD.ig.cn.18=\"\",RfD.ig.cn.18=0,Cff.AguaLixSoloSub.18=\"-\"),\"-\",(Cff.AguaLixSoloSub.18*IF.SoloSub.Lix.AS.a.nc/RfD.ig.cn.18))),\"-\")","v":"-"},null,null,"-",null,"-"]
[null,19,{"$f":"SQI!D27","v":0},{"$f":"SQI!C27","v":""},"C",{"$f":"IF(CENÁRIOS!$H$11=TRUE,IF(PM.19=\"\",\"-\",IF(OR(Sf.in.19=\"-\",Sf.in.19=\"\",Sf.in.19=0,FT!M26=\"-\"),\"-\",(Cf.SoloSup.19*FT!M26*IF.Solo.Ina.Vap.a.c*Sf.in.19))),\"-\")","v":"-"},null,{"$f":"IF(CENÁRIOS!$H$12=TRUE,IF(PM.19=\"\",\"-\",IF(OR(Sf.in.19=\"-\",Sf.in.19=\"\",Sf.in.19=0,FT!N26=\"-\"),\"-\",(Cf.SoloSup.19*FT!N26*IF.Solo.Ina.Par.a.c*Sf.in.19))),\"-\")","v":"-"},null,{"$f":"IF(CENÁRIOS!$H$13=TRUE,IF(PM.19=\"\",\"-\",IF(OR(Sf.dm.19=\"-\",Sf.dm.19=\"\",Sf.dm.19=0,ABSd.19=\"\"),\"-\",(Cf.SoloSup.19*ABSd.19*IF.Solo.Con.Der.a.c*Sf.dm.19))),\"-\")","v":"-"},null,{"$f":"IF(CENÁRIOS!$H$14=TRUE,IF(PM.19=\"\",\"-\",IF(OR(Sf.ig.19=\"-\",Sf.ig.19=\"\",Sf.ig.19=0),\"-\",(Cf.SoloSup.19*IF.Solo.Ing.a.c*Biodisp.19*Sf.ig.19))),\"-\")","v":"-"},null,{"$f":"IF(CENÁRIOS!$H$15=TRUE,IF(PM.19=\"\",\"-\",IF(OR(Sf.ig.19=\"-\",Sf.ig.19=\"\",Sf.ig.19=0,BCF.19=\"-\",Tipo.19<>\"METAL\"),\"-\",(Cf.SoloSup.19*(IF.Solo.Ing.Veg.c.i*Sf.ig.19)*(IRL.i*((BCFF.19+cdpx.19)/frbveg)+(IRR.i*(BCF.19/frkveg)))))),\"-\")","v":"-"},null,{"$f":"IF(CENÁRIOS!$H$15=TRUE,IF(OR(PM.19=\"\",Tipo.19=\"METAL\"),\"-\",IF(OR(Sf.ig.19=\"-\",Sf.ig.19=\"\",Sf.ig.19=0,BCFR.19=\"-\",a.19=\"-\"),\"-\",((Cf.SoloSup.19*(IF.Solo.Ing.Veg.c.i*Sf.ig.19)*(IRL.i*(((ps*pw.19*tscf.19*Qveg)/(Vwveg*pplantveg*a.19*Vlveg))+cdpx.19*fdwsveg)+(IRR.i*BCFR.19)))))),\"-\")","v":"-"},null,{"$f":"IF(CENÁRIOS!$H$16=TRUE,IF(PM.19=\"\",\"-\",IF(OR(Sf.in.19=\"-\",Sf.in.19=\"\",Sf.in.19=0,Cf.ArSoloSub.Abe.19=\"-\"),\"-\",(Cf.ArSoloSub.Abe.19*IF.SoloSub.Ina.Abe.a.c*Sf.in.19))),\"-\")","v":"-"},null,{"$f":"IF(CENÁRIOS!$H$17=TRUE,IF(PM.19=\"\",\"-\",IF(OR(Sf.in.19=\"-\",Sf.in.19=\"\",Sf.in.19=0,Cf.ArSoloSub.Fec.19=\"-\"),\"-\",(Cf.ArSoloSub.Fec.19*IF.SoloSub.Ina.Fec.a.c*Sf.in.19))),\"-\")","v":"-"},null,{"$f":"IF(CENÁRIOS!$H$18=TRUE,IF(PM.19=\"\",\"-\",IF(OR(Sf.ig.19=\"-\",Sf.ig.19=\"\",Sf.ig.19=0,Cf.AguaLixSoloSub.19=\"-\"),\"-\",(Cf.AguaLixSoloSub.19*IF.SoloSub.Lix.AS.a.c*Sf.ig.19))),\"-\")","v":"-"},null,{"$f":"IF(CENÁRIOS!$I$18=TRUE,IF(PM.19=\"\",\"-\",IF(OR(Sf.ig.19=\"-\",Sf.ig.19=\"\",Sf.ig.19=0,Cff.AguaLixSoloSub.19=\"-\"),\"-\",(Cff.AguaLixSoloSub.19*IF.SoloSub.Lix.AS.a.c*Sf.ig.19))),\"-\")","v":"-"},null,null,"-",null,"-"]
[null,null,null,null,"NC",{"$f":"IF(CENÁRIOS!$H$11=TRUE,IF(PM.19=\"\",\"-\",IF(OR(RfD.in.cn.19=\"-\",RfD.in.cn.19=\"\",RfD.in.cn.19=0,FT!M26=\"-\"),\"-\",(Cf.SoloSup.19*FT!M26*IF.Solo.Ina.Vap.a.nc/RfD.in.cn.19))),\"-\")","v":"-"},null,{"$f":"IF(CENÁRIOS!$H$12=TRUE,IF(PM.19=\"\",\"-\",IF(OR(RfD.in.cn.19=\"-\",RfD.in.cn.19=\"\",RfD.in.cn.19=0,FT!N26=\"-\"),\"-\",(Cf.SoloSup.19*FT!N26*IF.Solo.Ina.Par.a.nc/RfD.in.cn.19))),\"-\")","v":"-"},null,{"$f":"IF(CENÁRIOS!$H$13=TRUE,IF(PM.19=\"\",\"-\",IF(OR(RfD.dm.cn.19=\"-\",RfD.dm.cn.19=\"\",RfD.dm.cn.19=0,ABSd.19=\"\"),\"-\",(Cf.SoloSup.19*ABSd.19*IF.Solo.Con.Der.a.nc/RfD.dm.cn.19))),\"-\")","v":"-"},null,{"$f":"IF(CENÁRIOS!$H$14=TRUE,IF(PM.19=\"\",\"-\",IF(OR(RfD.ig.cn.19=\"-\",RfD.ig.cn.19=\"\",RfD.ig.cn.19=0),\"-\",(Cf.SoloSup.19*IF.Solo.Ing.a.nc*Biodisp.19/RfD.ig.cn.19))),\"-\")","v":"-"},null,{"$f":"IF(CENÁRIOS!$H$15=TRUE,IF(PM.19=\"\",\"-\",IF(OR(RfD.ig.cn.19=\"-\",RfD.ig.cn.19=\"\",RfD.ig.cn.19=0,BCF.19=\"-\",Tipo.19<>\"METAL\"),\"-\",(Cf.SoloSup.19*((IF.Solo.Ing.Veg.nc.i)*(IRL.i*((BCFF.19+cdpx.19)/frbveg)+(IRR.i*(BCF.19/frkveg))))/RfD.ig.cn.19))),\"-\")","v":"-"},null,{"$f":"IF(CENÁRIOS!$H$15=TRUE,IF(OR(PM.19=\"\",Tipo.19=\"METAL\"),\"-\",IF(OR(RfD.ig.cn.19=\"-\",RfD.ig.cn.19=\"\",RfD.ig.cn.19=0,BCFR.19=\"-\",a.19=\"-\"),\"-\",((Cf.SoloSup.19*IF.Solo.Ing.Veg.nc.i*(IRL.i*(((ps*pw.19*tscf.19*Qveg)/(Vwveg*pplantveg*a.19*Vlveg))+cdpx.19*fdwsveg)+(IRR.i*BCFR.19)))/RfD.ig.cn.19))),\"-\")","v":"-"},null,{"$f":"IF(CENÁRIOS!$H$16=TRUE,IF(PM.19=\"\",\"-\",IF(OR(RfD.in.cn.19=\"-\",RfD.in.cn.19=\"\",RfD.in.cn.19=0,Cf.ArSoloSub.Abe.19=\"-\"),\"-\",(Cf.ArSoloSub.Abe.19*IF.SoloSub.Ina.Abe.a.nc/RfD.in.cn.19))),\"-\")","v":"-"},null,{"$f":"IF(CENÁRIOS!$H$17=TRUE,IF(PM.19=\"\",\"-\",IF(OR(RfD.in.cn.19=\"-\",RfD.in.cn.19=\"\",RfD.in.cn.19=0,Cf.ArSoloSub.Fec.19=\"-\"),\"-\",(Cf.ArSoloSub.Fec.19*IF.SoloSub.Ina.Fec.a.nc/RfD.in.cn.19))),\"-\")","v":"-"},null,{"$f":"IF(CENÁRIOS!$H$18=TRUE,IF(PM.19=\"\",\"-\",IF(OR(RfD.ig.cn.19=\"-\",RfD.ig.cn.19=\"\",RfD.ig.cn.19=0,Cf.AguaLixSoloSub.19=\"-\"),\"-\",(Cf.AguaLixSoloSub.19*IF.SoloSub.Lix.AS.a.nc/RfD.ig.cn.19))),\"-\")","v":"-"},null,{"$f":"IF(CENÁRIOS!$I$18=TRUE,IF(PM.19=\"\",\"-\",IF(OR(RfD.ig.cn.19=\"-\",RfD.ig.cn.19=\"\",RfD.ig.cn.19=0,Cff.AguaLixSoloSub.19=\"-\"),\"-\",(Cff.AguaLixSoloSub.19*IF.SoloSub.Lix.AS.a.nc/RfD.ig.cn.19))),\"-\")","v":"-"},null,null,"-",null,"-"]
[null,20,{"$f":"SQI!D28","v":0},{"$f":"SQI!C28","v":""},"C",{"$f":"IF(CENÁRIOS!$H$11=TRUE,IF(PM.20=\"\",\"-\",IF(OR(Sf.in.20=\"-\",Sf.in.20=\"\",Sf.in.20=0,FT!M27=\"-\"),\"-\",(Cf.SoloSup.20*FT!M27*IF.Solo.Ina.Vap.a.c*Sf.in.20))),\"-\")","v":"-"},null,{"$f":"IF(CENÁRIOS!$H$12=TRUE,IF(PM.20=\"\",\"-\",IF(OR(Sf.in.20=\"-\",Sf.in.20=\"\",Sf.in.20=0,FT!N27=\"-\"),\"-\",(Cf.SoloSup.20*FT!N27*IF.Solo.Ina.Par.a.c*Sf.in.20))),\"-\")","v":"-"},null,{"$f":"IF(CENÁRIOS!$H$13=TRUE,IF(PM.20=\"\",\"-\",IF(OR(Sf.dm.20=\"-\",Sf.dm.20=\"\",Sf.dm.20=0,ABSd.20=\"\"),\"-\",(Cf.SoloSup.20*ABSd.20*IF.Solo.Con.Der.a.c*Sf.dm.20))),\"-\")","v":"-"},null,{"$f":"IF(CENÁRIOS!$H$14=TRUE,IF(PM.20=\"\",\"-\",IF(OR(Sf.ig.20=\"-\",Sf.ig.20=\"\",Sf.ig.20=0),\"-\",(Cf.SoloSup.20*IF.Solo.Ing.a.c*Biodisp.20*Sf.ig.20))),\"-\")","v":"-"},null,{"$f":"IF(CENÁRIOS!$H$15=TRUE,IF(PM.20=\"\",\"-\",IF(OR(Sf.ig.20=\"-\",Sf.ig.20=\"\",Sf.ig.20=0,BCF.20=\"-\",Tipo.20<>\"METAL\"),\"-\",(Cf.SoloSup.20*(IF.Solo.Ing.Veg.c.i*Sf.ig.20)*(IRL.i*((BCFF.20+cdpx.20)/frbveg)+(IRR.i*(BCF.20/frkveg)))))),\"-\")","v":"-"},null,{"$f":"IF(CENÁRIOS!$H$15=TRUE,IF(OR(PM.20=\"\",Tipo.20=\"METAL\"),\"-\",IF(OR(Sf.ig.20=\"-\",Sf.ig.20=\"\",Sf.ig.20=0,BCFR.20=\"-\",a.20=\"-\"),\"-\",((Cf.SoloSup.20*(IF.Solo.Ing.Veg.c.i*Sf.ig.20)*(IRL.i*(((ps*pw.20*tscf.20*Qveg)/(Vwveg*pplantveg*a.20*Vlveg))+cdpx.20*fdwsveg)+(IRR.i*BCFR.20)))))),\"-\")","v":"-"},null,{"$f":"IF(CENÁRIOS!$H$16=TRUE,IF(PM.20=\"\",\"-\",IF(OR(Sf.in.20=\"-\",Sf.in.20=\"\",Sf.in.20=0,Cf.ArSoloSub.Abe.20=\"-\"),\"-\",(Cf.ArSoloSub.Abe.20*IF.SoloSub.Ina.Abe.a.c*Sf.in.20))),\"-\")","v":"-"},null,{"$f":"IF(CENÁRIOS!$H$17=TRUE,IF(PM.20=\"\",\"-\",IF(OR(Sf.in.20=\"-\",Sf.in.20=\"\",Sf.in.20=0,Cf.ArSoloSub.Fec.20=\"-\"),\"-\",(Cf.ArSoloSub.Fec.20*IF.SoloSub.Ina.Fec.a.c*Sf.in.20))),\"-\")","v":"-"},null,{"$f":"IF(CENÁRIOS!$H$18=TRUE,IF(PM.20=\"\",\"-\",IF(OR(Sf.ig.20=\"-\",Sf.ig.20=\"\",Sf.ig.20=0,Cf.AguaLixSoloSub.20=\"-\"),\"-\",(Cf.AguaLixSoloSub.20*IF.SoloSub.Lix.AS.a.c*Sf.ig.20))),\"-\")","v":"-"},null,{"$f":"IF(CENÁRIOS!$I$18=TRUE,IF(PM.20=\"\",\"-\",IF(OR(Sf.ig.20=\"-\",Sf.ig.20=\"\",Sf.ig.20=0,Cff.AguaLixSoloSub.20=\"-\"),\"-\",(Cff.AguaLixSoloSub.20*IF.SoloSub.Lix.AS.a.c*Sf.ig.20))),\"-\")","v":"-"},null,null,"-",null,"-"]
[null,null,null,null,"NC",{"$f":"IF(CENÁRIOS!$H$11=TRUE,IF(PM.20=\"\",\"-\",IF(OR(RfD.in.cn.20=\"-\",RfD.in.cn.20=\"\",RfD.in.cn.20=0,FT!M27=\"-\"),\"-\",(Cf.SoloSup.20*FT!M27*IF.Solo.Ina.Vap.a.nc/RfD.in.cn.20))),\"-\")","v":"-"},null,{"$f":"IF(CENÁRIOS!$H$12=TRUE,IF(PM.20=\"\",\"-\",IF(OR(RfD.in.cn.20=\"-\",RfD.in.cn.20=\"\",RfD.in.cn.20=0,FT!N27=\"-\"),\"-\",(Cf.SoloSup.20*FT!N27*IF.Solo.Ina.Par.a.nc/RfD.in.cn.20))),\"-\")","v":"-"},null,{"$f":"IF(CENÁRIOS!$H$13=TRUE,IF(PM.20=\"\",\"-\",IF(OR(RfD.dm.cn.20=\"-\",RfD.dm.cn.20=\"\",RfD.dm.cn.20=0,ABSd.20=\"\"),\"-\",(Cf.SoloSup.20*ABSd.20*IF.Solo.Con.Der.a.nc/RfD.dm.cn.20))),\"-\")","v":"-"},null,{"$f":"IF(CENÁRIOS!$H$14=TRUE,IF(PM.20=\"\",\"-\",IF(OR(RfD.ig.cn.20=\"-\",RfD.ig.cn.20=\"\",RfD.ig.cn.20=0),\"-\",(Cf.SoloSup.20*IF.Solo.Ing.a.nc*Biodisp.20/RfD.ig.cn.20))),\"-\")","v":"-"},null,{"$f":"IF(CENÁRIOS!$H$15=TRUE,IF(PM.20=\"\",\"-\",IF(OR(RfD.ig.cn.20=\"-\",RfD.ig.cn.20=\"\",RfD.ig.cn.20=0,BCF.20=\"-\",Tipo.20<>\"METAL\"),\"-\",(Cf.SoloSup.20*((IF.Solo.Ing.Veg.nc.i)*(IRL.i*((BCFF.20+cdpx.20)/frbveg)+(IRR.i*(BCF.20/frkveg))))/RfD.ig.cn.20))),\"-\")","v":"-"},null,{"$f":"IF(CENÁRIOS!$H$15=TRUE,IF(OR(PM.20=\"\",Tipo.20=\"METAL\"),\"-\",IF(OR(RfD.ig.cn.20=\"-\",RfD.ig.cn.20=\"\",RfD.ig.cn.20=0,BCFR.20=\"-\",a.20=\"-\"),\"-\",((Cf.SoloSup.20*IF.Solo.Ing.Veg.nc.i*(IRL.i*(((ps*pw.20*tscf.20*Qveg)/(Vwveg*pplantveg*a.20*Vlveg))+cdpx.20*fdwsveg)+(IRR.i*BCFR.20)))/RfD.ig.cn.20))),\"-\")","v":"-"},null,{"$f":"IF(CENÁRIOS!$H$16=TRUE,IF(PM.20=\"\",\"-\",IF(OR(RfD.in.cn.20=\"-\",RfD.in.cn.20=\"\",RfD.in.cn.20=0,Cf.ArSoloSub.Abe.20=\"-\"),\"-\",(Cf.ArSoloSub.Abe.20*IF.SoloSub.Ina.Abe.a.nc/RfD.in.cn.20))),\"-\")","v":"-"},null,{"$f":"IF(CENÁRIOS!$H$17=TRUE,IF(PM.20=\"\",\"-\",IF(OR(RfD.in.cn.20=\"-\",RfD.in.cn.20=\"\",RfD.in.cn.20=0,Cf.ArSoloSub.Fec.20=\"-\"),\"-\",(Cf.ArSoloSub.Fec.20*IF.SoloSub.Ina.Fec.a.nc/RfD.in.cn.20))),\"-\")","v":"-"},null,{"$f":"IF(CENÁRIOS!$H$18=TRUE,IF(PM.20=\"\",\"-\",IF(OR(RfD.ig.cn.20=\"-\",RfD.ig.cn.20=\"\",RfD.ig.cn.20=0,Cf.AguaLixSoloSub.20=\"-\"),\"-\",(Cf.AguaLixSoloSub.20*IF.SoloSub.Lix.AS.a.nc/RfD.ig.cn.20))),\"-\")","v":"-"},null,{"$f":"IF(CENÁRIOS!$I$18=TRUE,IF(PM.20=\"\",\"-\",IF(OR(RfD.ig.cn.20=\"-\",RfD.ig.cn.20=\"\",RfD.ig.cn.20=0,Cff.AguaLixSoloSub.20=\"-\"),\"-\",(Cff.AguaLixSoloSub.20*IF.SoloSub.Lix.AS.a.nc/RfD.ig.cn.20))),\"-\")","v":"-"},null,null,"-",null,"-"]
[null,21,{"$f":"SQI!D29","v":0},{"$f":"SQI!C29","v":""},"C",{"$f":"IF(CENÁRIOS!$H$11=TRUE,IF(PM.21=\"\",\"-\",IF(OR(Sf.in.21=\"-\",Sf.in.21=\"\",Sf.in.21=0,FT!M28=\"-\"),\"-\",(Cf.SoloSup.21*FT!M28*IF.Solo.Ina.Vap.a.c*Sf.in.21))),\"-\")","v":"-"},null,{"$f":"IF(CENÁRIOS!$H$12=TRUE,IF(PM.21=\"\",\"-\",IF(OR(Sf.in.21=\"-\",Sf.in.21=\"\",Sf.in.21=0,FT!N28=\"-\"),\"-\",(Cf.SoloSup.21*FT!N28*IF.Solo.Ina.Par.a.c*Sf.in.21))),\"-\")","v":"-"},null,{"$f":"IF(CENÁRIOS!$H$13=TRUE,IF(PM.21=\"\",\"-\",IF(OR(Sf.dm.21=\"-\",Sf.dm.21=\"\",Sf.dm.21=0,ABSd.21=\"\"),\"-\",(Cf.SoloSup.21*ABSd.21*IF.Solo.Con.Der.a.c*Sf.dm.21))),\"-\")","v":"-"},null,{"$f":"IF(CENÁRIOS!$H$14=TRUE,IF(PM.21=\"\",\"-\",IF(OR(Sf.ig.21=\"-\",Sf.ig.21=\"\",Sf.ig.21=0),\"-\",(Cf.SoloSup.21*IF.Solo.Ing.a.c*Biodisp.21*Sf.ig.21))),\"-\")","v":"-"},null,{"$f":"IF(CENÁRIOS!$H$15=TRUE,IF(PM.21=\"\",\"-\",IF(OR(Sf.ig.21=\"-\",Sf.ig.21=\"\",Sf.ig.21=0,BCF.21=\"-\",Tipo.21<>\"METAL\"),\"-\",(Cf.SoloSup.21*(IF.Solo.Ing.Veg.c.i*Sf.ig.21)*(IRL.i*((BCFF.21+cdpx.21)/frbveg)+(IRR.i*(BCF.21/frkveg)))))),\"-\")","v":"-"},null,{"$f":"IF(CENÁRIOS!$H$15=TRUE,IF(OR(PM.21=\"\",Tipo.21=\"METAL\"),\"-\",IF(OR(Sf.ig.21=\"-\",Sf.ig.21=\"\",Sf.ig.21=0,BCFR.21=\"-\",a.21=\"-\"),\"-\",((Cf.SoloSup.21*(IF.Solo.Ing.Veg.c.i*Sf.ig.21)*(IRL.i*(((ps*pw.21*tscf.21*Qveg)/(Vwveg*pplantveg*a.21*Vlveg))+cdpx.21*fdwsveg)+(IRR.i*BCFR.21)))))),\"-\")","v":"-"},null,{"$f":"IF(CENÁRIOS!$H$16=TRUE,IF(PM.21=\"\",\"-\",IF(OR(Sf.in.21=\"-\",Sf.in.21=\"\",Sf.in.21=0,Cf.ArSoloSub.Abe.21=\"-\"),\"-\",(Cf.ArSoloSub.Abe.21*IF.SoloSub.Ina.Abe.a.c*Sf.in.21))),\"-\")","v":"-"},null,{"$f":"IF(CENÁRIOS!$H$17=TRUE,IF(PM.21=\"\",\"-\",IF(OR(Sf.in.21=\"-\",Sf.in.21=\"\",Sf.in.21=0,Cf.ArSoloSub.Fec.21=\"-\"),\"-\",(Cf.ArSoloSub.Fec.21*IF.SoloSub.Ina.Fec.a.c*Sf.in.21))),\"-\")","v":"-"},null,{"$f":"IF(CENÁRIOS!$H$18=TRUE,IF(PM.21=\"\",\"-\",IF(OR(Sf.ig.21=\"-\",Sf.ig.21=\"\",Sf.ig.21=0,Cf.AguaLixSoloSub.21=\"-\"),\"-\",(Cf.AguaLixSoloSub.21*IF.SoloSub.Lix.AS.a.c*Sf.ig.21))),\"-\")","v":"-"},null,{"$f":"IF(CENÁRIOS!$I$18=TRUE,IF(PM.21=\"\",\"-\",IF(OR(Sf.ig.21=\"-\",Sf.ig.21=\"\",Sf.ig.21=0,Cff.AguaLixSoloSub.21=\"-\"),\"-\",(Cff.AguaLixSoloSub.21*IF.SoloSub.Lix.AS.a.c*Sf.ig.21))),\"-\")","v":"-"},null,null,"-",null,"-"]
[null,null,null,null,"NC",{"$f":"IF(CENÁRIOS!$H$11=TRUE,IF(PM.21=\"\",\"-\",IF(OR(RfD.in.cn.21=\"-\",RfD.in.cn.21=\"\",RfD.in.cn.21=0,FT!M28=\"-\"),\"-\",(Cf.SoloSup.21*FT!M28*IF.Solo.Ina.Vap.a.nc/RfD.in.cn.21))),\"-\")","v":"-"},null,{"$f":"IF(CENÁRIOS!$H$12=TRUE,IF(PM.21=\"\",\"-\",IF(OR(RfD.in.cn.21=\"-\",RfD.in.cn.21=\"\",RfD.in.cn.21=0,FT!N28=\"-\"),\"-\",(Cf.SoloSup.21*FT!N28*IF.Solo.Ina.Par.a.nc/RfD.in.cn.21))),\"-\")","v":"-"},null,{"$f":"IF(CENÁRIOS!$H$13=TRUE,IF(PM.21=\"\",\"-\",IF(OR(RfD.dm.cn.21=\"-\",RfD.dm.cn.21=\"\",RfD.dm.cn.21=0,ABSd.21=\"\"),\"-\",(Cf.SoloSup.21*ABSd.21*IF.Solo.Con.Der.a.nc/RfD.dm.cn.21))),\"-\")","v":"-"},null,{"$f":"IF(CENÁRIOS!$H$14=TRUE,IF(PM.21=\"\",\"-\",IF(OR(RfD.ig.cn.21=\"-\",RfD.ig.cn.21=\"\",RfD.ig.cn.21=0),\"-\",(Cf.SoloSup.21*IF.Solo.Ing.a.nc*Biodisp.21/RfD.ig.cn.21))),\"-\")","v":"-"},null,{"$f":"IF(CENÁRIOS!$H$15=TRUE,IF(PM.21=\"\",\"-\",IF(OR(RfD.ig.cn.21=\"-\",RfD.ig.cn.21=\"\",RfD.ig.cn.21=0,BCF.21=\"-\",Tipo.21<>\"METAL\"),\"-\",(Cf.SoloSup.21*((IF.Solo.Ing.Veg.nc.i)*(IRL.i*((BCFF.21+cdpx.21)/frbveg)+(IRR.i*(BCF.21/frkveg))))/RfD.ig.cn.21))),\"-\")","v":"-"},null,{"$f":"IF(CENÁRIOS!$H$15=TRUE,IF(OR(PM.21=\"\",Tipo.21=\"METAL\"),\"-\",IF(OR(RfD.ig.cn.21=\"-\",RfD.ig.cn.21=\"\",RfD.ig.cn.21=0,BCFR.21=\"-\",a.21=\"-\"),\"-\",((Cf.SoloSup.21*IF.Solo.Ing.Veg.nc.i*(IRL.i*(((ps*pw.21*tscf.21*Qveg)/(Vwveg*pplantveg*a.21*Vlveg))+cdpx.21*fdwsveg)+(IRR.i*BCFR.21)))/RfD.ig.cn.21))),\"-\")","v":"-"},null,{"$f":"IF(CENÁRIOS!$H$16=TRUE,IF(PM.21=\"\",\"-\",IF(OR(RfD.in.cn.21=\"-\",RfD.in.cn.21=\"\",RfD.in.cn.21=0,Cf.ArSoloSub.Abe.21=\"-\"),\"-\",(Cf.ArSoloSub.Abe.21*IF.SoloSub.Ina.Abe.a.nc/RfD.in.cn.21))),\"-\")","v":"-"},null,{"$f":"IF(CENÁRIOS!$H$17=TRUE,IF(PM.21=\"\",\"-\",IF(OR(RfD.in.cn.21=\"-\",RfD.in.cn.21=\"\",RfD.in.cn.21=0,Cf.ArSoloSub.Fec.21=\"-\"),\"-\",(Cf.ArSoloSub.Fec.21*IF.SoloSub.Ina.Fec.a.nc/RfD.in.cn.21))),\"-\")","v":"-"},null,{"$f":"IF(CENÁRIOS!$H$18=TRUE,IF(PM.21=\"\",\"-\",IF(OR(RfD.ig.cn.21=\"-\",RfD.ig.cn.21=\"\",RfD.ig.cn.21=0,Cf.AguaLixSoloSub.21=\"-\"),\"-\",(Cf.AguaLixSoloSub.21*IF.SoloSub.Lix.AS.a.nc/RfD.ig.cn.21))),\"-\")","v":"-"},null,{"$f":"IF(CENÁRIOS!$I$18=TRUE,IF(PM.21=\"\",\"-\",IF(OR(RfD.ig.cn.21=\"-\",RfD.ig.cn.21=\"\",RfD.ig.cn.21=0,Cff.AguaLixSoloSub.21=\"-\"),\"-\",(Cff.AguaLixSoloSub.21*IF.SoloSub.Lix.AS.a.nc/RfD.ig.cn.21))),\"-\")","v":"-"},null,null,"-",null,"-"]
[null,22,{"$f":"SQI!D30","v":0},{"$f":"SQI!C30","v":""},"C",{"$f":"IF(CENÁRIOS!$H$11=TRUE,IF(PM.22=\"\",\"-\",IF(OR(Sf.in.22=\"-\",Sf.in.22=\"\",Sf.in.22=0,FT!M29=\"-\"),\"-\",(Cf.SoloSup.22*FT!M29*IF.Solo.Ina.Vap.a.c*Sf.in.22))),\"-\")","v":"-"},null,{"$f":"IF(CENÁRIOS!$H$12=TRUE,IF(PM.22=\"\",\"-\",IF(OR(Sf.in.22=\"-\",Sf.in.22=\"\",Sf.in.22=0,FT!N29=\"-\"),\"-\",(Cf.SoloSup.22*FT!N29*IF.Solo.Ina.Par.a.c*Sf.in.22))),\"-\")","v":"-"},null,{"$f":"IF(CENÁRIOS!$H$13=TRUE,IF(PM.22=\"\",\"-\",IF(OR(Sf.dm.22=\"-\",Sf.dm.22=\"\",Sf.dm.22=0,ABSd.22=\"\"),\"-\",(Cf.SoloSup.22*ABSd.22*IF.Solo.Con.Der.a.c*Sf.dm.22))),\"-\")","v":"-"},null,{"$f":"IF(CENÁRIOS!$H$14=TRUE,IF(PM.22=\"\",\"-\",IF(OR(Sf.ig.22=\"-\",Sf.ig.22=\"\",Sf.ig.22=0),\"-\",(Cf.SoloSup.22*IF.Solo.Ing.a.c*Biodisp.22*Sf.ig.22))),\"-\")","v":"-"},null,{"$f":"IF(CENÁRIOS!$H$15=TRUE,IF(PM.22=\"\",\"-\",IF(OR(Sf.ig.22=\"-\",Sf.ig.22=\"\",Sf.ig.22=0,BCF.22=\"-\",Tipo.22<>\"METAL\"),\"-\",(Cf.SoloSup.22*(IF.Solo.Ing.Veg.c.i*Sf.ig.22)*(IRL.i*((BCFF.22+cdpx.22)/frbveg)+(IRR.i*(BCF.22/frkveg)))))),\"-\")","v":"-"},null,{"$f":"IF(CENÁRIOS!$H$15=TRUE,IF(OR(PM.22=\"\",Tipo.22=\"METAL\"),\"-\",IF(OR(Sf.ig.22=\"-\",Sf.ig.22=\"\",Sf.ig.22=0,BCFR.22=\"-\",a.22=\"-\"),\"-\",((Cf.SoloSup.22*(IF.Solo.Ing.Veg.c.i*Sf.ig.22)*(IRL.i*(((ps*pw.22*tscf.22*Qveg)/(Vwveg*pplantveg*a.22*Vlveg))+cdpx.22*fdwsveg)+(IRR.i*BCFR.22)))))),\"-\")","v":"-"},null,{"$f":"IF(CENÁRIOS!$H$16=TRUE,IF(PM.22=\"\",\"-\",IF(OR(Sf.in.22=\"-\",Sf.in.22=\"\",Sf.in.22=0,Cf.ArSoloSub.Abe.22=\"-\"),\"-\",(Cf.ArSoloSub.Abe.22*IF.SoloSub.Ina.Abe.a.c*Sf.in.22))),\"-\")","v":"-"},null,{"$f":"IF(CENÁRIOS!$H$17=TRUE,IF(PM.22=\"\",\"-\",IF(OR(Sf.in.22=\"-\",Sf.in.22=\"\",Sf.in.22=0,Cf.ArSoloSub.Fec.22=\"-\"),\"-\",(Cf.ArSoloSub.Fec.22*IF.SoloSub.Ina.Fec.a.c*Sf.in.22))),\"-\")","v":"-"},null,{"$f":"IF(CENÁRIOS!$H$18=TRUE,IF(PM.22=\"\",\"-\",IF(OR(Sf.ig.22=\"-\",Sf.ig.22=\"\",Sf.ig.22=0,Cf.AguaLixSoloSub.22=\"-\"),\"-\",(Cf.AguaLixSoloSub.22*IF.SoloSub.Lix.AS.a.c*Sf.ig.22))),\"-\")","v":"-"},null,{"$f":"IF(CENÁRIOS!$I$18=TRUE,IF(PM.22=\"\",\"-\",IF(OR(Sf.ig.22=\"-\",Sf.ig.22=\"\",Sf.ig.22=0,Cff.AguaLixSoloSub.22=\"-\"),\"-\",(Cff.AguaLixSoloSub.22*IF.SoloSub.Lix.AS.a.c*Sf.ig.22))),\"-\")","v":"-"},null,null,"-",null,"-"]
[null,null,null,null,"NC",{"$f":"IF(CENÁRIOS!$H$11=TRUE,IF(PM.22=\"\",\"-\",IF(OR(RfD.in.cn.22=\"-\",RfD.in.cn.22=\"\",RfD.in.cn.22=0,FT!M29=\"-\"),\"-\",(Cf.SoloSup.22*FT!M29*IF.Solo.Ina.Vap.a.nc/RfD.in.cn.22))),\"-\")","v":"-"},null,{"$f":"IF(CENÁRIOS!$H$12=TRUE,IF(PM.22=\"\",\"-\",IF(OR(RfD.in.cn.22=\"-\",RfD.in.cn.22=\"\",RfD.in.cn.22=0,FT!N29=\"-\"),\"-\",(Cf.SoloSup.22*FT!N29*IF.Solo.Ina.Par.a.nc/RfD.in.cn.22))),\"-\")","v":"-"},null,{"$f":"IF(CENÁRIOS!$H$13=TRUE,IF(PM.22=\"\",\"-\",IF(OR(RfD.dm.cn.22=\"-\",RfD.dm.cn.22=\"\",RfD.dm.cn.22=0,ABSd.22=\"\"),\"-\",(Cf.SoloSup.22*ABSd.22*IF.Solo.Con.Der.a.nc/RfD.dm.cn.22))),\"-\")","v":"-"},null,{"$f":"IF(CENÁRIOS!$H$14=TRUE,IF(PM.22=\"\",\"-\",IF(OR(RfD.ig.cn.22=\"-\",RfD.ig.cn.22=\"\",RfD.ig.cn.22=0),\"-\",(Cf.SoloSup.22*IF.Solo.Ing.a.nc*Biodisp.22/RfD.ig.cn.22))),\"-\")","v":"-"},null,{"$f":"IF(CENÁRIOS!$H$15=TRUE,IF(PM.22=\"\",\"-\",IF(OR(RfD.ig.cn.22=\"-\",RfD.ig.cn.22=\"\",RfD.ig.cn.22=0,BCF.22=\"-\",Tipo.22<>\"METAL\"),\"-\",(Cf.SoloSup.22*((IF.Solo.Ing.Veg.nc.i)*(IRL.i*((BCFF.22+cdpx.22)/frbveg)+(IRR.i*(BCF.22/frkveg))))/RfD.ig.cn.22))),\"-\")","v":"-"},null,{"$f":"IF(CENÁRIOS!$H$15=TRUE,IF(OR(PM.22=\"\",Tipo.22=\"METAL\"),\"-\",IF(OR(RfD.ig.cn.22=\"-\",RfD.ig.cn.22=\"\",RfD.ig.cn.22=0,BCFR.22=\"-\",a.22=\"-\"),\"-\",((Cf.SoloSup.22*IF.Solo.Ing.Veg.nc.i*(IRL.i*(((ps*pw.22*tscf.22*Qveg)/(Vwveg*pplantveg*a.22*Vlveg))+cdpx.22*fdwsveg)+(IRR.i*BCFR.22)))/RfD.ig.cn.22))),\"-\")","v":"-"},null,{"$f":"IF(CENÁRIOS!$H$16=TRUE,IF(PM.22=\"\",\"-\",IF(OR(RfD.in.cn.22=\"-\",RfD.in.cn.22=\"\",RfD.in.cn.22=0,Cf.ArSoloSub.Abe.22=\"-\"),\"-\",(Cf.ArSoloSub.Abe.22*IF.SoloSub.Ina.Abe.a.nc/RfD.in.cn.22))),\"-\")","v":"-"},null,{"$f":"IF(CENÁRIOS!$H$17=TRUE,IF(PM.22=\"\",\"-\",IF(OR(RfD.in.cn.22=\"-\",RfD.in.cn.22=\"\",RfD.in.cn.22=0,Cf.ArSoloSub.Fec.22=\"-\"),\"-\",(Cf.ArSoloSub.Fec.22*IF.SoloSub.Ina.Fec.a.nc/RfD.in.cn.22))),\"-\")","v":"-"},null,{"$f":"IF(CENÁRIOS!$H$18=TRUE,IF(PM.22=\"\",\"-\",IF(OR(RfD.ig.cn.22=\"-\",RfD.ig.cn.22=\"\",RfD.ig.cn.22=0,Cf.AguaLixSoloSub.22=\"-\"),\"-\",(Cf.AguaLixSoloSub.22*IF.SoloSub.Lix.AS.a.nc/RfD.ig.cn.22))),\"-\")","v":"-"},null,{"$f":"IF(CENÁRIOS!$I$18=TRUE,IF(PM.22=\"\",\"-\",IF(OR(RfD.ig.cn.22=\"-\",RfD.ig.cn.22=\"\",RfD.ig.cn.22=0,Cff.AguaLixSoloSub.22=\"-\"),\"-\",(Cff.AguaLixSoloSub.22*IF.SoloSub.Lix.AS.a.nc/RfD.ig.cn.22))),\"-\")","v":"-"},null,null,"-",null,"-"]
[null,23,{"$f":"SQI!D31","v":0},{"$f":"SQI!C31","v":""},"C",{"$f":"IF(CENÁRIOS!$H$11=TRUE,IF(PM.23=\"\",\"-\",IF(OR(Sf.in.23=\"-\",Sf.in.23=\"\",Sf.in.23=0,FT!M30=\"-\"),\"-\",(Cf.SoloSup.23*FT!M30*IF.Solo.Ina.Vap.a.c*Sf.in.23))),\"-\")","v":"-"},null,{"$f":"IF(CENÁRIOS!$H$12=TRUE,IF(PM.23=\"\",\"-\",IF(OR(Sf.in.23=\"-\",Sf.in.23=\"\",Sf.in.23=0,FT!N30=\"-\"),\"-\",(Cf.SoloSup.23*FT!N30*IF.Solo.Ina.Par.a.c*Sf.in.23))),\"-\")","v":"-"},null,{"$f":"IF(CENÁRIOS!$H$13=TRUE,IF(PM.23=\"\",\"-\",IF(OR(Sf.dm.23=\"-\",Sf.dm.23=\"\",Sf.dm.23=0,ABSd.23=\"\"),\"-\",(Cf.SoloSup.23*ABSd.23*IF.Solo.Con.Der.a.c*Sf.dm.23))),\"-\")","v":"-"},null,{"$f":"IF(CENÁRIOS!$H$14=TRUE,IF(PM.23=\"\",\"-\",IF(OR(Sf.ig.23=\"-\",Sf.ig.23=\"\",Sf.ig.23=0),\"-\",(Cf.SoloSup.23*IF.Solo.Ing.a.c*Biodisp.23*Sf.ig.23))),\"-\")","v":"-"},null,{"$f":"IF(CENÁRIOS!$H$15=TRUE,IF(PM.23=\"\",\"-\",IF(OR(Sf.ig.23=\"-\",Sf.ig.23=\"\",Sf.ig.23=0,BCF.23=\"-\",Tipo.23<>\"METAL\"),\"-\",(Cf.SoloSup.23*(IF.Solo.Ing.Veg.c.i*Sf.ig.23)*(IRL.i*((BCFF.23+cdpx.23)/frbveg)+(IRR.i*(BCF.23/frkveg)))))),\"-\")","v":"-"},null,{"$f":"IF(CENÁRIOS!$H$15=TRUE,IF(OR(PM.23=\"\",Tipo.23=\"METAL\"),\"-\",IF(OR(Sf.ig.23=\"-\",Sf.ig.23=\"\",Sf.ig.23=0,BCFR.23=\"-\",a.23=\"-\"),\"-\",((Cf.SoloSup.23*(IF.Solo.Ing.Veg.c.i*Sf.ig.23)*(IRL.i*(((ps*pw.23*tscf.23*Qveg)/(Vwveg*pplantveg*a.23*Vlveg))+cdpx.23*fdwsveg)+(IRR.i*BCFR.23)))))),\"-\")","v":"-"},null,{"$f":"IF(CENÁRIOS!$H$16=TRUE,IF(PM.23=\"\",\"-\",IF(OR(Sf.in.23=\"-\",Sf.in.23=\"\",Sf.in.23=0,Cf.ArSoloSub.Abe.23=\"-\"),\"-\",(Cf.ArSoloSub.Abe.23*IF.SoloSub.Ina.Abe.a.c*Sf.in.23))),\"-\")","v":"-"},null,{"$f":"IF(CENÁRIOS!$H$17=TRUE,IF(PM.23=\"\",\"-\",IF(OR(Sf.in.23=\"-\",Sf.in.23=\"\",Sf.in.23=0,Cf.ArSoloSub.Fec.23=\"-\"),\"-\",(Cf.ArSoloSub.Fec.23*IF.SoloSub.Ina.Fec.a.c*Sf.in.23))),\"-\")","v":"-"},null,{"$f":"IF(CENÁRIOS!$H$18=TRUE,IF(PM.23=\"\",\"-\",IF(OR(Sf.ig.23=\"-\",Sf.ig.23=\"\",Sf.ig.23=0,Cf.AguaLixSoloSub.23=\"-\"),\"-\",(Cf.AguaLixSoloSub.23*IF.SoloSub.Lix.AS.a.c*Sf.ig.23))),\"-\")","v":"-"},null,{"$f":"IF(CENÁRIOS!$I$18=TRUE,IF(PM.23=\"\",\"-\",IF(OR(Sf.ig.23=\"-\",Sf.ig.23=\"\",Sf.ig.23=0,Cff.AguaLixSoloSub.23=\"-\"),\"-\",(Cff.AguaLixSoloSub.23*IF.SoloSub.Lix.AS.a.c*Sf.ig.23))),\"-\")","v":"-"},null,null,"-",null,"-"]
[null,null,null,null,"NC",{"$f":"IF(CENÁRIOS!$H$11=TRUE,IF(PM.23=\"\",\"-\",IF(OR(RfD.in.cn.23=\"-\",RfD.in.cn.23=\"\",RfD.in.cn.23=0,FT!M30=\"-\"),\"-\",(Cf.SoloSup.23*FT!M30*IF.Solo.Ina.Vap.a.nc/RfD.in.cn.23))),\"-\")","v":"-"},null,{"$f":"IF(CENÁRIOS!$H$12=TRUE,IF(PM.23=\"\",\"-\",IF(OR(RfD.in.cn.23=\"-\",RfD.in.cn.23=\"\",RfD.in.cn.23=0,FT!N30=\"-\"),\"-\",(Cf.SoloSup.23*FT!N30*IF.Solo.Ina.Par.a.nc/RfD.in.cn.23))),\"-\")","v":"-"},null,{"$f":"IF(CENÁRIOS!$H$13=TRUE,IF(PM.23=\"\",\"-\",IF(OR(RfD.dm.cn.23=\"-\",RfD.dm.cn.23=\"\",RfD.dm.cn.23=0,ABSd.23=\"\"),\"-\",(Cf.SoloSup.23*ABSd.23*IF.Solo.Con.Der.a.nc/RfD.dm.cn.23))),\"-\")","v":"-"},null,{"$f":"IF(CENÁRIOS!$H$14=TRUE,IF(PM.23=\"\",\"-\",IF(OR(RfD.ig.cn.23=\"-\",RfD.ig.cn.23=\"\",RfD.ig.cn.23=0),\"-\",(Cf.SoloSup.23*IF.Solo.Ing.a.nc*Biodisp.23/RfD.ig.cn.23))),\"-\")","v":"-"},null,{"$f":"IF(CENÁRIOS!$H$15=TRUE,IF(PM.23=\"\",\"-\",IF(OR(RfD.ig.cn.23=\"-\",RfD.ig.cn.23=\"\",RfD.ig.cn.23=0,BCF.23=\"-\",Tipo.23<>\"METAL\"),\"-\",(Cf.SoloSup.23*((IF.Solo.Ing.Veg.nc.i)*(IRL.i*((BCFF.23+cdpx.23)/frbveg)+(IRR.i*(BCF.23/frkveg))))/RfD.ig.cn.23))),\"-\")","v":"-"},null,{"$f":"IF(CENÁRIOS!$H$15=TRUE,IF(OR(PM.23=\"\",Tipo.23=\"METAL\"),\"-\",IF(OR(RfD.ig.cn.23=\"-\",RfD.ig.cn.23=\"\",RfD.ig.cn.23=0,BCFR.23=\"-\",a.23=\"-\"),\"-\",((Cf.SoloSup.23*IF.Solo.Ing.Veg.nc.i*(IRL.i*(((ps*pw.23*tscf.23*Qveg)/(Vwveg*pplantveg*a.23*Vlveg))+cdpx.23*fdwsveg)+(IRR.i*BCFR.23)))/RfD.ig.cn.23))),\"-\")","v":"-"},null,{"$f":"IF(CENÁRIOS!$H$16=TRUE,IF(PM.23=\"\",\"-\",IF(OR(RfD.in.cn.23=\"-\",RfD.in.cn.23=\"\",RfD.in.cn.23=0,Cf.ArSoloSub.Abe.23=\"-\"),\"-\",(Cf.ArSoloSub.Abe.23*IF.SoloSub.Ina.Abe.a.nc/RfD.in.cn.23))),\"-\")","v":"-"},null,{"$f":"IF(CENÁRIOS!$H$17=TRUE,IF(PM.23=\"\",\"-\",IF(OR(RfD.in.cn.23=\"-\",RfD.in.cn.23=\"\",RfD.in.cn.23=0,Cf.ArSoloSub.Fec.23=\"-\"),\"-\",(Cf.ArSoloSub.Fec.23*IF.SoloSub.Ina.Fec.a.nc/RfD.in.cn.23))),\"-\")","v":"-"},null,{"$f":"IF(CENÁRIOS!$H$18=TRUE,IF(PM.23=\"\",\"-\",IF(OR(RfD.ig.cn.23=\"-\",RfD.ig.cn.23=\"\",RfD.ig.cn.23=0,Cf.AguaLixSoloSub.23=\"-\"),\"-\",(Cf.AguaLixSoloSub.23*IF.SoloSub.Lix.AS.a.nc/RfD.ig.cn.23))),\"-\")","v":"-"},null,{"$f":"IF(CENÁRIOS!$I$18=TRUE,IF(PM.23=\"\",\"-\",IF(OR(RfD.ig.cn.23=\"-\",RfD.ig.cn.23=\"\",RfD.ig.cn.23=0,Cff.AguaLixSoloSub.23=\"-\"),\"-\",(Cff.AguaLixSoloSub.23*IF.SoloSub.Lix.AS.a.nc/RfD.ig.cn.23))),\"-\")","v":"-"},null,null,"-",null,"-"]
[null,24,{"$f":"SQI!D32","v":0},{"$f":"SQI!C32","v":""},"C",{"$f":"IF(CENÁRIOS!$H$11=TRUE,IF(PM.24=\"\",\"-\",IF(OR(Sf.in.24=\"-\",Sf.in.24=\"\",Sf.in.24=0,FT!M31=\"-\"),\"-\",(Cf.SoloSup.24*FT!M31*IF.Solo.Ina.Vap.a.c*Sf.in.24))),\"-\")","v":"-"},null,{"$f":"IF(CENÁRIOS!$H$12=TRUE,IF(PM.24=\"\",\"-\",IF(OR(Sf.in.24=\"-\",Sf.in.24=\"\",Sf.in.24=0,FT!N31=\"-\"),\"-\",(Cf.SoloSup.24*FT!N31*IF.Solo.Ina.Par.a.c*Sf.in.24))),\"-\")","v":"-"},null,{"$f":"IF(CENÁRIOS!$H$13=TRUE,IF(PM.24=\"\",\"-\",IF(OR(Sf.dm.24=\"-\",Sf.dm.24=\"\",Sf.dm.24=0,ABSd.24=\"\"),\"-\",(Cf.SoloSup.24*ABSd.24*IF.Solo.Con.Der.a.c*Sf.dm.24))),\"-\")","v":"-"},null,{"$f":"IF(CENÁRIOS!$H$14=TRUE,IF(PM.24=\"\",\"-\",IF(OR(Sf.ig.24=\"-\",Sf.ig.24=\"\",Sf.ig.24=0),\"-\",(Cf.SoloSup.24*IF.Solo.Ing.a.c*Biodisp.24*Sf.ig.24))),\"-\")","v":"-"},null,{"$f":"IF(CENÁRIOS!$H$15=TRUE,IF(PM.24=\"\",\"-\",IF(OR(Sf.ig.24=\"-\",Sf.ig.24=\"\",Sf.ig.24=0,BCF.24=\"-\",Tipo.24<>\"METAL\"),\"-\",(Cf.SoloSup.24*(IF.Solo.Ing.Veg.c.i*Sf.ig.24)*(IRL.i*((BCFF.24+cdpx.24)/frbveg)+(IRR.i*(BCF.24/frkveg)))))),\"-\")","v":"-"},null,{"$f":"IF(CENÁRIOS!$H$15=TRUE,IF(OR(PM.24=\"\",Tipo.24=\"METAL\"),\"-\",IF(OR(Sf.ig.24=\"-\",Sf.ig.24=\"\",Sf.ig.24=0,BCFR.24=\"-\",a.24=\"-\"),\"-\",((Cf.SoloSup.24*(IF.Solo.Ing.Veg.c.i*Sf.ig.24)*(IRL.i*(((ps*pw.24*tscf.24*Qveg)/(Vwveg*pplantveg*a.24*Vlveg))+cdpx.24*fdwsveg)+(IRR.i*BCFR.24)))))),\"-\")","v":"-"},null,{"$f":"IF(CENÁRIOS!$H$16=TRUE,IF(PM.24=\"\",\"-\",IF(OR(Sf.in.24=\"-\",Sf.in.24=\"\",Sf.in.24=0,Cf.ArSoloSub.Abe.24=\"-\"),\"-\",(Cf.ArSoloSub.Abe.24*IF.SoloSub.Ina.Abe.a.c*Sf.in.24))),\"-\")","v":"-"},null,{"$f":"IF(CENÁRIOS!$H$17=TRUE,IF(PM.24=\"\",\"-\",IF(OR(Sf.in.24=\"-\",Sf.in.24=\"\",Sf.in.24=0,Cf.ArSoloSub.Fec.24=\"-\"),\"-\",(Cf.ArSoloSub.Fec.24*IF.SoloSub.Ina.Fec.a.c*Sf.in.24))),\"-\")","v":"-"},null,{"$f":"IF(CENÁRIOS!$H$18=TRUE,IF(PM.24=\"\",\"-\",IF(OR(Sf.ig.24=\"-\",Sf.ig.24=\"\",Sf.ig.24=0,Cf.AguaLixSoloSub.24=\"-\"),\"-\",(Cf.AguaLixSoloSub.24*IF.SoloSub.Lix.AS.a.c*Sf.ig.24))),\"-\")","v":"-"},null,{"$f":"IF(CENÁRIOS!$I$18=TRUE,IF(PM.24=\"\",\"-\",IF(OR(Sf.ig.24=\"-\",Sf.ig.24=\"\",Sf.ig.24=0,Cff.AguaLixSoloSub.24=\"-\"),\"-\",(Cff.AguaLixSoloSub.24*IF.SoloSub.Lix.AS.a.c*Sf.ig.24))),\"-\")","v":"-"},null,null,"-",null,"-"]
[null,null,null,null,"NC",{"$f":"IF(CENÁRIOS!$H$11=TRUE,IF(PM.24=\"\",\"-\",IF(OR(RfD.in.cn.24=\"-\",RfD.in.cn.24=\"\",RfD.in.cn.24=0,FT!M31=\"-\"),\"-\",(Cf.SoloSup.24*FT!M31*IF.Solo.Ina.Vap.a.nc/RfD.in.cn.24))),\"-\")","v":"-"},null,{"$f":"IF(CENÁRIOS!$H$12=TRUE,IF(PM.24=\"\",\"-\",IF(OR(RfD.in.cn.24=\"-\",RfD.in.cn.24=\"\",RfD.in.cn.24=0,FT!N31=\"-\"),\"-\",(Cf.SoloSup.24*FT!N31*IF.Solo.Ina.Par.a.nc/RfD.in.cn.24))),\"-\")","v":"-"},null,{"$f":"IF(CENÁRIOS!$H$13=TRUE,IF(PM.24=\"\",\"-\",IF(OR(RfD.dm.cn.24=\"-\",RfD.dm.cn.24=\"\",RfD.dm.cn.24=0,ABSd.24=\"\"),\"-\",(Cf.SoloSup.24*ABSd.24*IF.Solo.Con.Der.a.nc/RfD.dm.cn.24))),\"-\")","v":"-"},null,{"$f":"IF(CENÁRIOS!$H$14=TRUE,IF(PM.24=\"\",\"-\",IF(OR(RfD.ig.cn.24=\"-\",RfD.ig.cn.24=\"\",RfD.ig.cn.24=0),\"-\",(Cf.SoloSup.24*IF.Solo.Ing.a.nc*Biodisp.24/RfD.ig.cn.24))),\"-\")","v":"-"},null,{"$f":"IF(CENÁRIOS!$H$15=TRUE,IF(PM.24=\"\",\"-\",IF(OR(RfD.ig.cn.24=\"-\",RfD.ig.cn.24=\"\",RfD.ig.cn.24=0,BCF.24=\"-\",Tipo.24<>\"METAL\"),\"-\",(Cf.SoloSup.24*((IF.Solo.Ing.Veg.nc.i)*(IRL.i*((BCFF.24+cdpx.24)/frbveg)+(IRR.i*(BCF.24/frkveg))))/RfD.ig.cn.24))),\"-\")","v":"-"},null,{"$f":"IF(CENÁRIOS!$H$15=TRUE,IF(OR(PM.24=\"\",Tipo.24=\"METAL\"),\"-\",IF(OR(RfD.ig.cn.24=\"-\",RfD.ig.cn.24=\"\",RfD.ig.cn.24=0,BCFR.24=\"-\",a.24=\"-\"),\"-\",((Cf.SoloSup.24*IF.Solo.Ing.Veg.nc.i*(IRL.i*(((ps*pw.24*tscf.24*Qveg)/(Vwveg*pplantveg*a.24*Vlveg))+cdpx.24*fdwsveg)+(IRR.i*BCFR.24)))/RfD.ig.cn.24))),\"-\")","v":"-"},null,{"$f":"IF(CENÁRIOS!$H$16=TRUE,IF(PM.24=\"\",\"-\",IF(OR(RfD.in.cn.24=\"-\",RfD.in.cn.24=\"\",RfD.in.cn.24=0,Cf.ArSoloSub.Abe.24=\"-\"),\"-\",(Cf.ArSoloSub.Abe.24*IF.SoloSub.Ina.Abe.a.nc/RfD.in.cn.24))),\"-\")","v":"-"},null,{"$f":"IF(CENÁRIOS!$H$17=TRUE,IF(PM.24=\"\",\"-\",IF(OR(RfD.in.cn.24=\"-\",RfD.in.cn.24=\"\",RfD.in.cn.24=0,Cf.ArSoloSub.Fec.24=\"-\"),\"-\",(Cf.ArSoloSub.Fec.24*IF.SoloSub.Ina.Fec.a.nc/RfD.in.cn.24))),\"-\")","v":"-"},null,{"$f":"IF(CENÁRIOS!$H$18=TRUE,IF(PM.24=\"\",\"-\",IF(OR(RfD.ig.cn.24=\"-\",RfD.ig.cn.24=\"\",RfD.ig.cn.24=0,Cf.AguaLixSoloSub.24=\"-\"),\"-\",(Cf.AguaLixSoloSub.24*IF.SoloSub.Lix.AS.a.nc/RfD.ig.cn.24))),\"-\")","v":"-"},null,{"$f":"IF(CENÁRIOS!$I$18=TRUE,IF(PM.24=\"\",\"-\",IF(OR(RfD.ig.cn.24=\"-\",RfD.ig.cn.24=\"\",RfD.ig.cn.24=0,Cff.AguaLixSoloSub.24=\"-\"),\"-\",(Cff.AguaLixSoloSub.24*IF.SoloSub.Lix.AS.a.nc/RfD.ig.cn.24))),\"-\")","v":"-"},null,null,"-",null,"-"]
[null,25,{"$f":"SQI!D33","v":0},{"$f":"SQI!C33","v":""},"C",{"$f":"IF(CENÁRIOS!$H$11=TRUE,IF(PM.25=\"\",\"-\",IF(OR(Sf.in.25=\"-\",Sf.in.25=\"\",Sf.in.25=0,FT!M32=\"-\"),\"-\",(Cf.SoloSup.25*FT!M32*IF.Solo.Ina.Vap.a.c*Sf.in.25))),\"-\")","v":"-"},null,{"$f":"IF(CENÁRIOS!$H$12=TRUE,IF(PM.25=\"\",\"-\",IF(OR(Sf.in.25=\"-\",Sf.in.25=\"\",Sf.in.25=0,FT!N32=\"-\"),\"-\",(Cf.SoloSup.25*FT!N32*IF.Solo.Ina.Par.a.c*Sf.in.25))),\"-\")","v":"-"},null,{"$f":"IF(CENÁRIOS!$H$13=TRUE,IF(PM.25=\"\",\"-\",IF(OR(Sf.dm.25=\"-\",Sf.dm.25=\"\",Sf.dm.25=0,ABSd.25=\"\"),\"-\",(Cf.SoloSup.25*ABSd.25*IF.Solo.Con.Der.a.c*Sf.dm.25))),\"-\")","v":"-"},null,{"$f":"IF(CENÁRIOS!$H$14=TRUE,IF(PM.25=\"\",\"-\",IF(OR(Sf.ig.25=\"-\",Sf.ig.25=\"\",Sf.ig.25=0),\"-\",(Cf.SoloSup.25*IF.Solo.Ing.a.c*Biodisp.25*Sf.ig.25))),\"-\")","v":"-"},null,{"$f":"IF(CENÁRIOS!$H$15=TRUE,IF(PM.25=\"\",\"-\",IF(OR(Sf.ig.25=\"-\",Sf.ig.25=\"\",Sf.ig.25=0,BCF.25=\"-\",Tipo.25<>\"METAL\"),\"-\",(Cf.SoloSup.25*(IF.Solo.Ing.Veg.c.i*Sf.ig.25)*(IRL.i*((BCFF.25+cdpx.25)/frbveg)+(IRR.i*(BCF.25/frkveg)))))),\"-\")","v":"-"},null,{"$f":"IF(CENÁRIOS!$H$15=TRUE,IF(OR(PM.25=\"\",Tipo.25=\"METAL\"),\"-\",IF(OR(Sf.ig.25=\"-\",Sf.ig.25=\"\",Sf.ig.25=0,BCFR.25=\"-\",a.25=\"-\"),\"-\",((Cf.SoloSup.25*(IF.Solo.Ing.Veg.c.i*Sf.ig.25)*(IRL.i*(((ps*pw.25*tscf.25*Qveg)/(Vwveg*pplantveg*a.25*Vlveg))+cdpx.25*fdwsveg)+(IRR.i*BCFR.25)))))),\"-\")","v":"-"},null,{"$f":"IF(CENÁRIOS!$H$16=TRUE,IF(PM.25=\"\",\"-\",IF(OR(Sf.in.25=\"-\",Sf.in.25=\"\",Sf.in.25=0,Cf.ArSoloSub.Abe.25=\"-\"),\"-\",(Cf.ArSoloSub.Abe.25*IF.SoloSub.Ina.Abe.a.c*Sf.in.25))),\"-\")","v":"-"},null,{"$f":"IF(CENÁRIOS!$H$17=TRUE,IF(PM.25=\"\",\"-\",IF(OR(Sf.in.25=\"-\",Sf.in.25=\"\",Sf.in.25=0,Cf.ArSoloSub.Fec.25=\"-\"),\"-\",(Cf.ArSoloSub.Fec.25*IF.SoloSub.Ina.Fec.a.c*Sf.in.25))),\"-\")","v":"-"},null,{"$f":"IF(CENÁRIOS!$H$18=TRUE,IF(PM.25=\"\",\"-\",IF(OR(Sf.ig.25=\"-\",Sf.ig.25=\"\",Sf.ig.25=0,Cf.AguaLixSoloSub.25=\"-\"),\"-\",(Cf.AguaLixSoloSub.25*IF.SoloSub.Lix.AS.a.c*Sf.ig.25))),\"-\")","v":"-"},null,{"$f":"IF(CENÁRIOS!$I$18=TRUE,IF(PM.25=\"\",\"-\",IF(OR(Sf.ig.25=\"-\",Sf.ig.25=\"\",Sf.ig.25=0,Cff.AguaLixSoloSub.25=\"-\"),\"-\",(Cff.AguaLixSoloSub.25*IF.SoloSub.Lix.AS.a.c*Sf.ig.25))),\"-\")","v":"-"},null,null,"-",null,"-"]
[null,null,null,null,"NC",{"$f":"IF(CENÁRIOS!$H$11=TRUE,IF(PM.25=\"\",\"-\",IF(OR(RfD.in.cn.25=\"-\",RfD.in.cn.25=\"\",RfD.in.cn.25=0,FT!M32=\"-\"),\"-\",(Cf.SoloSup.25*FT!M32*IF.Solo.Ina.Vap.a.nc/RfD.in.cn.25))),\"-\")","v":"-"},null,{"$f":"IF(CENÁRIOS!$H$12=TRUE,IF(PM.25=\"\",\"-\",IF(OR(RfD.in.cn.25=\"-\",RfD.in.cn.25=\"\",RfD.in.cn.25=0,FT!N32=\"-\"),\"-\",(Cf.SoloSup.25*FT!N32*IF.Solo.Ina.Par.a.nc/RfD.in.cn.25))),\"-\")","v":"-"},null,{"$f":"IF(CENÁRIOS!$H$13=TRUE,IF(PM.25=\"\",\"-\",IF(OR(RfD.dm.cn.25=\"-\",RfD.dm.cn.25=\"\",RfD.dm.cn.25=0,ABSd.25=\"\"),\"-\",(Cf.SoloSup.25*ABSd.25*IF.Solo.Con.Der.a.nc/RfD.dm.cn.25))),\"-\")","v":"-"},null,{"$f":"IF(CENÁRIOS!$H$14=TRUE,IF(PM.25=\"\",\"-\",IF(OR(RfD.ig.cn.25=\"-\",RfD.ig.cn.25=\"\",RfD.ig.cn.25=0),\"-\",(Cf.SoloSup.25*IF.Solo.Ing.a.nc*Biodisp.25/RfD.ig.cn.25))),\"-\")","v":"-"},null,{"$f":"IF(CENÁRIOS!$H$15=TRUE,IF(PM.25=\"\",\"-\",IF(OR(RfD.ig.cn.25=\"-\",RfD.ig.cn.25=\"\",RfD.ig.cn.25=0,BCF.25=\"-\",Tipo.25<>\"METAL\"),\"-\",(Cf.SoloSup.25*((IF.Solo.Ing.Veg.nc.i)*(IRL.i*((BCFF.25+cdpx.25)/frbveg)+(IRR.i*(BCF.25/frkveg))))/RfD.ig.cn.25))),\"-\")","v":"-"},null,{"$f":"IF(CENÁRIOS!$H$15=TRUE,IF(OR(PM.25=\"\",Tipo.25=\"METAL\"),\"-\",IF(OR(RfD.ig.cn.25=\"-\",RfD.ig.cn.25=\"\",RfD.ig.cn.25=0,BCFR.25=\"-\",a.25=\"-\"),\"-\",((Cf.SoloSup.25*IF.Solo.Ing.Veg.nc.i*(IRL.i*(((ps*pw.25*tscf.25*Qveg)/(Vwveg*pplantveg*a.25*Vlveg))+cdpx.25*fdwsveg)+(IRR.i*BCFR.25)))/RfD.ig.cn.25))),\"-\")","v":"-"},null,{"$f":"IF(CENÁRIOS!$H$16=TRUE,IF(PM.25=\"\",\"-\",IF(OR(RfD.in.cn.25=\"-\",RfD.in.cn.25=\"\",RfD.in.cn.25=0,Cf.ArSoloSub.Abe.25=\"-\"),\"-\",(Cf.ArSoloSub.Abe.25*IF.SoloSub.Ina.Abe.a.nc/RfD.in.cn.25))),\"-\")","v":"-"},null,{"$f":"IF(CENÁRIOS!$H$17=TRUE,IF(PM.25=\"\",\"-\",IF(OR(RfD.in.cn.25=\"-\",RfD.in.cn.25=\"\",RfD.in.cn.25=0,Cf.ArSoloSub.Fec.25=\"-\"),\"-\",(Cf.ArSoloSub.Fec.25*IF.SoloSub.Ina.Fec.a.nc/RfD.in.cn.25))),\"-\")","v":"-"},null,{"$f":"IF(CENÁRIOS!$H$18=TRUE,IF(PM.25=\"\",\"-\",IF(OR(RfD.ig.cn.25=\"-\",RfD.ig.cn.25=\"\",RfD.ig.cn.25=0,Cf.AguaLixSoloSub.25=\"-\"),\"-\",(Cf.AguaLixSoloSub.25*IF.SoloSub.Lix.AS.a.nc/RfD.ig.cn.25))),\"-\")","v":"-"},null,{"$f":"IF(CENÁRIOS!$I$18=TRUE,IF(PM.25=\"\",\"-\",IF(OR(RfD.ig.cn.25=\"-\",RfD.ig.cn.25=\"\",RfD.ig.cn.25=0,Cff.AguaLixSoloSub.25=\"-\"),\"-\",(Cff.AguaLixSoloSub.25*IF.SoloSub.Lix.AS.a.nc/RfD.ig.cn.25))),\"-\")","v":"-"},null,null,"-",null,"-"]
[null,26,{"$f":"SQI!D34","v":0},{"$f":"SQI!C34","v":""},"C",{"$f":"IF(CENÁRIOS!$H$11=TRUE,IF(PM.26=\"\",\"-\",IF(OR(Sf.in.26=\"-\",Sf.in.26=\"\",Sf.in.26=0,FT!M33=\"-\"),\"-\",(Cf.SoloSup.26*FT!M33*IF.Solo.Ina.Vap.a.c*Sf.in.26))),\"-\")","v":"-"},null,{"$f":"IF(CENÁRIOS!$H$12=TRUE,IF(PM.26=\"\",\"-\",IF(OR(Sf.in.26=\"-\",Sf.in.26=\"\",Sf.in.26=0,FT!N33=\"-\"),\"-\",(Cf.SoloSup.26*FT!N33*IF.Solo.Ina.Par.a.c*Sf.in.26))),\"-\")","v":"-"},null,{"$f":"IF(CENÁRIOS!$H$13=TRUE,IF(PM.26=\"\",\"-\",IF(OR(Sf.dm.26=\"-\",Sf.dm.26=\"\",Sf.dm.26=0,ABSd.26=\"\"),\"-\",(Cf.SoloSup.26*ABSd.26*IF.Solo.Con.Der.a.c*Sf.dm.26))),\"-\")","v":"-"},null,{"$f":"IF(CENÁRIOS!$H$14=TRUE,IF(PM.26=\"\",\"-\",IF(OR(Sf.ig.26=\"-\",Sf.ig.26=\"\",Sf.ig.26=0),\"-\",(Cf.SoloSup.26*IF.Solo.Ing.a.c*Biodisp.26*Sf.ig.26))),\"-\")","v":"-"},null,{"$f":"IF(CENÁRIOS!$H$15=TRUE,IF(PM.26=\"\",\"-\",IF(OR(Sf.ig.26=\"-\",Sf.ig.26=\"\",Sf.ig.26=0,BCF.26=\"-\",Tipo.26<>\"METAL\"),\"-\",(Cf.SoloSup.26*(IF.Solo.Ing.Veg.c.i*Sf.ig.26)*(IRL.i*((BCFF.26+cdpx.26)/frbveg)+(IRR.i*(BCF.26/frkveg)))))),\"-\")","v":"-"},null,{"$f":"IF(CENÁRIOS!$H$15=TRUE,IF(OR(PM.26=\"\",Tipo.26=\"METAL\"),\"-\",IF(OR(Sf.ig.26=\"-\",Sf.ig.26=\"\",Sf.ig.26=0,BCFR.26=\"-\",a.26=\"-\"),\"-\",((Cf.SoloSup.26*(IF.Solo.Ing.Veg.c.i*Sf.ig.26)*(IRL.i*(((ps*pw.26*tscf.26*Qveg)/(Vwveg*pplantveg*a.26*Vlveg))+cdpx.26*fdwsveg)+(IRR.i*BCFR.26)))))),\"-\")","v":"-"},null,{"$f":"IF(CENÁRIOS!$H$16=TRUE,IF(PM.26=\"\",\"-\",IF(OR(Sf.in.26=\"-\",Sf.in.26=\"\",Sf.in.26=0,Cf.ArSoloSub.Abe.26=\"-\"),\"-\",(Cf.ArSoloSub.Abe.26*IF.SoloSub.Ina.Abe.a.c*Sf.in.26))),\"-\")","v":"-"},null,{"$f":"IF(CENÁRIOS!$H$17=TRUE,IF(PM.26=\"\",\"-\",IF(OR(Sf.in.26=\"-\",Sf.in.26=\"\",Sf.in.26=0,Cf.ArSoloSub.Fec.26=\"-\"),\"-\",(Cf.ArSoloSub.Fec.26*IF.SoloSub.Ina.Fec.a.c*Sf.in.26))),\"-\")","v":"-"},null,{"$f":"IF(CENÁRIOS!$H$18=TRUE,IF(PM.26=\"\",\"-\",IF(OR(Sf.ig.26=\"-\",Sf.ig.26=\"\",Sf.ig.26=0,Cf.AguaLixSoloSub.26=\"-\"),\"-\",(Cf.AguaLixSoloSub.26*IF.SoloSub.Lix.AS.a.c*Sf.ig.26))),\"-\")","v":"-"},null,{"$f":"IF(CENÁRIOS!$I$18=TRUE,IF(PM.26=\"\",\"-\",IF(OR(Sf.ig.26=\"-\",Sf.ig.26=\"\",Sf.ig.26=0,Cff.AguaLixSoloSub.26=\"-\"),\"-\",(Cff.AguaLixSoloSub.26*IF.SoloSub.Lix.AS.a.c*Sf.ig.26))),\"-\")","v":"-"},null,null,"-",null,"-"]
[null,null,null,null,"NC",{"$f":"IF(CENÁRIOS!$H$11=TRUE,IF(PM.26=\"\",\"-\",IF(OR(RfD.in.cn.26=\"-\",RfD.in.cn.26=\"\",RfD.in.cn.26=0,FT!M33=\"-\"),\"-\",(Cf.SoloSup.26*FT!M33*IF.Solo.Ina.Vap.a.nc/RfD.in.cn.26))),\"-\")","v":"-"},null,{"$f":"IF(CENÁRIOS!$H$12=TRUE,IF(PM.26=\"\",\"-\",IF(OR(RfD.in.cn.26=\"-\",RfD.in.cn.26=\"\",RfD.in.cn.26=0,FT!N33=\"-\"),\"-\",(Cf.SoloSup.26*FT!N33*IF.Solo.Ina.Par.a.nc/RfD.in.cn.26))),\"-\")","v":"-"},null,{"$f":"IF(CENÁRIOS!$H$13=TRUE,IF(PM.26=\"\",\"-\",IF(OR(RfD.dm.cn.26=\"-\",RfD.dm.cn.26=\"\",RfD.dm.cn.26=0,ABSd.26=\"\"),\"-\",(Cf.SoloSup.26*ABSd.26*IF.Solo.Con.Der.a.nc/RfD.dm.cn.26))),\"-\")","v":"-"},null,{"$f":"IF(CENÁRIOS!$H$14=TRUE,IF(PM.26=\"\",\"-\",IF(OR(RfD.ig.cn.26=\"-\",RfD.ig.cn.26=\"\",RfD.ig.cn.26=0),\"-\",(Cf.SoloSup.26*IF.Solo.Ing.a.nc*Biodisp.26/RfD.ig.cn.26))),\"-\")","v":"-"},null,{"$f":"IF(CENÁRIOS!$H$15=TRUE,IF(PM.26=\"\",\"-\",IF(OR(RfD.ig.cn.26=\"-\",RfD.ig.cn.26=\"\",RfD.ig.cn.26=0,BCF.26=\"-\",Tipo.26<>\"METAL\"),\"-\",(Cf.SoloSup.26*((IF.Solo.Ing.Veg.nc.i)*(IRL.i*((BCFF.26+cdpx.26)/frbveg)+(IRR.i*(BCF.26/frkveg))))/RfD.ig.cn.26))),\"-\")","v":"-"},null,{"$f":"IF(CENÁRIOS!$H$15=TRUE,IF(OR(PM.26=\"\",Tipo.26=\"METAL\"),\"-\",IF(OR(RfD.ig.cn.26=\"-\",RfD.ig.cn.26=\"\",RfD.ig.cn.26=0,BCFR.26=\"-\",a.26=\"-\"),\"-\",((Cf.SoloSup.26*IF.Solo.Ing.Veg.nc.i*(IRL.i*(((ps*pw.26*tscf.26*Qveg)/(Vwveg*pplantveg*a.26*Vlveg))+cdpx.26*fdwsveg)+(IRR.i*BCFR.26)))/RfD.ig.cn.26))),\"-\")","v":"-"},null,{"$f":"IF(CENÁRIOS!$H$16=TRUE,IF(PM.26=\"\",\"-\",IF(OR(RfD.in.cn.26=\"-\",RfD.in.cn.26=\"\",RfD.in.cn.26=0,Cf.ArSoloSub.Abe.26=\"-\"),\"-\",(Cf.ArSoloSub.Abe.26*IF.SoloSub.Ina.Abe.a.nc/RfD.in.cn.26))),\"-\")","v":"-"},null,{"$f":"IF(CENÁRIOS!$H$17=TRUE,IF(PM.26=\"\",\"-\",IF(OR(RfD.in.cn.26=\"-\",RfD.in.cn.26=\"\",RfD.in.cn.26=0,Cf.ArSoloSub.Fec.26=\"-\"),\"-\",(Cf.ArSoloSub.Fec.26*IF.SoloSub.Ina.Fec.a.nc/RfD.in.cn.26))),\"-\")","v":"-"},null,{"$f":"IF(CENÁRIOS!$H$18=TRUE,IF(PM.26=\"\",\"-\",IF(OR(RfD.ig.cn.26=\"-\",RfD.ig.cn.26=\"\",RfD.ig.cn.26=0,Cf.AguaLixSoloSub.26=\"-\"),\"-\",(Cf.AguaLixSoloSub.26*IF.SoloSub.Lix.AS.a.nc/RfD.ig.cn.26))),\"-\")","v":"-"},null,{"$f":"IF(CENÁRIOS!$I$18=TRUE,IF(PM.26=\"\",\"-\",IF(OR(RfD.ig.cn.26=\"-\",RfD.ig.cn.26=\"\",RfD.ig.cn.26=0,Cff.AguaLixSoloSub.26=\"-\"),\"-\",(Cff.AguaLixSoloSub.26*IF.SoloSub.Lix.AS.a.nc/RfD.ig.cn.26))),\"-\")","v":"-"},null,null,"-",null,"-"]
[null,27,{"$f":"SQI!D35","v":0},{"$f":"SQI!C35","v":""},"C",{"$f":"IF(CENÁRIOS!$H$11=TRUE,IF(PM.27=\"\",\"-\",IF(OR(Sf.in.27=\"-\",Sf.in.27=\"\",Sf.in.27=0,FT!M34=\"-\"),\"-\",(Cf.SoloSup.27*FT!M34*IF.Solo.Ina.Vap.a.c*Sf.in.27))),\"-\")","v":"-"},null,{"$f":"IF(CENÁRIOS!$H$12=TRUE,IF(PM.27=\"\",\"-\",IF(OR(Sf.in.27=\"-\",Sf.in.27=\"\",Sf.in.27=0,FT!N34=\"-\"),\"-\",(Cf.SoloSup.27*FT!N34*IF.Solo.Ina.Par.a.c*Sf.in.27))),\"-\")","v":"-"},null,{"$f":"IF(CENÁRIOS!$H$13=TRUE,IF(PM.27=\"\",\"-\",IF(OR(Sf.dm.27=\"-\",Sf.dm.27=\"\",Sf.dm.27=0,ABSd.27=\"\"),\"-\",(Cf.SoloSup.27*ABSd.27*IF.Solo.Con.Der.a.c*Sf.dm.27))),\"-\")","v":"-"},null,{"$f":"IF(CENÁRIOS!$H$14=TRUE,IF(PM.27=\"\",\"-\",IF(OR(Sf.ig.27=\"-\",Sf.ig.27=\"\",Sf.ig.27=0),\"-\",(Cf.SoloSup.27*IF.Solo.Ing.a.c*Biodisp.27*Sf.ig.27))),\"-\")","v":"-"},null,{"$f":"IF(CENÁRIOS!$H$15=TRUE,IF(PM.27=\"\",\"-\",IF(OR(Sf.ig.27=\"-\",Sf.ig.27=\"\",Sf.ig.27=0,BCF.27=\"-\",Tipo.27<>\"METAL\"),\"-\",(Cf.SoloSup.27*(IF.Solo.Ing.Veg.c.i*Sf.ig.27)*(IRL.i*((BCFF.27+cdpx.27)/frbveg)+(IRR.i*(BCF.27/frkveg)))))),\"-\")","v":"-"},null,{"$f":"IF(CENÁRIOS!$H$15=TRUE,IF(OR(PM.27=\"\",Tipo.27=\"METAL\"),\"-\",IF(OR(Sf.ig.27=\"-\",Sf.ig.27=\"\",Sf.ig.27=0,BCFR.27=\"-\",a.27=\"-\"),\"-\",((Cf.SoloSup.27*(IF.Solo.Ing.Veg.c.i*Sf.ig.27)*(IRL.i*(((ps*pw.27*tscf.27*Qveg)/(Vwveg*pplantveg*a.27*Vlveg))+cdpx.27*fdwsveg)+(IRR.i*BCFR.27)))))),\"-\")","v":"-"},null,{"$f":"IF(CENÁRIOS!$H$16=TRUE,IF(PM.27=\"\",\"-\",IF(OR(Sf.in.27=\"-\",Sf.in.27=\"\",Sf.in.27=0,Cf.ArSoloSub.Abe.27=\"-\"),\"-\",(Cf.ArSoloSub.Abe.27*IF.SoloSub.Ina.Abe.a.c*Sf.in.27))),\"-\")","v":"-"},null,{"$f":"IF(CENÁRIOS!$H$17=TRUE,IF(PM.27=\"\",\"-\",IF(OR(Sf.in.27=\"-\",Sf.in.27=\"\",Sf.in.27=0,Cf.ArSoloSub.Fec.27=\"-\"),\"-\",(Cf.ArSoloSub.Fec.27*IF.SoloSub.Ina.Fec.a.c*Sf.in.27))),\"-\")","v":"-"},null,{"$f":"IF(CENÁRIOS!$H$18=TRUE,IF(PM.27=\"\",\"-\",IF(OR(Sf.ig.27=\"-\",Sf.ig.27=\"\",Sf.ig.27=0,Cf.AguaLixSoloSub.27=\"-\"),\"-\",(Cf.AguaLixSoloSub.27*IF.SoloSub.Lix.AS.a.c*Sf.ig.27))),\"-\")","v":"-"},null,{"$f":"IF(CENÁRIOS!$I$18=TRUE,IF(PM.27=\"\",\"-\",IF(OR(Sf.ig.27=\"-\",Sf.ig.27=\"\",Sf.ig.27=0,Cff.AguaLixSoloSub.27=\"-\"),\"-\",(Cff.AguaLixSoloSub.27*IF.SoloSub.Lix.AS.a.c*Sf.ig.27))),\"-\")","v":"-"},null,null,"-",null,"-"]
[null,null,null,null,"NC",{"$f":"IF(CENÁRIOS!$H$11=TRUE,IF(PM.27=\"\",\"-\",IF(OR(RfD.in.cn.27=\"-\",RfD.in.cn.27=\"\",RfD.in.cn.27=0,FT!M34=\"-\"),\"-\",(Cf.SoloSup.27*FT!M34*IF.Solo.Ina.Vap.a.nc/RfD.in.cn.27))),\"-\")","v":"-"},null,{"$f":"IF(CENÁRIOS!$H$12=TRUE,IF(PM.27=\"\",\"-\",IF(OR(RfD.in.cn.27=\"-\",RfD.in.cn.27=\"\",RfD.in.cn.27=0,FT!N34=\"-\"),\"-\",(Cf.SoloSup.27*FT!N34*IF.Solo.Ina.Par.a.nc/RfD.in.cn.27))),\"-\")","v":"-"},null,{"$f":"IF(CENÁRIOS!$H$13=TRUE,IF(PM.27=\"\",\"-\",IF(OR(RfD.dm.cn.27=\"-\",RfD.dm.cn.27=\"\",RfD.dm.cn.27=0,ABSd.27=\"\"),\"-\",(Cf.SoloSup.27*ABSd.27*IF.Solo.Con.Der.a.nc/RfD.dm.cn.27))),\"-\")","v":"-"},null,{"$f":"IF(CENÁRIOS!$H$14=TRUE,IF(PM.27=\"\",\"-\",IF(OR(RfD.ig.cn.27=\"-\",RfD.ig.cn.27=\"\",RfD.ig.cn.27=0),\"-\",(Cf.SoloSup.27*IF.Solo.Ing.a.nc*Biodisp.27/RfD.ig.cn.27))),\"-\")","v":"-"},null,{"$f":"IF(CENÁRIOS!$H$15=TRUE,IF(PM.27=\"\",\"-\",IF(OR(RfD.ig.cn.27=\"-\",RfD.ig.cn.27=\"\",RfD.ig.cn.27=0,BCF.27=\"-\",Tipo.27<>\"METAL\"),\"-\",(Cf.SoloSup.27*((IF.Solo.Ing.Veg.nc.i)*(IRL.i*((BCFF.27+cdpx.27)/frbveg)+(IRR.i*(BCF.27/frkveg))))/RfD.ig.cn.27))),\"-\")","v":"-"},null,{"$f":"IF(CENÁRIOS!$H$15=TRUE,IF(OR(PM.27=\"\",Tipo.27=\"METAL\"),\"-\",IF(OR(RfD.ig.cn.27=\"-\",RfD.ig.cn.27=\"\",RfD.ig.cn.27=0,BCFR.27=\"-\",a.27=\"-\"),\"-\",((Cf.SoloSup.27*IF.Solo.Ing.Veg.nc.i*(IRL.i*(((ps*pw.27*tscf.27*Qveg)/(Vwveg*pplantveg*a.27*Vlveg))+cdpx.27*fdwsveg)+(IRR.i*BCFR.27)))/RfD.ig.cn.27))),\"-\")","v":"-"},null,{"$f":"IF(CENÁRIOS!$H$16=TRUE,IF(PM.27=\"\",\"-\",IF(OR(RfD.in.cn.27=\"-\",RfD.in.cn.27=\"\",RfD.in.cn.27=0,Cf.ArSoloSub.Abe.27=\"-\"),\"-\",(Cf.ArSoloSub.Abe.27*IF.SoloSub.Ina.Abe.a.nc/RfD.in.cn.27))),\"-\")","v":"-"},null,{"$f":"IF(CENÁRIOS!$H$17=TRUE,IF(PM.27=\"\",\"-\",IF(OR(RfD.in.cn.27=\"-\",RfD.in.cn.27=\"\",RfD.in.cn.27=0,Cf.ArSoloSub.Fec.27=\"-\"),\"-\",(Cf.ArSoloSub.Fec.27*IF.SoloSub.Ina.Fec.a.nc/RfD.in.cn.27))),\"-\")","v":"-"},null,{"$f":"IF(CENÁRIOS!$H$18=TRUE,IF(PM.27=\"\",\"-\",IF(OR(RfD.ig.cn.27=\"-\",RfD.ig.cn.27=\"\",RfD.ig.cn.27=0,Cf.AguaLixSoloSub.27=\"-\"),\"-\",(Cf.AguaLixSoloSub.27*IF.SoloSub.Lix.AS.a.nc/RfD.ig.cn.27))),\"-\")","v":"-"},null,{"$f":"IF(CENÁRIOS!$I$18=TRUE,IF(PM.27=\"\",\"-\",IF(OR(RfD.ig.cn.27=\"-\",RfD.ig.cn.27=\"\",RfD.ig.cn.27=0,Cff.AguaLixSoloSub.27=\"-\"),\"-\",(Cff.AguaLixSoloSub.27*IF.SoloSub.Lix.AS.a.nc/RfD.ig.cn.27))),\"-\")","v":"-"},null,null,"-",null,"-"]
[null,28,{"$f":"SQI!D36","v":0},{"$f":"SQI!C36","v":""},"C",{"$f":"IF(CENÁRIOS!$H$11=TRUE,IF(PM.28=\"\",\"-\",IF(OR(Sf.in.28=\"-\",Sf.in.28=\"\",Sf.in.28=0,FT!M35=\"-\"),\"-\",(Cf.SoloSup.28*FT!M35*IF.Solo.Ina.Vap.a.c*Sf.in.28))),\"-\")","v":"-"},null,{"$f":"IF(CENÁRIOS!$H$12=TRUE,IF(PM.28=\"\",\"-\",IF(OR(Sf.in.28=\"-\",Sf.in.28=\"\",Sf.in.28=0,FT!N35=\"-\"),\"-\",(Cf.SoloSup.28*FT!N35*IF.Solo.Ina.Par.a.c*Sf.in.28))),\"-\")","v":"-"},null,{"$f":"IF(CENÁRIOS!$H$13=TRUE,IF(PM.28=\"\",\"-\",IF(OR(Sf.dm.28=\"-\",Sf.dm.28=\"\",Sf.dm.28=0,ABSd.28=\"\"),\"-\",(Cf.SoloSup.28*ABSd.28*IF.Solo.Con.Der.a.c*Sf.dm.28))),\"-\")","v":"-"},null,{"$f":"IF(CENÁRIOS!$H$14=TRUE,IF(PM.28=\"\",\"-\",IF(OR(Sf.ig.28=\"-\",Sf.ig.28=\"\",Sf.ig.28=0),\"-\",(Cf.SoloSup.28*IF.Solo.Ing.a.c*Biodisp.28*Sf.ig.28))),\"-\")","v":"-"},null,{"$f":"IF(CENÁRIOS!$H$15=TRUE,IF(PM.28=\"\",\"-\",IF(OR(Sf.ig.28=\"-\",Sf.ig.28=\"\",Sf.ig.28=0,BCF.28=\"-\",Tipo.28<>\"METAL\"),\"-\",(Cf.SoloSup.28*(IF.Solo.Ing.Veg.c.i*Sf.ig.28)*(IRL.i*((BCFF.28+cdpx.28)/frbveg)+(IRR.i*(BCF.28/frkveg)))))),\"-\")","v":"-"},null,{"$f":"IF(CENÁRIOS!$H$15=TRUE,IF(OR(PM.28=\"\",Tipo.28=\"METAL\"),\"-\",IF(OR(Sf.ig.28=\"-\",Sf.ig.28=\"\",Sf.ig.28=0,BCFR.28=\"-\",a.28=\"-\"),\"-\",((Cf.SoloSup.28*(IF.Solo.Ing.Veg.c.i*Sf.ig.28)*(IRL.i*(((ps*pw.28*tscf.28*Qveg)/(Vwveg*pplantveg*a.28*Vlveg))+cdpx.28*fdwsveg)+(IRR.i*BCFR.28)))))),\"-\")","v":"-"},null,{"$f":"IF(CENÁRIOS!$H$16=TRUE,IF(PM.28=\"\",\"-\",IF(OR(Sf.in.28=\"-\",Sf.in.28=\"\",Sf.in.28=0,Cf.ArSoloSub.Abe.28=\"-\"),\"-\",(Cf.ArSoloSub.Abe.28*IF.SoloSub.Ina.Abe.a.c*Sf.in.28))),\"-\")","v":"-"},null,{"$f":"IF(CENÁRIOS!$H$17=TRUE,IF(PM.28=\"\",\"-\",IF(OR(Sf.in.28=\"-\",Sf.in.28=\"\",Sf.in.28=0,Cf.ArSoloSub.Fec.28=\"-\"),\"-\",(Cf.ArSoloSub.Fec.28*IF.SoloSub.Ina.Fec.a.c*Sf.in.28))),\"-\")","v":"-"},null,{"$f":"IF(CENÁRIOS!$H$18=TRUE,IF(PM.28=\"\",\"-\",IF(OR(Sf.ig.28=\"-\",Sf.ig.28=\"\",Sf.ig.28=0,Cf.AguaLixSoloSub.28=\"-\"),\"-\",(Cf.AguaLixSoloSub.28*IF.SoloSub.Lix.AS.a.c*Sf.ig.28))),\"-\")","v":"-"},null,{"$f":"IF(CENÁRIOS!$I$18=TRUE,IF(PM.28=\"\",\"-\",IF(OR(Sf.ig.28=\"-\",Sf.ig.28=\"\",Sf.ig.28=0,Cff.AguaLixSoloSub.28=\"-\"),\"-\",(Cff.AguaLixSoloSub.28*IF.SoloSub.Lix.AS.a.c*Sf.ig.28))),\"-\")","v":"-"},null,null,"-",null,"-"]
[null,null,null,null,"NC",{"$f":"IF(CENÁRIOS!$H$11=TRUE,IF(PM.28=\"\",\"-\",IF(OR(RfD.in.cn.28=\"-\",RfD.in.cn.28=\"\",RfD.in.cn.28=0,FT!M35=\"-\"),\"-\",(Cf.SoloSup.28*FT!M35*IF.Solo.Ina.Vap.a.nc/RfD.in.cn.28))),\"-\")","v":"-"},null,{"$f":"IF(CENÁRIOS!$H$12=TRUE,IF(PM.28=\"\",\"-\",IF(OR(RfD.in.cn.28=\"-\",RfD.in.cn.28=\"\",RfD.in.cn.28=0,FT!N35=\"-\"),\"-\",(Cf.SoloSup.28*FT!N35*IF.Solo.Ina.Par.a.nc/RfD.in.cn.28))),\"-\")","v":"-"},null,{"$f":"IF(CENÁRIOS!$H$13=TRUE,IF(PM.28=\"\",\"-\",IF(OR(RfD.dm.cn.28=\"-\",RfD.dm.cn.28=\"\",RfD.dm.cn.28=0,ABSd.28=\"\"),\"-\",(Cf.SoloSup.28*ABSd.28*IF.Solo.Con.Der.a.nc/RfD.dm.cn.28))),\"-\")","v":"-"},null,{"$f":"IF(CENÁRIOS!$H$14=TRUE,IF(PM.28=\"\",\"-\",IF(OR(RfD.ig.cn.28=\"-\",RfD.ig.cn.28=\"\",RfD.ig.cn.28=0),\"-\",(Cf.SoloSup.28*IF.Solo.Ing.a.nc*Biodisp.28/RfD.ig.cn.28))),\"-\")","v":"-"},null,{"$f":"IF(CENÁRIOS!$H$15=TRUE,IF(PM.28=\"\",\"-\",IF(OR(RfD.ig.cn.28=\"-\",RfD.ig.cn.28=\"\",RfD.ig.cn.28=0,BCF.28=\"-\",Tipo.28<>\"METAL\"),\"-\",(Cf.SoloSup.28*((IF.Solo.Ing.Veg.nc.i)*(IRL.i*((BCFF.28+cdpx.28)/frbveg)+(IRR.i*(BCF.28/frkveg))))/RfD.ig.cn.28))),\"-\")","v":"-"},null,{"$f":"IF(CENÁRIOS!$H$15=TRUE,IF(OR(PM.28=\"\",Tipo.28=\"METAL\"),\"-\",IF(OR(RfD.ig.cn.28=\"-\",RfD.ig.cn.28=\"\",RfD.ig.cn.28=0,BCFR.28=\"-\",a.28=\"-\"),\"-\",((Cf.SoloSup.28*IF.Solo.Ing.Veg.nc.i*(IRL.i*(((ps*pw.28*tscf.28*Qveg)/(Vwveg*pplantveg*a.28*Vlveg))+cdpx.28*fdwsveg)+(IRR.i*BCFR.28)))/RfD.ig.cn.28))),\"-\")","v":"-"},null,{"$f":"IF(CENÁRIOS!$H$16=TRUE,IF(PM.28=\"\",\"-\",IF(OR(RfD.in.cn.28=\"-\",RfD.in.cn.28=\"\",RfD.in.cn.28=0,Cf.ArSoloSub.Abe.28=\"-\"),\"-\",(Cf.ArSoloSub.Abe.28*IF.SoloSub.Ina.Abe.a.nc/RfD.in.cn.28))),\"-\")","v":"-"},null,{"$f":"IF(CENÁRIOS!$H$17=TRUE,IF(PM.28=\"\",\"-\",IF(OR(RfD.in.cn.28=\"-\",RfD.in.cn.28=\"\",RfD.in.cn.28=0,Cf.ArSoloSub.Fec.28=\"-\"),\"-\",(Cf.ArSoloSub.Fec.28*IF.SoloSub.Ina.Fec.a.nc/RfD.in.cn.28))),\"-\")","v":"-"},null,{"$f":"IF(CENÁRIOS!$H$18=TRUE,IF(PM.28=\"\",\"-\",IF(OR(RfD.ig.cn.28=\"-\",RfD.ig.cn.28=\"\",RfD.ig.cn.28=0,Cf.AguaLixSoloSub.28=\"-\"),\"-\",(Cf.AguaLixSoloSub.28*IF.SoloSub.Lix.AS.a.nc/RfD.ig.cn.28))),\"-\")","v":"-"},null,{"$f":"IF(CENÁRIOS!$I$18=TRUE,IF(PM.28=\"\",\"-\",IF(OR(RfD.ig.cn.28=\"-\",RfD.ig.cn.28=\"\",RfD.ig.cn.28=0,Cff.AguaLixSoloSub.28=\"-\"),\"-\",(Cff.AguaLixSoloSub.28*IF.SoloSub.Lix.AS.a.nc/RfD.ig.cn.28))),\"-\")","v":"-"},null,null,"-",null,"-"]
[null,29,{"$f":"SQI!D37","v":0},{"$f":"SQI!C37","v":""},"C",{"$f":"IF(CENÁRIOS!$H$11=TRUE,IF(PM.29=\"\",\"-\",IF(OR(Sf.in.29=\"-\",Sf.in.29=\"\",Sf.in.29=0,FT!M36=\"-\"),\"-\",(Cf.SoloSup.29*FT!M36*IF.Solo.Ina.Vap.a.c*Sf.in.29))),\"-\")","v":"-"},null,{"$f":"IF(CENÁRIOS!$H$12=TRUE,IF(PM.29=\"\",\"-\",IF(OR(Sf.in.29=\"-\",Sf.in.29=\"\",Sf.in.29=0,FT!N36=\"-\"),\"-\",(Cf.SoloSup.29*FT!N36*IF.Solo.Ina.Par.a.c*Sf.in.29))),\"-\")","v":"-"},null,{"$f":"IF(CENÁRIOS!$H$13=TRUE,IF(PM.29=\"\",\"-\",IF(OR(Sf.dm.29=\"-\",Sf.dm.29=\"\",Sf.dm.29=0,ABSd.29=\"\"),\"-\",(Cf.SoloSup.29*ABSd.29*IF.Solo.Con.Der.a.c*Sf.dm.29))),\"-\")","v":"-"},null,{"$f":"IF(CENÁRIOS!$H$14=TRUE,IF(PM.29=\"\",\"-\",IF(OR(Sf.ig.29=\"-\",Sf.ig.29=\"\",Sf.ig.29=0),\"-\",(Cf.SoloSup.29*IF.Solo.Ing.a.c*Biodisp.29*Sf.ig.29))),\"-\")","v":"-"},null,{"$f":"IF(CENÁRIOS!$H$15=TRUE,IF(PM.29=\"\",\"-\",IF(OR(Sf.ig.29=\"-\",Sf.ig.29=\"\",Sf.ig.29=0,BCF.29=\"-\",Tipo.29<>\"METAL\"),\"-\",(Cf.SoloSup.29*(IF.Solo.Ing.Veg.c.i*Sf.ig.29)*(IRL.i*((BCFF.29+cdpx.29)/frbveg)+(IRR.i*(BCF.29/frkveg)))))),\"-\")","v":"-"},null,{"$f":"IF(CENÁRIOS!$H$15=TRUE,IF(OR(PM.29=\"\",Tipo.29=\"METAL\"),\"-\",IF(OR(Sf.ig.29=\"-\",Sf.ig.29=\"\",Sf.ig.29=0,BCFR.29=\"-\",a.29=\"-\"),\"-\",((Cf.SoloSup.29*(IF.Solo.Ing.Veg.c.i*Sf.ig.29)*(IRL.i*(((ps*pw.29*tscf.29*Qveg)/(Vwveg*pplantveg*a.29*Vlveg))+cdpx.29*fdwsveg)+(IRR.i*BCFR.29)))))),\"-\")","v":"-"},null,{"$f":"IF(CENÁRIOS!$H$16=TRUE,IF(PM.29=\"\",\"-\",IF(OR(Sf.in.29=\"-\",Sf.in.29=\"\",Sf.in.29=0,Cf.ArSoloSub.Abe.29=\"-\"),\"-\",(Cf.ArSoloSub.Abe.29*IF.SoloSub.Ina.Abe.a.c*Sf.in.29))),\"-\")","v":"-"},null,{"$f":"IF(CENÁRIOS!$H$17=TRUE,IF(PM.29=\"\",\"-\",IF(OR(Sf.in.29=\"-\",Sf.in.29=\"\",Sf.in.29=0,Cf.ArSoloSub.Fec.29=\"-\"),\"-\",(Cf.ArSoloSub.Fec.29*IF.SoloSub.Ina.Fec.a.c*Sf.in.29))),\"-\")","v":"-"},null,{"$f":"IF(CENÁRIOS!$H$18=TRUE,IF(PM.29=\"\",\"-\",IF(OR(Sf.ig.29=\"-\",Sf.ig.29=\"\",Sf.ig.29=0,Cf.AguaLixSoloSub.29=\"-\"),\"-\",(Cf.AguaLixSoloSub.29*IF.SoloSub.Lix.AS.a.c*Sf.ig.29))),\"-\")","v":"-"},null,{"$f":"IF(CENÁRIOS!$I$18=TRUE,IF(PM.29=\"\",\"-\",IF(OR(Sf.ig.29=\"-\",Sf.ig.29=\"\",Sf.ig.29=0,Cff.AguaLixSoloSub.29=\"-\"),\"-\",(Cff.AguaLixSoloSub.29*IF.SoloSub.Lix.AS.a.c*Sf.ig.29))),\"-\")","v":"-"},null,null,"-",null,"-"]
[null,null,null,null,"NC",{"$f":"IF(CENÁRIOS!$H$11=TRUE,IF(PM.29=\"\",\"-\",IF(OR(RfD.in.cn.29=\"-\",RfD.in.cn.29=\"\",RfD.in.cn.29=0,FT!M36=\"-\"),\"-\",(Cf.SoloSup.29*FT!M36*IF.Solo.Ina.Vap.a.nc/RfD.in.cn.29))),\"-\")","v":"-"},null,{"$f":"IF(CENÁRIOS!$H$12=TRUE,IF(PM.29=\"\",\"-\",IF(OR(RfD.in.cn.29=\"-\",RfD.in.cn.29=\"\",RfD.in.cn.29=0,FT!N36=\"-\"),\"-\",(Cf.SoloSup.29*FT!N36*IF.Solo.Ina.Par.a.nc/RfD.in.cn.29))),\"-\")","v":"-"},null,{"$f":"IF(CENÁRIOS!$H$13=TRUE,IF(PM.29=\"\",\"-\",IF(OR(RfD.dm.cn.29=\"-\",RfD.dm.cn.29=\"\",RfD.dm.cn.29=0,ABSd.29=\"\"),\"-\",(Cf.SoloSup.29*ABSd.29*IF.Solo.Con.Der.a.nc/RfD.dm.cn.29))),\"-\")","v":"-"},null,{"$f":"IF(CENÁRIOS!$H$14=TRUE,IF(PM.29=\"\",\"-\",IF(OR(RfD.ig.cn.29=\"-\",RfD.ig.cn.29=\"\",RfD.ig.cn.29=0),\"-\",(Cf.SoloSup.29*IF.Solo.Ing.a.nc*Biodisp.29/RfD.ig.cn.29))),\"-\")","v":"-"},null,{"$f":"IF(CENÁRIOS!$H$15=TRUE,IF(PM.29=\"\",\"-\",IF(OR(RfD.ig.cn.29=\"-\",RfD.ig.cn.29=\"\",RfD.ig.cn.29=0,BCF.29=\"-\",Tipo.29<>\"METAL\"),\"-\",(Cf.SoloSup.29*((IF.Solo.Ing.Veg.nc.i)*(IRL.i*((BCFF.29+cdpx.29)/frbveg)+(IRR.i*(BCF.29/frkveg))))/RfD.ig.cn.29))),\"-\")","v":"-"},null,{"$f":"IF(CENÁRIOS!$H$15=TRUE,IF(OR(PM.29=\"\",Tipo.29=\"METAL\"),\"-\",IF(OR(RfD.ig.cn.29=\"-\",RfD.ig.cn.29=\"\",RfD.ig.cn.29=0,BCFR.29=\"-\",a.29=\"-\"),\"-\",((Cf.SoloSup.29*IF.Solo.Ing.Veg.nc.i*(IRL.i*(((ps*pw.29*tscf.29*Qveg)/(Vwveg*pplantveg*a.29*Vlveg))+cdpx.29*fdwsveg)+(IRR.i*BCFR.29)))/RfD.ig.cn.29))),\"-\")","v":"-"},null,{"$f":"IF(CENÁRIOS!$H$16=TRUE,IF(PM.29=\"\",\"-\",IF(OR(RfD.in.cn.29=\"-\",RfD.in.cn.29=\"\",RfD.in.cn.29=0,Cf.ArSoloSub.Abe.29=\"-\"),\"-\",(Cf.ArSoloSub.Abe.29*IF.SoloSub.Ina.Abe.a.nc/RfD.in.cn.29))),\"-\")","v":"-"},null,{"$f":"IF(CENÁRIOS!$H$17=TRUE,IF(PM.29=\"\",\"-\",IF(OR(RfD.in.cn.29=\"-\",RfD.in.cn.29=\"\",RfD.in.cn.29=0,Cf.ArSoloSub.Fec.29=\"-\"),\"-\",(Cf.ArSoloSub.Fec.29*IF.SoloSub.Ina.Fec.a.nc/RfD.in.cn.29))),\"-\")","v":"-"},null,{"$f":"IF(CENÁRIOS!$H$18=TRUE,IF(PM.29=\"\",\"-\",IF(OR(RfD.ig.cn.29=\"-\",RfD.ig.cn.29=\"\",RfD.ig.cn.29=0,Cf.AguaLixSoloSub.29=\"-\"),\"-\",(Cf.AguaLixSoloSub.29*IF.SoloSub.Lix.AS.a.nc/RfD.ig.cn.29))),\"-\")","v":"-"},null,{"$f":"IF(CENÁRIOS!$I$18=TRUE,IF(PM.29=\"\",\"-\",IF(OR(RfD.ig.cn.29=\"-\",RfD.ig.cn.29=\"\",RfD.ig.cn.29=0,Cff.AguaLixSoloSub.29=\"-\"),\"-\",(Cff.AguaLixSoloSub.29*IF.SoloSub.Lix.AS.a.nc/RfD.ig.cn.29))),\"-\")","v":"-"},null,null,"-",null,"-"]
[null,30,{"$f":"SQI!D38","v":0},{"$f":"SQI!C38","v":""},"C",{"$f":"IF(CENÁRIOS!$H$11=TRUE,IF(PM.30=\"\",\"-\",IF(OR(Sf.in.30=\"-\",Sf.in.30=\"\",Sf.in.30=0,FT!M37=\"-\"),\"-\",(Cf.SoloSup.30*FT!M37*IF.Solo.Ina.Vap.a.c*Sf.in.30))),\"-\")","v":"-"},null,{"$f":"IF(CENÁRIOS!$H$12=TRUE,IF(PM.30=\"\",\"-\",IF(OR(Sf.in.30=\"-\",Sf.in.30=\"\",Sf.in.30=0,FT!N37=\"-\"),\"-\",(Cf.SoloSup.30*FT!N37*IF.Solo.Ina.Par.a.c*Sf.in.30))),\"-\")","v":"-"},null,{"$f":"IF(CENÁRIOS!$H$13=TRUE,IF(PM.30=\"\",\"-\",IF(OR(Sf.dm.30=\"-\",Sf.dm.30=\"\",Sf.dm.30=0,ABSd.30=\"\"),\"-\",(Cf.SoloSup.30*ABSd.30*IF.Solo.Con.Der.a.c*Sf.dm.30))),\"-\")","v":"-"},null,{"$f":"IF(CENÁRIOS!$H$14=TRUE,IF(PM.30=\"\",\"-\",IF(OR(Sf.ig.30=\"-\",Sf.ig.30=\"\",Sf.ig.30=0),\"-\",(Cf.SoloSup.30*IF.Solo.Ing.a.c*Biodisp.30*Sf.ig.30))),\"-\")","v":"-"},null,{"$f":"IF(CENÁRIOS!$H$15=TRUE,IF(PM.30=\"\",\"-\",IF(OR(Sf.ig.30=\"-\",Sf.ig.30=\"\",Sf.ig.30=0,BCF.30=\"-\",Tipo.30<>\"METAL\"),\"-\",(Cf.SoloSup.30*(IF.Solo.Ing.Veg.c.i*Sf.ig.30)*(IRL.i*((BCFF.30+cdpx.30)/frbveg)+(IRR.i*(BCF.30/frkveg)))))),\"-\")","v":"-"},null,{"$f":"IF(CENÁRIOS!$H$15=TRUE,IF(OR(PM.30=\"\",Tipo.30=\"METAL\"),\"-\",IF(OR(Sf.ig.30=\"-\",Sf.ig.30=\"\",Sf.ig.30=0,BCFR.30=\"-\",a.30=\"-\"),\"-\",((Cf.SoloSup.30*(IF.Solo.Ing.Veg.c.i*Sf.ig.30)*(IRL.i*(((ps*pw.30*tscf.30*Qveg)/(Vwveg*pplantveg*a.30*Vlveg))+cdpx.30*fdwsveg)+(IRR.i*BCFR.30)))))),\"-\")","v":"-"},null,{"$f":"IF(CENÁRIOS!$H$16=TRUE,IF(PM.30=\"\",\"-\",IF(OR(Sf.in.30=\"-\",Sf.in.30=\"\",Sf.in.30=0,Cf.ArSoloSub.Abe.30=\"-\"),\"-\",(Cf.ArSoloSub.Abe.30*IF.SoloSub.Ina.Abe.a.c*Sf.in.30))),\"-\")","v":"-"},null,{"$f":"IF(CENÁRIOS!$H$17=TRUE,IF(PM.30=\"\",\"-\",IF(OR(Sf.in.30=\"-\",Sf.in.30=\"\",Sf.in.30=0,Cf.ArSoloSub.Fec.30=\"-\"),\"-\",(Cf.ArSoloSub.Fec.30*IF.SoloSub.Ina.Fec.a.c*Sf.in.30))),\"-\")","v":"-"},null,{"$f":"IF(CENÁRIOS!$H$18=TRUE,IF(PM.30=\"\",\"-\",IF(OR(Sf.ig.30=\"-\",Sf.ig.30=\"\",Sf.ig.30=0,Cf.AguaLixSoloSub.30=\"-\"),\"-\",(Cf.AguaLixSoloSub.30*IF.SoloSub.Lix.AS.a.c*Sf.ig.30))),\"-\")","v":"-"},null,{"$f":"IF(CENÁRIOS!$I$18=TRUE,IF(PM.30=\"\",\"-\",IF(OR(Sf.ig.30=\"-\",Sf.ig.30=\"\",Sf.ig.30=0,Cff.AguaLixSoloSub.30=\"-\"),\"-\",(Cff.AguaLixSoloSub.30*IF.SoloSub.Lix.AS.a.c*Sf.ig.30))),\"-\")","v":"-"},null,null,"-",null,"-"]
[null,null,null,null,"NC",{"$f":"IF(CENÁRIOS!$H$11=TRUE,IF(PM.30=\"\",\"-\",IF(OR(RfD.in.cn.30=\"-\",RfD.in.cn.30=\"\",RfD.in.cn.30=0,FT!M37=\"-\"),\"-\",(Cf.SoloSup.30*FT!M37*IF.Solo.Ina.Vap.a.nc/RfD.in.cn.30))),\"-\")","v":"-"},null,{"$f":"IF(CENÁRIOS!$H$12=TRUE,IF(PM.30=\"\",\"-\",IF(OR(RfD.in.cn.30=\"-\",RfD.in.cn.30=\"\",RfD.in.cn.30=0,FT!N37=\"-\"),\"-\",(Cf.SoloSup.30*FT!N37*IF.Solo.Ina.Par.a.nc/RfD.in.cn.30))),\"-\")","v":"-"},null,{"$f":"IF(CENÁRIOS!$H$13=TRUE,IF(PM.30=\"\",\"-\",IF(OR(RfD.dm.cn.30=\"-\",RfD.dm.cn.30=\"\",RfD.dm.cn.30=0,ABSd.30=\"\"),\"-\",(Cf.SoloSup.30*ABSd.30*IF.Solo.Con.Der.a.nc/RfD.dm.cn.30))),\"-\")","v":"-"},null,{"$f":"IF(CENÁRIOS!$H$14=TRUE,IF(PM.30=\"\",\"-\",IF(OR(RfD.ig.cn.30=\"-\",RfD.ig.cn.30=\"\",RfD.ig.cn.30=0),\"-\",(Cf.SoloSup.30*IF.Solo.Ing.a.nc*Biodisp.30/RfD.ig.cn.30))),\"-\")","v":"-"},null,{"$f":"IF(CENÁRIOS!$H$15=TRUE,IF(PM.30=\"\",\"-\",IF(OR(RfD.ig.cn.30=\"-\",RfD.ig.cn.30=\"\",RfD.ig.cn.30=0,BCF.30=\"-\",Tipo.30<>\"METAL\"),\"-\",(Cf.SoloSup.30*((IF.Solo.Ing.Veg.nc.i)*(IRL.i*((BCFF.30+cdpx.30)/frbveg)+(IRR.i*(BCF.30/frkveg))))/RfD.ig.cn.30))),\"-\")","v":"-"},null,{"$f":"IF(CENÁRIOS!$H$15=TRUE,IF(OR(PM.30=\"\",Tipo.30=\"METAL\"),\"-\",IF(OR(RfD.ig.cn.30=\"-\",RfD.ig.cn.30=\"\",RfD.ig.cn.30=0,BCFR.30=\"-\",a.30=\"-\"),\"-\",((Cf.SoloSup.30*IF.Solo.Ing.Veg.nc.i*(IRL.i*(((ps*pw.30*tscf.30*Qveg)/(Vwveg*pplantveg*a.30*Vlveg))+cdpx.30*fdwsveg)+(IRR.i*BCFR.30)))/RfD.ig.cn.30))),\"-\")","v":"-"},null,{"$f":"IF(CENÁRIOS!$H$16=TRUE,IF(PM.30=\"\",\"-\",IF(OR(RfD.in.cn.30=\"-\",RfD.in.cn.30=\"\",RfD.in.cn.30=0,Cf.ArSoloSub.Abe.30=\"-\"),\"-\",(Cf.ArSoloSub.Abe.30*IF.SoloSub.Ina.Abe.a.nc/RfD.in.cn.30))),\"-\")","v":"-"},null,{"$f":"IF(CENÁRIOS!$H$17=TRUE,IF(PM.30=\"\",\"-\",IF(OR(RfD.in.cn.30=\"-\",RfD.in.cn.30=\"\",RfD.in.cn.30=0,Cf.ArSoloSub.Fec.30=\"-\"),\"-\",(Cf.ArSoloSub.Fec.30*IF.SoloSub.Ina.Fec.a.nc/RfD.in.cn.30))),\"-\")","v":"-"},null,{"$f":"IF(CENÁRIOS!$H$18=TRUE,IF(PM.30=\"\",\"-\",IF(OR(RfD.ig.cn.30=\"-\",RfD.ig.cn.30=\"\",RfD.ig.cn.30=0,Cf.AguaLixSoloSub.30=\"-\"),\"-\",(Cf.AguaLixSoloSub.30*IF.SoloSub.Lix.AS.a.nc/RfD.ig.cn.30))),\"-\")","v":"-"},null,{"$f":"IF(CENÁRIOS!$I$18=TRUE,IF(PM.30=\"\",\"-\",IF(OR(RfD.ig.cn.30=\"-\",RfD.ig.cn.30=\"\",RfD.ig.cn.30=0,Cff.AguaLixSoloSub.30=\"-\"),\"-\",(Cff.AguaLixSoloSub.30*IF.SoloSub.Lix.AS.a.nc/RfD.ig.cn.30))),\"-\")","v":"-"},null,null,"-",null,"-"]
[]
[null,"RISCO CUMULATIVO POR CENÁRIO",null,"SUBSTÂNCIAS CARCINOGENICAS",null,{"$f":"SUM(F10,F12,F14,F16,F18,F20,F22,F24,F26,F28,F30,F32,F34,F36,F38,F40,F42,F44,F46,F48,F50,F52,F54,F56,F58,F60,F62,F64,F66,F68)","v":0},null,{"$f":"SUM(H10,H12,H14,H16,H18,H20,H22,H24,H26,H28,H30,H32,H34,H36,H38,H40,H42,H44,H46,H48,H50,H52,H54,H56,H58,H60,H62,H64,H66,H68)","v":0},null,{"$f":"SUM(J10,J12,J14,J16,J18,J20,J22,J24,J26,J28,J30,J32,J34,J36,J38,J40,J42,J44,J46,J48,J50,J52,J54,J56,J58,J60,J62,J64,J66,J68)","v":0},null,{"$f":"SUM(L10,L12,L14,L16,L18,L20,L22,L24,L26,L28,L30,L32,L34,L36,L38,L40,L42,L44,L46,L48,L50,L52,L54,L56,L58,L60,L62,L64,L66,L68)","v":0},null,{"$f":"SUM(N10,N12,N14,N16,N18,N20,N22,N24,N26,N28,N30,N32,N34,N36,N38,N40,N42,N44,N46,N48,N50,N52,N54,N56,N58,N60,N62,N64,N66,N68)","v":0},null,{"$f":"SUM(P10,P12,P14,P16,P18,P20,P22,P24,P26,P28,P30,P32,P34,P36,P38,P40,P42,P44,P46,P48,P50,P52,P54,P56,P58,P60,P62,P64,P66,P68)","v":0},null,{"$f":"SUM(R10,R12,R14,R16,R18,R20,R22,R24,R26,R28,R30,R32,R34,R36,R38,R40,R42,R44,R46,R48,R50,R52,R54,R56,R58,R60,R62,R64,R66,R68)","v":0},null,{"$f":"SUM(T10,T12,T14,T16,T18,T20,T22,T24,T26,T28,T30,T32,T34,T36,T38,T40,T42,T44,T46,T48,T50,T52,T54,T56,T58,T60,T62,T64,T66,T68)","v":0},null,{"$f":"SUM(V10,V12,V14,V16,V18,V20,V22,V24,V26,V28,V30,V32,V34,V36,V38,V40,V42,V44,V46,V48,V50,V52,V54,V56,V58,V60,V62,V64,V66,V68)","v":0},null,{"$f":"SUM(X10,X12,X14,X16,X18,X20,X22,X24,X26,X28,X30,X32,X34,X36,X38,X40,X42,X44,X46,X48,X50,X52,X54,X56,X58,X60,X62,X64,X66,X68)","v":0}]
[null,null,null,"SUBSTÂNCIAS NÃO CARCINOGENICAS",null,{"$f":"SUM(F11,F13,F15,F17,F19,F21,F23,F25,F27,F29,F31,F33,F35,F37,F39,F41,F43,F45,F47,F49,F51,F53,F55,F57,F59,F61,F63,F65,F67,F69)","v":0},null,{"$f":"SUM(H11,H13,H15,H17,H19,H21,H23,H25,H27,H29,H31,H33,H35,H37,H39,H41,H43,H45,H47,H49,H51,H53,H55,H57,H59,H61,H63,H65,H67,H69)","v":0},null,{"$f":"SUM(J11,J13,J15,J17,J19,J21,J23,J25,J27,J29,J31,J33,J35,J37,J39,J41,J43,J45,J47,J49,J51,J53,J55,J57,J59,J61,J63,J65,J67,J69)","v":0},null,{"$f":"SUM(L11,L13,L15,L17,L19,L21,L23,L25,L27,L29,L31,L33,L35,L37,L39,L41,L43,L45,L47,L49,L51,L53,L55,L57,L59,L61,L63,L65,L67,L69)","v":0},null,{"$f":"SUM(N11,N13,N15,N17,N19,N21,N23,N25,N27,N29,N31,N33,N35,N37,N39,N41,N43,N45,N47,N49,N51,N53,N55,N57,N59,N61,N63,N65,N67,N69)","v":0},null,{"$f":"SUM(P11,P13,P15,P17,P19,P21,P23,P25,P27,P29,P31,P33,P35,P37,P39,P41,P43,P45,P47,P49,P51,P53,P55,P57,P59,P61,P63,P65,P67,P69)","v":0},null,{"$f":"SUM(R11,R13,R15,R17,R19,R21,R23,R25,R27,R29,R31,R33,R35,R37,R39,R41,R43,R45,R47,R49,R51,R53,R55,R57,R59,R61,R63,R65,R67,R69)","v":0},null,{"$f":"SUM(T11,T13,T15,T17,T19,T21,T23,T25,T27,T29,T31,T33,T35,T37,T39,T41,T43,T45,T47,T49,T51,T53,T55,T57,T59,T61,T63,T65,T67,T69)","v":0},null,{"$f":"SUM(V11,V13,V15,V17,V19,V21,V23,V25,V27,V29,V31,V33,V35,V37,V39,V41,V43,V45,V47,V49,V51,V53,V55,V57,V59,V61,V63,V65,V67,V69)","v":0},null,{"$f":"SUM(X11,X13,X15,X17,X19,X21,X23,X25,X27,X29,X31,X33,X35,X37,X39,X41,X43,X45,X47,X49,X51,X53,X55,X57,X59,X61,X63,X65,X67,X69)","v":0}]
[]
[null,"Risco Máximo Aceitável para Substâncias Carcinogênicas",null,null,null,{"$f":"TR","v":1.0000000000000001E-5}]
[null,"Quociente de Perigo Máximo Aceitável para Substâncias não Carcinogênicas",null,null,null,{"$f":"THI","v":1}]

{"sheet":"Risco AS","index":6,"n_rows":74,"n_cols":25,"rows_kept":74,"cut":false,"hidden":false,"merged":[[62,1,63,1],[62,2,63,2],[62,3,63,3],[58,1,59,1],[58,2,59,2],[69,1,70,2],[69,3,69,4],[70,3,70,4],[64,1,65,1],[64,2,65,2],[64,3,65,3],[66,1,67,1],[66,2,67,2],[66,3,67,3],[54,1,55,1],[54,2,55,2],[54,3,55,3],[56,1,57,1],[56,2,57,2],[56,3,57,3],[58,3,59,3],[60,1,61,1],[60,2,61,2],[60,3,61,3],[48,1,49,1],[48,2,49,2],[48,3,49,3],[50,1,51,1],[50,2,51,2],[50,3,51,3],[52,1,53,1],[52,2,53,2],[52,3,53,3],[42,1,43,1],[42,2,43,2],[42,3,43,3],[44,1,45,1],[44,2,45,2],[44,3,45,3],[46,1,47,1],[46,2,47,2],[46,3,47,3],[36,1,37,1],[36,2,37,2],[36,3,37,3],[38,1,39,1],[38,2,39,2],[38,3,39,3],[40,1,41,1],[40,2,41,2],[40,3,41,3],[30,1,31,1],[30,2,31,2],[30,3,31,3],[32,1,33,1],[32,2,33,2],[32,3,33,3],[34,1,35,1],[34,2,35,2],[34,3,35,3],[24,1,25,1],[24,2,25,2],[24,3,25,3],[26,1,27,1],[26,2,27,2],[26,3,27,3],[28,1,29,1],[28,2,29,2],[28,3,29,3],[18,1,19,1],[18,2,19,2],[18,3,19,3],[20,1,21,1],[20,2,21,2],[20,3,21,3],[22,1,23,1],[22,2,23,2],[22,3,23,3],[12,1,13,1],[12,2,13,2],[12,3,13,3],[14,1,15,1],[14,2,15,2],[14,3,15,3],[16,1,17,1],[16,2,17,2],[16,3,17,3],[8,1,9,1],[8,2,9,2],[8,3,9,3],[5,5,6,8],[7,7,7,8],[2,5,2,20],[10,1,11,1],[10,2,11,2],[10,3,11,3],[3,5,3,20],[1,8,1,23],[2,22,7,23],[2,24,7,25],[7,11,7,12],[7,1,7,2],[2,1,6,2],[2,3,7,3],[7,9,7,10],[7,5,7,6],[4,5,4,12],[4,13,4,20],[7,19,7,20],[7,13,7,14],[5,9,6,12],[5,17,6,20],[2,4,7,4],[7,15,7,16],[5,13,6,16],[7,17,7,18]]}
[]
[null,"DATA:",null,{"$f":"CENÁRIOS!C3","v":0},null,"IDENTIFICAÇÃO DA ÁREA:",null,null,{"$f":"CENÁRIOS!G3","v":0}]
[null,null,null,"CONTAMINANTE","EFEITO","RISCO CARCINOGÊNICO E NÃO CARCINOGÊNICO PARA ÁGUA SUBTERRÂNEA",null,null,null,null,null,null,null,null,null,null,null,null,null,null,null,null,"RISCO CUMULATIVO POR SQI PARA RECEPTOR NA FONTE DE CONTAMINAÇÃO",null,"RISCO CUMULATIVO POR SQI PARA RECEPTOR FORA DA FONTE DE CONTAMINAÇÃO"]
[null,null,null,null,null,{"$f":"CENÁRIOS!H5","v":"TRABALHADOR EM OBRAS CIVIS E DE ESCAVAÇÃO"}]
[null,null,null,null,null,"RECEPTOR NA FONTE DE CONTAMINAÇÃO",null,null,null,null,null,null,null,"RECEPTOR FORA DA FONTE DE CONTAMINAÇÃO"]
[null,null,null,null,null,"INALAÇÃO",null,null,null,"CONTATO DIRETO",null,null,null,"INALAÇÃO",null,null,null,"CONTATO DIRETO"]
[]
[null,"CAS N°",null,null,null,"AMBIENTES ABERTOS",null,"AMBIENTES FECHADOS",null,"CONTATO DÉRMICO",null,"INGESTÃO",null,"AMBIENTES ABERTOS",null,"AMBIENTES FECHADOS",null,"CONTATO DÉRMICO",null,"INGESTÃO"]
[null,1,{"$f":"SQI!D9","v":0},{"$f":"SQI!C9","v":""},"C",{"$f":"IF(CENÁRIOS!$H$19=TRUE,IF(PM.1=\"\",\"-\",IF(OR(Sf.in.1=\"-\",Sf.in.1=\"\",Sf.in.1=0,Cf.ArAguaSub.Abe.1=\"-\"),\"-\",(Cf.ArAguaSub.Abe.1*IF.ASub.Ina.Abe.a.c*Sf.in.1))),\"-\")","v":"-"},null,{"$f":"IF(CENÁRIOS!$H$20=TRUE,IF(PM.1=\"\",\"-\",IF(OR(Sf.in.1=\"-\",Sf.in.1=\"\",Sf.in.1=0,Cf.ArAguaSub.Fec.1=\"-\"),\"-\",(Cf.ArAguaSub.Fec.1*IF.ASub.Ina.Fec.a.c*Sf.in.1))),\"-\")","v":"-"},null,{"$f":"IF(CENÁRIOS!$H$21=TRUE,IF(PM.1=\"\",\"-\",IF(OR(Sf.dm.1=\"-\",Sf.dm.1=\"\",Sf.dm.1=0,PC.1=\"\"),\"-\",(Cf.AguaSub.1*PC.1*IF.ASub.Con.Der.a.c*Sf.dm.1))),\"-\")","v":"-"},null,{"$f":"IF(CENÁRIOS!$H$22=TRUE,IF(PM.1=\"\",\"-\",IF(OR(Sf.ig.1=\"-\",Sf.ig.1=\"\",Sf.ig.1=0),\"-\",(Cf.AguaSub.1*IF.ASub.Ing.a.c*Sf.ig.1))),\"-\")","v":"-"},null,{"$f":"IF(CENÁRIOS!$I$19=TRUE,IF(PM.1=\"\",\"-\",IF(OR(Sf.in.1=\"-\",Sf.in.1=\"\",Sf.in.1=0,Cff.ArAguaSub.Abe.1=\"-\"),\"-\",(Cff.ArAguaSub.Abe.1*IF.ASub.Ina.Abe.a.c*Sf.in.1))),\"-\")","v":"-"},null,{"$f":"IF(CENÁRIOS!$I$20=TRUE,IF(PM.1=\"\",\"-\",IF(OR(Sf.in.1=\"-\",Sf.in.1=\"\",Sf.in.1=0,Cff.ArAguaSub.Fec.1=\"-\"),\"-\",(Cff.ArAguaSub.Fec.1*IF.ASub.Ina.Fec.a.c*Sf.in.1))),\"-\")","v":"-"},null,{"$f":"IF(CENÁRIOS!$I$21=TRUE,IF(PM.1=\"\",\"-\",IF(OR(Sf.dm.1=\"-\",Sf.dm.1=\"\",Sf.dm.1=0,Cff.AguaAguaSub.1=\"-\",PC.1=\"\"),\"-\",(Cff.AguaAguaSub.1*PC.1*IF.ASub.Con.Der.a.c*Sf.dm.1))),\"-\")","v":"-"},null,{"$f":"IF(CENÁRIOS!$I$22=TRUE,IF(PM.1=\"\",\"-\",IF(OR(Sf.ig.1=\"-\",Sf.ig.1=\"\",Sf.ig.1=0,Cff.AguaAguaSub.1=\"-\"),\"-\",(Cff.AguaAguaSub.1*IF.ASub.Ing.a.c*Sf.ig.1))),\"-\")","v":"-"},null,null,{"$f":"IF(SUM(F9:L9)=0,\"-\",SUM(F9:L9))","v":"-"},null,{"$f":"IF(SUM(N9:T9)=0,\"-\",SUM(N9:T9))","v":"-"}]
[null,null,null,null,"NC",{"$f":"IF(CENÁRIOS!$H$19=TRUE,IF(PM.1=\"\",\"-\",IF(OR(RfD.in.cn.1=\"-\",RfD.in.cn.1=\"\",RfD.in.cn.1=0,Cf.ArAguaSub.Abe.1=\"-\"),\"-\",(Cf.ArAguaSub.Abe.1*IF.ASub.Ina.Abe.a.nc/RfD.in.cn.1))),\"-\")","v":"-"},null,{"$f":"IF(CENÁRIOS!$H$20=TRUE,IF(PM.1=\"\",\"-\",IF(OR(RfD.in.cn.1=\"-\",RfD.in.cn.1=\"\",RfD.in.cn.1=0,Cf.ArAguaSub.Fec.1=\"-\"),\"-\",(Cf.ArAguaSub.Fec.1*IF.ASub.Ina.Fec.a.nc/RfD.in.cn.1))),\"-\")","v":"-"},null,{"$f":"IF(CENÁRIOS!$H$21=TRUE,IF(PM.1=\"\",\"-\",IF(OR(RfD.dm.cn.1=\"-\",RfD.dm.cn.1=\"\",RfD.dm.cn.1=0,PC.1=\"\"),\"-\",(Cf.AguaSub.1*PC.1*IF.ASub.Con.Der.a.nc/RfD.dm.cn.1))),\"-\")","v":"-"},null,{"$f":"IF(CENÁRIOS!$H$22=TRUE,IF(PM.1=\"\",\"-\",IF(OR(RfD.ig.cn.1=\"-\",RfD.ig.cn.1=\"\",RfD.ig.cn.1=0),\"-\",(Cf.AguaSub.1*IF.ASub.Ing.a.nc/RfD.ig.cn.1))),\"-\")","v":"-"},null,{"$f":"IF(CENÁRIOS!$I$19=TRUE,IF(PM.1=\"\",\"-\",IF(OR(RfD.in.cn.1=\"-\",RfD.in.cn.1=\"\",RfD.in.cn.1=0,Cff.ArAguaSub.Abe.1=\"-\"),\"-\",(Cff.ArAguaSub.Abe.1*IF.ASub.Ina.Abe.a.nc/RfD.in.cn.1))),\"-\")","v":"-"},null,{"$f":"IF(CENÁRIOS!$I$20=TRUE,IF(PM.1=\"\",\"-\",IF(OR(RfD.in.cn.1=\"-\",RfD.in.cn.1=\"\",RfD.in.cn.1=0,Cff.ArAguaSub.Fec.1=\"-\"),\"-\",(Cff.ArAguaSub.Fec.1*IF.ASub.Ina.Fec.a.nc/RfD.in.cn.1))),\"-\")","v":"-"},null,{"$f":"IF(CENÁRIOS!$I$21=TRUE,IF(PM.1=\"\",\"-\",IF(OR(RfD.dm.cn.1=\"-\",RfD.dm.cn.1=\"\",RfD.dm.cn.1=0,Cff.AguaAguaSub.1=\"-\",PC.1=\"\"),\"-\",(Cff.AguaAguaSub.1*PC.1*IF.ASub.Con.Der.a.nc/RfD.dm.cn.1))),\"-\")","v":"-"},null,{"$f":"IF(CENÁRIOS!$I$22=TRUE,IF(PM.1=\"\",\"-\",IF(OR(RfD.ig.cn.1=\"-\",RfD.ig.cn.1=\"\",RfD.ig.cn.1=0,Cff.AguaAguaSub.1=\"-\"),\"-\",(Cff.AguaAguaSub.1*IF.ASub.Ing.a.nc/RfD.ig.cn.1))),\"-\")","v":"-"},null,null,"-",null,"-"]
[null,2,{"$f":"SQI!D10","v":0},{"$f":"SQI!C10","v":""},"C",{"$f":"IF(CENÁRIOS!$H$19=TRUE,IF(PM.2=\"\",\"-\",IF(OR(Sf.in.2=\"-\",Sf.in.2=\"\",Sf.in.2=0,Cf.ArAguaSub.Abe.2=\"-\"),\"-\",(Cf.ArAguaSub.Abe.2*IF.ASub.Ina.Abe.a.c*Sf.in.2))),\"-\")","v":"-"},null,{"$f":"IF(CENÁRIOS!$H$20=TRUE,IF(PM.2=\"\",\"-\",IF(OR(Sf.in.2=\"-\",Sf.in.2=\"\",Sf.in.2=0,Cf.ArAguaSub.Fec.2=\"-\"),\"-\",(Cf.ArAguaSub.Fec.2*IF.ASub.Ina.Fec.a.c*Sf.in.2))),\"-\")","v":"-"},null,{"$f":"IF(CENÁRIOS!$H$21=TRUE,IF(PM.2=\"\",\"-\",IF(OR(Sf.dm.2=\"-\",Sf.dm.2=\"\",Sf.dm.2=0,PC.2=\"\"),\"-\",(Cf.AguaSub.2*PC.2*IF.ASub.Con.Der.a.c*Sf.dm.2))),\"-\")","v":"-"},null,{"$f":"IF(CENÁRIOS!$H$22=TRUE,IF(PM.2=\"\",\"-\",IF(OR(Sf.ig.2=\"-\",Sf.ig.2=\"\",Sf.ig.2=0),\"-\",(Cf.AguaSub.2*IF.ASub.Ing.a.c*Sf.ig.2))),\"-\")","v":"-"},null,{"$f":"IF(CENÁRIOS!$I$19=TRUE,IF(PM.2=\"\",\"-\",IF(OR(Sf.in.2=\"-\",Sf.in.2=\"\",Sf.in.2=0,Cff.ArAguaSub.Abe.2=\"-\"),\"-\",(Cff.ArAguaSub.Abe.2*IF.ASub.Ina.Abe.a.c*Sf.in.2))),\"-\")","v":"-"},null,{"$f":"IF(CENÁRIOS!$I$20=TRUE,IF(PM.2=\"\",\"-\",IF(OR(Sf.in.2=\"-\",Sf.in.2=\"\",Sf.in.2=0,Cff.ArAguaSub.Fec.2=\"-\"),\"-\",(Cff.ArAguaSub.Fec.2*IF.ASub.Ina.Fec.a.c*Sf.in.2))),\"-\")","v":"-"},null,{"$f":"IF(CENÁRIOS!$I$21=TRUE,IF(PM.2=\"\",\"-\",IF(OR(Sf.dm.2=\"-\",Sf.dm.2=\"\",Sf.dm.2=0,Cff.AguaAguaSub.2=\"-\",PC.2=\"\"),\"-\",(Cff.AguaAguaSub.2*PC.2*IF.ASub.Con.Der.a.c*Sf.dm.2))),\"-\")","v":"-"},null,{"$f":"IF(CENÁRIOS!$I$22=TRUE,IF(PM.2=\"\",\"-\",IF(OR(Sf.ig.2=\"-\",Sf.ig.2=\"\",Sf.ig.2=0,Cff.AguaAguaSub.2=\"-\"),\"-\",(Cff.AguaAguaSub.2*IF.ASub.Ing.a.c*Sf.ig.2))),\"-\")","v":"-"},null,null,"-",null,"-"]
[null,null,null,null,"NC",{"$f":"IF(CENÁRIOS!$H$19=TRUE,IF(PM.2=\"\",\"-\",IF(OR(RfD.in.cn.2=\"-\",RfD.in.cn.2=\"\",RfD.in.cn.2=0,Cf.ArAguaSub.Abe.2=\"-\"),\"-\",(Cf.ArAguaSub.Abe.2*IF.ASub.Ina.Abe.a.nc/RfD.in.cn.2))),\"-\")","v":"-"},null,{"$f":"IF(CENÁRIOS!$H$20=TRUE,IF(PM.2=\"\",\"-\",IF(OR(RfD.in.cn.2=\"-\",RfD.in.cn.2=\"\",RfD.in.cn.2=0,Cf.ArAguaSub.Fec.2=\"-\"),\"-\",(Cf.ArAguaSub.Fec.2*IF.ASub.Ina.Fec.a.nc/RfD.in.cn.2))),\"-\")","v":"-"},null,{"$f":"IF(CENÁRIOS!$H$21=TRUE,IF(PM.2=\"\",\"-\",IF(OR(RfD.dm.cn.2=\"-\",RfD.dm.cn.2=\"\",RfD.dm.cn.2=0,PC.2=\"\"),\"-\",(Cf.AguaSub.2*PC.2*IF.ASub.Con.Der.a.nc/RfD.dm.cn.2))),\"-\")","v":"-"},null,{"$f":"IF(CENÁRIOS!$H$22=TRUE,IF(PM.2=\"\",\"-\",IF(OR(RfD.ig.cn.2=\"-\",RfD.ig.cn.2=\"\",RfD.ig.cn.2=0),\"-\",(Cf.AguaSub.2*IF.ASub.Ing.a.nc/RfD.ig.cn.2))),\"-\")","v":"-"},null,{"$f":"IF(CENÁRIOS!$I$19=TRUE,IF(PM.2=\"\",\"-\",IF(OR(RfD.in.cn.2=\"-\",RfD.in.cn.2=\"\",RfD.in.cn.2=0,Cff.ArAguaSub.Abe.2=\"-\"),\"-\",(Cff.ArAguaSub.Abe.2*IF.ASub.Ina.Abe.a.nc/RfD.in.cn.2))),\"-\")","v":"-"},null,{"$f":"IF(CENÁRIOS!$I$20=TRUE,IF(PM.2=\"\",\"-\",IF(OR(RfD.in.cn.2=\"-\",RfD.in.cn.2=\"\",RfD.in.cn.2=0,Cff.ArAguaSub.Fec.2=\"-\"),\"-\",(Cff.ArAguaSub.Fec.2*IF.ASub.Ina.Fec.a.nc/RfD.in.cn.2))),\"-\")","v":"-"},null,{"$f":"IF(CENÁRIOS!$I$21=TRUE,IF(PM.2=\"\",\"-\",IF(OR(RfD.dm.cn.2=\"-\",RfD.dm.cn.2=\"\",RfD.dm.cn.2=0,Cff.AguaAguaSub.2=\"-\",PC.2=\"\"),\"-\",(Cff.AguaAguaSub.2*PC.2*IF.ASub.Con.Der.a.nc/RfD.dm.cn.2))),\"-\")","v":"-"},null,{"$f":"IF(CENÁRIOS!$I$22=TRUE,IF(PM.2=\"\",\"-\",IF(OR(RfD.ig.cn.2=\"-\",RfD.ig.cn.2=\"\",RfD.ig.cn.2=0,Cff.AguaAguaSub.2=\"-\"),\"-\",(Cff.AguaAguaSub.2*IF.ASub.Ing.a.nc/RfD.ig.cn.2))),\"-\")","v":"-"},null,null,"-",null,"-"]
[null,3,{"$f":"SQI!D11","v":0},{"$f":"SQI!C11","v":""},"C",{"$f":"IF(CENÁRIOS!$H$19=TRUE,IF(PM.3=\"\",\"-\",IF(OR(Sf.in.3=\"-\",Sf.in.3=\"\",Sf.in.3=0,Cf.ArAguaSub.Abe.3=\"-\"),\"-\",(Cf.ArAguaSub.Abe.3*IF.ASub.Ina.Abe.a.c*Sf.in.3))),\"-\")","v":"-"},null,{"$f":"IF(CENÁRIOS!$H$20=TRUE,IF(PM.3=\"\",\"-\",IF(OR(Sf.in.3=\"-\",Sf.in.3=\"\",Sf.in.3=0,Cf.ArAguaSub.Fec.3=\"-\"),\"-\",(Cf.ArAguaSub.Fec.3*IF.ASub.Ina.Fec.a.c*Sf.in.3))),\"-\")","v":"-"},null,{"$f":"IF(CENÁRIOS!$H$21=TRUE,IF(PM.3=\"\",\"-\",IF(OR(Sf.dm.3=\"-\",Sf.dm.3=\"\",Sf.dm.3=0,PC.3=\"\"),\"-\",(Cf.AguaSub.3*PC.3*IF.ASub.Con.Der.a.c*Sf.dm.3))),\"-\")","v":"-"},null,{"$f":"IF(CENÁRIOS!$H$22=TRUE,IF(PM.3=\"\",\"-\",IF(OR(Sf.ig.3=\"-\",Sf.ig.3=\"\",Sf.ig.3=0),\"-\",(Cf.AguaSub.3*IF.ASub.Ing.a.c*Sf.ig.3))),\"-\")","v":"-"},null,{"$f":"IF(CENÁRIOS!$I$19=TRUE,IF(PM.3=\"\",\"-\",IF(OR(Sf.in.3=\"-\",Sf.in.3=\"\",Sf.in.3=0,Cff.ArAguaSub.Abe.3=\"-\"),\"-\",(Cff.ArAguaSub.Abe.3*IF.ASub.Ina.Abe.a.c*Sf.in.3))),\"-\")","v":"-"},null,{"$f":"IF(CENÁRIOS!$I$20=TRUE,IF(PM.3=\"\",\"-\",IF(OR(Sf.in.3=\"-\",Sf.in.3=\"\",Sf.in.3=0,Cff.ArAguaSub.Fec.3=\"-\"),\"-\",(Cff.ArAguaSub.Fec.3*IF.ASub.Ina.Fec.a.c*Sf.in.3))),\"-\")","v":"-"},null,{"$f":"IF(CENÁRIOS!$I$21=TRUE,IF(PM.3=\"\",\"-\",IF(OR(Sf.dm.3=\"-\",Sf.dm.3=\"\",Sf.dm.3=0,Cff.AguaAguaSub.3=\"-\",PC.3=\"\"),\"-\",(Cff.AguaAguaSub.3*PC.3*IF.ASub.Con.Der.a.c*Sf.dm.3))),\"-\")","v":"-"},null,{"$f":"IF(CENÁRIOS!$I$22=TRUE,IF(PM.3=\"\",\"-\",IF(OR(Sf.ig.3=\"-\",Sf.ig.3=\"\",Sf.ig.3=0,Cff.AguaAguaSub.3=\"-\"),\"-\",(Cff.AguaAguaSub.3*IF.ASub.Ing.a.c*Sf.ig.3))),\"-\")","v":"-"},null,null,"-",null,"-"]
[null,null,null,null,"NC",{"$f":"IF(CENÁRIOS!$H$19=TRUE,IF(PM.3=\"\",\"-\",IF(OR(RfD.in.cn.3=\"-\",RfD.in.cn.3=\"\",RfD.in.cn.3=0,Cf.ArAguaSub.Abe.3=\"-\"),\"-\",(Cf.ArAguaSub.Abe.3*IF.ASub.Ina.Abe.a.nc/RfD.in.cn.3))),\"-\")","v":"-"},null,{"$f":"IF(CENÁRIOS!$H$20=TRUE,IF(PM.3=\"\",\"-\",IF(OR(RfD.in.cn.3=\"-\",RfD.in.cn.3=\"\",RfD.in.cn.3=0,Cf.ArAguaSub.Fec.3=\"-\"),\"-\",(Cf.ArAguaSub.Fec.3*IF.ASub.Ina.Fec.a.nc/RfD.in.cn.3))),\"-\")","v":"-"},null,{"$f":"IF(CENÁRIOS!$H$21=TRUE,IF(PM.3=\"\",\"-\",IF(OR(RfD.dm.cn.3=\"-\",RfD.dm.cn.3=\"\",RfD.dm.cn.3=0,PC.3=\"\"),\"-\",(Cf.AguaSub.3*PC.3*IF.ASub.Con.Der.a.nc/RfD.dm.cn.3))),\"-\")","v":"-"},null,{"$f":"IF(CENÁRIOS!$H$22=TRUE,IF(PM.3=\"\",\"-\",IF(OR(RfD.ig.cn.3=\"-\",RfD.ig.cn.3=\"\",RfD.ig.cn.3=0),\"-\",(Cf.AguaSub.3*IF.ASub.Ing.a.nc/RfD.ig.cn.3))),\"-\")","v":"-"},null,{"$f":"IF(CENÁRIOS!$I$19=TRUE,IF(PM.3=\"\",\"-\",IF(OR(RfD.in.cn.3=\"-\",RfD.in.cn.3=\"\",RfD.in.cn.3=0,Cff.ArAguaSub.Abe.3=\"-\"),\"-\",(Cff.ArAguaSub.Abe.3*IF.ASub.Ina.Abe.a.nc/RfD.in.cn.3))),\"-\")","v":"-"},null,{"$f":"IF(CENÁRIOS!$I$20=TRUE,IF(PM.3=\"\",\"-\",IF(OR(RfD.in.cn.3=\"-\",RfD.in.cn.3=\"\",RfD.in.cn.3=0,Cff.ArAguaSub.Fec.3=\"-\"),\"-\",(Cff.ArAguaSub.Fec.3*IF.ASub.Ina.Fec.a.nc/RfD.in.cn.3))),\"-\")","v":"-"},null,{"$f":"IF(CENÁRIOS!$I$21=TRUE,IF(PM.3=\"\",\"-\",IF(OR(RfD.dm.cn.3=\"-\",RfD.dm.cn.3=\"\",RfD.dm.cn.3=0,Cff.AguaAguaSub.3=\"-\",PC.3=\"\"),\"-\",(Cff.AguaAguaSub.3*PC.3*IF.ASub.Con.Der.a.nc/RfD.dm.cn.3))),\"-\")","v":"-"},null,{"$f":"IF(CENÁRIOS!$I$22=TRUE,IF(PM.3=\"\",\"-\",IF(OR(RfD.ig.cn.3=\"-\",RfD.ig.cn.3=\"\",RfD.ig.cn.3=0,Cff.AguaAguaSub.3=\"-\"),\"-\",(Cff.AguaAguaSub.3*IF.ASub.Ing.a.nc/RfD.ig.cn.3))),\"-\")","v":"-"},null,null,"-",null,"-"]
[null,4,{"$f":"SQI!D12","v":0},{"$f":"SQI!C12","v":""},"C",{"$f":"IF(CENÁRIOS!$H$19=TRUE,IF(PM.4=\"\",\"-\",IF(OR(Sf.in.4=\"-\",Sf.in.4=\"\",Sf.in.4=0,Cf.ArAguaSub.Abe.4=\"-\"),\"-\",(Cf.ArAguaSub.Abe.4*IF.ASub.Ina.Abe.a.c*Sf.in.4))),\"-\")","v":"-"},null,{"$f":"IF(CENÁRIOS!$H$20=TRUE,IF(PM.4=\"\",\"-\",IF(OR(Sf.in.4=\"-\",Sf.in.4=\"\",Sf.in.4=0,Cf.ArAguaSub.Fec.4=\"-\"),\"-\",(Cf.ArAguaSub.Fec.4*IF.ASub.Ina.Fec.a.c*Sf.in.4))),\"-\")","v":"-"},null,{"$f":"IF(CENÁRIOS!$H$21=TRUE,IF(PM.4=\"\",\"-\",IF(OR(Sf.dm.4=\"-\",Sf.dm.4=\"\",Sf.dm.4=0,PC.4=\"\"),\"-\",(Cf.AguaSub.4*PC.4*IF.ASub.Con.Der.a.c*Sf.dm.4))),\"-\")","v":"-"},null,{"$f":"IF(CENÁRIOS!$H$22=TRUE,IF(PM.4=\"\",\"-\",IF(OR(Sf.ig.4=\"-\",Sf.ig.4=\"\",Sf.ig.4=0),\"-\",(Cf.AguaSub.4*IF.ASub.Ing.a.c*Sf.ig.4))),\"-\")","v":"-"},null,{"$f":"IF(CENÁRIOS!$I$19=TRUE,IF(PM.4=\"\",\"-\",IF(OR(Sf.in.4=\"-\",Sf.in.4=\"\",Sf.in.4=0,Cff.ArAguaSub.Abe.4=\"-\"),\"-\",(Cff.ArAguaSub.Abe.4*IF.ASub.Ina.Abe.a.c*Sf.in.4))),\"-\")","v":"-"},null,{"$f":"IF(CENÁRIOS!$I$20=TRUE,IF(PM.4=\"\",\"-\",IF(OR(Sf.in.4=\"-\",Sf.in.4=\"\",Sf.in.4=0,Cff.ArAguaSub.Fec.4=\"-\"),\"-\",(Cff.ArAguaSub.Fec.4*IF.ASub.Ina.Fec.a.c*Sf.in.4))),\"-\")","v":"-"},null,{"$f":"IF(CENÁRIOS!$I$21=TRUE,IF(PM.4=\"\",\"-\",IF(OR(Sf.dm.4=\"-\",Sf.dm.4=\"\",Sf.dm.4=0,Cff.AguaAguaSub.4=\"-\",PC.4=\"\"),\"-\",(Cff.AguaAguaSub.4*PC.4*IF.ASub.Con.Der.a.c*Sf.dm.4))),\"-\")","v":"-"},null,{"$f":"IF(CENÁRIOS!$I$22=TRUE,IF(PM.4=\"\",\"-\",IF(OR(Sf.ig.4=\"-\",Sf.ig.4=\"\",Sf.ig.4=0,Cff.AguaAguaSub.4=\"-\"),\"-\",(Cff.AguaAguaSub.4*IF.ASub.Ing.a.c*Sf.ig.4))),\"-\")","v":"-"},null,null,"-",null,"-"]
[null,null,null,null,"NC",{"$f":"IF(CENÁRIOS!$H$19=TRUE,IF(PM.4=\"\",\"-\",IF(OR(RfD.in.cn.4=\"-\",RfD.in.cn.4=\"\",RfD.in.cn.4=0,Cf.ArAguaSub.Abe.4=\"-\"),\"-\",(Cf.ArAguaSub.Abe.4*IF.ASub.Ina.Abe.a.nc/RfD.in.cn.4))),\"-\")","v":"-"},null,{"$f":"IF(CENÁRIOS!$H$20=TRUE,IF(PM.4=\"\",\"-\",IF(OR(RfD.in.cn.4=\"-\",RfD.in.cn.4=\"\",RfD.in.cn.4=0,Cf.ArAguaSub.Fec.4=\"-\"),\"-\",(Cf.ArAguaSub.Fec.4*IF.ASub.Ina.Fec.a.nc/RfD.in.cn.4))),\"-\")","v":"-"},null,{"$f":"IF(CENÁRIOS!$H$21=TRUE,IF(PM.4=\"\",\"-\",IF(OR(RfD.dm.cn.4=\"-\",RfD.dm.cn.4=\"\",RfD.dm.cn.4=0,PC.4=\"\"),\"-\",(Cf.AguaSub.4*PC.4*IF.ASub.Con.Der.a.nc/RfD.dm.cn.4))),\"-\")","v":"-"},null,{"$f":"IF(CENÁRIOS!$H$22=TRUE,IF(PM.4=\"\",\"-\",IF(OR(RfD.ig.cn.4=\"-\",RfD.ig.cn.4=\"\",RfD.ig.cn.4=0),\"-\",(Cf.AguaSub.4*IF.ASub.Ing.a.nc/RfD.ig.cn.4))),\"-\")","v":"-"},null,{"$f":"IF(CENÁRIOS!$I$19=TRUE,IF(PM.4=\"\",\"-\",IF(OR(RfD.in.cn.4=\"-\",RfD.in.cn.4=\"\",RfD.in.cn.4=0,Cff.ArAguaSub.Abe.4=\"-\"),\"-\",(Cff.ArAguaSub.Abe.4*IF.ASub.Ina.Abe.a.nc/RfD.in.cn.4))),\"-\")","v":"-"},null,{"$f":"IF(CENÁRIOS!$I$20=TRUE,IF(PM.4=\"\",\"-\",IF(OR(RfD.in.cn.4=\"-\",RfD.in.cn.4=\"\",RfD.in.cn.4=0,Cff.ArAguaSub.Fec.4=\"-\"),\"-\",(Cff.ArAguaSub.Fec.4*IF.ASub.Ina.Fec.a.nc/RfD.in.cn.4))),\"-\")","v":"-"},null,{"$f":"IF(CENÁRIOS!$I$21=TRUE,IF(PM.4=\"\",\"-\",IF(OR(RfD.dm.cn.4=\"-\",RfD.dm.cn.4=\"\",RfD.dm.cn.4=0,Cff.AguaAguaSub.4=\"-\",PC.4=\"\"),\"-\",(Cff.AguaAguaSub.4*PC.4*IF.ASub.Con.Der.a.nc/RfD.dm.cn.4))),\"-\")","v":"-"},null,{"$f":"IF(CENÁRIOS!$I$22=TRUE,IF(PM.4=\"\",\"-\",IF(OR(RfD.ig.cn.4=\"-\",RfD.ig.cn.4=\"\",RfD.ig.cn.4=0,Cff.AguaAguaSub.4=\"-\"),\"-\",(Cff.AguaAguaSub.4*IF.ASub.Ing.a.nc/RfD.ig.cn.4))),\"-\")","v":"-"},null,null,"-",null,"-"]
[null,5,{"$f":"SQI!D13","v":0},{"$f":"SQI!C13","v":""},"C",{"$f":"IF(CENÁRIOS!$H$19=TRUE,IF(PM.5=\"\",\"-\",IF(OR(Sf.in.5=\"-\",Sf.in.5=\"\",Sf.in.5=0,Cf.ArAguaSub.Abe.5=\"-\"),\"-\",(Cf.ArAguaSub.Abe.5*IF.ASub.Ina.Abe.a.c*Sf.in.5))),\"-\")","v":"-"},null,{"$f":"IF(CENÁRIOS!$H$20=TRUE,IF(PM.5=\"\",\"-\",IF(OR(Sf.in.5=\"-\",Sf.in.5=\"\",Sf.in.5=0,Cf.ArAguaSub.Fec.5=\"-\"),\"-\",(Cf.ArAguaSub.Fec.5*IF.ASub.Ina.Fec.a.c*Sf.in.5))),\"-\")","v":"-"},null,{"$f":"IF(CENÁRIOS!$H$21=TRUE,IF(PM.5=\"\",\"-\",IF(OR(Sf.dm.5=\"-\",Sf.dm.5=\"\",Sf.dm.5=0,PC.5=\"\"),\"-\",(Cf.AguaSub.5*PC.5*IF.ASub.Con.Der.a.c*Sf.dm.5))),\"-\")","v":"-"},null,{"$f":"IF(CENÁRIOS!$H$22=TRUE,IF(PM.5=\"\",\"-\",IF(OR(Sf.ig.5=\"-\",Sf.ig.5=\"\",Sf.ig.5=0),\"-\",(Cf.AguaSub.5*IF.ASub.Ing.a.c*Sf.ig.5))),\"-\")","v":"-"},null,{"$f":"IF(CENÁRIOS!$I$19=TRUE,IF(PM.5=\"\",\"-\",IF(OR(Sf.in.5=\"-\",Sf.in.5=\"\",Sf.in.5=0,Cff.ArAguaSub.Abe.5=\"-\"),\"-\",(Cff.ArAguaSub.Abe.5*IF.ASub.Ina.Abe.a.c*Sf.in.5))),\"-\")","v":"-"},null,{"$f":"IF(CENÁRIOS!$I$20=TRUE,IF(PM.5=\"\",\"-\",IF(OR(Sf.in.5=\"-\",Sf.in.5=\"\",Sf.in.5=0,Cff.ArAguaSub.Fec.5=\"-\"),\"-\",(Cff.ArAguaSub.Fec.5*IF.ASub.Ina.Fec.a.c*Sf.in.5))),\"-\")","v":"-"},null,{"$f":"IF(CENÁRIOS!$I$21=TRUE,IF(PM.5=\"\",\"-\",IF(OR(Sf.dm.5=\"-\",Sf.dm.5=\"\",Sf.dm.5=0,Cff.AguaAguaSub.5=\"-\",PC.5=\"\"),\"-\",(Cff.AguaAguaSub.5*PC.5*IF.ASub.Con.Der.a.c*Sf.dm.5))),\"-\")","v":"-"},null,{"$f":"IF(CENÁRIOS!$I$22=TRUE,IF(PM.5=\"\",\"-\",IF(OR(Sf.ig.5=\"-\",Sf.ig.5=\"\",Sf.ig.5=0,Cff.AguaAguaSub.5=\"-\"),\"-\",(Cff.AguaAguaSub.5*IF.ASub.Ing.a.c*Sf.ig.5))),\"-\")","v":"-"},null,null,"-",null,"-"]
[null,null,null,null,"NC",{"$f":"IF(CENÁRIOS!$H$19=TRUE,IF(PM.5=\"\",\"-\",IF(OR(RfD.in.cn.5=\"-\",RfD.in.cn.5=\"\",RfD.in.cn.5=0,Cf.ArAguaSub.Abe.5=\"-\"),\"-\",(Cf.ArAguaSub.Abe.5*IF.ASub.Ina.Abe.a.nc/RfD.in.cn.5))),\"-\")","v":"-"},null,{"$f":"IF(CENÁRIOS!$H$20=TRUE,IF(PM.5=\"\",\"-\",IF(OR(RfD.in.cn.5=\"-\",RfD.in.cn.5=\"\",RfD.in.cn.5=0,Cf.ArAguaSub.Fec.5=\"-\"),\"-\",(Cf.ArAguaSub.Fec.5*IF.ASub.Ina.Fec.a.nc/RfD.in.cn.5))),\"-\")","v":"-"},null,{"$f":"IF(CENÁRIOS!$H$21=TRUE,IF(PM.5=\"\",\"-\",IF(OR(RfD.dm.cn.5=\"-\",RfD.dm.cn.5=\"\",RfD.dm.cn.5=0,PC.5=\"\"),\"-\",(Cf.AguaSub.5*PC.5*IF.ASub.Con.Der.a.nc/RfD.dm.cn.5))),\"-\")","v":"-"},null,{"$f":"IF(CENÁRIOS!$H$22=TRUE,IF(PM.5=\"\",\"-\",IF(OR(RfD.ig.cn.5=\"-\",RfD.ig.cn.5=\"\",RfD.ig.cn.5=0),\"-\",(Cf.AguaSub.5*IF.ASub.Ing.a.nc/RfD.ig.cn.5))),\"-\")","v":"-"},null,{"$f":"IF(CENÁRIOS!$I$19=TRUE,IF(PM.5=\"\",\"-\",IF(OR(RfD.in.cn.5=\"-\",RfD.in.cn.5=\"\",RfD.in.cn.5=0,Cff.ArAguaSub.Abe.5=\"-\"),\"-\",(Cff.ArAguaSub.Abe.5*IF.ASub.Ina.Abe.a.nc/RfD.in.cn.5))),\"-\")","v":"-"},null,{"$f":"IF(CENÁRIOS!$I$20=TRUE,IF(PM.5=\"\",\"-\",IF(OR(RfD.in.cn.5=\"-\",RfD.in.cn.5=\"\",RfD.in.cn.5=0,Cff.ArAguaSub.Fec.5=\"-\"),\"-\",(Cff.ArAguaSub.Fec.5*IF.ASub.Ina.Fec.a.nc/RfD.in.cn.5))),\"-\")","v":"-"},null,{"$f":"IF(CENÁRIOS!$I$21=TRUE,IF(PM.5=\"\",\"-\",IF(OR(RfD.dm.cn.5=\"-\",RfD.dm.cn.5=\"\",RfD.dm.cn.5=0,Cff.AguaAguaSub.5=\"-\",PC.5=\"\"),\"-\",(Cff.AguaAguaSub.5*PC.5*IF.ASub.Con.Der.a.nc/RfD.dm.cn.5))),\"-\")","v":"-"},null,{"$f":"IF(CENÁRIOS!$I$22=TRUE,IF(PM.5=\"\",\"-\",IF(OR(RfD.ig.cn.5=\"-\",RfD.ig.cn.5=\"\",RfD.ig.cn.5=0,Cff.AguaAguaSub.5=\"-\"),\"-\",(Cff.AguaAguaSub.5*IF.ASub.Ing.a.nc/RfD.ig.cn.5))),\"-\")","v":"-"},null,null,"-",null,"-"]
[null,6,{"$f":"SQI!D14","v":0},{"$f":"SQI!C14","v":""},"C",{"$f":"IF(CENÁRIOS!$H$19=TRUE,IF(PM.6=\"\",\"-\",IF(OR(Sf.in.6=\"-\",Sf.in.6=\"\",Sf.in.6=0,Cf.ArAguaSub.Abe.6=\"-\"),\"-\",(Cf.ArAguaSub.Abe.6*IF.ASub.Ina.Abe.a.c*Sf.in.6))),\"-\")","v":"-"},null,{"$f":"IF(CENÁRIOS!$H$20=TRUE,IF(PM.6=\"\",\"-\",IF(OR(Sf.in.6=\"-\",Sf.in.6=\"\",Sf.in.6=0,Cf.ArAguaSub.Fec.6=\"-\"),\"-\",(Cf.ArAguaSub.Fec.6*IF.ASub.Ina.Fec.a.c*Sf.in.6))),\"-\")","v":"-"},null,{"$f":"IF(CENÁRIOS!$H$21=TRUE,IF(PM.6=\"\",\"-\",IF(OR(Sf.dm.6=\"-\",Sf.dm.6=\"\",Sf.dm.6=0,PC.6=\"\"),\"-\",(Cf.AguaSub.6*PC.6*IF.ASub.Con.Der.a.c*Sf.dm.6))),\"-\")","v":"-"},null,{"$f":"IF(CENÁRIOS!$H$22=TRUE,IF(PM.6=\"\",\"-\",IF(OR(Sf.ig.6=\"-\",Sf.ig.6=\"\",Sf.ig.6=0),\"-\",(Cf.AguaSub.6*IF.ASub.Ing.a.c*Sf.ig.6))),\"-\")","v":"-"},null,{"$f":"IF(CENÁRIOS!$I$19=TRUE,IF(PM.6=\"\",\"-\",IF(OR(Sf.in.6=\"-\",Sf.in.6=\"\",Sf.in.6=0,Cff.ArAguaSub.Abe.6=\"-\"),\"-\",(Cff.ArAguaSub.Abe.6*IF.ASub.Ina.Abe.a.c*Sf.in.6))),\"-\")","v":"-"},null,{"$f":"IF(CENÁRIOS!$I$20=TRUE,IF(PM.6=\"\",\"-\",IF(OR(Sf.in.6=\"-\",Sf.in.6=\"\",Sf.in.6=0,Cff.ArAguaSub.Fec.6=\"-\"),\"-\",(Cff.ArAguaSub.Fec.6*IF.ASub.Ina.Fec.a.c*Sf.in.6))),\"-\")","v":"-"},null,{"$f":"IF(CENÁRIOS!$I$21=TRUE,IF(PM.6=\"\",\"-\",IF(OR(Sf.dm.6=\"-\",Sf.dm.6=\"\",Sf.dm.6=0,Cff.AguaAguaSub.6=\"-\",PC.6=\"\"),\"-\",(Cff.AguaAguaSub.6*PC.6*IF.ASub.Con.Der.a.c*Sf.dm.6))),\"-\")","v":"-"},null,{"$f":"IF(CENÁRIOS!$I$22=TRUE,IF(PM.6=\"\",\"-\",IF(OR(Sf.ig.6=\"-\",Sf.ig.6=\"\",Sf.ig.6=0,Cff.AguaAguaSub.6=\"-\"),\"-\",(Cff.AguaAguaSub.6*IF.ASub.Ing.a.c*Sf.ig.6))),\"-\")","v":"-"},null,null,"-",null,"-"]
[null,null,null,null,"NC",{"$f":"IF(CENÁRIOS!$H$19=TRUE,IF(PM.6=\"\",\"-\",IF(OR(RfD.in.cn.6=\"-\",RfD.in.cn.6=\"\",RfD.in.cn.6=0,Cf.ArAguaSub.Abe.6=\"-\"),\"-\",(Cf.ArAguaSub.Abe.6*IF.ASub.Ina.Abe.a.nc/RfD.in.cn.6))),\"-\")","v":"-"},null,{"$f":"IF(CENÁRIOS!$H$20=TRUE,IF(PM.6=\"\",\"-\",IF(OR(RfD.in.cn.6=\"-\",RfD.in.cn.6=\"\",RfD.in.cn.6=0,Cf.ArAguaSub.Fec.6=\"-\"),\"-\",(Cf.ArAguaSub.Fec.6*IF.ASub.Ina.Fec.a.nc/RfD.in.cn.6))),\"-\")","v":"-"},null,{"$f":"IF(CENÁRIOS!$H$21=TRUE,IF(PM.6=\"\",\"-\",IF(OR(RfD.dm.cn.6=\"-\",RfD.dm.cn.6=\"\",RfD.dm.cn.6=0,PC.6=\"\"),\"-\",(Cf.AguaSub.6*PC.6*IF.ASub.Con.Der.a.nc/RfD.dm.cn.6))),\"-\")","v":"-"},null,{"$f":"IF(CENÁRIOS!$H$22=TRUE,IF(PM.6=\"\",\"-\",IF(OR(RfD.ig.cn.6=\"-\",RfD.ig.cn.6=\"\",RfD.ig.cn.6=0),\"-\",(Cf.AguaSub.6*IF.ASub.Ing.a.nc/RfD.ig.cn.6))),\"-\")","v":"-"},null,{"$f":"IF(CENÁRIOS!$I$19=TRUE,IF(PM.6=\"\",\"-\",IF(OR(RfD.in.cn.6=\"-\",RfD.in.cn.6=\"\",RfD.in.cn.6=0,Cff.ArAguaSub.Abe.6=\"-\"),\"-\",(Cff.ArAguaSub.Abe.6*IF.ASub.Ina.Abe.a.nc/RfD.in.cn.6))),\"-\")","v":"-"},null,{"$f":"IF(CENÁRIOS!$I$20=TRUE,IF(PM.6=\"\",\"-\",IF(OR(RfD.in.cn.6=\"-\",RfD.in.cn.6=\"\",RfD.in.cn.6=0,Cff.ArAguaSub.Fec.6=\"-\"),\"-\",(Cff.ArAguaSub.Fec.6*IF.ASub.Ina.Fec.a.nc/RfD.in.cn.6))),\"-\")","v":"-"},null,{"$f":"IF(CENÁRIOS!$I$21=TRUE,IF(PM.6=\"\",\"-\",IF(OR(RfD.dm.cn.6=\"-\",RfD.dm.cn.6=\"\",RfD.dm.cn.6=0,Cff.AguaAguaSub.6=\"-\",PC.6=\"\"),\"-\",(Cff.AguaAguaSub.6*PC.6*IF.ASub.Con.Der.a.nc/RfD.dm.cn.6))),\"-\")","v":"-"},null,{"$f":"IF(CENÁRIOS!$I$22=TRUE,IF(PM.6=\"\",\"-\",IF(OR(RfD.ig.cn.6=\"-\",RfD.ig.cn.6=\"\",RfD.ig.cn.6=0,Cff.AguaAguaSub.6=\"-\"),\"-\",(Cff.AguaAguaSub.6*IF.ASub.Ing.a.nc/RfD.ig.cn.6))),\"-\")","v":"-"},null,null,"-",null,"-"]
[null,7,{"$f":"SQI!D15","v":0},{"$f":"SQI!C15","v":""},"C",{"$f":"IF(CENÁRIOS!$H$19=TRUE,IF(PM.7=\"\",\"-\",IF(OR(Sf.in.7=\"-\",Sf.in.7=\"\",Sf.in.7=0,Cf.ArAguaSub.Abe.7=\"-\"),\"-\",(Cf.ArAguaSub.Abe.7*IF.ASub.Ina.Abe.a.c*Sf.in.7))),\"-\")","v":"-"},null,{"$f":"IF(CENÁRIOS!$H$20=TRUE,IF(PM.7=\"\",\"-\",IF(OR(Sf.in.7=\"-\",Sf.in.7=\"\",Sf.in.7=0,Cf.ArAguaSub.Fec.7=\"-\"),\"-\",(Cf.ArAguaSub.Fec.7*IF.ASub.Ina.Fec.a.c*Sf.in.7))),\"-\")","v":"-"},null,{"$f":"IF(CENÁRIOS!$H$21=TRUE,IF(PM.7=\"\",\"-\",IF(OR(Sf.dm.7=\"-\",Sf.dm.7=\"\",Sf.dm.7=0,PC.7=\"\"),\"-\",(Cf.AguaSub.7*PC.7*IF.ASub.Con.Der.a.c*Sf.dm.7))),\"-\")","v":"-"},null,{"$f":"IF(CENÁRIOS!$H$22=TRUE,IF(PM.7=\"\",\"-\",IF(OR(Sf.ig.7=\"-\",Sf.ig.7=\"\",Sf.ig.7=0),\"-\",(Cf.AguaSub.7*IF.ASub.Ing.a.c*Sf.ig.7))),\"-\")","v":"-"},null,{"$f":"IF(CENÁRIOS!$I$19=TRUE,IF(PM.7=\"\",\"-\",IF(OR(Sf.in.7=\"-\",Sf.in.7=\"\",Sf.in.7=0,Cff.ArAguaSub.Abe.7=\"-\"),\"-\",(Cff.ArAguaSub.Abe.7*IF.ASub.Ina.Abe.a.c*Sf.in.7))),\"-\")","v":"-"},null,{"$f":"IF(CENÁRIOS!$I$20=TRUE,IF(PM.7=\"\",\"-\",IF(OR(Sf.in.7=\"-\",Sf.in.7=\"\",Sf.in.7=0,Cff.ArAguaSub.Fec.7=\"-\"),\"-\",(Cff.ArAguaSub.Fec.7*IF.ASub.Ina.Fec.a.c*Sf.in.7))),\"-\")","v":"-"},null,{"$f":"IF(CENÁRIOS!$I$21=TRUE,IF(PM.7=\"\",\"-\",IF(OR(Sf.dm.7=\"-\",Sf.dm.7=\"\",Sf.dm.7=0,Cff.AguaAguaSub.7=\"-\",PC.7=\"\"),\"-\",(Cff.AguaAguaSub.7*PC.7*IF.ASub.Con.Der.a.c*Sf.dm.7))),\"-\")","v":"-"},null,{"$f":"IF(CENÁRIOS!$I$22=TRUE,IF(PM.7=\"\",\"-\",IF(OR(Sf.ig.7=\"-\",Sf.ig.7=\"\",Sf.ig.7=0,Cff.AguaAguaSub.7=\"-\"),\"-\",(Cff.AguaAguaSub.7*IF.ASub.Ing.a.c*Sf.ig.7))),\"-\")","v":"-"},null,null,"-",null,"-"]
[null,null,null,null,"NC",{"$f":"IF(CENÁRIOS!$H$19=TRUE,IF(PM.7=\"\",\"-\",IF(OR(RfD.in.cn.7=\"-\",RfD.in.cn.7=\"\",RfD.in.cn.7=0,Cf.ArAguaSub.Abe.7=\"-\"),\"-\",(Cf.ArAguaSub.Abe.7*IF.ASub.Ina.Abe.a.nc/RfD.in.cn.7))),\"-\")","v":"-"},null,{"$f":"IF(CENÁRIOS!$H$20=TRUE,IF(PM.7=\"\",\"-\",IF(OR(RfD.in.cn.7=\"-\",RfD.in.cn.7=\"\",RfD.in.cn.7=0,Cf.ArAguaSub.Fec.7=\"-\"),\"-\",(Cf.ArAguaSub.Fec.7*IF.ASub.Ina.Fec.a.nc/RfD.in.cn.7))),\"-\")","v":"-"},null,{"$f":"IF(CENÁRIOS!$H$21=TRUE,IF(PM.7=\"\",\"-\",IF(OR(RfD.dm.cn.7=\"-\",RfD.dm.cn.7=\"\",RfD.dm.cn.7=0,PC.7=\"\"),\"-\",(Cf.AguaSub.7*PC.7*IF.ASub.Con.Der.a.nc/RfD.dm.cn.7))),\"-\")","v":"-"},null,{"$f":"IF(CENÁRIOS!$H$22=TRUE,IF(PM.7=\"\",\"-\",IF(OR(RfD.ig.cn.7=\"-\",RfD.ig.cn.7=\"\",RfD.ig.cn.7=0),\"-\",(Cf.AguaSub.7*IF.ASub.Ing.a.nc/RfD.ig.cn.7))),\"-\")","v":"-"},null,{"$f":"IF(CENÁRIOS!$I$19=TRUE,IF(PM.7=\"\",\"-\",IF(OR(RfD.in.cn.7=\"-\",RfD.in.cn.7=\"\",RfD.in.cn.7=0,Cff.ArAguaSub.Abe.7=\"-\"),\"-\",(Cff.ArAguaSub.Abe.7*IF.ASub.Ina.Abe.a.nc/RfD.in.cn.7))),\"-\")","v":"-"},null,{"$f":"IF(CENÁRIOS!$I$20=TRUE,IF(PM.7=\"\",\"-\",IF(OR(RfD.in.cn.7=\"-\",RfD.in.cn.7=\"\",RfD.in.cn.7=0,Cff.ArAguaSub.Fec.7=\"-\"),\"-\",(Cff.ArAguaSub.Fec.7*IF.ASub.Ina.Fec.a.nc/RfD.in.cn.7))),\"-\")","v":"-"},null,{"$f":"IF(CENÁRIOS!$I$21=TRUE,IF(PM.7=\"\",\"-\",IF(OR(RfD.dm.cn.7=\"-\",RfD.dm.cn.7=\"\",RfD.dm.cn.7=0,Cff.AguaAguaSub.7=\"-\",PC.7=\"\"),\"-\",(Cff.AguaAguaSub.7*PC.7*IF.ASub.Con.Der.a.nc/RfD.dm.cn.7))),\"-\")","v":"-"},null,{"$f":"IF(CENÁRIOS!$I$22=TRUE,IF(PM.7=\"\",\"-\",IF(OR(RfD.ig.cn.7=\"-\",RfD.ig.cn.7=\"\",RfD.ig.cn.7=0,Cff.AguaAguaSub.7=\"-\"),\"-\",(Cff.AguaAguaSub.7*IF.ASub.Ing.a.nc/RfD.ig.cn.7))),\"-\")","v":"-"},null,null,"-",null,"-"]
[null,8,{"$f":"SQI!D16","v":0},{"$f":"SQI!C16","v":""},"C",{"$f":"IF(CENÁRIOS!$H$19=TRUE,IF(PM.8=\"\",\"-\",IF(OR(Sf.in.8=\"-\",Sf.in.8=\"\",Sf.in.8=0,Cf.ArAguaSub.Abe.8=\"-\"),\"-\",(Cf.ArAguaSub.Abe.8*IF.ASub.Ina.Abe.a.c*Sf.in.8))),\"-\")","v":"-"},null,{"$f":"IF(CENÁRIOS!$H$20=TRUE,IF(PM.8=\"\",\"-\",IF(OR(Sf.in.8=\"-\",Sf.in.8=\"\",Sf.in.8=0,Cf.ArAguaSub.Fec.8=\"-\"),\"-\",(Cf.ArAguaSub.Fec.8*IF.ASub.Ina.Fec.a.c*Sf.in.8))),\"-\")","v":"-"},null,{"$f":"IF(CENÁRIOS!$H$21=TRUE,IF(PM.8=\"\",\"-\",IF(OR(Sf.dm.8=\"-\",Sf.dm.8=\"\",Sf.dm.8=0,PC.8=\"\"),\"-\",(Cf.AguaSub.8*PC.8*IF.ASub.Con.Der.a.c*Sf.dm.8))),\"-\")","v":"-"},null,{"$f":"IF(CENÁRIOS!$H$22=TRUE,IF(PM.8=\"\",\"-\",IF(OR(Sf.ig.8=\"-\",Sf.ig.8=\"\",Sf.ig.8=0),\"-\",(Cf.AguaSub.8*IF.ASub.Ing.a.c*Sf.ig.8))),\"-\")","v":"-"},null,{"$f":"IF(CENÁRIOS!$I$19=TRUE,IF(PM.8=\"\",\"-\",IF(OR(Sf.in.8=\"-\",Sf.in.8=\"\",Sf.in.8=0,Cff.ArAguaSub.Abe.8=\"-\"),\"-\",(Cff.ArAguaSub.Abe.8*IF.ASub.Ina.Abe.a.c*Sf.in.8))),\"-\")","v":"-"},null,{"$f":"IF(CENÁRIOS!$I$20=TRUE,IF(PM.8=\"\",\"-\",IF(OR(Sf.in.8=\"-\",Sf.in.8=\"\",Sf.in.8=0,Cff.ArAguaSub.Fec.8=\"-\"),\"-\",(Cff.ArAguaSub.Fec.8*IF.ASub.Ina.Fec.a.c*Sf.in.8))),\"-\")","v":"-"},null,{"$f":"IF(CENÁRIOS!$I$21=TRUE,IF(PM.8=\"\",\"-\",IF(OR(Sf.dm.8=\"-\",Sf.dm.8=\"\",Sf.dm.8=0,Cff.AguaAguaSub.8=\"-\",PC.8=\"\"),\"-\",(Cff.AguaAguaSub.8*PC.8*IF.ASub.Con.Der.a.c*Sf.dm.8))),\"-\")","v":"-"},null,{"$f":"IF(CENÁRIOS!$I$22=TRUE,IF(PM.8=\"\",\"-\",IF(OR(Sf.ig.8=\"-\",Sf.ig.8=\"\",Sf.ig.8=0,Cff.AguaAguaSub.8=\"-\"),\"-\",(Cff.AguaAguaSub.8*IF.ASub.Ing.a.c*Sf.ig.8))),\"-\")","v":"-"},null,null,"-",null,"-"]
[null,null,null,null,"NC",{"$f":"IF(CENÁRIOS!$H$19=TRUE,IF(PM.8=\"\",\"-\",IF(OR(RfD.in.cn.8=\"-\",RfD.in.cn.8=\"\",RfD.in.cn.8=0,Cf.ArAguaSub.Abe.8=\"-\"),\"-\",(Cf.ArAguaSub.Abe.8*IF.ASub.Ina.Abe.a.nc/RfD.in.cn.8))),\"-\")","v":"-"},null,{"$f":"IF(CENÁRIOS!$H$20=TRUE,IF(PM.8=\"\",\"-\",IF(OR(RfD.in.cn.8=\"-\",RfD.in.cn.8=\"\",RfD.in.cn.8=0,Cf.ArAguaSub.Fec.8=\"-\"),\"-\",(Cf.ArAguaSub.Fec.8*IF.ASub.Ina.Fec.a.nc/RfD.in.cn.8))),\"-\")","v":"-"},null,{"$f":"IF(CENÁRIOS!$H$21=TRUE,IF(PM.8=\"\",\"-\",IF(OR(RfD.dm.cn.8=\"-\",RfD.dm.cn.8=\"\",RfD.dm.cn.8=0,PC.8=\"\"),\"-\",(Cf.AguaSub.8*PC.8*IF.ASub.Con.Der.a.nc/RfD.dm.cn.8))),\"-\")","v":"-"},null,{"$f":"IF(CENÁRIOS!$H$22=TRUE,IF(PM.8=\"\",\"-\",IF(OR(RfD.ig.cn.8=\"-\",RfD.ig.cn.8=\"\",RfD.ig.cn.8=0),\"-\",(Cf.AguaSub.8*IF.ASub.Ing.a.nc/RfD.ig.cn.8))),\"-\")","v":"-"},null,{"$f":"IF(CENÁRIOS!$I$19=TRUE,IF(PM.8=\"\",\"-\",IF(OR(RfD.in.cn.8=\"-\",RfD.in.cn.8=\"\",RfD.in.cn.8=0,Cff.ArAguaSub.Abe.8=\"-\"),\"-\",(Cff.ArAguaSub.Abe.8*IF.ASub.Ina.Abe.a.nc/RfD.in.cn.8))),\"-\")","v":"-"},null,{"$f":"IF(CENÁRIOS!$I$20=TRUE,IF(PM.8=\"\",\"-\",IF(OR(RfD.in.cn.8=\"-\",RfD.in.cn.8=\"\",RfD.in.cn.8=0,Cff.ArAguaSub.Fec.8=\"-\"),\"-\",(Cff.ArAguaSub.Fec.8*IF.ASub.Ina.Fec.a.nc/RfD.in.cn.8))),\"-\")","v":"-"},null,{"$f":"IF(CENÁRIOS!$I$21=TRUE,IF(PM.8=\"\",\"-\",IF(OR(RfD.dm.cn.8=\"-\",RfD.dm.cn.8=\"\",RfD.dm.cn.8=0,Cff.AguaAguaSub.8=\"-\",PC.8=\"\"),\"-\",(Cff.AguaAguaSub.8*PC.8*IF.ASub.Con.Der.a.nc/RfD.dm.cn.8))),\"-\")","v":"-"},null,{"$f":"IF(CENÁRIOS!$I$22=TRUE,IF(PM.8=\"\",\"-\",IF(OR(RfD.ig.cn.8=\"-\",RfD.ig.cn.8=\"\",RfD.ig.cn.8=0,Cff.AguaAguaSub.8=\"-\"),\"-\",(Cff.AguaAguaSub.8*IF.ASub.Ing.a.nc/RfD.ig.cn.8))),\"-\")","v":"-"},null,null,"-",null,"-"]
[null,9,{"$f":"SQI!D17","v":0},{"$f":"SQI!C17","v":""},"C",{"$f":"IF(CENÁRIOS!$H$19=TRUE,IF(PM.9=\"\",\"-\",IF(OR(Sf.in.9=\"-\",Sf.in.9=\"\",Sf.in.9=0,Cf.ArAguaSub.Abe.9=\"-\"),\"-\",(Cf.ArAguaSub.Abe.9*IF.ASub.Ina.Abe.a.c*Sf.in.9))),\"-\")","v":"-"},null,{"$f":"IF(CENÁRIOS!$H$20=TRUE,IF(PM.9=\"\",\"-\",IF(OR(Sf.in.9=\"-\",Sf.in.9=\"\",Sf.in.9=0,Cf.ArAguaSub.Fec.9=\"-\"),\"-\",(Cf.ArAguaSub.Fec.9*IF.ASub.Ina.Fec.a.c*Sf.in.9))),\"-\")","v":"-"},null,{"$f":"IF(CENÁRIOS!$H$21=TRUE,IF(PM.9=\"\",\"-\",IF(OR(Sf.dm.9=\"-\",Sf.dm.9=\"\",Sf.dm.9=0,PC.9=\"\"),\"-\",(Cf.AguaSub.9*PC.9*IF.ASub.Con.Der.a.c*Sf.dm.9))),\"-\")","v":"-"},null,{"$f":"IF(CENÁRIOS!$H$22=TRUE,IF(PM.9=\"\",\"-\",IF(OR(Sf.ig.9=\"-\",Sf.ig.9=\"\",Sf.ig.9=0),\"-\",(Cf.AguaSub.9*IF.ASub.Ing.a.c*Sf.ig.9))),\"-\")","v":"-"},null,{"$f":"IF(CENÁRIOS!$I$19=TRUE,IF(PM.9=\"\",\"-\",IF(OR(Sf.in.9=\"-\",Sf.in.9=\"\",Sf.in.9=0,Cff.ArAguaSub.Abe.9=\"-\"),\"-\",(Cff.ArAguaSub.Abe.9*IF.ASub.Ina.Abe.a.c*Sf.in.9))),\"-\")","v":"-"},null,{"$f":"IF(CENÁRIOS!$I$20=TRUE,IF(PM.9=\"\",\"-\",IF(OR(Sf.in.9=\"-\",Sf.in.9=\"\",Sf.in.9=0,Cff.ArAguaSub.Fec.9=\"-\"),\"-\",(Cff.ArAguaSub.Fec.9*IF.ASub.Ina.Fec.a.c*Sf.in.9))),\"-\")","v":"-"},null,{"$f":"IF(CENÁRIOS!$I$21=TRUE,IF(PM.9=\"\",\"-\",IF(OR(Sf.dm.9=\"-\",Sf.dm.9=\"\",Sf.dm.9=0,Cff.AguaAguaSub.9=\"-\",PC.9=\"\"),\"-\",(Cff.AguaAguaSub.9*PC.9*IF.ASub.Con.Der.a.c*Sf.dm.9))),\"-\")","v":"-"},null,{"$f":"IF(CENÁRIOS!$I$22=TRUE,IF(PM.9=\"\",\"-\",IF(OR(Sf.ig.9=\"-\",Sf.ig.9=\"\",Sf.ig.9=0,Cff.AguaAguaSub.9=\"-\"),\"-\",(Cff.AguaAguaSub.9*IF.ASub.Ing.a.c*Sf.ig.9))),\"-\")","v":"-"},null,null,"-",null,"-"]
[null,null,null,null,"NC",{"$f":"IF(CENÁRIOS!$H$19=TRUE,IF(PM.9=\"\",\"-\",IF(OR(RfD.in.cn.9=\"-\",RfD.in.cn.9=\"\",RfD.in.cn.9=0,Cf.ArAguaSub.Abe.9=\"-\"),\"-\",(Cf.ArAguaSub.Abe.9*IF.ASub.Ina.Abe.a.nc/RfD.in.cn.9))),\"-\")","v":"-"},null,{"$f":"IF(CENÁRIOS!$H$20=TRUE,IF(PM.9=\"\",\"-\",IF(OR(RfD.in.cn.9=\"-\",RfD.in.cn.9=\"\",RfD.in.cn.9=0,Cf.ArAguaSub.Fec.9=\"-\"),\"-\",(Cf.ArAguaSub.Fec.9*IF.ASub.Ina.Fec.a.nc/RfD.in.cn.9))),\"-\")","v":"-"},null,{"$f":"IF(CENÁRIOS!$H$21=TRUE,IF(PM.9=\"\",\"-\",IF(OR(RfD.dm.cn.9=\"-\",RfD.dm.cn.9=\"\",RfD.dm.cn.9=0,PC.9=\"\"),\"-\",(Cf.AguaSub.9*PC.9*IF.ASub.Con.Der.a.nc/RfD.dm.cn.9))),\"-\")","v":"-"},null,{"$f":"IF(CENÁRIOS!$H$22=TRUE,IF(PM.9=\"\",\"-\",IF(OR(RfD.ig.cn.9=\"-\",RfD.ig.cn.9=\"\",RfD.ig.cn.9=0),\"-\",(Cf.AguaSub.9*IF.ASub.Ing.a.nc/RfD.ig.cn.9))),\"-\")","v":"-"},null,{"$f":"IF(CENÁRIOS!$I$19=TRUE,IF(PM.9=\"\",\"-\",IF(OR(RfD.in.cn.9=\"-\",RfD.in.cn.9=\"\",RfD.in.cn.9=0,Cff.ArAguaSub.Abe.9=\"-\"),\"-\",(Cff.ArAguaSub.Abe.9*IF.ASub.Ina.Abe.a.nc/RfD.in.cn.9))),\"-\")","v":"-"},null,{"$f":"IF(CENÁRIOS!$I$20=TRUE,IF(PM.9=\"\",\"-\",IF(OR(RfD.in.cn.9=\"-\",RfD.in.cn.9=\"\",RfD.in.cn.9=0,Cff.ArAguaSub.Fec.9=\"-\"),\"-\",(Cff.ArAguaSub.Fec.9*IF.ASub.Ina.Fec.a.nc/RfD.in.cn.9))),\"-\")","v":"-"},null,{"$f":"IF(CENÁRIOS!$I$21=TRUE,IF(PM.9=\"\",\"-\",IF(OR(RfD.dm.cn.9=\"-\",RfD.dm.cn.9=\"\",RfD.dm.cn.9=0,Cff.AguaAguaSub.9=\"-\",PC.9=\"\"),\"-\",(Cff.AguaAguaSub.9*PC.9*IF.ASub.Con.Der.a.nc/RfD.dm.cn.9))),\"-\")","v":"-"},null,{"$f":"IF(CENÁRIOS!$I$22=TRUE,IF(PM.9=\"\",\"-\",IF(OR(RfD.ig.cn.9=\"-\",RfD.ig.cn.9=\"\",RfD.ig.cn.9=0,Cff.AguaAguaSub.9=\"-\"),\"-\",(Cff.AguaAguaSub.9*IF.ASub.Ing.a.nc/RfD.ig.cn.9))),\"-\")","v":"-"},null,null,"-",null,"-"]
[null,10,{"$f":"SQI!D18","v":0},{"$f":"SQI!C18","v":""},"C",{"$f":"IF(CENÁRIOS!$H$19=TRUE,IF(PM.10=\"\",\"-\",IF(OR(Sf.in.10=\"-\",Sf.in.10=\"\",Sf.in.10=0,Cf.ArAguaSub.Abe.10=\"-\"),\"-\",(Cf.ArAguaSub.Abe.10*IF.ASub.Ina.Abe.a.c*Sf.in.10))),\"-\")","v":"-"},null,{"$f":"IF(CENÁRIOS!$H$20=TRUE,IF(PM.10=\"\",\"-\",IF(OR(Sf.in.10=\"-\",Sf.in.10=\"\",Sf.in.10=0,Cf.ArAguaSub.Fec.10=\"-\"),\"-\",(Cf.ArAguaSub.Fec.10*IF.ASub.Ina.Fec.a.c*Sf.in.10))),\"-\")","v":"-"},null,{"$f":"IF(CENÁRIOS!$H$21=TRUE,IF(PM.10=\"\",\"-\",IF(OR(Sf.dm.10=\"-\",Sf.dm.10=\"\",Sf.dm.10=0,PC.10=\"\"),\"-\",(Cf.AguaSub.10*PC.10*IF.ASub.Con.Der.a.c*Sf.dm.10))),\"-\")","v":"-"},null,{"$f":"IF(CENÁRIOS!$H$22=TRUE,IF(PM.10=\"\",\"-\",IF(OR(Sf.ig.10=\"-\",Sf.ig.10=\"\",Sf.ig.10=0),\"-\",(Cf.AguaSub.10*IF.ASub.Ing.a.c*Sf.ig.10))),\"-\")","v":"-"},null,{"$f":"IF(CENÁRIOS!$I$19=TRUE,IF(PM.10=\"\",\"-\",IF(OR(Sf.in.10=\"-\",Sf.in.10=\"\",Sf.in.10=0,Cff.ArAguaSub.Abe.10=\"-\"),\"-\",(Cff.ArAguaSub.Abe.10*IF.ASub.Ina.Abe.a.c*Sf.in.10))),\"-\")","v":"-"},null,{"$f":"IF(CENÁRIOS!$I$20=TRUE,IF(PM.10=\"\",\"-\",IF(OR(Sf.in.10=\"-\",Sf.in.10=\"\",Sf.in.10=0,Cff.ArAguaSub.Fec.10=\"-\"),\"-\",(Cff.ArAguaSub.Fec.10*IF.ASub.Ina.Fec.a.c*Sf.in.10))),\"-\")","v":"-"},null,{"$f":"IF(CENÁRIOS!$I$21=TRUE,IF(PM.10=\"\",\"-\",IF(OR(Sf.dm.10=\"-\",Sf.dm.10=\"\",Sf.dm.10=0,Cff.AguaAguaSub.10=\"-\",PC.10=\"\"),\"-\",(Cff.AguaAguaSub.10*PC.10*IF.ASub.Con.Der.a.c*Sf.dm.10))),\"-\")","v":"-"},null,{"$f":"IF(CENÁRIOS!$I$22=TRUE,IF(PM.10=\"\",\"-\",IF(OR(Sf.ig.10=\"-\",Sf.ig.10=\"\",Sf.ig.10=0,Cff.AguaAguaSub.10=\"-\"),\"-\",(Cff.AguaAguaSub.10*IF.ASub.Ing.a.c*Sf.ig.10))),\"-\")","v":"-"},null,null,"-",null,"-"]
[null,null,null,null,"NC",{"$f":"IF(CENÁRIOS!$H$19=TRUE,IF(PM.10=\"\",\"-\",IF(OR(RfD.in.cn.10=\"-\",RfD.in.cn.10=\"\",RfD.in.cn.10=0,Cf.ArAguaSub.Abe.10=\"-\"),\"-\",(Cf.ArAguaSub.Abe.10*IF.ASub.Ina.Abe.a.nc/RfD.in.cn.10))),\"-\")","v":"-"},null,{"$f":"IF(CENÁRIOS!$H$20=TRUE,IF(PM.10=\"\",\"-\",IF(OR(RfD.in.cn.10=\"-\",RfD.in.cn.10=\"\",RfD.in.cn.10=0,Cf.ArAguaSub.Fec.10=\"-\"),\"-\",(Cf.ArAguaSub.Fec.10*IF.ASub.Ina.Fec.a.nc/RfD.in.cn.10))),\"-\")","v":"-"},null,{"$f":"IF(CENÁRIOS!$H$21=TRUE,IF(PM.10=\"\",\"-\",IF(OR(RfD.dm.cn.10=\"-\",RfD.dm.cn.10=\"\",RfD.dm.cn.10=0,PC.10=\"\"),\"-\",(Cf.AguaSub.10*PC.10*IF.ASub.Con.Der.a.nc/RfD.dm.cn.10))),\"-\")","v":"-"},null,{"$f":"IF(CENÁRIOS!$H$22=TRUE,IF(PM.10=\"\",\"-\",IF(OR(RfD.ig.cn.10=\"-\",RfD.ig.cn.10=\"\",RfD.ig.cn.10=0),\"-\",(Cf.AguaSub.10*IF.ASub.Ing.a.nc/RfD.ig.cn.10))),\"-\")","v":"-"},null,{"$f":"IF(CENÁRIOS!$I$19=TRUE,IF(PM.10=\"\",\"-\",IF(OR(RfD.in.cn.10=\"-\",RfD.in.cn.10=\"\",RfD.in.cn.10=0,Cff.ArAguaSub.Abe.10=\"-\"),\"-\",(Cff.ArAguaSub.Abe.10*IF.ASub.Ina.Abe.a.nc/RfD.in.cn.10))),\"-\")","v":"-"},null,{"$f":"IF(CENÁRIOS!$I$20=TRUE,IF(PM.10=\"\",\"-\",IF(OR(RfD.in.cn.10=\"-\",RfD.in.cn.10=\"\",RfD.in.cn.10=0,Cff.ArAguaSub.Fec.10=\"-\"),\"-\",(Cff.ArAguaSub.Fec.10*IF.ASub.Ina.Fec.a.nc/RfD.in.cn.10))),\"-\")","v":"-"},null,{"$f":"IF(CENÁRIOS!$I$21=TRUE,IF(PM.10=\"\",\"-\",IF(OR(RfD.dm.cn.10=\"-\",RfD.dm.cn.10=\"\",RfD.dm.cn.10=0,Cff.AguaAguaSub.10=\"-\",PC.10=\"\"),\"-\",(Cff.AguaAguaSub.10*PC.10*IF.ASub.Con.Der.a.nc/RfD.dm.cn.10))),\"-\")","v":"-"},null,{"$f":"IF(CENÁRIOS!$I$22=TRUE,IF(PM.10=\"\",\"-\",IF(OR(RfD.ig.cn.10=\"-\",RfD.ig.cn.10=\"\",RfD.ig.cn.10=0,Cff.AguaAguaSub.10=\"-\"),\"-\",(Cff.AguaAguaSub.10*IF.ASub.Ing.a.nc/RfD.ig.cn.10))),\"-\")","v":"-"},null,null,"-",null,"-"]
[null,11,{"$f":"SQI!D19","v":0},{"$f":"SQI!C19","v":""},"C",{"$f":"IF(CENÁRIOS!$H$19=TRUE,IF(PM.11=\"\",\"-\",IF(OR(Sf.in.11=\"-\",Sf.in.11=\"\",Sf.in.11=0,Cf.ArAguaSub.Abe.11=\"-\"),\"-\",(Cf.ArAguaSub.Abe.11*IF.ASub.Ina.Abe.a.c*Sf.in.11))),\"-\")","v":"-"},null,{"$f":"IF(CENÁRIOS!$H$20=TRUE,IF(PM.11=\"\",\"-\",IF(OR(Sf.in.11=\"-\",Sf.in.11=\"\",Sf.in.11=0,Cf.ArAguaSub.Fec.11=\"-\"),\"-\",(Cf.ArAguaSub.Fec.11*IF.ASub.Ina.Fec.a.c*Sf.in.11))),\"-\")","v":"-"},null,{"$f":"IF(CENÁRIOS!$H$21=TRUE,IF(PM.11=\"\",\"-\",IF(OR(Sf.dm.11=\"-\",Sf.dm.11=\"\",Sf.dm.11=0,PC.11=\"\"),\"-\",(Cf.AguaSub.11*PC.11*IF.ASub.Con.Der.a.c*Sf.dm.11))),\"-\")","v":"-"},null,{"$f":"IF(CENÁRIOS!$H$22=TRUE,IF(PM.11=\"\",\"-\",IF(OR(Sf.ig.11=\"-\",Sf.ig.11=\"\",Sf.ig.11=0),\"-\",(Cf.AguaSub.11*IF.ASub.Ing.a.c*Sf.ig.11))),\"-\")","v":"-"},null,{"$f":"IF(CENÁRIOS!$I$19=TRUE,IF(PM.11=\"\",\"-\",IF(OR(Sf.in.11=\"-\",Sf.in.11=\"\",Sf.in.11=0,Cff.ArAguaSub.Abe.11=\"-\"),\"-\",(Cff.ArAguaSub.Abe.11*IF.ASub.Ina.Abe.a.c*Sf.in.11))),\"-\")","v":"-"},null,{"$f":"IF(CENÁRIOS!$I$20=TRUE,IF(PM.11=\"\",\"-\",IF(OR(Sf.in.11=\"-\",Sf.in.11=\"\",Sf.in.11=0,Cff.ArAguaSub.Fec.11=\"-\"),\"-\",(Cff.ArAguaSub.Fec.11*IF.ASub.Ina.Fec.a.c*Sf.in.11))),\"-\")","v":"-"},null,{"$f":"IF(CENÁRIOS!$I$21=TRUE,IF(PM.11=\"\",\"-\",IF(OR(Sf.dm.11=\"-\",Sf.dm.11=\"\",Sf.dm.11=0,Cff.AguaAguaSub.11=\"-\",PC.11=\"\"),\"-\",(Cff.AguaAguaSub.11*PC.11*IF.ASub.Con.Der.a.c*Sf.dm.11))),\"-\")","v":"-"},null,{"$f":"IF(CENÁRIOS!$I$22=TRUE,IF(PM.11=\"\",\"-\",IF(OR(Sf.ig.11=\"-\",Sf.ig.11=\"\",Sf.ig.11=0,Cff.AguaAguaSub.11=\"-\"),\"-\",(Cff.AguaAguaSub.11*IF.ASub.Ing.a.c*Sf.ig.11))),\"-\")","v":"-"},null,null,"-",null,"-"]
[null,null,null,null,"NC",{"$f":"IF(CENÁRIOS!$H$19=TRUE,IF(PM.11=\"\",\"-\",IF(OR(RfD.in.cn.11=\"-\",RfD.in.cn.11=\"\",RfD.in.cn.11=0,Cf.ArAguaSub.Abe.11=\"-\"),\"-\",(Cf.ArAguaSub.Abe.11*IF.ASub.Ina.Abe.a.nc/RfD.in.cn.11))),\"-\")","v":"-"},null,{"$f":"IF(CENÁRIOS!$H$20=TRUE,IF(PM.11=\"\",\"-\",IF(OR(RfD.in.cn.11=\"-\",RfD.in.cn.11=\"\",RfD.in.cn.11=0,Cf.ArAguaSub.Fec.11=\"-\"),\"-\",(Cf.ArAguaSub.Fec.11*IF.ASub.Ina.Fec.a.nc/RfD.in.cn.11))),\"-\")","v":"-"},null,{"$f":"IF(CENÁRIOS!$H$21=TRUE,IF(PM.11=\"\",\"-\",IF(OR(RfD.dm.cn.11=\"-\",RfD.dm.cn.11=\"\",RfD.dm.cn.11=0,PC.11=\"\"),\"-\",(Cf.AguaSub.11*PC.11*IF.ASub.Con.Der.a.nc/RfD.dm.cn.11))),\"-\")","v":"-"},null,{"$f":"IF(CENÁRIOS!$H$22=TRUE,IF(PM.11=\"\",\"-\",IF(OR(RfD.ig.cn.11=\"-\",RfD.ig.cn.11=\"\",RfD.ig.cn.11=0),\"-\",(Cf.AguaSub.11*IF.ASub.Ing.a.nc/RfD.ig.cn.11))),\"-\")","v":"-"},null,{"$f":"IF(CENÁRIOS!$I$19=TRUE,IF(PM.11=\"\",\"-\",IF(OR(RfD.in.cn.11=\"-\",RfD.in.cn.11=\"\",RfD.in.cn.11=0,Cff.ArAguaSub.Abe.11=\"-\"),\"-\",(Cff.ArAguaSub.Abe.11*IF.ASub.Ina.Abe.a.nc/RfD.in.cn.11))),\"-\")","v":"-"},null,{"$f":"IF(CENÁRIOS!$I$20=TRUE,IF(PM.11=\"\",\"-\",IF(OR(RfD.in.cn.11=\"-\",RfD.in.cn.11=\"\",RfD.in.cn.11=0,Cff.ArAguaSub.Fec.11=\"-\"),\"-\",(Cff.ArAguaSub.Fec.11*IF.ASub.Ina.Fec.a.nc/RfD.in.cn.11))),\"-\")","v":"-"},null,{"$f":"IF(CENÁRIOS!$I$21=TRUE,IF(PM.11=\"\",\"-\",IF(OR(RfD.dm.cn.11=\"-\",RfD.dm.cn.11=\"\",RfD.dm.cn.11=0,Cff.AguaAguaSub.11=\"-\",PC.11=\"\"),\"-\",(Cff.AguaAguaSub.11*PC.11*IF.ASub.Con.Der.a.nc/RfD.dm.cn.11))),\"-\")","v":"-"},null,{"$f":"IF(CENÁRIOS!$I$22=TRUE,IF(PM.11=\"\",\"-\",IF(OR(RfD.ig.cn.11=\"-\",RfD.ig.cn.11=\"\",RfD.ig.cn.11=0,Cff.AguaAguaSub.11=\"-\"),\"-\",(Cff.AguaAguaSub.11*IF.ASub.Ing.a.nc/RfD.ig.cn.11))),\"-\")","v":"-"},null,null,"-",null,"-"]
[null,12,{"$f":"SQI!D20","v":0},{"$f":"SQI!C20","v":""},"C",{"$f":"IF(CENÁRIOS!$H$19=TRUE,IF(PM.12=\"\",\"-\",IF(OR(Sf.in.12=\"-\",Sf.in.12=\"\",Sf.in.12=0,Cf.ArAguaSub.Abe.12=\"-\"),\"-\",(Cf.ArAguaSub.Abe.12*IF.ASub.Ina.Abe.a.c*Sf.in.12))),\"-\")","v":"-"},null,{"$f":"IF(CENÁRIOS!$H$20=TRUE,IF(PM.12=\"\",\"-\",IF(OR(Sf.in.12=\"-\",Sf.in.12=\"\",Sf.in.12=0,Cf.ArAguaSub.Fec.12=\"-\"),\"-\",(Cf.ArAguaSub.Fec.12*IF.ASub.Ina.Fec.a.c*Sf.in.12))),\"-\")","v":"-"},null,{"$f":"IF(CENÁRIOS!$H$21=TRUE,IF(PM.12=\"\",\"-\",IF(OR(Sf.dm.12=\"-\",Sf.dm.12=\"\",Sf.dm.12=0,PC.12=\"\"),\"-\",(Cf.AguaSub.12*PC.12*IF.ASub.Con.Der.a.c*Sf.dm.12))),\"-\")","v":"-"},null,{"$f":"IF(CENÁRIOS!$H$22=TRUE,IF(PM.12=\"\",\"-\",IF(OR(Sf.ig.12=\"-\",Sf.ig.12=\"\",Sf.ig.12=0),\"-\",(Cf.AguaSub.12*IF.ASub.Ing.a.c*Sf.ig.12))),\"-\")","v":"-"},null,{"$f":"IF(CENÁRIOS!$I$19=TRUE,IF(PM.12=\"\",\"-\",IF(OR(Sf.in.12=\"-\",Sf.in.12=\"\",Sf.in.12=0,Cff.ArAguaSub.Abe.12=\"-\"),\"-\",(Cff.ArAguaSub.Abe.12*IF.ASub.Ina.Abe.a.c*Sf.in.12))),\"-\")","v":"-"},null,{"$f":"IF(CENÁRIOS!$I$20=TRUE,IF(PM.12=\"\",\"-\",IF(OR(Sf.in.12=\"-\",Sf.in.12=\"\",Sf.in.12=0,Cff.ArAguaSub.Fec.12=\"-\"),\"-\",(Cff.ArAguaSub.Fec.12*IF.ASub.Ina.Fec.a.c*Sf.in.12))),\"-\")","v":"-"},null,{"$f":"IF(CENÁRIOS!$I$21=TRUE,IF(PM.12=\"\",\"-\",IF(OR(Sf.dm.12=\"-\",Sf.dm.12=\"\",Sf.dm.12=0,Cff.AguaAguaSub.12=\"-\",PC.12=\"\"),\"-\",(Cff.AguaAguaSub.12*PC.12*IF.ASub.Con.Der.a.c*Sf.dm.12))),\"-\")","v":"-"},null,{"$f":"IF(CENÁRIOS!$I$22=TRUE,IF(PM.12=\"\",\"-\",IF(OR(Sf.ig.12=\"-\",Sf.ig.12=\"\",Sf.ig.12=0,Cff.AguaAguaSub.12=\"-\"),\"-\",(Cff.AguaAguaSub.12*IF.ASub.Ing.a.c*Sf.ig.12))),\"-\")","v":"-"},null,null,"-",null,"-"]
[null,null,null,null,"NC",{"$f":"IF(CENÁRIOS!$H$19=TRUE,IF(PM.12=\"\",\"-\",IF(OR(RfD.in.cn.12=\"-\",RfD.in.cn.12=\"\",RfD.in.cn.12=0,Cf.ArAguaSub.Abe.12=\"-\"),\"-\",(Cf.ArAguaSub.Abe.12*IF.ASub.Ina.Abe.a.nc/RfD.in.cn.12))),\"-\")","v":"-"},null,{"$f":"IF(CENÁRIOS!$H$20=TRUE,IF(PM.12=\"\",\"-\",IF(OR(RfD.in.cn.12=\"-\",RfD.in.cn.12=\"\",RfD.in.cn.12=0,Cf.ArAguaSub.Fec.12=\"-\"),\"-\",(Cf.ArAguaSub.Fec.12*IF.ASub.Ina.Fec.a.nc/RfD.in.cn.12))),\"-\")","v":"-"},null,{"$f":"IF(CENÁRIOS!$H$21=TRUE,IF(PM.12=\"\",\"-\",IF(OR(RfD.dm.cn.12=\"-\",RfD.dm.cn.12=\"\",RfD.dm.cn.12=0,PC.12=\"\"),\"-\",(Cf.AguaSub.12*PC.12*IF.ASub.Con.Der.a.nc/RfD.dm.cn.12))),\"-\")","v":"-"},null,{"$f":"IF(CENÁRIOS!$H$22=TRUE,IF(PM.12=\"\",\"-\",IF(OR(RfD.ig.cn.12=\"-\",RfD.ig.cn.12=\"\",RfD.ig.cn.12=0),\"-\",(Cf.AguaSub.12*IF.ASub.Ing.a.nc/RfD.ig.cn.12))),\"-\")","v":"-"},null,{"$f":"IF(CENÁRIOS!$I$19=TRUE,IF(PM.12=\"\",\"-\",IF(OR(RfD.in.cn.12=\"-\",RfD.in.cn.12=\"\",RfD.in.cn.12=0,Cff.ArAguaSub.Abe.12=\"-\"),\"-\",(Cff.ArAguaSub.Abe.12*IF.ASub.Ina.Abe.a.nc/RfD.in.cn.12))),\"-\")","v":"-"},null,{"$f":"IF(CENÁRIOS!$I$20=TRUE,IF(PM.12=\"\",\"-\",IF(OR(RfD.in.cn.12=\"-\",RfD.in.cn.12=\"\",RfD.in.cn.12=0,Cff.ArAguaSub.Fec.12=\"-\"),\"-\",(Cff.ArAguaSub.Fec.12*IF.ASub.Ina.Fec.a.nc/RfD.in.cn.12))),\"-\")","v":"-"},null,{"$f":"IF(CENÁRIOS!$I$21=TRUE,IF(PM.12=\"\",\"-\",IF(OR(RfD.dm.cn.12=\"-\",RfD.dm.cn.12=\"\",RfD.dm.cn.12=0,Cff.AguaAguaSub.12=\"-\",PC.12=\"\"),\"-\",(Cff.AguaAguaSub.12*PC.12*IF.ASub.Con.Der.a.nc/RfD.dm.cn.12))),\"-\")","v":"-"},null,{"$f":"IF(CENÁRIOS!$I$22=TRUE,IF(PM.12=\"\",\"-\",IF(OR(RfD.ig.cn.12=\"-\",RfD.ig.cn.12=\"\",RfD.ig.cn.12=0,Cff.AguaAguaSub.12=\"-\"),\"-\",(Cff.AguaAguaSub.12*IF.ASub.Ing.a.nc/RfD.ig.cn.12))),\"-\")","v":"-"},null,null,"-",null,"-"]
[null,13,{"$f":"SQI!D21","v":0},{"$f":"SQI!C21","v":""},"C",{"$f":"IF(CENÁRIOS!$H$19=TRUE,IF(PM.13=\"\",\"-\",IF(OR(Sf.in.13=\"-\",Sf.in.13=\"\",Sf.in.13=0,Cf.ArAguaSub.Abe.13=\"-\"),\"-\",(Cf.ArAguaSub.Abe.13*IF.ASub.Ina.Abe.a.c*Sf.in.13))),\"-\")","v":"-"},null,{"$f":"IF(CENÁRIOS!$H$20=TRUE,IF(PM.13=\"\",\"-\",IF(OR(Sf.in.13=\"-\",Sf.in.13=\"\",Sf.in.13=0,Cf.ArAguaSub.Fec.13=\"-\"),\"-\",(Cf.ArAguaSub.Fec.13*IF.ASub.Ina.Fec.a.c*Sf.in.13))),\"-\")","v":"-"},null,{"$f":"IF(CENÁRIOS!$H$21=TRUE,IF(PM.13=\"\",\"-\",IF(OR(Sf.dm.13=\"-\",Sf.dm.13=\"\",Sf.dm.13=0,PC.13=\"\"),\"-\",(Cf.AguaSub.13*PC.13*IF.ASub.Con.Der.a.c*Sf.dm.13))),\"-\")","v":"-"},null,{"$f":"IF(CENÁRIOS!$H$22=TRUE,IF(PM.13=\"\",\"-\",IF(OR(Sf.ig.13=\"-\",Sf.ig.13=\"\",Sf.ig.13=0),\"-\",(Cf.AguaSub.13*IF.ASub.Ing.a.c*Sf.ig.13))),\"-\")","v":"-"},null,{"$f":"IF(CENÁRIOS!$I$19=TRUE,IF(PM.13=\"\",\"-\",IF(OR(Sf.in.13=\"-\",Sf.in.13=\"\",Sf.in.13=0,Cff.ArAguaSub.Abe.13=\"-\"),\"-\",(Cff.ArAguaSub.Abe.13*IF.ASub.Ina.Abe.a.c*Sf.in.13))),\"-\")","v":"-"},null,{"$f":"IF(CENÁRIOS!$I$20=TRUE,IF(PM.13=\"\",\"-\",IF(OR(Sf.in.13=\"-\",Sf.in.13=\"\",Sf.in.13=0,Cff.ArAguaSub.Fec.13=\"-\"),\"-\",(Cff.ArAguaSub.Fec.13*IF.ASub.Ina.Fec.a.c*Sf.in.13))),\"-\")","v":"-"},null,{"$f":"IF(CENÁRIOS!$I$21=TRUE,IF(PM.13=\"\",\"-\",IF(OR(Sf.dm.13=\"-\",Sf.dm.13=\"\",Sf.dm.13=0,Cff.AguaAguaSub.13=\"-\",PC.13=\"\"),\"-\",(Cff.AguaAguaSub.13*PC.13*IF.ASub.Con.Der.a.c*Sf.dm.13))),\"-\")","v":"-"},null,{"$f":"IF(CENÁRIOS!$I$22=TRUE,IF(PM.13=\"\",\"-\",IF(OR(Sf.ig.13=\"-\",Sf.ig.13=\"\",Sf.ig.13=0,Cff.AguaAguaSub.13=\"-\"),\"-\",(Cff.AguaAguaSub.13*IF.ASub.Ing.a.c*Sf.ig.13))),\"-\")","v":"-"},null,null,"-",null,"-"]
[null,null,null,null,"NC",{"$f":"IF(CENÁRIOS!$H$19=TRUE,IF(PM.13=\"\",\"-\",IF(OR(RfD.in.cn.13=\"-\",RfD.in.cn.13=\"\",RfD.in.cn.13=0,Cf.ArAguaSub.Abe.13=\"-\"),\"-\",(Cf.ArAguaSub.Abe.13*IF.ASub.Ina.Abe.a.nc/RfD.in.cn.13))),\"-\")","v":"-"},null,{"$f":"IF(CENÁRIOS!$H$20=TRUE,IF(PM.13=\"\",\"-\",IF(OR(RfD.in.cn.13=\"-\",RfD.in.cn.13=\"\",RfD.in.cn.13=0,Cf.ArAguaSub.Fec.13=\"-\"),\"-\",(Cf.ArAguaSub.Fec.13*IF.ASub.Ina.Fec.a.nc/RfD.in.cn.13))),\"-\")","v":"-"},null,{"$f":"IF(CENÁRIOS!$H$21=TRUE,IF(PM.13=\"\",\"-\",IF(OR(RfD.dm.cn.13=\"-\",RfD.dm.cn.13=\"\",RfD.dm.cn.13=0,PC.13=\"\"),\"-\",(Cf.AguaSub.13*PC.13*IF.ASub.Con.Der.a.nc/RfD.dm.cn.13))),\"-\")","v":"-"},null,{"$f":"IF(CENÁRIOS!$H$22=TRUE,IF(PM.13=\"\",\"-\",IF(OR(RfD.ig.cn.13=\"-\",RfD.ig.cn.13=\"\",RfD.ig.cn.13=0),\"-\",(Cf.AguaSub.13*IF.ASub.Ing.a.nc/RfD.ig.cn.13))),\"-\")","v":"-"},null,{"$f":"IF(CENÁRIOS!$I$19=TRUE,IF(PM.13=\"\",\"-\",IF(OR(RfD.in.cn.13=\"-\",RfD.in.cn.13=\"\",RfD.in.cn.13=0,Cff.ArAguaSub.Abe.13=\"-\"),\"-\",(Cff.ArAguaSub.Abe.13*IF.ASub.Ina.Abe.a.nc/RfD.in.cn.13))),\"-\")","v":"-"},null,{"$f":"IF(CENÁRIOS!$I$20=TRUE,IF(PM.13=\"\",\"-\",IF(OR(RfD.in.cn.13=\"-\",RfD.in.cn.13=\"\",RfD.in.cn.13=0,Cff.ArAguaSub.Fec.13=\"-\"),\"-\",(Cff.ArAguaSub.Fec.13*IF.ASub.Ina.Fec.a.nc/RfD.in.cn.13))),\"-\")","v":"-"},null,{"$f":"IF(CENÁRIOS!$I$21=TRUE,IF(PM.13=\"\",\"-\",IF(OR(RfD.dm.cn.13=\"-\",RfD.dm.cn.13=\"\",RfD.dm.cn.13=0,Cff.AguaAguaSub.13=\"-\",PC.13=\"\"),\"-\",(Cff.AguaAguaSub.13*PC.13*IF.ASub.Con.Der.a.nc/RfD.dm.cn.13))),\"-\")","v":"-"},null,{"$f":"IF(CENÁRIOS!$I$22=TRUE,IF(PM.13=\"\",\"-\",IF(OR(RfD.ig.cn.13=\"-\",RfD.ig.cn.13=\"\",RfD.ig.cn.13=0,Cff.AguaAguaSub.13=\"-\"),\"-\",(Cff.AguaAguaSub.13*IF.ASub.Ing.a.nc/RfD.ig.cn.13))),\"-\")","v":"-"},null,null,"-",null,"-"]
[null,14,{"$f":"SQI!D22","v":0},{"$f":"SQI!C22","v":""},"C",{"$f":"IF(CENÁRIOS!$H$19=TRUE,IF(PM.14=\"\",\"-\",IF(OR(Sf.in.14=\"-\",Sf.in.14=\"\",Sf.in.14=0,Cf.ArAguaSub.Abe.14=\"-\"),\"-\",(Cf.ArAguaSub.Abe.14*IF.ASub.Ina.Abe.a.c*Sf.in.14))),\"-\")","v":"-"},null,{"$f":"IF(CENÁRIOS!$H$20=TRUE,IF(PM.14=\"\",\"-\",IF(OR(Sf.in.14=\"-\",Sf.in.14=\"\",Sf.in.14=0,Cf.ArAguaSub.Fec.14=\"-\"),\"-\",(Cf.ArAguaSub.Fec.14*IF.ASub.Ina.Fec.a.c*Sf.in.14))),\"-\")","v":"-"},null,{"$f":"IF(CENÁRIOS!$H$21=TRUE,IF(PM.14=\"\",\"-\",IF(OR(Sf.dm.14=\"-\",Sf.dm.14=\"\",Sf.dm.14=0,PC.14=\"\"),\"-\",(Cf.AguaSub.14*PC.14*IF.ASub.Con.Der.a.c*Sf.dm.14))),\"-\")","v":"-"},null,{"$f":"IF(CENÁRIOS!$H$22=TRUE,IF(PM.14=\"\",\"-\",IF(OR(Sf.ig.14=\"-\",Sf.ig.14=\"\",Sf.ig.14=0),\"-\",(Cf.AguaSub.14*IF.ASub.Ing.a.c*Sf.ig.14))),\"-\")","v":"-"},null,{"$f":"IF(CENÁRIOS!$I$19=TRUE,IF(PM.14=\"\",\"-\",IF(OR(Sf.in.14=\"-\",Sf.in.14=\"\",Sf.in.14=0,Cff.ArAguaSub.Abe.14=\"-\"),\"-\",(Cff.ArAguaSub.Abe.14*IF.ASub.Ina.Abe.a.c*Sf.in.14))),\"-\")","v":"-"},null,{"$f":"IF(CENÁRIOS!$I$20=TRUE,IF(PM.14=\"\",\"-\",IF(OR(Sf.in.14=\"-\",Sf.in.14=\"\",Sf.in.14=0,Cff.ArAguaSub.Fec.14=\"-\"),\"-\",(Cff.ArAguaSub.Fec.14*IF.ASub.Ina.Fec.a.c*Sf.in.14))),\"-\")","v":"-"},null,{"$f":"IF(CENÁRIOS!$I$21=TRUE,IF(PM.14=\"\",\"-\",IF(OR(Sf.dm.14=\"-\",Sf.dm.14=\"\",Sf.dm.14=0,Cff.AguaAguaSub.14=\"-\",PC.14=\"\"),\"-\",(Cff.AguaAguaSub.14*PC.14*IF.ASub.Con.Der.a.c*Sf.dm.14))),\"-\")","v":"-"},null,{"$f":"IF(CENÁRIOS!$I$22=TRUE,IF(PM.14=\"\",\"-\",IF(OR(Sf.ig.14=\"-\",Sf.ig.14=\"\",Sf.ig.14=0,Cff.AguaAguaSub.14=\"-\"),\"-\",(Cff.AguaAguaSub.14*IF.ASub.Ing.a.c*Sf.ig.14))),\"-\")","v":"-"},null,null,"-",null,"-"]
[null,null,null,null,"NC",{"$f":"IF(CENÁRIOS!$H$19=TRUE,IF(PM.14=\"\",\"-\",IF(OR(RfD.in.cn.14=\"-\",RfD.in.cn.14=\"\",RfD.in.cn.14=0,Cf.ArAguaSub.Abe.14=\"-\"),\"-\",(Cf.ArAguaSub.Abe.14*IF.ASub.Ina.Abe.a.nc/RfD.in.cn.14))),\"-\")","v":"-"},null,{"$f":"IF(CENÁRIOS!$H$20=TRUE,IF(PM.14=\"\",\"-\",IF(OR(RfD.in.cn.14=\"-\",RfD.in.cn.14=\"\",RfD.in.cn.14=0,Cf.ArAguaSub.Fec.14=\"-\"),\"-\",(Cf.ArAguaSub.Fec.14*IF.ASub.Ina.Fec.a.nc/RfD.in.cn.14))),\"-\")","v":"-"},null,{"$f":"IF(CENÁRIOS!$H$21=TRUE,IF(PM.14=\"\",\"-\",IF(OR(RfD.dm.cn.14=\"-\",RfD.dm.cn.14=\"\",RfD.dm.cn.14=0,PC.14=\"\"),\"-\",(Cf.AguaSub.14*PC.14*IF.ASub.Con.Der.a.nc/RfD.dm.cn.14))),\"-\")","v":"-"},null,{"$f":"IF(CENÁRIOS!$H$22=TRUE,IF(PM.14=\"\",\"-\",IF(OR(RfD.ig.cn.14=\"-\",RfD.ig.cn.14=\"\",RfD.ig.cn.14=0),\"-\",(Cf.AguaSub.14*IF.ASub.Ing.a.nc/RfD.ig.cn.14))),\"-\")","v":"-"},null,{"$f":"IF(CENÁRIOS!$I$19=TRUE,IF(PM.14=\"\",\"-\",IF(OR(RfD.in.cn.14=\"-\",RfD.in.cn.14=\"\",RfD.in.cn.14=0,Cff.ArAguaSub.Abe.14=\"-\"),\"-\",(Cff.ArAguaSub.Abe.14*IF.ASub.Ina.Abe.a.nc/RfD.in.cn.14))),\"-\")","v":"-"},null,{"$f":"IF(CENÁRIOS!$I$20=TRUE,IF(PM.14=\"\",\"-\",IF(OR(RfD.in.cn.14=\"-\",RfD.in.cn.14=\"\",RfD.in.cn.14=0,Cff.ArAguaSub.Fec.14=\"-\"),\"-\",(Cff.ArAguaSub.Fec.14*IF.ASub.Ina.Fec.a.nc/RfD.in.cn.14))),\"-\")","v":"-"},null,{"$f":"IF(CENÁRIOS!$I$21=TRUE,IF(PM.14=\"\",\"-\",IF(OR(RfD.dm.cn.14=\"-\",RfD.dm.cn.14=\"\",RfD.dm.cn.14=0,Cff.AguaAguaSub.14=\"-\",PC.14=\"\"),\"-\",(Cff.AguaAguaSub.14*PC.14*IF.ASub.Con.Der.a.nc/RfD.dm.cn.14))),\"-\")","v":"-"},null,{"$f":"IF(CENÁRIOS!$I$22=TRUE,IF(PM.14=\"\",\"-\",IF(OR(RfD.ig.cn.14=\"-\",RfD.ig.cn.14=\"\",RfD.ig.cn.14=0,Cff.AguaAguaSub.14=\"-\"),\"-\",(Cff.AguaAguaSub.14*IF.ASub.Ing.a.nc/RfD.ig.cn.14))),\"-\")","v":"-"},null,null,"-",null,"-"]
[null,15,{"$f":"SQI!D23","v":0},{"$f":"SQI!C23","v":""},"C",{"$f":"IF(CENÁRIOS!$H$19=TRUE,IF(PM.15=\"\",\"-\",IF(OR(Sf.in.15=\"-\",Sf.in.15=\"\",Sf.in.15=0,Cf.ArAguaSub.Abe.15=\"-\"),\"-\",(Cf.ArAguaSub.Abe.15*IF.ASub.Ina.Abe.a.c*Sf.in.15))),\"-\")","v":"-"},null,{"$f":"IF(CENÁRIOS!$H$20=TRUE,IF(PM.15=\"\",\"-\",IF(OR(Sf.in.15=\"-\",Sf.in.15=\"\",Sf.in.15=0,Cf.ArAguaSub.Fec.15=\"-\"),\"-\",(Cf.ArAguaSub.Fec.15*IF.ASub.Ina.Fec.a.c*Sf.in.15))),\"-\")","v":"-"},null,{"$f":"IF(CENÁRIOS!$H$21=TRUE,IF(PM.15=\"\",\"-\",IF(OR(Sf.dm.15=\"-\",Sf.dm.15=\"\",Sf.dm.15=0,PC.15=\"\"),\"-\",(Cf.AguaSub.15*PC.15*IF.ASub.Con.Der.a.c*Sf.dm.15))),\"-\")","v":"-"},null,{"$f":"IF(CENÁRIOS!$H$22=TRUE,IF(PM.15=\"\",\"-\",IF(OR(Sf.ig.15=\"-\",Sf.ig.15=\"\",Sf.ig.15=0),\"-\",(Cf.AguaSub.15*IF.ASub.Ing.a.c*Sf.ig.15))),\"-\")","v":"-"},null,{"$f":"IF(CENÁRIOS!$I$19=TRUE,IF(PM.15=\"\",\"-\",IF(OR(Sf.in.15=\"-\",Sf.in.15=\"\",Sf.in.15=0,Cff.ArAguaSub.Abe.15=\"-\"),\"-\",(Cff.ArAguaSub.Abe.15*IF.ASub.Ina.Abe.a.c*Sf.in.15))),\"-\")","v":"-"},null,{"$f":"IF(CENÁRIOS!$I$20=TRUE,IF(PM.15=\"\",\"-\",IF(OR(Sf.in.15=\"-\",Sf.in.15=\"\",Sf.in.15=0,Cff.ArAguaSub.Fec.15=\"-\"),\"-\",(Cff.ArAguaSub.Fec.15*IF.ASub.Ina.Fec.a.c*Sf.in.15))),\"-\")","v":"-"},null,{"$f":"IF(CENÁRIOS!$I$21=TRUE,IF(PM.15=\"\",\"-\",IF(OR(Sf.dm.15=\"-\",Sf.dm.15=\"\",Sf.dm.15=0,Cff.AguaAguaSub.15=\"-\",PC.15=\"\"),\"-\",(Cff.AguaAguaSub.15*PC.15*IF.ASub.Con.Der.a.c*Sf.dm.15))),\"-\")","v":"-"},null,{"$f":"IF(CENÁRIOS!$I$22=TRUE,IF(PM.15=\"\",\"-\",IF(OR(Sf.ig.15=\"-\",Sf.ig.15=\"\",Sf.ig.15=0,Cff.AguaAguaSub.15=\"-\"),\"-\",(Cff.AguaAguaSub.15*IF.ASub.Ing.a.c*Sf.ig.15))),\"-\")","v":"-"},null,null,"-",null,"-"]
[null,null,null,null,"NC",{"$f":"IF(CENÁRIOS!$H$19=TRUE,IF(PM.15=\"\",\"-\",IF(OR(RfD.in.cn.15=\"-\",RfD.in.cn.15=\"\",RfD.in.cn.15=0,Cf.ArAguaSub.Abe.15=\"-\"),\"-\",(Cf.ArAguaSub.Abe.15*IF.ASub.Ina.Abe.a.nc/RfD.in.cn.15))),\"-\")","v":"-"},null,{"$f":"IF(CENÁRIOS!$H$20=TRUE,IF(PM.15=\"\",\"-\",IF(OR(RfD.in.cn.15=\"-\",RfD.in.cn.15=\"\",RfD.in.cn.15=0,Cf.ArAguaSub.Fec.15=\"-\"),\"-\",(Cf.ArAguaSub.Fec.15*IF.ASub.Ina.Fec.a.nc/RfD.in.cn.15))),\"-\")","v":"-"},null,{"$f":"IF(CENÁRIOS!$H$21=TRUE,IF(PM.15=\"\",\"-\",IF(OR(RfD.dm.cn.15=\"-\",RfD.dm.cn.15=\"\",RfD.dm.cn.15=0,PC.15=\"\"),\"-\",(Cf.AguaSub.15*PC.15*IF.ASub.Con.Der.a.nc/RfD.dm.cn.15))),\"-\")","v":"-"},null,{"$f":"IF(CENÁRIOS!$H$22=TRUE,IF(PM.15=\"\",\"-\",IF(OR(RfD.ig.cn.15=\"-\",RfD.ig.cn.15=\"\",RfD.ig.cn.15=0),\"-\",(Cf.AguaSub.15*IF.ASub.Ing.a.nc/RfD.ig.cn.15))),\"-\")","v":"-"},null,{"$f":"IF(CENÁRIOS!$I$19=TRUE,IF(PM.15=\"\",\"-\",IF(OR(RfD.in.cn.15=\"-\",RfD.in.cn.15=\"\",RfD.in.cn.15=0,Cff.ArAguaSub.Abe.15=\"-\"),\"-\",(Cff.ArAguaSub.Abe.15*IF.ASub.Ina.Abe.a.nc/RfD.in.cn.15))),\"-\")","v":"-"},null,{"$f":"IF(CENÁRIOS!$I$20=TRUE,IF(PM.15=\"\",\"-\",IF(OR(RfD.in.cn.15=\"-\",RfD.in.cn.15=\"\",RfD.in.cn.15=0,Cff.ArAguaSub.Fec.15=\"-\"),\"-\",(Cff.ArAguaSub.Fec.15*IF.ASub.Ina.Fec.a.nc/RfD.in.cn.15))),\"-\")","v":"-"},null,{"$f":"IF(CENÁRIOS!$I$21=TRUE,IF(PM.15=\"\",\"-\",IF(OR(RfD.dm.cn.15=\"-\",RfD.dm.cn.15=\"\",RfD.dm.cn.15=0,Cff.AguaAguaSub.15=\"-\",PC.15=\"\"),\"-\",(Cff.AguaAguaSub.15*PC.15*IF.ASub.Con.Der.a.nc/RfD.dm.cn.15))),\"-\")","v":"-"},null,{"$f":"IF(CENÁRIOS!$I$22=TRUE,IF(PM.15=\"\",\"-\",IF(OR(RfD.ig.cn.15=\"-\",RfD.ig.cn.15=\"\",RfD.ig.cn.15=0,Cff.AguaAguaSub.15=\"-\"),\"-\",(Cff.AguaAguaSub.15*IF.ASub.Ing.a.nc/RfD.ig.cn.15))),\"-\")","v":"-"},null,null,"-",null,"-"]
[null,16,{"$f":"SQI!D24","v":0},{"$f":"SQI!C24","v":""},"C",{"$f":"IF(CENÁRIOS!$H$19=TRUE,IF(PM.16=\"\",\"-\",IF(OR(Sf.in.16=\"-\",Sf.in.16=\"\",Sf.in.16=0,Cf.ArAguaSub.Abe.16=\"-\"),\"-\",(Cf.ArAguaSub.Abe.16*IF.ASub.Ina.Abe.a.c*Sf.in.16))),\"-\")","v":"-"},null,{"$f":"IF(CENÁRIOS!$H$20=TRUE,IF(PM.16=\"\",\"-\",IF(OR(Sf.in.16=\"-\",Sf.in.16=\"\",Sf.in.16=0,Cf.ArAguaSub.Fec.16=\"-\"),\"-\",(Cf.ArAguaSub.Fec.16*IF.ASub.Ina.Fec.a.c*Sf.in.16))),\"-\")","v":"-"},null,{"$f":"IF(CENÁRIOS!$H$21=TRUE,IF(PM.16=\"\",\"-\",IF(OR(Sf.dm.16=\"-\",Sf.dm.16=\"\",Sf.dm.16=0,PC.16=\"\"),\"-\",(Cf.AguaSub.16*PC.16*IF.ASub.Con.Der.a.c*Sf.dm.16))),\"-\")","v":"-"},null,{"$f":"IF(CENÁRIOS!$H$22=TRUE,IF(PM.16=\"\",\"-\",IF(OR(Sf.ig.16=\"-\",Sf.ig.16=\"\",Sf.ig.16=0),\"-\",(Cf.AguaSub.16*IF.ASub.Ing.a.c*Sf.ig.16))),\"-\")","v":"-"},null,{"$f":"IF(CENÁRIOS!$I$19=TRUE,IF(PM.16=\"\",\"-\",IF(OR(Sf.in.16=\"-\",Sf.in.16=\"\",Sf.in.16=0,Cff.ArAguaSub.Abe.16=\"-\"),\"-\",(Cff.ArAguaSub.Abe.16*IF.ASub.Ina.Abe.a.c*Sf.in.16))),\"-\")","v":"-"},null,{"$f":"IF(CENÁRIOS!$I$20=TRUE,IF(PM.16=\"\",\"-\",IF(OR(Sf.in.16=\"-\",Sf.in.16=\"\",Sf.in.16=0,Cff.ArAguaSub.Fec.16=\"-\"),\"-\",(Cff.ArAguaSub.Fec.16*IF.ASub.Ina.Fec.a.c*Sf.in.16))),\"-\")","v":"-"},null,{"$f":"IF(CENÁRIOS!$I$21=TRUE,IF(PM.16=\"\",\"-\",IF(OR(Sf.dm.16=\"-\",Sf.dm.16=\"\",Sf.dm.16=0,Cff.AguaAguaSub.16=\"-\",PC.16=\"\"),\"-\",(Cff.AguaAguaSub.16*PC.16*IF.ASub.Con.Der.a.c*Sf.dm.16))),\"-\")","v":"-"},null,{"$f":"IF(CENÁRIOS!$I$22=TRUE,IF(PM.16=\"\",\"-\",IF(OR(Sf.ig.16=\"-\",Sf.ig.16=\"\",Sf.ig.16=0,Cff.AguaAguaSub.16=\"-\"),\"-\",(Cff.AguaAguaSub.16*IF.ASub.Ing.a.c*Sf.ig.16))),\"-\")","v":"-"},null,null,"-",null,"-"]
[null,null,null,null,"NC",{"$f":"IF(CENÁRIOS!$H$19=TRUE,IF(PM.16=\"\",\"-\",IF(OR(RfD.in.cn.16=\"-\",RfD.in.cn.16=\"\",RfD.in.cn.16=0,Cf.ArAguaSub.Abe.16=\"-\"),\"-\",(Cf.ArAguaSub.Abe.16*IF.ASub.Ina.Abe.a.nc/RfD.in.cn.16))),\"-\")","v":"-"},null,{"$f":"IF(CENÁRIOS!$H$20=TRUE,IF(PM.16=\"\",\"-\",IF(OR(RfD.in.cn.16=\"-\",RfD.in.cn.16=\"\",RfD.in.cn.16=0,Cf.ArAguaSub.Fec.16=\"-\"),\"-\",(Cf.ArAguaSub.Fec.16*IF.ASub.Ina.Fec.a.nc/RfD.in.cn.16))),\"-\")","v":"-"},null,{"$f":"IF(CENÁRIOS!$H$21=TRUE,IF(PM.16=\"\",\"-\",IF(OR(RfD.dm.cn.16=\"-\",RfD.dm.cn.16=\"\",RfD.dm.cn.16=0,PC.16=\"\"),\"-\",(Cf.AguaSub.16*PC.16*IF.ASub.Con.Der.a.nc/RfD.dm.cn.16))),\"-\")","v":"-"},null,{"$f":"IF(CENÁRIOS!$H$22=TRUE,IF(PM.16=\"\",\"-\",IF(OR(RfD.ig.cn.16=\"-\",RfD.ig.cn.16=\"\",RfD.ig.cn.16=0),\"-\",(Cf.AguaSub.16*IF.ASub.Ing.a.nc/RfD.ig.cn.16))),\"-\")","v":"-"},null,{"$f":"IF(CENÁRIOS!$I$19=TRUE,IF(PM.16=\"\",\"-\",IF(OR(RfD.in.cn.16=\"-\",RfD.in.cn.16=\"\",RfD.in.cn.16=0,Cff.ArAguaSub.Abe.16=\"-\"),\"-\",(Cff.ArAguaSub.Abe.16*IF.ASub.Ina.Abe.a.nc/RfD.in.cn.16))),\"-\")","v":"-"},null,{"$f":"IF(CENÁRIOS!$I$20=TRUE,IF(PM.16=\"\",\"-\",IF(OR(RfD.in.cn.16=\"-\",RfD.in.cn.16=\"\",RfD.in.cn.16=0,Cff.ArAguaSub.Fec.16=\"-\"),\"-\",(Cff.ArAguaSub.Fec.16*IF.ASub.Ina.Fec.a.nc/RfD.in.cn.16))),\"-\")","v":"-"},null,{"$f":"IF(CENÁRIOS!$I$21=TRUE,IF(PM.16=\"\",\"-\",IF(OR(RfD.dm.cn.16=\"-\",RfD.dm.cn.16=\"\",RfD.dm.cn.16=0,Cff.AguaAguaSub.16=\"-\",PC.16=\"\"),\"-\",(Cff.AguaAguaSub.16*PC.16*IF.ASub.Con.Der.a.nc/RfD.dm.cn.16))),\"-\")","v":"-"},null,{"$f":"IF(CENÁRIOS!$I$22=TRUE,IF(PM.16=\"\",\"-\",IF(OR(RfD.ig.cn.16=\"-\",RfD.ig.cn.16=\"\",RfD.ig.cn.16=0,Cff.AguaAguaSub.16=\"-\"),\"-\",(Cff.AguaAguaSub.16*IF.ASub.Ing.a.nc/RfD.ig.cn.16))),\"-\")","v":"-"},null,null,"-",null,"-"]
[null,17,{"$f":"SQI!D25","v":0},{"$f":"SQI!C25","v":""},"C",{"$f":"IF(CENÁRIOS!$H$19=TRUE,IF(PM.17=\"\",\"-\",IF(OR(Sf.in.17=\"-\",Sf.in.17=\"\",Sf.in.17=0,Cf.ArAguaSub.Abe.17=\"-\"),\"-\",(Cf.ArAguaSub.Abe.17*IF.ASub.Ina.Abe.a.c*Sf.in.17))),\"-\")","v":"-"},null,{"$f":"IF(CENÁRIOS!$H$20=TRUE,IF(PM.17=\"\",\"-\",IF(OR(Sf.in.17=\"-\",Sf.in.17=\"\",Sf.in.17=0,Cf.ArAguaSub.Fec.17=\"-\"),\"-\",(Cf.ArAguaSub.Fec.17*IF.ASub.Ina.Fec.a.c*Sf.in.17))),\"-\")","v":"-"},null,{"$f":"IF(CENÁRIOS!$H$21=TRUE,IF(PM.17=\"\",\"-\",IF(OR(Sf.dm.17=\"-\",Sf.dm.17=\"\",Sf.dm.17=0,PC.17=\"\"),\"-\",(Cf.AguaSub.17*PC.17*IF.ASub.Con.Der.a.c*Sf.dm.17))),\"-\")","v":"-"},null,{"$f":"IF(CENÁRIOS!$H$22=TRUE,IF(PM.17=\"\",\"-\",IF(OR(Sf.ig.17=\"-\",Sf.ig.17=\"\",Sf.ig.17=0),\"-\",(Cf.AguaSub.17*IF.ASub.Ing.a.c*Sf.ig.17))),\"-\")","v":"-"},null,{"$f":"IF(CENÁRIOS!$I$19=TRUE,IF(PM.17=\"\",\"-\",IF(OR(Sf.in.17=\"-\",Sf.in.17=\"\",Sf.in.17=0,Cff.ArAguaSub.Abe.17=\"-\"),\"-\",(Cff.ArAguaSub.Abe.17*IF.ASub.Ina.Abe.a.c*Sf.in.17))),\"-\")","v":"-"},null,{"$f":"IF(CENÁRIOS!$I$20=TRUE,IF(PM.17=\"\",\"-\",IF(OR(Sf.in.17=\"-\",Sf.in.17=\"\",Sf.in.17=0,Cff.ArAguaSub.Fec.17=\"-\"),\"-\",(Cff.ArAguaSub.Fec.17*IF.ASub.Ina.Fec.a.c*Sf.in.17))),\"-\")","v":"-"},null,{"$f":"IF(CENÁRIOS!$I$21=TRUE,IF(PM.17=\"\",\"-\",IF(OR(Sf.dm.17=\"-\",Sf.dm.17=\"\",Sf.dm.17=0,Cff.AguaAguaSub.17=\"-\",PC.17=\"\"),\"-\",(Cff.AguaAguaSub.17*PC.17*IF.ASub.Con.Der.a.c*Sf.dm.17))),\"-\")","v":"-"},null,{"$f":"IF(CENÁRIOS!$I$22=TRUE,IF(PM.17=\"\",\"-\",IF(OR(Sf.ig.17=\"-\",Sf.ig.17=\"\",Sf.ig.17=0,Cff.AguaAguaSub.17=\"-\"),\"-\",(Cff.AguaAguaSub.17*IF.ASub.Ing.a.c*Sf.ig.17))),\"-\")","v":"-"},null,null,{"$f":"IF(SUM(F41:L41)=0,\"-\",SUM(F41:L41))","v":"-"},null,{"$f":"IF(SUM(N41:T41)=0,\"-\",SUM(N41:T41))","v":"-"}]
[null,null,null,null,"NC",{"$f":"IF(CENÁRIOS!$H$19=TRUE,IF(PM.17=\"\",\"-\",IF(OR(RfD.in.cn.17=\"-\",RfD.in.cn.17=\"\",RfD.in.cn.17=0,Cf.ArAguaSub.Abe.17=\"-\"),\"-\",(Cf.ArAguaSub.Abe.17*IF.ASub.Ina.Abe.a.nc/RfD.in.cn.17))),\"-\")","v":"-"},null,{"$f":"IF(CENÁRIOS!$H$20=TRUE,IF(PM.17=\"\",\"-\",IF(OR(RfD.in.cn.17=\"-\",RfD.in.cn.17=\"\",RfD.in.cn.17=0,Cf.ArAguaSub.Fec.17=\"-\"),\"-\",(Cf.ArAguaSub.Fec.17*IF.ASub.Ina.Fec.a.nc/RfD.in.cn.17))),\"-\")","v":"-"},null,{"$f":"IF(CENÁRIOS!$H$21=TRUE,IF(PM.17=\"\",\"-\",IF(OR(RfD.dm.cn.17=\"-\",RfD.dm.cn.17=\"\",RfD.dm.cn.17=0,PC.17=\"\"),\"-\",(Cf.AguaSub.17*PC.17*IF.ASub.Con.Der.a.nc/RfD.dm.cn.17))),\"-\")","v":"-"},null,{"$f":"IF(CENÁRIOS!$H$22=TRUE,IF(PM.17=\"\",\"-\",IF(OR(RfD.ig.cn.17=\"-\",RfD.ig.cn.17=\"\",RfD.ig.cn.17=0),\"-\",(Cf.AguaSub.17*IF.ASub.Ing.a.nc/RfD.ig.cn.17))),\"-\")","v":"-"},null,{"$f":"IF(CENÁRIOS!$I$19=TRUE,IF(PM.17=\"\",\"-\",IF(OR(RfD.in.cn.17=\"-\",RfD.in.cn.17=\"\",RfD.in.cn.17=0,Cff.ArAguaSub.Abe.17=\"-\"),\"-\",(Cff.ArAguaSub.Abe.17*IF.ASub.Ina.Abe.a.nc/RfD.in.cn.17))),\"-\")","v":"-"},null,{"$f":"IF(CENÁRIOS!$I$20=TRUE,IF(PM.17=\"\",\"-\",IF(OR(RfD.in.cn.17=\"-\",RfD.in.cn.17=\"\",RfD.in.cn.17=0,Cff.ArAguaSub.Fec.17=\"-\"),\"-\",(Cff.ArAguaSub.Fec.17*IF.ASub.Ina.Fec.a.nc/RfD.in.cn.17))),\"-\")","v":"-"},null,{"$f":"IF(CENÁRIOS!$I$21=TRUE,IF(PM.17=\"\",\"-\",IF(OR(RfD.dm.cn.17=\"-\",RfD.dm.cn.17=\"\",RfD.dm.cn.17=0,Cff.AguaAguaSub.17=\"-\",PC.17=\"\"),\"-\",(Cff.AguaAguaSub.17*PC.17*IF.ASub.Con.Der.a.nc/RfD.dm.cn.17))),\"-\")","v":"-"},null,{"$f":"IF(CENÁRIOS!$I$22=TRUE,IF(PM.17=\"\",\"-\",IF(OR(RfD.ig.cn.17=\"-\",RfD.ig.cn.17=\"\",RfD.ig.cn.17=0,Cff.AguaAguaSub.17=\"-\"),\"-\",(Cff.AguaAguaSub.17*IF.ASub.Ing.a.nc/RfD.ig.cn.17))),\"-\")","v":"-"},null,null,"-",null,"-"]
[null,18,{"$f":"SQI!D26","v":0},{"$f":"SQI!C26","v":""},"C",{"$f":"IF(CENÁRIOS!$H$19=TRUE,IF(PM.18=\"\",\"-\",IF(OR(Sf.in.18=\"-\",Sf.in.18=\"\",Sf.in.18=0,Cf.ArAguaSub.Abe.18=\"-\"),\"-\",(Cf.ArAguaSub.Abe.18*IF.ASub.Ina.Abe.a.c*Sf.in.18))),\"-\")","v":"-"},null,{"$f":"IF(CENÁRIOS!$H$20=TRUE,IF(PM.18=\"\",\"-\",IF(OR(Sf.in.18=\"-\",Sf.in.18=\"\",Sf.in.18=0,Cf.ArAguaSub.Fec.18=\"-\"),\"-\",(Cf.ArAguaSub.Fec.18*IF.ASub.Ina.Fec.a.c*Sf.in.18))),\"-\")","v":"-"},null,{"$f":"IF(CENÁRIOS!$H$21=TRUE,IF(PM.18=\"\",\"-\",IF(OR(Sf.dm.18=\"-\",Sf.dm.18=\"\",Sf.dm.18=0,PC.18=\"\"),\"-\",(Cf.AguaSub.18*PC.18*IF.ASub.Con.Der.a.c*Sf.dm.18))),\"-\")","v":"-"},null,{"$f":"IF(CENÁRIOS!$H$22=TRUE,IF(PM.18=\"\",\"-\",IF(OR(Sf.ig.18=\"-\",Sf.ig.18=\"\",Sf.ig.18=0),\"-\",(Cf.AguaSub.18*IF.ASub.Ing.a.c*Sf.ig.18))),\"-\")","v":"-"},null,{"$f":"IF(CENÁRIOS!$I$19=TRUE,IF(PM.18=\"\",\"-\",IF(OR(Sf.in.18=\"-\",Sf.in.18=\"\",Sf.in.18=0,Cff.ArAguaSub.Abe.18=\"-\"),\"-\",(Cff.ArAguaSub.Abe.18*IF.ASub.Ina.Abe.a.c*Sf.in.18))),\"-\")","v":"-"},null,{"$f":"IF(CENÁRIOS!$I$20=TRUE,IF(PM.18=\"\",\"-\",IF(OR(Sf.in.18=\"-\",Sf.in.18=\"\",Sf.in.18=0,Cff.ArAguaSub.Fec.18=\"-\"),\"-\",(Cff.ArAguaSub.Fec.18*IF.ASub.Ina.Fec.a.c*Sf.in.18))),\"-\")","v":"-"},null,{"$f":"IF(CENÁRIOS!$I$21=TRUE,IF(PM.18=\"\",\"-\",IF(OR(Sf.dm.18=\"-\",Sf.dm.18=\"\",Sf.dm.18=0,Cff.AguaAguaSub.18=\"-\",PC.18=\"\"),\"-\",(Cff.AguaAguaSub.18*PC.18*IF.ASub.Con.Der.a.c*Sf.dm.18))),\"-\")","v":"-"},null,{"$f":"IF(CENÁRIOS!$I$22=TRUE,IF(PM.18=\"\",\"-\",IF(OR(Sf.ig.18=\"-\",Sf.ig.18=\"\",Sf.ig.18=0,Cff.AguaAguaSub.18=\"-\"),\"-\",(Cff.AguaAguaSub.18*IF.ASub.Ing.a.c*Sf.ig.18))),\"-\")","v":"-"},null,null,"-",null,"-"]
[null,null,null,null,"NC",{"$f":"IF(CENÁRIOS!$H$19=TRUE,IF(PM.18=\"\",\"-\",IF(OR(RfD.in.cn.18=\"-\",RfD.in.cn.18=\"\",RfD.in.cn.18=0,Cf.ArAguaSub.Abe.18=\"-\"),\"-\",(Cf.ArAguaSub.Abe.18*IF.ASub.Ina.Abe.a.nc/RfD.in.cn.18))),\"-\")","v":"-"},null,{"$f":"IF(CENÁRIOS!$H$20=TRUE,IF(PM.18=\"\",\"-\",IF(OR(RfD.in.cn.18=\"-\",RfD.in.cn.18=\"\",RfD.in.cn.18=0,Cf.ArAguaSub.Fec.18=\"-\"),\"-\",(Cf.ArAguaSub.Fec.18*IF.ASub.Ina.Fec.a.nc/RfD.in.cn.18))),\"-\")","v":"-"},null,{"$f":"IF(CENÁRIOS!$H$21=TRUE,IF(PM.18=\"\",\"-\",IF(OR(RfD.dm.cn.18=\"-\",RfD.dm.cn.18=\"\",RfD.dm.cn.18=0,PC.18=\"\"),\"-\",(Cf.AguaSub.18*PC.18*IF.ASub.Con.Der.a.nc/RfD.dm.cn.18))),\"-\")","v":"-"},null,{"$f":"IF(CENÁRIOS!$H$22=TRUE,IF(PM.18=\"\",\"-\",IF(OR(RfD.ig.cn.18=\"-\",RfD.ig.cn.18=\"\",RfD.ig.cn.18=0),\"-\",(Cf.AguaSub.18*IF.ASub.Ing.a.nc/RfD.ig.cn.18))),\"-\")","v":"-"},null,{"$f":"IF(CENÁRIOS!$I$19=TRUE,IF(PM.18=\"\",\"-\",IF(OR(RfD.in.cn.18=\"-\",RfD.in.cn.18=\"\",RfD.in.cn.18=0,Cff.ArAguaSub.Abe.18=\"-\"),\"-\",(Cff.ArAguaSub.Abe.18*IF.ASub.Ina.Abe.a.nc/RfD.in.cn.18))),\"-\")","v":"-"},null,{"$f":"IF(CENÁRIOS!$I$20=TRUE,IF(PM.18=\"\",\"-\",IF(OR(RfD.in.cn.18=\"-\",RfD.in.cn.18=\"\",RfD.in.cn.18=0,Cff.ArAguaSub.Fec.18=\"-\"),\"-\",(Cff.ArAguaSub.Fec.18*IF.ASub.Ina.Fec.a.nc/RfD.in.cn.18))),\"-\")","v":"-"},null,{"$f":"IF(CENÁRIOS!$I$21=TRUE,IF(PM.18=\"\",\"-\",IF(OR(RfD.dm.cn.18=\"-\",RfD.dm.cn.18=\"\",RfD.dm.cn.18=0,Cff.AguaAguaSub.18=\"-\",PC.18=\"\"),\"-\",(Cff.AguaAguaSub.18*PC.18*IF.ASub.Con.Der.a.nc/RfD.dm.cn.18))),\"-\")","v":"-"},null,{"$f":"IF(CENÁRIOS!$I$22=TRUE,IF(PM.18=\"\",\"-\",IF(OR(RfD.ig.cn.18=\"-\",RfD.ig.cn.18=\"\",RfD.ig.cn.18=0,Cff.AguaAguaSub.18=\"-\"),\"-\",(Cff.AguaAguaSub.18*IF.ASub.Ing.a.nc/RfD.ig.cn.18))),\"-\")","v":"-"},null,null,"-",null,"-"]
[null,19,{"$f":"SQI!D27","v":0},{"$f":"SQI!C27","v":""},"C",{"$f":"IF(CENÁRIOS!$H$19=TRUE,IF(PM.19=\"\",\"-\",IF(OR(Sf.in.19=\"-\",Sf.in.19=\"\",Sf.in.19=0,Cf.ArAguaSub.Abe.19=\"-\"),\"-\",(Cf.ArAguaSub.Abe.19*IF.ASub.Ina.Abe.a.c*Sf.in.19))),\"-\")","v":"-"},null,{"$f":"IF(CENÁRIOS!$H$20=TRUE,IF(PM.19=\"\",\"-\",IF(OR(Sf.in.19=\"-\",Sf.in.19=\"\",Sf.in.19=0,Cf.ArAguaSub.Fec.19=\"-\"),\"-\",(Cf.ArAguaSub.Fec.19*IF.ASub.Ina.Fec.a.c*Sf.in.19))),\"-\")","v":"-"},null,{"$f":"IF(CENÁRIOS!$H$21=TRUE,IF(PM.19=\"\",\"-\",IF(OR(Sf.dm.19=\"-\",Sf.dm.19=\"\",Sf.dm.19=0,PC.19=\"\"),\"-\",(Cf.AguaSub.19*PC.19*IF.ASub.Con.Der.a.c*Sf.dm.19))),\"-\")","v":"-"},null,{"$f":"IF(CENÁRIOS!$H$22=TRUE,IF(PM.19=\"\",\"-\",IF(OR(Sf.ig.19=\"-\",Sf.ig.19=\"\",Sf.ig.19=0),\"-\",(Cf.AguaSub.19*IF.ASub.Ing.a.c*Sf.ig.19))),\"-\")","v":"-"},null,{"$f":"IF(CENÁRIOS!$I$19=TRUE,IF(PM.19=\"\",\"-\",IF(OR(Sf.in.19=\"-\",Sf.in.19=\"\",Sf.in.19=0,Cff.ArAguaSub.Abe.19=\"-\"),\"-\",(Cff.ArAguaSub.Abe.19*IF.ASub.Ina.Abe.a.c*Sf.in.19))),\"-\")","v":"-"},null,{"$f":"IF(CENÁRIOS!$I$20=TRUE,IF(PM.19=\"\",\"-\",IF(OR(Sf.in.19=\"-\",Sf.in.19=\"\",Sf.in.19=0,Cff.ArAguaSub.Fec.19=\"-\"),\"-\",(Cff.ArAguaSub.Fec.19*IF.ASub.Ina.Fec.a.c*Sf.in.19))),\"-\")","v":"-"},null,{"$f":"IF(CENÁRIOS!$I$21=TRUE,IF(PM.19=\"\",\"-\",IF(OR(Sf.dm.19=\"-\",Sf.dm.19=\"\",Sf.dm.19=0,Cff.AguaAguaSub.19=\"-\",PC.19=\"\"),\"-\",(Cff.AguaAguaSub.19*PC.19*IF.ASub.Con.Der.a.c*Sf.dm.19))),\"-\")","v":"-"},null,{"$f":"IF(CENÁRIOS!$I$22=TRUE,IF(PM.19=\"\",\"-\",IF(OR(Sf.ig.19=\"-\",Sf.ig.19=\"\",Sf.ig.19=0,Cff.AguaAguaSub.19=\"-\"),\"-\",(Cff.AguaAguaSub.19*IF.ASub.Ing.a.c*Sf.ig.19))),\"-\")","v":"-"},null,null,"-",null,"-"]
[null,null,null,null,"NC",{"$f":"IF(CENÁRIOS!$H$19=TRUE,IF(PM.19=\"\",\"-\",IF(OR(RfD.in.cn.19=\"-\",RfD.in.cn.19=\"\",RfD.in.cn.19=0,Cf.ArAguaSub.Abe.19=\"-\"),\"-\",(Cf.ArAguaSub.Abe.19*IF.ASub.Ina.Abe.a.nc/RfD.in.cn.19))),\"-\")","v":"-"},null,{"$f":"IF(CENÁRIOS!$H$20=TRUE,IF(PM.19=\"\",\"-\",IF(OR(RfD.in.cn.19=\"-\",RfD.in.cn.19=\"\",RfD.in.cn.19=0,Cf.ArAguaSub.Fec.19=\"-\"),\"-\",(Cf.ArAguaSub.Fec.19*IF.ASub.Ina.Fec.a.nc/RfD.in.cn.19))),\"-\")","v":"-"},null,{"$f":"IF(CENÁRIOS!$H$21=TRUE,IF(PM.19=\"\",\"-\",IF(OR(RfD.dm.cn.19=\"-\",RfD.dm.cn.19=\"\",RfD.dm.cn.19=0,PC.19=\"\"),\"-\",(Cf.AguaSub.19*PC.19*IF.ASub.Con.Der.a.nc/RfD.dm.cn.19))),\"-\")","v":"-"},null,{"$f":"IF(CENÁRIOS!$H$22=TRUE,IF(PM.19=\"\",\"-\",IF(OR(RfD.ig.cn.19=\"-\",RfD.ig.cn.19=\"\",RfD.ig.cn.19=0),\"-\",(Cf.AguaSub.19*IF.ASub.Ing.a.nc/RfD.ig.cn.19))),\"-\")","v":"-"},null,{"$f":"IF(CENÁRIOS!$I$19=TRUE,IF(PM.19=\"\",\"-\",IF(OR(RfD.in.cn.19=\"-\",RfD.in.cn.19=\"\",RfD.in.cn.19=0,Cff.ArAguaSub.Abe.19=\"-\"),\"-\",(Cff.ArAguaSub.Abe.19*IF.ASub.Ina.Abe.a.nc/RfD.in.cn.19))),\"-\")","v":"-"},null,{"$f":"IF(CENÁRIOS!$I$20=TRUE,IF(PM.19=\"\",\"-\",IF(OR(RfD.in.cn.19=\"-\",RfD.in.cn.19=\"\",RfD.in.cn.19=0,Cff.ArAguaSub.Fec.19=\"-\"),\"-\",(Cff.ArAguaSub.Fec.19*IF.ASub.Ina.Fec.a.nc/RfD.in.cn.19))),\"-\")","v":"-"},null,{"$f":"IF(CENÁRIOS!$I$21=TRUE,IF(PM.19=\"\",\"-\",IF(OR(RfD.dm.cn.19=\"-\",RfD.dm.cn.19=\"\",RfD.dm.cn.19=0,Cff.AguaAguaSub.19=\"-\",PC.19=\"\"),\"-\",(Cff.AguaAguaSub.19*PC.19*IF.ASub.Con.Der.a.nc/RfD.dm.cn.19))),\"-\")","v":"-"},null,{"$f":"IF(CENÁRIOS!$I$22=TRUE,IF(PM.19=\"\",\"-\",IF(OR(RfD.ig.cn.19=\"-\",RfD.ig.cn.19=\"\",RfD.ig.cn.19=0,Cff.AguaAguaSub.19=\"-\"),\"-\",(Cff.AguaAguaSub.19*IF.ASub.Ing.a.nc/RfD.ig.cn.19))),\"-\")","v":"-"},null,null,"-",null,"-"]
[null,20,{"$f":"SQI!D28","v":0},{"$f":"SQI!C28","v":""},"C",{"$f":"IF(CENÁRIOS!$H$19=TRUE,IF(PM.20=\"\",\"-\",IF(OR(Sf.in.20=\"-\",Sf.in.20=\"\",Sf.in.20=0,Cf.ArAguaSub.Abe.20=\"-\"),\"-\",(Cf.ArAguaSub.Abe.20*IF.ASub.Ina.Abe.a.c*Sf.in.20))),\"-\")","v":"-"},null,{"$f":"IF(CENÁRIOS!$H$20=TRUE,IF(PM.20=\"\",\"-\",IF(OR(Sf.in.20=\"-\",Sf.in.20=\"\",Sf.in.20=0,Cf.ArAguaSub.Fec.20=\"-\"),\"-\",(Cf.ArAguaSub.Fec.20*IF.ASub.Ina.Fec.a.c*Sf.in.20))),\"-\")","v":"-"},null,{"$f":"IF(CENÁRIOS!$H$21=TRUE,IF(PM.20=\"\",\"-\",IF(OR(Sf.dm.20=\"-\",Sf.dm.20=\"\",Sf.dm.20=0,PC.20=\"\"),\"-\",(Cf.AguaSub.20*PC.20*IF.ASub.Con.Der.a.c*Sf.dm.20))),\"-\")","v":"-"},null,{"$f":"IF(CENÁRIOS!$H$22=TRUE,IF(PM.20=\"\",\"-\",IF(OR(Sf.ig.20=\"-\",Sf.ig.20=\"\",Sf.ig.20=0),\"-\",(Cf.AguaSub.20*IF.ASub.Ing.a.c*Sf.ig.20))),\"-\")","v":"-"},null,{"$f":"IF(CENÁRIOS!$I$19=TRUE,IF(PM.20=\"\",\"-\",IF(OR(Sf.in.20=\"-\",Sf.in.20=\"\",Sf.in.20=0,Cff.ArAguaSub.Abe.20=\"-\"),\"-\",(Cff.ArAguaSub.Abe.20*IF.ASub.Ina.Abe.a.c*Sf.in.20))),\"-\")","v":"-"},null,{"$f":"IF(CENÁRIOS!$I$20=TRUE,IF(PM.20=\"\",\"-\",IF(OR(Sf.in.20=\"-\",Sf.in.20=\"\",Sf.in.20=0,Cff.ArAguaSub.Fec.20=\"-\"),\"-\",(Cff.ArAguaSub.Fec.20*IF.ASub.Ina.Fec.a.c*Sf.in.20))),\"-\")","v":"-"},null,{"$f":"IF(CENÁRIOS!$I$21=TRUE,IF(PM.20=\"\",\"-\",IF(OR(Sf.dm.20=\"-\",Sf.dm.20=\"\",Sf.dm.20=0,Cff.AguaAguaSub.20=\"-\",PC.20=\"\"),\"-\",(Cff.AguaAguaSub.20*PC.20*IF.ASub.Con.Der.a.c*Sf.dm.20))),\"-\")","v":"-"},null,{"$f":"IF(CENÁRIOS!$I$22=TRUE,IF(PM.20=\"\",\"-\",IF(OR(Sf.ig.20=\"-\",Sf.ig.20=\"\",Sf.ig.20=0,Cff.AguaAguaSub.20=\"-\"),\"-\",(Cff.AguaAguaSub.20*IF.ASub.Ing.a.c*Sf.ig.20))),\"-\")","v":"-"},null,null,"-",null,"-"]
[null,null,null,null,"NC",{"$f":"IF(CENÁRIOS!$H$19=TRUE,IF(PM.20=\"\",\"-\",IF(OR(RfD.in.cn.20=\"-\",RfD.in.cn.20=\"\",RfD.in.cn.20=0,Cf.ArAguaSub.Abe.20=\"-\"),\"-\",(Cf.ArAguaSub.Abe.20*IF.ASub.Ina.Abe.a.nc/RfD.in.cn.20))),\"-\")","v":"-"},null,{"$f":"IF(CENÁRIOS!$H$20=TRUE,IF(PM.20=\"\",\"-\",IF(OR(RfD.in.cn.20=\"-\",RfD.in.cn.20=\"\",RfD.in.cn.20=0,Cf.ArAguaSub.Fec.20=\"-\"),\"-\",(Cf.ArAguaSub.Fec.20*IF.ASub.Ina.Fec.a.nc/RfD.in.cn.20))),\"-\")","v":"-"},null,{"$f":"IF(CENÁRIOS!$H$21=TRUE,IF(PM.20=\"\",\"-\",IF(OR(RfD.dm.cn.20=\"-\",RfD.dm.cn.20=\"\",RfD.dm.cn.20=0,PC.20=\"\"),\"-\",(Cf.AguaSub.20*PC.20*IF.ASub.Con.Der.a.nc/RfD.dm.cn.20))),\"-\")","v":"-"},null,{"$f":"IF(CENÁRIOS!$H$22=TRUE,IF(PM.20=\"\",\"-\",IF(OR(RfD.ig.cn.20=\"-\",RfD.ig.cn.20=\"\",RfD.ig.cn.20=0),\"-\",(Cf.AguaSub.20*IF.ASub.Ing.a.nc/RfD.ig.cn.20))),\"-\")","v":"-"},null,{"$f":"IF(CENÁRIOS!$I$19=TRUE,IF(PM.20=\"\",\"-\",IF(OR(RfD.in.cn.20=\"-\",RfD.in.cn.20=\"\",RfD.in.cn.20=0,Cff.ArAguaSub.Abe.20=\"-\"),\"-\",(Cff.ArAguaSub.Abe.20*IF.ASub.Ina.Abe.a.nc/RfD.in.cn.20))),\"-\")","v":"-"},null,{"$f":"IF(CENÁRIOS!$I$20=TRUE,IF(PM.20=\"\",\"-\",IF(OR(RfD.in.cn.20=\"-\",RfD.in.cn.20=\"\",RfD.in.cn.20=0,Cff.ArAguaSub.Fec.20=\"-\"),\"-\",(Cff.ArAguaSub.Fec.20*IF.ASub.Ina.Fec.a.nc/RfD.in.cn.20))),\"-\")","v":"-"},null,{"$f":"IF(CENÁRIOS!$I$21=TRUE,IF(PM.20=\"\",\"-\",IF(OR(RfD.dm.cn.20=\"-\",RfD.dm.cn.20=\"\",RfD.dm.cn.20=0,Cff.AguaAguaSub.20=\"-\",PC.20=\"\"),\"-\",(Cff.AguaAguaSub.20*PC.20*IF.ASub.Con.Der.a.nc/RfD.dm.cn.20))),\"-\")","v":"-"},null,{"$f":"IF(CENÁRIOS!$I$22=TRUE,IF(PM.20=\"\",\"-\",IF(OR(RfD.ig.cn.20=\"-\",RfD.ig.cn.20=\"\",RfD.ig.cn.20=0,Cff.AguaAguaSub.20=\"-\"),\"-\",(Cff.AguaAguaSub.20*IF.ASub.Ing.a.nc/RfD.ig.cn.20))),\"-\")","v":"-"},null,null,"-",null,"-"]
[null,21,{"$f":"SQI!D29","v":0},{"$f":"SQI!C29","v":""},"C",{"$f":"IF(CENÁRIOS!$H$19=TRUE,IF(PM.21=\"\",\"-\",IF(OR(Sf.in.21=\"-\",Sf.in.21=\"\",Sf.in.21=0,Cf.ArAguaSub.Abe.21=\"-\"),\"-\",(Cf.ArAguaSub.Abe.21*IF.ASub.Ina.Abe.a.c*Sf.in.21))),\"-\")","v":"-"},null,{"$f":"IF(CENÁRIOS!$H$20=TRUE,IF(PM.21=\"\",\"-\",IF(OR(Sf.in.21=\"-\",Sf.in.21=\"\",Sf.in.21=0,Cf.ArAguaSub.Fec.21=\"-\"),\"-\",(Cf.ArAguaSub.Fec.21*IF.ASub.Ina.Fec.a.c*Sf.in.21))),\"-\")","v":"-"},null,{"$f":"IF(CENÁRIOS!$H$21=TRUE,IF(PM.21=\"\",\"-\",IF(OR(Sf.dm.21=\"-\",Sf.dm.21=\"\",Sf.dm.21=0,PC.21=\"\"),\"-\",(Cf.AguaSub.21*PC.21*IF.ASub.Con.Der.a.c*Sf.dm.21))),\"-\")","v":"-"},null,{"$f":"IF(CENÁRIOS!$H$22=TRUE,IF(PM.21=\"\",\"-\",IF(OR(Sf.ig.21=\"-\",Sf.ig.21=\"\",Sf.ig.21=0),\"-\",(Cf.AguaSub.21*IF.ASub.Ing.a.c*Sf.ig.21))),\"-\")","v":"-"},null,{"$f":"IF(CENÁRIOS!$I$19=TRUE,IF(PM.21=\"\",\"-\",IF(OR(Sf.in.21=\"-\",Sf.in.21=\"\",Sf.in.21=0,Cff.ArAguaSub.Abe.21=\"-\"),\"-\",(Cff.ArAguaSub.Abe.21*IF.ASub.Ina.Abe.a.c*Sf.in.21))),\"-\")","v":"-"},null,{"$f":"IF(CENÁRIOS!$I$20=TRUE,IF(PM.21=\"\",\"-\",IF(OR(Sf.in.21=\"-\",Sf.in.21=\"\",Sf.in.21=0,Cff.ArAguaSub.Fec.21=\"-\"),\"-\",(Cff.ArAguaSub.Fec.21*IF.ASub.Ina.Fec.a.c*Sf.in.21))),\"-\")","v":"-"},null,{"$f":"IF(CENÁRIOS!$I$21=TRUE,IF(PM.21=\"\",\"-\",IF(OR(Sf.dm.21=\"-\",Sf.dm.21=\"\",Sf.dm.21=0,Cff.AguaAguaSub.21=\"-\",PC.21=\"\"),\"-\",(Cff.AguaAguaSub.21*PC.21*IF.ASub.Con.Der.a.c*Sf.dm.21))),\"-\")","v":"-"},null,{"$f":"IF(CENÁRIOS!$I$22=TRUE,IF(PM.21=\"\",\"-\",IF(OR(Sf.ig.21=\"-\",Sf.ig.21=\"\",Sf.ig.21=0,Cff.AguaAguaSub.21=\"-\"),\"-\",(Cff.AguaAguaSub.21*IF.ASub.Ing.a.c*Sf.ig.21))),\"-\")","v":"-"},null,null,"-",null,"-"]
[null,null,null,null,"NC",{"$f":"IF(CENÁRIOS!$H$19=TRUE,IF(PM.21=\"\",\"-\",IF(OR(RfD.in.cn.21=\"-\",RfD.in.cn.21=\"\",RfD.in.cn.21=0,Cf.ArAguaSub.Abe.21=\"-\"),\"-\",(Cf.ArAguaSub.Abe.21*IF.ASub.Ina.Abe.a.nc/RfD.in.cn.21))),\"-\")","v":"-"},null,{"$f":"IF(CENÁRIOS!$H$20=TRUE,IF(PM.21=\"\",\"-\",IF(OR(RfD.in.cn.21=\"-\",RfD.in.cn.21=\"\",RfD.in.cn.21=0,Cf.ArAguaSub.Fec.21=\"-\"),\"-\",(Cf.ArAguaSub.Fec.21*IF.ASub.Ina.Fec.a.nc/RfD.in.cn.21))),\"-\")","v":"-"},null,{"$f":"IF(CENÁRIOS!$H$21=TRUE,IF(PM.21=\"\",\"-\",IF(OR(RfD.dm.cn.21=\"-\",RfD.dm.cn.21=\"\",RfD.dm.cn.21=0,PC.21=\"\"),\"-\",(Cf.AguaSub.21*PC.21*IF.ASub.Con.Der.a.nc/RfD.dm.cn.21))),\"-\")","v":"-"},null,{"$f":"IF(CENÁRIOS!$H$22=TRUE,IF(PM.21=\"\",\"-\",IF(OR(RfD.ig.cn.21=\"-\",RfD.ig.cn.21=\"\",RfD.ig.cn.21=0),\"-\",(Cf.AguaSub.21*IF.ASub.Ing.a.nc/RfD.ig.cn.21))),\"-\")","v":"-"},null,{"$f":"IF(CENÁRIOS!$I$19=TRUE,IF(PM.21=\"\",\"-\",IF(OR(RfD.in.cn.21=\"-\",RfD.in.cn.21=\"\",RfD.in.cn.21=0,Cff.ArAguaSub.Abe.21=\"-\"),\"-\",(Cff.ArAguaSub.Abe.21*IF.ASub.Ina.Abe.a.nc/RfD.in.cn.21))),\"-\")","v":"-"},null,{"$f":"IF(CENÁRIOS!$I$20=TRUE,IF(PM.21=\"\",\"-\",IF(OR(RfD.in.cn.21=\"-\",RfD.in.cn.21=\"\",RfD.in.cn.21=0,Cff.ArAguaSub.Fec.21=\"-\"),\"-\",(Cff.ArAguaSub.Fec.21*IF.ASub.Ina.Fec.a.nc/RfD.in.cn.21))),\"-\")","v":"-"},null,{"$f":"IF(CENÁRIOS!$I$21=TRUE,IF(PM.21=\"\",\"-\",IF(OR(RfD.dm.cn.21=\"-\",RfD.dm.cn.21=\"\",RfD.dm.cn.21=0,Cff.AguaAguaSub.21=\"-\",PC.21=\"\"),\"-\",(Cff.AguaAguaSub.21*PC.21*IF.ASub.Con.Der.a.nc/RfD.dm.cn.21))),\"-\")","v":"-"},null,{"$f":"IF(CENÁRIOS!$I$22=TRUE,IF(PM.21=\"\",\"-\",IF(OR(RfD.ig.cn.21=\"-\",RfD.ig.cn.21=\"\",RfD.ig.cn.21=0,Cff.AguaAguaSub.21=\"-\"),\"-\",(Cff.AguaAguaSub.21*IF.ASub.Ing.a.nc/RfD.ig.cn.21))),\"-\")","v":"-"},null,null,"-",null,"-"]
[null,22,{"$f":"SQI!D30","v":0},{"$f":"SQI!C30","v":""},"C",{"$f":"IF(CENÁRIOS!$H$19=TRUE,IF(PM.22=\"\",\"-\",IF(OR(Sf.in.22=\"-\",Sf.in.22=\"\",Sf.in.22=0,Cf.ArAguaSub.Abe.22=\"-\"),\"-\",(Cf.ArAguaSub.Abe.22*IF.ASub.Ina.Abe.a.c*Sf.in.22))),\"-\")","v":"-"},null,{"$f":"IF(CENÁRIOS!$H$20=TRUE,IF(PM.22=\"\",\"-\",IF(OR(Sf.in.22=\"-\",Sf.in.22=\"\",Sf.in.22=0,Cf.ArAguaSub.Fec.22=\"-\"),\"-\",(Cf.ArAguaSub.Fec.22*IF.ASub.Ina.Fec.a.c*Sf.in.22))),\"-\")","v":"-"},null,{"$f":"IF(CENÁRIOS!$H$21=TRUE,IF(PM.22=\"\",\"-\",IF(OR(Sf.dm.22=\"-\",Sf.dm.22=\"\",Sf.dm.22=0,PC.22=\"\"),\"-\",(Cf.AguaSub.22*PC.22*IF.ASub.Con.Der.a.c*Sf.dm.22))),\"-\")","v":"-"},null,{"$f":"IF(CENÁRIOS!$H$22=TRUE,IF(PM.22=\"\",\"-\",IF(OR(Sf.ig.22=\"-\",Sf.ig.22=\"\",Sf.ig.22=0),\"-\",(Cf.AguaSub.22*IF.ASub.Ing.a.c*Sf.ig.22))),\"-\")","v":"-"},null,{"$f":"IF(CENÁRIOS!$I$19=TRUE,IF(PM.22=\"\",\"-\",IF(OR(Sf.in.22=\"-\",Sf.in.22=\"\",Sf.in.22=0,Cff.ArAguaSub.Abe.22=\"-\"),\"-\",(Cff.ArAguaSub.Abe.22*IF.ASub.Ina.Abe.a.c*Sf.in.22))),\"-\")","v":"-"},null,{"$f":"IF(CENÁRIOS!$I$20=TRUE,IF(PM.22=\"\",\"-\",IF(OR(Sf.in.22=\"-\",Sf.in.22=\"\",Sf.in.22=0,Cff.ArAguaSub.Fec.22=\"-\"),\"-\",(Cff.ArAguaSub.Fec.22*IF.ASub.Ina.Fec.a.c*Sf.in.22))),\"-\")","v":"-"},null,{"$f":"IF(CENÁRIOS!$I$21=TRUE,IF(PM.22=\"\",\"-\",IF(OR(Sf.dm.22=\"-\",Sf.dm.22=\"\",Sf.dm.22=0,Cff.AguaAguaSub.22=\"-\",PC.22=\"\"),\"-\",(Cff.AguaAguaSub.22*PC.22*IF.ASub.Con.Der.a.c*Sf.dm.22))),\"-\")","v":"-"},null,{"$f":"IF(CENÁRIOS!$I$22=TRUE,IF(PM.22=\"\",\"-\",IF(OR(Sf.ig.22=\"-\",Sf.ig.22=\"\",Sf.ig.22=0,Cff.AguaAguaSub.22=\"-\"),\"-\",(Cff.AguaAguaSub.22*IF.ASub.Ing.a.c*Sf.ig.22))),\"-\")","v":"-"},null,null,"-",null,"-"]
[null,null,null,null,"NC",{"$f":"IF(CENÁRIOS!$H$19=TRUE,IF(PM.22=\"\",\"-\",IF(OR(RfD.in.cn.22=\"-\",RfD.in.cn.22=\"\",RfD.in.cn.22=0,Cf.ArAguaSub.Abe.22=\"-\"),\"-\",(Cf.ArAguaSub.Abe.22*IF.ASub.Ina.Abe.a.nc/RfD.in.cn.22))),\"-\")","v":"-"},null,{"$f":"IF(CENÁRIOS!$H$20=TRUE,IF(PM.22=\"\",\"-\",IF(OR(RfD.in.cn.22=\"-\",RfD.in.cn.22=\"\",RfD.in.cn.22=0,Cf.ArAguaSub.Fec.22=\"-\"),\"-\",(Cf.ArAguaSub.Fec.22*IF.ASub.Ina.Fec.a.nc/RfD.in.cn.22))),\"-\")","v":"-"},null,{"$f":"IF(CENÁRIOS!$H$21=TRUE,IF(PM.22=\"\",\"-\",IF(OR(RfD.dm.cn.22=\"-\",RfD.dm.cn.22=\"\",RfD.dm.cn.22=0,PC.22=\"\"),\"-\",(Cf.AguaSub.22*PC.22*IF.ASub.Con.Der.a.nc/RfD.dm.cn.22))),\"-\")","v":"-"},null,{"$f":"IF(CENÁRIOS!$H$22=TRUE,IF(PM.22=\"\",\"-\",IF(OR(RfD.ig.cn.22=\"-\",RfD.ig.cn.22=\"\",RfD.ig.cn.22=0),\"-\",(Cf.AguaSub.22*IF.ASub.Ing.a.nc/RfD.ig.cn.22))),\"-\")","v":"-"},null,{"$f":"IF(CENÁRIOS!$I$19=TRUE,IF(PM.22=\"\",\"-\",IF(OR(RfD.in.cn.22=\"-\",RfD.in.cn.22=\"\",RfD.in.cn.22=0,Cff.ArAguaSub.Abe.22=\"-\"),\"-\",(Cff.ArAguaSub.Abe.22*IF.ASub.Ina.Abe.a.nc/RfD.in.cn.22))),\"-\")","v":"-"},null,{"$f":"IF(CENÁRIOS!$I$20=TRUE,IF(PM.22=\"\",\"-\",IF(OR(RfD.in.cn.22=\"-\",RfD.in.cn.22=\"\",RfD.in.cn.22=0,Cff.ArAguaSub.Fec.22=\"-\"),\"-\",(Cff.ArAguaSub.Fec.22*IF.ASub.Ina.Fec.a.nc/RfD.in.cn.22))),\"-\")","v":"-"},null,{"$f":"IF(CENÁRIOS!$I$21=TRUE,IF(PM.22=\"\",\"-\",IF(OR(RfD.dm.cn.22=\"-\",RfD.dm.cn.22=\"\",RfD.dm.cn.22=0,Cff.AguaAguaSub.22=\"-\",PC.22=\"\"),\"-\",(Cff.AguaAguaSub.22*PC.22*IF.ASub.Con.Der.a.nc/RfD.dm.cn.22))),\"-\")","v":"-"},null,{"$f":"IF(CENÁRIOS!$I$22=TRUE,IF(PM.22=\"\",\"-\",IF(OR(RfD.ig.cn.22=\"-\",RfD.ig.cn.22=\"\",RfD.ig.cn.22=0,Cff.AguaAguaSub.22=\"-\"),\"-\",(Cff.AguaAguaSub.22*IF.ASub.Ing.a.nc/RfD.ig.cn.22))),\"-\")","v":"-"},null,null,"-",null,"-"]
[null,23,{"$f":"SQI!D31","v":0},{"$f":"SQI!C31","v":""},"C",{"$f":"IF(CENÁRIOS!$H$19=TRUE,IF(PM.23=\"\",\"-\",IF(OR(Sf.in.23=\"-\",Sf.in.23=\"\",Sf.in.23=0,Cf.ArAguaSub.Abe.23=\"-\"),\"-\",(Cf.ArAguaSub.Abe.23*IF.ASub.Ina.Abe.a.c*Sf.in.23))),\"-\")","v":"-"},null,{"$f":"IF(CENÁRIOS!$H$20=TRUE,IF(PM.23=\"\",\"-\",IF(OR(Sf.in.23=\"-\",Sf.in.23=\"\",Sf.in.23=0,Cf.ArAguaSub.Fec.23=\"-\"),\"-\",(Cf.ArAguaSub.Fec.23*IF.ASub.Ina.Fec.a.c*Sf.in.23))),\"-\")","v":"-"},null,{"$f":"IF(CENÁRIOS!$H$21=TRUE,IF(PM.23=\"\",\"-\",IF(OR(Sf.dm.23=\"-\",Sf.dm.23=\"\",Sf.dm.23=0,PC.23=\"\"),\"-\",(Cf.AguaSub.23*PC.23*IF.ASub.Con.Der.a.c*Sf.dm.23))),\"-\")","v":"-"},null,{"$f":"IF(CENÁRIOS!$H$22=TRUE,IF(PM.23=\"\",\"-\",IF(OR(Sf.ig.23=\"-\",Sf.ig.23=\"\",Sf.ig.23=0),\"-\",(Cf.AguaSub.23*IF.ASub.Ing.a.c*Sf.ig.23))),\"-\")","v":"-"},null,{"$f":"IF(CENÁRIOS!$I$19=TRUE,IF(PM.23=\"\",\"-\",IF(OR(Sf.in.23=\"-\",Sf.in.23=\"\",Sf.in.23=0,Cff.ArAguaSub.Abe.23=\"-\"),\"-\",(Cff.ArAguaSub.Abe.23*IF.ASub.Ina.Abe.a.c*Sf.in.23))),\"-\")","v":"-"},null,{"$f":"IF(CENÁRIOS!$I$20=TRUE,IF(PM.23=\"\",\"-\",IF(OR(Sf.in.23=\"-\",Sf.in.23=\"\",Sf.in.23=0,Cff.ArAguaSub.Fec.23=\"-\"),\"-\",(Cff.ArAguaSub.Fec.23*IF.ASub.Ina.Fec.a.c*Sf.in.23))),\"-\")","v":"-"},null,{"$f":"IF(CENÁRIOS!$I$21=TRUE,IF(PM.23=\"\",\"-\",IF(OR(Sf.dm.23=\"-\",Sf.dm.23=\"\",Sf.dm.23=0,Cff.AguaAguaSub.23=\"-\",PC.23=\"\"),\"-\",(Cff.AguaAguaSub.23*PC.23*IF.ASub.Con.Der.a.c*Sf.dm.23))),\"-\")","v":"-"},null,{"$f":"IF(CENÁRIOS!$I$22=TRUE,IF(PM.23=\"\",\"-\",IF(OR(Sf.ig.23=\"-\",Sf.ig.23=\"\",Sf.ig.23=0,Cff.AguaAguaSub.23=\"-\"),\"-\",(Cff.AguaAguaSub.23*IF.ASub.Ing.a.c*Sf.ig.23))),\"-\")","v":"-"},null,null,"-",null,"-"]
[null,null,null,null,"NC",{"$f":"IF(CENÁRIOS!$H$19=TRUE,IF(PM.23=\"\",\"-\",IF(OR(RfD.in.cn.23=\"-\",RfD.in.cn.23=\"\",RfD.in.cn.23=0,Cf.ArAguaSub.Abe.23=\"-\"),\"-\",(Cf.ArAguaSub.Abe.23*IF.ASub.Ina.Abe.a.nc/RfD.in.cn.23))),\"-\")","v":"-"},null,{"$f":"IF(CENÁRIOS!$H$20=TRUE,IF(PM.23=\"\",\"-\",IF(OR(RfD.in.cn.23=\"-\",RfD.in.cn.23=\"\",RfD.in.cn.23=0,Cf.ArAguaSub.Fec.23=\"-\"),\"-\",(Cf.ArAguaSub.Fec.23*IF.ASub.Ina.Fec.a.nc/RfD.in.cn.23))),\"-\")","v":"-"},null,{"$f":"IF(CENÁRIOS!$H$21=TRUE,IF(PM.23=\"\",\"-\",IF(OR(RfD.dm.cn.23=\"-\",RfD.dm.cn.23=\"\",RfD.dm.cn.23=0,PC.23=\"\"),\"-\",(Cf.AguaSub.23*PC.23*IF.ASub.Con.Der.a.nc/RfD.dm.cn.23))),\"-\")","v":"-"},null,{"$f":"IF(CENÁRIOS!$H$22=TRUE,IF(PM.23=\"\",\"-\",IF(OR(RfD.ig.cn.23=\"-\",RfD.ig.cn.23=\"\",RfD.ig.cn.23=0),\"-\",(Cf.AguaSub.23*IF.ASub.Ing.a.nc/RfD.ig.cn.23))),\"-\")","v":"-"},null,{"$f":"IF(CENÁRIOS!$I$19=TRUE,IF(PM.23=\"\",\"-\",IF(OR(RfD.in.cn.23=\"-\",RfD.in.cn.23=\"\",RfD.in.cn.23=0,Cff.ArAguaSub.Abe.23=\"-\"),\"-\",(Cff.ArAguaSub.Abe.23*IF.ASub.Ina.Abe.a.nc/RfD.in.cn.23))),\"-\")","v":"-"},null,{"$f":"IF(CENÁRIOS!$I$20=TRUE,IF(PM.23=\"\",\"-\",IF(OR(RfD.in.cn.23=\"-\",RfD.in.cn.23=\"\",RfD.in.cn.23=0,Cff.ArAguaSub.Fec.23=\"-\"),\"-\",(Cff.ArAguaSub.Fec.23*IF.ASub.Ina.Fec.a.nc/RfD.in.cn.23))),\"-\")","v":"-"},null,{"$f":"IF(CENÁRIOS!$I$21=TRUE,IF(PM.23=\"\",\"-\",IF(OR(RfD.dm.cn.23=\"-\",RfD.dm.cn.23=\"\",RfD.dm.cn.23=0,Cff.AguaAguaSub.23=\"-\",PC.23=\"\"),\"-\",(Cff.AguaAguaSub.23*PC.23*IF.ASub.Con.Der.a.nc/RfD.dm.cn.23))),\"-\")","v":"-"},null,{"$f":"IF(CENÁRIOS!$I$22=TRUE,IF(PM.23=\"\",\"-\",IF(OR(RfD.ig.cn.23=\"-\",RfD.ig.cn.23=\"\",RfD.ig.cn.23=0,Cff.AguaAguaSub.23=\"-\"),\"-\",(Cff.AguaAguaSub.23*IF.ASub.Ing.a.nc/RfD.ig.cn.23))),\"-\")","v":"-"},null,null,"-",null,"-"]
[null,24,{"$f":"SQI!D32","v":0},{"$f":"SQI!C32","v":""},"C",{"$f":"IF(CENÁRIOS!$H$19=TRUE,IF(PM.24=\"\",\"-\",IF(OR(Sf.in.24=\"-\",Sf.in.24=\"\",Sf.in.24=0,Cf.ArAguaSub.Abe.24=\"-\"),\"-\",(Cf.ArAguaSub.Abe.24*IF.ASub.Ina.Abe.a.c*Sf.in.24))),\"-\")","v":"-"},null,{"$f":"IF(CENÁRIOS!$H$20=TRUE,IF(PM.24=\"\",\"-\",IF(OR(Sf.in.24=\"-\",Sf.in.24=\"\",Sf.in.24=0,Cf.ArAguaSub.Fec.24=\"-\"),\"-\",(Cf.ArAguaSub.Fec.24*IF.ASub.Ina.Fec.a.c*Sf.in.24))),\"-\")","v":"-"},null,{"$f":"IF(CENÁRIOS!$H$21=TRUE,IF(PM.24=\"\",\"-\",IF(OR(Sf.dm.24=\"-\",Sf.dm.24=\"\",Sf.dm.24=0,PC.24=\"\"),\"-\",(Cf.AguaSub.24*PC.24*IF.ASub.Con.Der.a.c*Sf.dm.24))),\"-\")","v":"-"},null,{"$f":"IF(CENÁRIOS!$H$22=TRUE,IF(PM.24=\"\",\"-\",IF(OR(Sf.ig.24=\"-\",Sf.ig.24=\"\",Sf.ig.24=0),\"-\",(Cf.AguaSub.24*IF.ASub.Ing.a.c*Sf.ig.24))),\"-\")","v":"-"},null,{"$f":"IF(CENÁRIOS!$I$19=TRUE,IF(PM.24=\"\",\"-\",IF(OR(Sf.in.24=\"-\",Sf.in.24=\"\",Sf.in.24=0,Cff.ArAguaSub.Abe.24=\"-\"),\"-\",(Cff.ArAguaSub.Abe.24*IF.ASub.Ina.Abe.a.c*Sf.in.24))),\"-\")","v":"-"},null,{"$f":"IF(CENÁRIOS!$I$20=TRUE,IF(PM.24=\"\",\"-\",IF(OR(Sf.in.24=\"-\",Sf.in.24=\"\",Sf.in.24=0,Cff.ArAguaSub.Fec.24=\"-\"),\"-\",(Cff.ArAguaSub.Fec.24*IF.ASub.Ina.Fec.a.c*Sf.in.24))),\"-\")","v":"-"},null,{"$f":"IF(CENÁRIOS!$I$21=TRUE,IF(PM.24=\"\",\"-\",IF(OR(Sf.dm.24=\"-\",Sf.dm.24=\"\",Sf.dm.24=0,Cff.AguaAguaSub.24=\"-\",PC.24=\"\"),\"-\",(Cff.AguaAguaSub.24*PC.24*IF.ASub.Con.Der.a.c*Sf.dm.24))),\"-\")","v":"-"},null,{"$f":"IF(CENÁRIOS!$I$22=TRUE,IF(PM.24=\"\",\"-\",IF(OR(Sf.ig.24=\"-\",Sf.ig.24=\"\",Sf.ig.24=0,Cff.AguaAguaSub.24=\"-\"),\"-\",(Cff.AguaAguaSub.24*IF.ASub.Ing.a.c*Sf.ig.24))),\"-\")","v":"-"},null,null,"-",null,"-"]
[null,null,null,null,"NC",{"$f":"IF(CENÁRIOS!$H$19=TRUE,IF(PM.24=\"\",\"-\",IF(OR(RfD.in.cn.24=\"-\",RfD.in.cn.24=\"\",RfD.in.cn.24=0,Cf.ArAguaSub.Abe.24=\"-\"),\"-\",(Cf.ArAguaSub.Abe.24*IF.ASub.Ina.Abe.a.nc/RfD.in.cn.24))),\"-\")","v":"-"},null,{"$f":"IF(CENÁRIOS!$H$20=TRUE,IF(PM.24=\"\",\"-\",IF(OR(RfD.in.cn.24=\"-\",RfD.in.cn.24=\"\",RfD.in.cn.24=0,Cf.ArAguaSub.Fec.24=\"-\"),\"-\",(Cf.ArAguaSub.Fec.24*IF.ASub.Ina.Fec.a.nc/RfD.in.cn.24))),\"-\")","v":"-"},null,{"$f":"IF(CENÁRIOS!$H$21=TRUE,IF(PM.24=\"\",\"-\",IF(OR(RfD.dm.cn.24=\"-\",RfD.dm.cn.24=\"\",RfD.dm.cn.24=0,PC.24=\"\"),\"-\",(Cf.AguaSub.24*PC.24*IF.ASub.Con.Der.a.nc/RfD.dm.cn.24))),\"-\")","v":"-"},null,{"$f":"IF(CENÁRIOS!$H$22=TRUE,IF(PM.24=\"\",\"-\",IF(OR(RfD.ig.cn.24=\"-\",RfD.ig.cn.24=\"\",RfD.ig.cn.24=0),\"-\",(Cf.AguaSub.24*IF.ASub.Ing.a.nc/RfD.ig.cn.24))),\"-\")","v":"-"},null,{"$f":"IF(CENÁRIOS!$I$19=TRUE,IF(PM.24=\"\",\"-\",IF(OR(RfD.in.cn.24=\"-\",RfD.in.cn.24=\"\",RfD.in.cn.24=0,Cff.ArAguaSub.Abe.24=\"-\"),\"-\",(Cff.ArAguaSub.Abe.24*IF.ASub.Ina.Abe.a.nc/RfD.in.cn.24))),\"-\")","v":"-"},null,{"$f":"IF(CENÁRIOS!$I$20=TRUE,IF(PM.24=\"\",\"-\",IF(OR(RfD.in.cn.24=\"-\",RfD.in.cn.24=\"\",RfD.in.cn.24=0,Cff.ArAguaSub.Fec.24=\"-\"),\"-\",(Cff.ArAguaSub.Fec.24*IF.ASub.Ina.Fec.a.nc/RfD.in.cn.24))),\"-\")","v":"-"},null,{"$f":"IF(CENÁRIOS!$I$21=TRUE,IF(PM.24=\"\",\"-\",IF(OR(RfD.dm.cn.24=\"-\",RfD.dm.cn.24=\"\",RfD.dm.cn.24=0,Cff.AguaAguaSub.24=\"-\",PC.24=\"\"),\"-\",(Cff.AguaAguaSub.24*PC.24*IF.ASub.Con.Der.a.nc/RfD.dm.cn.24))),\"-\")","v":"-"},null,{"$f":"IF(CENÁRIOS!$I$22=TRUE,IF(PM.24=\"\",\"-\",IF(OR(RfD.ig.cn.24=\"-\",RfD.ig.cn.24=\"\",RfD.ig.cn.24=0,Cff.AguaAguaSub.24=\"-\"),\"-\",(Cff.AguaAguaSub.24*IF.ASub.Ing.a.nc/RfD.ig.cn.24))),\"-\")","v":"-"},null,null,"-",null,"-"]
[null,25,{"$f":"SQI!D33","v":0},{"$f":"SQI!C33","v":""},"C",{"$f":"IF(CENÁRIOS!$H$19=TRUE,IF(PM.25=\"\",\"-\",IF(OR(Sf.in.25=\"-\",Sf.in.25=\"\",Sf.in.25=0,Cf.ArAguaSub.Abe.25=\"-\"),\"-\",(Cf.ArAguaSub.Abe.25*IF.ASub.Ina.Abe.a.c*Sf.in.25))),\"-\")","v":"-"},null,{"$f":"IF(CENÁRIOS!$H$20=TRUE,IF(PM.25=\"\",\"-\",IF(OR(Sf.in.25=\"-\",Sf.in.25=\"\",Sf.in.25=0,Cf.ArAguaSub.Fec.25=\"-\"),\"-\",(Cf.ArAguaSub.Fec.25*IF.ASub.Ina.Fec.a.c*Sf.in.25))),\"-\")","v":"-"},null,{"$f":"IF(CENÁRIOS!$H$21=TRUE,IF(PM.25=\"\",\"-\",IF(OR(Sf.dm.25=\"-\",Sf.dm.25=\"\",Sf.dm.25=0,PC.25=\"\"),\"-\",(Cf.AguaSub.25*PC.25*IF.ASub.Con.Der.a.c*Sf.dm.25))),\"-\")","v":"-"},null,{"$f":"IF(CENÁRIOS!$H$22=TRUE,IF(PM.25=\"\",\"-\",IF(OR(Sf.ig.25=\"-\",Sf.ig.25=\"\",Sf.ig.25=0),\"-\",(Cf.AguaSub.25*IF.ASub.Ing.a.c*Sf.ig.25))),\"-\")","v":"-"},null,{"$f":"IF(CENÁRIOS!$I$19=TRUE,IF(PM.25=\"\",\"-\",IF(OR(Sf.in.25=\"-\",Sf.in.25=\"\",Sf.in.25=0,Cff.ArAguaSub.Abe.25=\"-\"),\"-\",(Cff.ArAguaSub.Abe.25*IF.ASub.Ina.Abe.a.c*Sf.in.25))),\"-\")","v":"-"},null,{"$f":"IF(CENÁRIOS!$I$20=TRUE,IF(PM.25=\"\",\"-\",IF(OR(Sf.in.25=\"-\",Sf.in.25=\"\",Sf.in.25=0,Cff.ArAguaSub.Fec.25=\"-\"),\"-\",(Cff.ArAguaSub.Fec.25*IF.ASub.Ina.Fec.a.c*Sf.in.25))),\"-\")","v":"-"},null,{"$f":"IF(CENÁRIOS!$I$21=TRUE,IF(PM.25=\"\",\"-\",IF(OR(Sf.dm.25=\"-\",Sf.dm.25=\"\",Sf.dm.25=0,Cff.AguaAguaSub.25=\"-\",PC.25=\"\"),\"-\",(Cff.AguaAguaSub.25*PC.25*IF.ASub.Con.Der.a.c*Sf.dm.25))),\"-\")","v":"-"},null,{"$f":"IF(CENÁRIOS!$I$22=TRUE,IF(PM.25=\"\",\"-\",IF(OR(Sf.ig.25=\"-\",Sf.ig.25=\"\",Sf.ig.25=0,Cff.AguaAguaSub.25=\"-\"),\"-\",(Cff.AguaAguaSub.25*IF.ASub.Ing.a.c*Sf.ig.25))),\"-\")","v":"-"},null,null,"-",null,"-"]
[null,null,null,null,"NC",{"$f":"IF(CENÁRIOS!$H$19=TRUE,IF(PM.25=\"\",\"-\",IF(OR(RfD.in.cn.25=\"-\",RfD.in.cn.25=\"\",RfD.in.cn.25=0,Cf.ArAguaSub.Abe.25=\"-\"),\"-\",(Cf.ArAguaSub.Abe.25*IF.ASub.Ina.Abe.a.nc/RfD.in.cn.25))),\"-\")","v":"-"},null,{"$f":"IF(CENÁRIOS!$H$20=TRUE,IF(PM.25=\"\",\"-\",IF(OR(RfD.in.cn.25=\"-\",RfD.in.cn.25=\"\",RfD.in.cn.25=0,Cf.ArAguaSub.Fec.25=\"-\"),\"-\",(Cf.ArAguaSub.Fec.25*IF.ASub.Ina.Fec.a.nc/RfD.in.cn.25))),\"-\")","v":"-"},null,{"$f":"IF(CENÁRIOS!$H$21=TRUE,IF(PM.25=\"\",\"-\",IF(OR(RfD.dm.cn.25=\"-\",RfD.dm.cn.25=\"\",RfD.dm.cn.25=0,PC.25=\"\"),\"-\",(Cf.AguaSub.25*PC.25*IF.ASub.Con.Der.a.nc/RfD.dm.cn.25))),\"-\")","v":"-"},null,{"$f":"IF(CENÁRIOS!$H$22=TRUE,IF(PM.25=\"\",\"-\",IF(OR(RfD.ig.cn.25=\"-\",RfD.ig.cn.25=\"\",RfD.ig.cn.25=0),\"-\",(Cf.AguaSub.25*IF.ASub.Ing.a.nc/RfD.ig.cn.25))),\"-\")","v":"-"},null,{"$f":"IF(CENÁRIOS!$I$19=TRUE,IF(PM.25=\"\",\"-\",IF(OR(RfD.in.cn.25=\"-\",RfD.in.cn.25=\"\",RfD.in.cn.25=0,Cff.ArAguaSub.Abe.25=\"-\"),\"-\",(Cff.ArAguaSub.Abe.25*IF.ASub.Ina.Abe.a.nc/RfD.in.cn.25))),\"-\")","v":"-"},null,{"$f":"IF(CENÁRIOS!$I$20=TRUE,IF(PM.25=\"\",\"-\",IF(OR(RfD.in.cn.25=\"-\",RfD.in.cn.25=\"\",RfD.in.cn.25=0,Cff.ArAguaSub.Fec.25=\"-\"),\"-\",(Cff.ArAguaSub.Fec.25*IF.ASub.Ina.Fec.a.nc/RfD.in.cn.25))),\"-\")","v":"-"},null,{"$f":"IF(CENÁRIOS!$I$21=TRUE,IF(PM.25=\"\",\"-\",IF(OR(RfD.dm.cn.25=\"-\",RfD.dm.cn.25=\"\",RfD.dm.cn.25=0,Cff.AguaAguaSub.25=\"-\",PC.25=\"\"),\"-\",(Cff.AguaAguaSub.25*PC.25*IF.ASub.Con.Der.a.nc/RfD.dm.cn.25))),\"-\")","v":"-"},null,{"$f":"IF(CENÁRIOS!$I$22=TRUE,IF(PM.25=\"\",\"-\",IF(OR(RfD.ig.cn.25=\"-\",RfD.ig.cn.25=\"\",RfD.ig.cn.25=0,Cff.AguaAguaSub.25=\"-\"),\"-\",(Cff.AguaAguaSub.25*IF.ASub.Ing.a.nc/RfD.ig.cn.25))),\"-\")","v":"-"},null,null,"-",null,"-"]
[null,26,{"$f":"SQI!D34","v":0},{"$f":"SQI!C34","v":""},"C",{"$f":"IF(CENÁRIOS!$H$19=TRUE,IF(PM.26=\"\",\"-\",IF(OR(Sf.in.26=\"-\",Sf.in.26=\"\",Sf.in.26=0,Cf.ArAguaSub.Abe.26=\"-\"),\"-\",(Cf.ArAguaSub.Abe.26*IF.ASub.Ina.Abe.a.c*Sf.in.26))),\"-\")","v":"-"},null,{"$f":"IF(CENÁRIOS!$H$20=TRUE,IF(PM.26=\"\",\"-\",IF(OR(Sf.in.26=\"-\",Sf.in.26=\"\",Sf.in.26=0,Cf.ArAguaSub.Fec.26=\"-\"),\"-\",(Cf.ArAguaSub.Fec.26*IF.ASub.Ina.Fec.a.c*Sf.in.26))),\"-\")","v":"-"},null,{"$f":"IF(CENÁRIOS!$H$21=TRUE,IF(PM.26=\"\",\"-\",IF(OR(Sf.dm.26=\"-\",Sf.dm.26=\"\",Sf.dm.26=0,PC.26=\"\"),\"-\",(Cf.AguaSub.26*PC.26*IF.ASub.Con.Der.a.c*Sf.dm.26))),\"-\")","v":"-"},null,{"$f":"IF(CENÁRIOS!$H$22=TRUE,IF(PM.26=\"\",\"-\",IF(OR(Sf.ig.26=\"-\",Sf.ig.26=\"\",Sf.ig.26=0),\"-\",(Cf.AguaSub.26*IF.ASub.Ing.a.c*Sf.ig.26))),\"-\")","v":"-"},null,{"$f":"IF(CENÁRIOS!$I$19=TRUE,IF(PM.26=\"\",\"-\",IF(OR(Sf.in.26=\"-\",Sf.in.26=\"\",Sf.in.26=0,Cff.ArAguaSub.Abe.26=\"-\"),\"-\",(Cff.ArAguaSub.Abe.26*IF.ASub.Ina.Abe.a.c*Sf.in.26))),\"-\")","v":"-"},null,{"$f":"IF(CENÁRIOS!$I$20=TRUE,IF(PM.26=\"\",\"-\",IF(OR(Sf.in.26=\"-\",Sf.in.26=\"\",Sf.in.26=0,Cff.ArAguaSub.Fec.26=\"-\"),\"-\",(Cff.ArAguaSub.Fec.26*IF.ASub.Ina.Fec.a.c*Sf.in.26))),\"-\")","v":"-"},null,{"$f":"IF(CENÁRIOS!$I$21=TRUE,IF(PM.26=\"\",\"-\",IF(OR(Sf.dm.26=\"-\",Sf.dm.26=\"\",Sf.dm.26=0,Cff.AguaAguaSub.26=\"-\",PC.26=\"\"),\"-\",(Cff.AguaAguaSub.26*PC.26*IF.ASub.Con.Der.a.c*Sf.dm.26))),\"-\")","v":"-"},null,{"$f":"IF(CENÁRIOS!$I$22=TRUE,IF(PM.26=\"\",\"-\",IF(OR(Sf.ig.26=\"-\",Sf.ig.26=\"\",Sf.ig.26=0,Cff.AguaAguaSub.26=\"-\"),\"-\",(Cff.AguaAguaSub.26*IF.ASub.Ing.a.c*Sf.ig.26))),\"-\")","v":"-"},null,null,"-",null,"-"]
[null,null,null,null,"NC",{"$f":"IF(CENÁRIOS!$H$19=TRUE,IF(PM.26=\"\",\"-\",IF(OR(RfD.in.cn.26=\"-\",RfD.in.cn.26=\"\",RfD.in.cn.26=0,Cf.ArAguaSub.Abe.26=\"-\"),\"-\",(Cf.ArAguaSub.Abe.26*IF.ASub.Ina.Abe.a.nc/RfD.in.cn.26))),\"-\")","v":"-"},null,{"$f":"IF(CENÁRIOS!$H$20=TRUE,IF(PM.26=\"\",\"-\",IF(OR(RfD.in.cn.26=\"-\",RfD.in.cn.26=\"\",RfD.in.cn.26=0,Cf.ArAguaSub.Fec.26=\"-\"),\"-\",(Cf.ArAguaSub.Fec.26*IF.ASub.Ina.Fec.a.nc/RfD.in.cn.26))),\"-\")","v":"-"},null,{"$f":"IF(CENÁRIOS!$H$21=TRUE,IF(PM.26=\"\",\"-\",IF(OR(RfD.dm.cn.26=\"-\",RfD.dm.cn.26=\"\",RfD.dm.cn.26=0,PC.26=\"\"),\"-\",(Cf.AguaSub.26*PC.26*IF.ASub.Con.Der.a.nc/RfD.dm.cn.26))),\"-\")","v":"-"},null,{"$f":"IF(CENÁRIOS!$H$22=TRUE,IF(PM.26=\"\",\"-\",IF(OR(RfD.ig.cn.26=\"-\",RfD.ig.cn.26=\"\",RfD.ig.cn.26=0),\"-\",(Cf.AguaSub.26*IF.ASub.Ing.a.nc/RfD.ig.cn.26))),\"-\")","v":"-"},null,{"$f":"IF(CENÁRIOS!$I$19=TRUE,IF(PM.26=\"\",\"-\",IF(OR(RfD.in.cn.26=\"-\",RfD.in.cn.26=\"\",RfD.in.cn.26=0,Cff.ArAguaSub.Abe.26=\"-\"),\"-\",(Cff.ArAguaSub.Abe.26*IF.ASub.Ina.Abe.a.nc/RfD.in.cn.26))),\"-\")","v":"-"},null,{"$f":"IF(CENÁRIOS!$I$20=TRUE,IF(PM.26=\"\",\"-\",IF(OR(RfD.in.cn.26=\"-\",RfD.in.cn.26=\"\",RfD.in.cn.26=0,Cff.ArAguaSub.Fec.26=\"-\"),\"-\",(Cff.ArAguaSub.Fec.26*IF.ASub.Ina.Fec.a.nc/RfD.in.cn.26))),\"-\")","v":"-"},null,{"$f":"IF(CENÁRIOS!$I$21=TRUE,IF(PM.26=\"\",\"-\",IF(OR(RfD.dm.cn.26=\"-\",RfD.dm.cn.26=\"\",RfD.dm.cn.26=0,Cff.AguaAguaSub.26=\"-\",PC.26=\"\"),\"-\",(Cff.AguaAguaSub.26*PC.26*IF.ASub.Con.Der.a.nc/RfD.dm.cn.26))),\"-\")","v":"-"},null,{"$f":"IF(CENÁRIOS!$I$22=TRUE,IF(PM.26=\"\",\"-\",IF(OR(RfD.ig.cn.26=\"-\",RfD.ig.cn.26=\"\",RfD.ig.cn.26=0,Cff.AguaAguaSub.26=\"-\"),\"-\",(Cff.AguaAguaSub.26*IF.ASub.Ing.a.nc/RfD.ig.cn.26))),\"-\")","v":"-"},null,null,"-",null,"-"]
[null,27,{"$f":"SQI!D35","v":0},{"$f":"SQI!C35","v":""},"C",{"$f":"IF(CENÁRIOS!$H$19=TRUE,IF(PM.27=\"\",\"-\",IF(OR(Sf.in.27=\"-\",Sf.in.27=\"\",Sf.in.27=0,Cf.ArAguaSub.Abe.27=\"-\"),\"-\",(Cf.ArAguaSub.Abe.27*IF.ASub.Ina.Abe.a.c*Sf.in.27))),\"-\")","v":"-"},null,{"$f":"IF(CENÁRIOS!$H$20=TRUE,IF(PM.27=\"\",\"-\",IF(OR(Sf.in.27=\"-\",Sf.in.27=\"\",Sf.in.27=0,Cf.ArAguaSub.Fec.27=\"-\"),\"-\",(Cf.ArAguaSub.Fec.27*IF.ASub.Ina.Fec.a.c*Sf.in.27))),\"-\")","v":"-"},null,{"$f":"IF(CENÁRIOS!$H$21=TRUE,IF(PM.27=\"\",\"-\",IF(OR(Sf.dm.27=\"-\",Sf.dm.27=\"\",Sf.dm.27=0,PC.27=\"\"),\"-\",(Cf.AguaSub.27*PC.27*IF.ASub.Con.Der.a.c*Sf.dm.27))),\"-\")","v":"-"},null,{"$f":"IF(CENÁRIOS!$H$22=TRUE,IF(PM.27=\"\",\"-\",IF(OR(Sf.ig.27=\"-\",Sf.ig.27=\"\",Sf.ig.27=0),\"-\",(Cf.AguaSub.27*IF.ASub.Ing.a.c*Sf.ig.27))),\"-\")","v":"-"},null,{"$f":"IF(CENÁRIOS!$I$19=TRUE,IF(PM.27=\"\",\"-\",IF(OR(Sf.in.27=\"-\",Sf.in.27=\"\",Sf.in.27=0,Cff.ArAguaSub.Abe.27=\"-\"),\"-\",(Cff.ArAguaSub.Abe.27*IF.ASub.Ina.Abe.a.c*Sf.in.27))),\"-\")","v":"-"},null,{"$f":"IF(CENÁRIOS!$I$20=TRUE,IF(PM.27=\"\",\"-\",IF(OR(Sf.in.27=\"-\",Sf.in.27=\"\",Sf.in.27=0,Cff.ArAguaSub.Fec.27=\"-\"),\"-\",(Cff.ArAguaSub.Fec.27*IF.ASub.Ina.Fec.a.c*Sf.in.27))),\"-\")","v":"-"},null,{"$f":"IF(CENÁRIOS!$I$21=TRUE,IF(PM.27=\"\",\"-\",IF(OR(Sf.dm.27=\"-\",Sf.dm.27=\"\",Sf.dm.27=0,Cff.AguaAguaSub.27=\"-\",PC.27=\"\"),\"-\",(Cff.AguaAguaSub.27*PC.27*IF.ASub.Con.Der.a.c*Sf.dm.27))),\"-\")","v":"-"},null,{"$f":"IF(CENÁRIOS!$I$22=TRUE,IF(PM.27=\"\",\"-\",IF(OR(Sf.ig.27=\"-\",Sf.ig.27=\"\",Sf.ig.27=0,Cff.AguaAguaSub.27=\"-\"),\"-\",(Cff.AguaAguaSub.27*IF.ASub.Ing.a.c*Sf.ig.27))),\"-\")","v":"-"},null,null,"-",null,"-"]
[null,null,null,null,"NC",{"$f":"IF(CENÁRIOS!$H$19=TRUE,IF(PM.27=\"\",\"-\",IF(OR(RfD.in.cn.27=\"-\",RfD.in.cn.27=\"\",RfD.in.cn.27=0,Cf.ArAguaSub.Abe.27=\"-\"),\"-\",(Cf.ArAguaSub.Abe.27*IF.ASub.Ina.Abe.a.nc/RfD.in.cn.27))),\"-\")","v":"-"},null,{"$f":"IF(CENÁRIOS!$H$20=TRUE,IF(PM.27=\"\",\"-\",IF(OR(RfD.in.cn.27=\"-\",RfD.in.cn.27=\"\",RfD.in.cn.27=0,Cf.ArAguaSub.Fec.27=\"-\"),\"-\",(Cf.ArAguaSub.Fec.27*IF.ASub.Ina.Fec.a.nc/RfD.in.cn.27))),\"-\")","v":"-"},null,{"$f":"IF(CENÁRIOS!$H$21=TRUE,IF(PM.27=\"\",\"-\",IF(OR(RfD.dm.cn.27=\"-\",RfD.dm.cn.27=\"\",RfD.dm.cn.27=0,PC.27=\"\"),\"-\",(Cf.AguaSub.27*PC.27*IF.ASub.Con.Der.a.nc/RfD.dm.cn.27))),\"-\")","v":"-"},null,{"$f":"IF(CENÁRIOS!$H$22=TRUE,IF(PM.27=\"\",\"-\",IF(OR(RfD.ig.cn.27=\"-\",RfD.ig.cn.27=\"\",RfD.ig.cn.27=0),\"-\",(Cf.AguaSub.27*IF.ASub.Ing.a.nc/RfD.ig.cn.27))),\"-\")","v":"-"},null,{"$f":"IF(CENÁRIOS!$I$19=TRUE,IF(PM.27=\"\",\"-\",IF(OR(RfD.in.cn.27=\"-\",RfD.in.cn.27=\"\",RfD.in.cn.27=0,Cff.ArAguaSub.Abe.27=\"-\"),\"-\",(Cff.ArAguaSub.Abe.27*IF.ASub.Ina.Abe.a.nc/RfD.in.cn.27))),\"-\")","v":"-"},null,{"$f":"IF(CENÁRIOS!$I$20=TRUE,IF(PM.27=\"\",\"-\",IF(OR(RfD.in.cn.27=\"-\",RfD.in.cn.27=\"\",RfD.in.cn.27=0,Cff.ArAguaSub.Fec.27=\"-\"),\"-\",(Cff.ArAguaSub.Fec.27*IF.ASub.Ina.Fec.a.nc/RfD.in.cn.27))),\"-\")","v":"-"},null,{"$f":"IF(CENÁRIOS!$I$21=TRUE,IF(PM.27=\"\",\"-\",IF(OR(RfD.dm.cn.27=\"-\",RfD.dm.cn.27=\"\",RfD.dm.cn.27=0,Cff.AguaAguaSub.27=\"-\",PC.27=\"\"),\"-\",(Cff.AguaAguaSub.27*PC.27*IF.ASub.Con.Der.a.nc/RfD.dm.cn.27))),\"-\")","v":"-"},null,{"$f":"IF(CENÁRIOS!$I$22=TRUE,IF(PM.27=\"\",\"-\",IF(OR(RfD.ig.cn.27=\"-\",RfD.ig.cn.27=\"\",RfD.ig.cn.27=0,Cff.AguaAguaSub.27=\"-\"),\"-\",(Cff.AguaAguaSub.27*IF.ASub.Ing.a.nc/RfD.ig.cn.27))),\"-\")","v":"-"},null,null,"-",null,"-"]
[null,28,{"$f":"SQI!D36","v":0},{"$f":"SQI!C36","v":""},"C",{"$f":"IF(CENÁRIOS!$H$19=TRUE,IF(PM.28=\"\",\"-\",IF(OR(Sf.in.28=\"-\",Sf.in.28=\"\",Sf.in.28=0,Cf.ArAguaSub.Abe.28=\"-\"),\"-\",(Cf.ArAguaSub.Abe.28*IF.ASub.Ina.Abe.a.c*Sf.in.28))),\"-\")","v":"-"},null,{"$f":"IF(CENÁRIOS!$H$20=TRUE,IF(PM.28=\"\",\"-\",IF(OR(Sf.in.28=\"-\",Sf.in.28=\"\",Sf.in.28=0,Cf.ArAguaSub.Fec.28=\"-\"),\"-\",(Cf.ArAguaSub.Fec.28*IF.ASub.Ina.Fec.a.c*Sf.in.28))),\"-\")","v":"-"},null,{"$f":"IF(CENÁRIOS!$H$21=TRUE,IF(PM.28=\"\",\"-\",IF(OR(Sf.dm.28=\"-\",Sf.dm.28=\"\",Sf.dm.28=0,PC.28=\"\"),\"-\",(Cf.AguaSub.28*PC.28*IF.ASub.Con.Der.a.c*Sf.dm.28))),\"-\")","v":"-"},null,{"$f":"IF(CENÁRIOS!$H$22=TRUE,IF(PM.28=\"\",\"-\",IF(OR(Sf.ig.28=\"-\",Sf.ig.28=\"\",Sf.ig.28=0),\"-\",(Cf.AguaSub.28*IF.ASub.Ing.a.c*Sf.ig.28))),\"-\")","v":"-"},null,{"$f":"IF(CENÁRIOS!$I$19=TRUE,IF(PM.28=\"\",\"-\",IF(OR(Sf.in.28=\"-\",Sf.in.28=\"\",Sf.in.28=0,Cff.ArAguaSub.Abe.28=\"-\"),\"-\",(Cff.ArAguaSub.Abe.28*IF.ASub.Ina.Abe.a.c*Sf.in.28))),\"-\")","v":"-"},null,{"$f":"IF(CENÁRIOS!$I$20=TRUE,IF(PM.28=\"\",\"-\",IF(OR(Sf.in.28=\"-\",Sf.in.28=\"\",Sf.in.28=0,Cff.ArAguaSub.Fec.28=\"-\"),\"-\",(Cff.ArAguaSub.Fec.28*IF.ASub.Ina.Fec.a.c*Sf.in.28))),\"-\")","v":"-"},null,{"$f":"IF(CENÁRIOS!$I$21=TRUE,IF(PM.28=\"\",\"-\",IF(OR(Sf.dm.28=\"-\",Sf.dm.28=\"\",Sf.dm.28=0,Cff.AguaAguaSub.28=\"-\",PC.28=\"\"),\"-\",(Cff.AguaAguaSub.28*PC.28*IF.ASub.Con.Der.a.c*Sf.dm.28))),\"-\")","v":"-"},null,{"$f":"IF(CENÁRIOS!$I$22=TRUE,IF(PM.28=\"\",\"-\",IF(OR(Sf.ig.28=\"-\",Sf.ig.28=\"\",Sf.ig.28=0,Cff.AguaAguaSub.28=\"-\"),\"-\",(Cff.AguaAguaSub.28*IF.ASub.Ing.a.c*Sf.ig.28))),\"-\")","v":"-"},null,null,"-",null,"-"]
[null,null,null,null,"NC",{"$f":"IF(CENÁRIOS!$H$19=TRUE,IF(PM.28=\"\",\"-\",IF(OR(RfD.in.cn.28=\"-\",RfD.in.cn.28=\"\",RfD.in.cn.28=0,Cf.ArAguaSub.Abe.28=\"-\"),\"-\",(Cf.ArAguaSub.Abe.28*IF.ASub.Ina.Abe.a.nc/RfD.in.cn.28))),\"-\")","v":"-"},null,{"$f":"IF(CENÁRIOS!$H$20=TRUE,IF(PM.28=\"\",\"-\",IF(OR(RfD.in.cn.28=\"-\",RfD.in.cn.28=\"\",RfD.in.cn.28=0,Cf.ArAguaSub.Fec.28=\"-\"),\"-\",(Cf.ArAguaSub.Fec.28*IF.ASub.Ina.Fec.a.nc/RfD.in.cn.28))),\"-\")","v":"-"},null,{"$f":"IF(CENÁRIOS!$H$21=TRUE,IF(PM.28=\"\",\"-\",IF(OR(RfD.dm.cn.28=\"-\",RfD.dm.cn.28=\"\",RfD.dm.cn.28=0,PC.28=\"\"),\"-\",(Cf.AguaSub.28*PC.28*IF.ASub.Con.Der.a.nc/RfD.dm.cn.28))),\"-\")","v":"-"},null,{"$f":"IF(CENÁRIOS!$H$22=TRUE,IF(PM.28=\"\",\"-\",IF(OR(RfD.ig.cn.28=\"-\",RfD.ig.cn.28=\"\",RfD.ig.cn.28=0),\"-\",(Cf.AguaSub.28*IF.ASub.Ing.a.nc/RfD.ig.cn.28))),\"-\")","v":"-"},null,{"$f":"IF(CENÁRIOS!$I$19=TRUE,IF(PM.28=\"\",\"-\",IF(OR(RfD.in.cn.28=\"-\",RfD.in.cn.28=\"\",RfD.in.cn.28=0,Cff.ArAguaSub.Abe.28=\"-\"),\"-\",(Cff.ArAguaSub.Abe.28*IF.ASub.Ina.Abe.a.nc/RfD.in.cn.28))),\"-\")","v":"-"},null,{"$f":"IF(CENÁRIOS!$I$20=TRUE,IF(PM.28=\"\",\"-\",IF(OR(RfD.in.cn.28=\"-\",RfD.in.cn.28=\"\",RfD.in.cn.28=0,Cff.ArAguaSub.Fec.28=\"-\"),\"-\",(Cff.ArAguaSub.Fec.28*IF.ASub.Ina.Fec.a.nc/RfD.in.cn.28))),\"-\")","v":"-"},null,{"$f":"IF(CENÁRIOS!$I$21=TRUE,IF(PM.28=\"\",\"-\",IF(OR(RfD.dm.cn.28=\"-\",RfD.dm.cn.28=\"\",RfD.dm.cn.28=0,Cff.AguaAguaSub.28=\"-\",PC.28=\"\"),\"-\",(Cff.AguaAguaSub.28*PC.28*IF.ASub.Con.Der.a.nc/RfD.dm.cn.28))),\"-\")","v":"-"},null,{"$f":"IF(CENÁRIOS!$I$22=TRUE,IF(PM.28=\"\",\"-\",IF(OR(RfD.ig.cn.28=\"-\",RfD.ig.cn.28=\"\",RfD.ig.cn.28=0,Cff.AguaAguaSub.28=\"-\"),\"-\",(Cff.AguaAguaSub.28*IF.ASub.Ing.a.nc/RfD.ig.cn.28))),\"-\")","v":"-"},null,null,"-",null,"-"]
[null,29,{"$f":"SQI!D37","v":0},{"$f":"SQI!C37","v":""},"C",{"$f":"IF(CENÁRIOS!$H$19=TRUE,IF(PM.29=\"\",\"-\",IF(OR(Sf.in.29=\"-\",Sf.in.29=\"\",Sf.in.29=0,Cf.ArAguaSub.Abe.29=\"-\"),\"-\",(Cf.ArAguaSub.Abe.29*IF.ASub.Ina.Abe.a.c*Sf.in.29))),\"-\")","v":"-"},null,{"$f":"IF(CENÁRIOS!$H$20=TRUE,IF(PM.29=\"\",\"-\",IF(OR(Sf.in.29=\"-\",Sf.in.29=\"\",Sf.in.29=0,Cf.ArAguaSub.Fec.29=\"-\"),\"-\",(Cf.ArAguaSub.Fec.29*IF.ASub.Ina.Fec.a.c*Sf.in.29))),\"-\")","v":"-"},null,{"$f":"IF(CENÁRIOS!$H$21=TRUE,IF(PM.29=\"\",\"-\",IF(OR(Sf.dm.29=\"-\",Sf.dm.29=\"\",Sf.dm.29=0,PC.29=\"\"),\"-\",(Cf.AguaSub.29*PC.29*IF.ASub.Con.Der.a.c*Sf.dm.29))),\"-\")","v":"-"},null,{"$f":"IF(CENÁRIOS!$H$22=TRUE,IF(PM.29=\"\",\"-\",IF(OR(Sf.ig.29=\"-\",Sf.ig.29=\"\",Sf.ig.29=0),\"-\",(Cf.AguaSub.29*IF.ASub.Ing.a.c*Sf.ig.29))),\"-\")","v":"-"},null,{"$f":"IF(CENÁRIOS!$I$19=TRUE,IF(PM.29=\"\",\"-\",IF(OR(Sf.in.29=\"-\",Sf.in.29=\"\",Sf.in.29=0,Cff.ArAguaSub.Abe.29=\"-\"),\"-\",(Cff.ArAguaSub.Abe.29*IF.ASub.Ina.Abe.a.c*Sf.in.29))),\"-\")","v":"-"},null,{"$f":"IF(CENÁRIOS!$I$20=TRUE,IF(PM.29=\"\",\"-\",IF(OR(Sf.in.29=\"-\",Sf.in.29=\"\",Sf.in.29=0,Cff.ArAguaSub.Fec.29=\"-\"),\"-\",(Cff.ArAguaSub.Fec.29*IF.ASub.Ina.Fec.a.c*Sf.in.29))),\"-\")","v":"-"},null,{"$f":"IF(CENÁRIOS!$I$21=TRUE,IF(PM.29=\"\",\"-\",IF(OR(Sf.dm.29=\"-\",Sf.dm.29=\"\",Sf.dm.29=0,Cff.AguaAguaSub.29=\"-\",PC.29=\"\"),\"-\",(Cff.AguaAguaSub.29*PC.29*IF.ASub.Con.Der.a.c*Sf.dm.29))),\"-\")","v":"-"},null,{"$f":"IF(CENÁRIOS!$I$22=TRUE,IF(PM.29=\"\",\"-\",IF(OR(Sf.ig.29=\"-\",Sf.ig.29=\"\",Sf.ig.29=0,Cff.AguaAguaSub.29=\"-\"),\"-\",(Cff.AguaAguaSub.29*IF.ASub.Ing.a.c*Sf.ig.29))),\"-\")","v":"-"},null,null,"-",null,"-"]
[null,null,null,null,"NC",{"$f":"IF(CENÁRIOS!$H$19=TRUE,IF(PM.29=\"\",\"-\",IF(OR(RfD.in.cn.29=\"-\",RfD.in.cn.29=\"\",RfD.in.cn.29=0,Cf.ArAguaSub.Abe.29=\"-\"),\"-\",(Cf.ArAguaSub.Abe.29*IF.ASub.Ina.Abe.a.nc/RfD.in.cn.29))),\"-\")","v":"-"},null,{"$f":"IF(CENÁRIOS!$H$20=TRUE,IF(PM.29=\"\",\"-\",IF(OR(RfD.in.cn.29=\"-\",RfD.in.cn.29=\"\",RfD.in.cn.29=0,Cf.ArAguaSub.Fec.29=\"-\"),\"-\",(Cf.ArAguaSub.Fec.29*IF.ASub.Ina.Fec.a.nc/RfD.in.cn.29))),\"-\")","v":"-"},null,{"$f":"IF(CENÁRIOS!$H$21=TRUE,IF(PM.29=\"\",\"-\",IF(OR(RfD.dm.cn.29=\"-\",RfD.dm.cn.29=\"\",RfD.dm.cn.29=0,PC.29=\"\"),\"-\",(Cf.AguaSub.29*PC.29*IF.ASub.Con.Der.a.nc/RfD.dm.cn.29))),\"-\")","v":"-"},null,{"$f":"IF(CENÁRIOS!$H$22=TRUE,IF(PM.29=\"\",\"-\",IF(OR(RfD.ig.cn.29=\"-\",RfD.ig.cn.29=\"\",RfD.ig.cn.29=0),\"-\",(Cf.AguaSub.29*IF.ASub.Ing.a.nc/RfD.ig.cn.29))),\"-\")","v":"-"},null,{"$f":"IF(CENÁRIOS!$I$19=TRUE,IF(PM.29=\"\",\"-\",IF(OR(RfD.in.cn.29=\"-\",RfD.in.cn.29=\"\",RfD.in.cn.29=0,Cff.ArAguaSub.Abe.29=\"-\"),\"-\",(Cff.ArAguaSub.Abe.29*IF.ASub.Ina.Abe.a.nc/RfD.in.cn.29))),\"-\")","v":"-"},null,{"$f":"IF(CENÁRIOS!$I$20=TRUE,IF(PM.29=\"\",\"-\",IF(OR(RfD.in.cn.29=\"-\",RfD.in.cn.29=\"\",RfD.in.cn.29=0,Cff.ArAguaSub.Fec.29=\"-\"),\"-\",(Cff.ArAguaSub.Fec.29*IF.ASub.Ina.Fec.a.nc/RfD.in.cn.29))),\"-\")","v":"-"},null,{"$f":"IF(CENÁRIOS!$I$21=TRUE,IF(PM.29=\"\",\"-\",IF(OR(RfD.dm.cn.29=\"-\",RfD.dm.cn.29=\"\",RfD.dm.cn.29=0,Cff.AguaAguaSub.29=\"-\",PC.29=\"\"),\"-\",(Cff.AguaAguaSub.29*PC.29*IF.ASub.Con.Der.a.nc/RfD.dm.cn.29))),\"-\")","v":"-"},null,{"$f":"IF(CENÁRIOS!$I$22=TRUE,IF(PM.29=\"\",\"-\",IF(OR(RfD.ig.cn.29=\"-\",RfD.ig.cn.29=\"\",RfD.ig.cn.29=0,Cff.AguaAguaSub.29=\"-\"),\"-\",(Cff.AguaAguaSub.29*IF.ASub.Ing.a.nc/RfD.ig.cn.29))),\"-\")","v":"-"},null,null,"-",null,"-"]
[null,30,{"$f":"SQI!D38","v":0},{"$f":"SQI!C38","v":""},"C",{"$f":"IF(CENÁRIOS!$H$19=TRUE,IF(PM.30=\"\",\"-\",IF(OR(Sf.in.30=\"-\",Sf.in.30=\"\",Sf.in.30=0,Cf.ArAguaSub.Abe.30=\"-\"),\"-\",(Cf.ArAguaSub.Abe.30*IF.ASub.Ina.Abe.a.c*Sf.in.30))),\"-\")","v":"-"},null,{"$f":"IF(CENÁRIOS!$H$20=TRUE,IF(PM.30=\"\",\"-\",IF(OR(Sf.in.30=\"-\",Sf.in.30=\"\",Sf.in.30=0,Cf.ArAguaSub.Fec.30=\"-\"),\"-\",(Cf.ArAguaSub.Fec.30*IF.ASub.Ina.Fec.a.c*Sf.in.30))),\"-\")","v":"-"},null,{"$f":"IF(CENÁRIOS!$H$21=TRUE,IF(PM.30=\"\",\"-\",IF(OR(Sf.dm.30=\"-\",Sf.dm.30=\"\",Sf.dm.30=0,PC.30=\"\"),\"-\",(Cf.AguaSub.30*PC.30*IF.ASub.Con.Der.a.c*Sf.dm.30))),\"-\")","v":"-"},null,{"$f":"IF(CENÁRIOS!$H$22=TRUE,IF(PM.30=\"\",\"-\",IF(OR(Sf.ig.30=\"-\",Sf.ig.30=\"\",Sf.ig.30=0),\"-\",(Cf.AguaSub.30*IF.ASub.Ing.a.c*Sf.ig.30))),\"-\")","v":"-"},null,{"$f":"IF(CENÁRIOS!$I$19=TRUE,IF(PM.30=\"\",\"-\",IF(OR(Sf.in.30=\"-\",Sf.in.30=\"\",Sf.in.30=0,Cff.ArAguaSub.Abe.30=\"-\"),\"-\",(Cff.ArAguaSub.Abe.30*IF.ASub.Ina.Abe.a.c*Sf.in.30))),\"-\")","v":"-"},null,{"$f":"IF(CENÁRIOS!$I$20=TRUE,IF(PM.30=\"\",\"-\",IF(OR(Sf.in.30=\"-\",Sf.in.30=\"\",Sf.in.30=0,Cff.ArAguaSub.Fec.30=\"-\"),\"-\",(Cff.ArAguaSub.Fec.30*IF.ASub.Ina.Fec.a.c*Sf.in.30))),\"-\")","v":"-"},null,{"$f":"IF(CENÁRIOS!$I$21=TRUE,IF(PM.30=\"\",\"-\",IF(OR(Sf.dm.30=\"-\",Sf.dm.30=\"\",Sf.dm.30=0,Cff.AguaAguaSub.30=\"-\",PC.30=\"\"),\"-\",(Cff.AguaAguaSub.30*PC.30*IF.ASub.Con.Der.a.c*Sf.dm.30))),\"-\")","v":"-"},null,{"$f":"IF(CENÁRIOS!$I$22=TRUE,IF(PM.30=\"\",\"-\",IF(OR(Sf.ig.30=\"-\",Sf.ig.30=\"\",Sf.ig.30=0,Cff.AguaAguaSub.30=\"-\"),\"-\",(Cff.AguaAguaSub.30*IF.ASub.Ing.a.c*Sf.ig.30))),\"-\")","v":"-"},null,null,"-",null,"-"]
[null,null,null,null,"NC",{"$f":"IF(CENÁRIOS!$H$19=TRUE,IF(PM.30=\"\",\"-\",IF(OR(RfD.in.cn.30=\"-\",RfD.in.cn.30=\"\",RfD.in.cn.30=0,Cf.ArAguaSub.Abe.30=\"-\"),\"-\",(Cf.ArAguaSub.Abe.30*IF.ASub.Ina.Abe.a.nc/RfD.in.cn.30))),\"-\")","v":"-"},null,{"$f":"IF(CENÁRIOS!$H$20=TRUE,IF(PM.30=\"\",\"-\",IF(OR(RfD.in.cn.30=\"-\",RfD.in.cn.30=\"\",RfD.in.cn.30=0,Cf.ArAguaSub.Fec.30=\"-\"),\"-\",(Cf.ArAguaSub.Fec.30*IF.ASub.Ina.Fec.a.nc/RfD.in.cn.30))),\"-\")","v":"-"},null,{"$f":"IF(CENÁRIOS!$H$21=TRUE,IF(PM.30=\"\",\"-\",IF(OR(RfD.dm.cn.30=\"-\",RfD.dm.cn.30=\"\",RfD.dm.cn.30=0,PC.30=\"\"),\"-\",(Cf.AguaSub.30*PC.30*IF.ASub.Con.Der.a.nc/RfD.dm.cn.30))),\"-\")","v":"-"},null,{"$f":"IF(CENÁRIOS!$H$22=TRUE,IF(PM.30=\"\",\"-\",IF(OR(RfD.ig.cn.30=\"-\",RfD.ig.cn.30=\"\",RfD.ig.cn.30=0),\"-\",(Cf.AguaSub.30*IF.ASub.Ing.a.nc/RfD.ig.cn.30))),\"-\")","v":"-"},null,{"$f":"IF(CENÁRIOS!$I$19=TRUE,IF(PM.30=\"\",\"-\",IF(OR(RfD.in.cn.30=\"-\",RfD.in.cn.30=\"\",RfD.in.cn.30=0,Cff.ArAguaSub.Abe.30=\"-\"),\"-\",(Cff.ArAguaSub.Abe.30*IF.ASub.Ina.Abe.a.nc/RfD.in.cn.30))),\"-\")","v":"-"},null,{"$f":"IF(CENÁRIOS!$I$20=TRUE,IF(PM.30=\"\",\"-\",IF(OR(RfD.in.cn.30=\"-\",RfD.in.cn.30=\"\",RfD.in.cn.30=0,Cff.ArAguaSub.Fec.30=\"-\"),\"-\",(Cff.ArAguaSub.Fec.30*IF.ASub.Ina.Fec.a.nc/RfD.in.cn.30))),\"-\")","v":"-"},null,{"$f":"IF(CENÁRIOS!$I$21=TRUE,IF(PM.30=\"\",\"-\",IF(OR(RfD.dm.cn.30=\"-\",RfD.dm.cn.30=\"\",RfD.dm.cn.30=0,Cff.AguaAguaSub.30=\"-\",PC.30=\"\"),\"-\",(Cff.AguaAguaSub.30*PC.30*IF.ASub.Con.Der.a.nc/RfD.dm.cn.30))),\"-\")","v":"-"},null,{"$f":"IF(CENÁRIOS!$I$22=TRUE,IF(PM.30=\"\",\"-\",IF(OR(RfD.ig.cn.30=\"-\",RfD.ig.cn.30=\"\",RfD.ig.cn.30=0,Cff.AguaAguaSub.30=\"-\"),\"-\",(Cff.AguaAguaSub.30*IF.ASub.Ing.a.nc/RfD.ig.cn.30))),\"-\")","v":"-"},null,null,"-",null,"-"]
[]
[null,"RISCO CUMULATIVO POR CENÁRIO",null,"SUBSTÂNCIAS CARCINOGENICAS",null,{"$f":"SUM(F9,F11,F13,F15,F17,F19,F21,F23,F25,F27,F29,F31,F33,F35,F37,F39,F41,F43,F45,F47,F49,F51,F53,F55,F57,F59,F61,F63,F65,F67)","v":0},null,{"$f":"SUM(H9,H11,H13,H15,H17,H19,H21,H23,H25,H27,H29,H31,H33,H35,H37,H39,H41,H43,H45,H47,H49,H51,H53,H55,H57,H59,H61,H63,H65,H67)","v":0},null,{"$f":"SUM(J9,J11,J13,J15,J17,J19,J21,J23,J25,J27,J29,J31,J33,J35,J37,J39,J41,J43,J45,J47,J49,J51,J53,J55,J57,J59,J61,J63,J65,J67)","v":0},null,{"$f":"SUM(L9,L11,L13,L15,L17,L19,L21,L23,L25,L27,L29,L31,L33,L35,L37,L39,L41,L43,L45,L47,L49,L51,L53,L55,L57,L59,L61,L63,L65,L67)","v":0},null,{"$f":"SUM(N9,N11,N13,N15,N17,N19,N21,N23,N25,N27,N29,N31,N33,N35,N37,N39,N41,N43,N45,N47,N49,N51,N53,N55,N57,N59,N61,N63,N65,N67)","v":0},null,{"$f":"SUM(P9,P11,P13,P15,P17,P19,P21,P23,P25,P27,P29,P31,P33,P35,P37,P39,P41,P43,P45,P47,P49,P51,P53,P55,P57,P59,P61,P63,P65,P67)","v":0},null,{"$f":"SUM(R9,R11,R13,R15,R17,R19,R21,R23,R25,R27,R29,R31,R33,R35,R37,R39,R41,R43,R45,R47,R49,R51,R53,R55,R57,R59,R61,R63,R65,R67)","v":0},null,{"$f":"SUM(T9,T11,T13,T15,T17,T19,T21,T23,T25,T27,T29,T31,T33,T35,T37,T39,T41,T43,T45,T47,T49,T51,T53,T55,T57,T59,T61,T63,T65,T67)","v":0}]
[null,null,null,"SUBSTÂNCIAS NÃO CARCINOGENICAS",null,{"$f":"SUM(F10,F12,F14,F16,F18,F20,F22,F24,F26,F28,F30,F32,F34,F36,F38,F40,F42,F44,F46,F48,F50,F52,F54,F56,F58,F60,F62,F64,F66,F68)","v":0},null,{"$f":"SUM(H10,H12,H14,H16,H18,H20,H22,H24,H26,H28,H30,H32,H34,H36,H38,H40,H42,H44,H46,H48,H50,H52,H54,H56,H58,H60,H62,H64,H66,H68)","v":0},null,{"$f":"SUM(J10,J12,J14,J16,J18,J20,J22,J24,J26,J28,J30,J32,J34,J36,J38,J40,J42,J44,J46,J48,J50,J52,J54,J56,J58,J60,J62,J64,J66,J68)","v":0},null,{"$f":"SUM(L10,L12,L14,L16,L18,L20,L22,L24,L26,L28,L30,L32,L34,L36,L38,L40,L42,L44,L46,L48,L50,L52,L54,L56,L58,L60,L62,L64,L66,L68)","v":0},null,{"$f":"SUM(N10,N12,N14,N16,N18,N20,N22,N24,N26,N28,N30,N32,N34,N36,N38,N40,N42,N44,N46,N48,N50,N52,N54,N56,N58,N60,N62,N64,N66,N68)","v":0},null,{"$f":"SUM(P10,P12,P14,P16,P18,P20,P22,P24,P26,P28,P30,P32,P34,P36,P38,P40,P42,P44,P46,P48,P50,P52,P54,P56,P58,P60,P62,P64,P66,P68)","v":0},null,{"$f":"SUM(R10,R12,R14,R16,R18,R20,R22,R24,R26,R28,R30,R32,R34,R36,R38,R40,R42,R44,R46,R48,R50,R52,R54,R56,R58,R60,R62,R64,R66,R68)","v":0},null,{"$f":"SUM(T10,T12,T14,T16,T18,T20,T22,T24,T26,T28,T30,T32,T34,T36,T38,T40,T42,T44,T46,T48,T50,T52,T54,T56,T58,T60,T62,T64,T66,T68)","v":0}]
[]
[null,"Risco Máximo Aceitável para Substâncias Carcinogênicas",null,null,null,{"$f":"TR","v":1.0000000000000001E-5}]
[null,"Quociente de Perigo Máximo Aceitável para Substâncias não Carcinogênicas",null,null,null,{"$f":"THI","v":1}]

{"sheet":"Risco Ar ","index":7,"n_rows":74,"n_cols":8,"rows_kept":74,"cut":false,"hidden":false,"merged":[[58,1,59,1],[58,2,59,2],[58,3,59,3],[60,1,61,1],[60,2,61,2],[60,3,61,3],[54,1,55,1],[54,2,55,2],[54,3,55,3],[56,1,57,1],[56,2,57,2],[56,3,57,3],[69,1,70,2],[69,3,69,4],[70,3,70,4],[62,1,63,1],[62,2,63,2],[62,3,63,3],[64,1,65,1],[64,2,65,2],[64,3,65,3],[66,1,67,1],[66,2,67,2],[66,3,67,3],[52,1,53,1],[52,2,53,2],[52,3,53,3],[46,1,47,1],[46,2,47,2],[46,3,47,3],[48,1,49,1],[48,2,49,2],[48,3,49,3],[50,1,51,1],[50,2,51,2],[50,3,51,3],[42,1,43,1],[42,2,43,2],[42,3,43,3],[44,1,45,1],[44,2,45,2],[44,3,45,3],[38,1,39,1],[38,2,39,2],[38,3,39,3],[40,1,41,1],[40,2,41,2],[40,3,41,3],[34,1,35,1],[34,2,35,2],[34,3,35,3],[36,1,37,1],[36,2,37,2],[36,3,37,3],[30,1,31,1],[30,2,31,2],[30,3,31,3],[32,1,33,1],[32,2,33,2],[32,3,33,3],[26,1,27,1],[26,2,27,2],[26,3,27,3],[28,1,29,1],[28,2,29,2],[28,3,29,3],[22,1,23,1],[22,2,23,2],[22,3,23,3],[24,1,25,1],[24,2,25,2],[24,3,25,3],[20,1,21,1],[20,2,21,2],[20,3,21,3],[14,1,15,1],[14,2,15,2],[14,3,15,3],[16,1,17,1],[16,2,17,2],[16,3,17,3],[12,1,13,1],[12,2,13,2],[12,3,13,3],[8,1,9,1],[8,2,9,2],[8,3,9,3],[7,1,7,2],[18,1,19,1],[18,2,19,2],[18,3,19,3],[1,5,1,8],[1,3,1,4],[2,1,6,2],[2,3,7,3],[2,4,7,4],[10,1,11,1],[10,2,11,2],[10,3,11,3],[4,5,4,8],[5,5,7,6],[5,7,7,8],[2,5,3,8]]}
[]
[null,"DATA:",{"$f":"CENÁRIOS!Data","v":0},"IDENTIFICAÇÃO DA ÁREA:",null,{"$f":"CENÁRIOS!G3","v":0}]
[null,null,null,"CONTAMINANTE","EFEITO","RISCO CARCINOGÊNICO E NÃO CARCINOGÊNICO PARA AR AMBIENTE E AR DO SOLO"]
[]
[null,null,null,null,null,"RECEPTOR NA FONTE DE CONTAMINAÇÃO"]
[null,null,null,null,null,"AR AMBIENTE",null,"AR DO SOLO"]
[]
[null,"CAS N°"]
[null,1,{"$f":"SQI!D9","v":0},{"$f":"SQI!C9","v":""},"C",{"$f":"IF(CENÁRIOS!$H$27=TRUE,IF(PM.1=\"\",\"-\",IF(OR(IUR.1=\"-\",IUR.1=\"\",IUR.1=0,Cf.ArAmb.1=\"-\"),\"-\",(Cf.ArAmb.1/'CMA AR'!F10)*0.00001)),\"-\")","v":"-"},null,{"$f":"IF(CENÁRIOS!H27=TRUE,IF(PM.1=\"\",\"-\",IF(OR(IUR.1=\"-\",IUR.1=\"\",IUR.1=0,Cf.GasSolo.1=\"-\",Vol.1<>\"V\"),\"-\",(Cf.GasSolo.1/'CMA AR'!J10)*0.00001)),\"-\")","v":"-"}]
[null,null,null,null,"NC",{"$f":"IF(CENÁRIOS!$H$27=TRUE,IF(PM.1=\"\",\"-\",IF(OR(RFC.1=\"-\",RFC.1=\"\",RFC.1=0,Cf.ArAmb.1=\"-\"),\"-\",(Cf.ArAmb.1/'CMA AR'!F11))),\"-\")","v":"-"},null,{"$f":"IF(CENÁRIOS!H27=TRUE,IF(PM.1=\"\",\"-\",IF(OR(RFC.1=\"-\",RFC.1=\"\",RFC.1=0,Cf.GasSolo.1=\"-\",Vol.1<>\"V\"),\"-\",(Cf.GasSolo.1/'CMA AR'!J11))),\"-\")","v":"-"}]
[null,2,{"$f":"SQI!D10","v":0},{"$f":"SQI!C10","v":""},"C",{"$f":"IF(CENÁRIOS!$H$27=TRUE,IF(PM.2=\"\",\"-\",IF(OR(IUR.2=\"-\",IUR.2=\"\",IUR.2=0,Cf.ArAmb.2=\"-\"),\"-\",(Cf.ArAmb.2/'CMA AR'!F12)*0.00001)),\"-\")","v":"-"},null,{"$f":"IF(CENÁRIOS!H27=TRUE,IF(PM.2=\"\",\"-\",IF(OR(IUR.2=\"-\",IUR.2=\"\",IUR.2=0,Cf.GasSolo.2=\"-\",vol.2<>\"V\"),\"-\",(Cf.GasSolo.2/'CMA AR'!J12)*0.00001)),\"-\")","v":"-"}]
[null,null,null,null,"NC",{"$f":"IF(CENÁRIOS!$H$27=TRUE,IF(PM.2=\"\",\"-\",IF(OR(RFC.2=\"-\",RFC.2=\"\",RFC.2=0,Cf.ArAmb.2=\"-\"),\"-\",(Cf.ArAmb.2/'CMA AR'!F13))),\"-\")","v":"-"},null,{"$f":"IF(CENÁRIOS!H27=TRUE,IF(PM.2=\"\",\"-\",IF(OR(RFC.2=\"-\",RFC.2=\"\",RFC.2=0,Cf.GasSolo.2=\"-\",vol.2<>\"V\"),\"-\",(Cf.GasSolo.2/'CMA AR'!J13))),\"-\")","v":"-"}]
[null,3,{"$f":"SQI!D11","v":0},{"$f":"SQI!C11","v":""},"C",{"$f":"IF(CENÁRIOS!$H$27=TRUE,IF(PM.3=\"\",\"-\",IF(OR(IUR.3=\"-\",IUR.3=\"\",IUR.3=0,Cf.ArAmb.3=\"-\"),\"-\",(Cf.ArAmb.3/'CMA AR'!F14)*0.00001)),\"-\")","v":"-"},null,{"$f":"IF(CENÁRIOS!H27=TRUE,IF(PM.3=\"\",\"-\",IF(OR(IUR.3=\"-\",IUR.3=\"\",IUR.3=0,Cf.GasSolo.3=\"-\",vol.3<>\"V\"),\"-\",(Cf.GasSolo.3/'CMA AR'!J14)*0.00001)),\"-\")","v":"-"}]
[null,null,null,null,"NC",{"$f":"IF(CENÁRIOS!$H$27=TRUE,IF(PM.3=\"\",\"-\",IF(OR(RFC.3=\"-\",RFC.3=\"\",RFC.3=0,Cf.ArAmb.3=\"-\"),\"-\",(Cf.ArAmb.3/'CMA AR'!F15))),\"-\")","v":"-"},null,{"$f":"IF(CENÁRIOS!H27=TRUE,IF(PM.3=\"\",\"-\",IF(OR(RFC.3=\"-\",RFC.3=\"\",RFC.3=0,Cf.GasSolo.3=\"-\",vol.3<>\"V\"),\"-\",(Cf.GasSolo.3/'CMA AR'!J15))),\"-\")","v":"-"}]
[null,4,{"$f":"SQI!D12","v":0},{"$f":"SQI!C12","v":""},"C",{"$f":"IF(CENÁRIOS!$H$27=TRUE,IF(PM.4=\"\",\"-\",IF(OR(IUR.4=\"-\",IUR.4=\"\",IUR.4=0,Cf.ArAmb.4=\"-\"),\"-\",(Cf.ArAmb.4/'CMA AR'!F16)*0.00001)),\"-\")","v":"-"},null,{"$f":"IF(CENÁRIOS!H27=TRUE,IF(PM.4=\"\",\"-\",IF(OR(IUR.4=\"-\",IUR.4=\"\",IUR.4=0,Cf.GasSolo.4=\"-\",vol.4<>\"V\"),\"-\",(Cf.GasSolo.4/'CMA AR'!J16)*0.00001)),\"-\")","v":"-"}]
[null,null,null,null,"NC",{"$f":"IF(CENÁRIOS!$H$27=TRUE,IF(PM.4=\"\",\"-\",IF(OR(RFC.4=\"-\",RFC.4=\"\",RFC.4=0,Cf.ArAmb.4=\"-\"),\"-\",(Cf.ArAmb.4/'CMA AR'!F17))),\"-\")","v":"-"},null,{"$f":"IF(CENÁRIOS!H27=TRUE,IF(PM.4=\"\",\"-\",IF(OR(RFC.4=\"-\",RFC.4=\"\",RFC.4=0,Cf.GasSolo.4=\"-\",vol.4<>\"V\"),\"-\",(Cf.GasSolo.4/'CMA AR'!J17))),\"-\")","v":"-"}]
[null,5,{"$f":"SQI!D13","v":0},{"$f":"SQI!C13","v":""},"C",{"$f":"IF(CENÁRIOS!$H$27=TRUE,IF(PM.5=\"\",\"-\",IF(OR(IUR.5=\"-\",IUR.5=\"\",IUR.5=0,Cf.ArAmb.5=\"-\"),\"-\",(Cf.ArAmb.5/'CMA AR'!F18)*0.00001)),\"-\")","v":"-"},null,{"$f":"IF(CENÁRIOS!H27=TRUE,IF(PM.5=\"\",\"-\",IF(OR(IUR.5=\"-\",IUR.5=\"\",IUR.5=0,Cf.GasSolo.5=\"-\",vol.5<>\"V\"),\"-\",(Cf.GasSolo.5/'CMA AR'!J18)*0.00001)),\"-\")","v":"-"}]
[null,null,null,null,"NC",{"$f":"IF(CENÁRIOS!$H$27=TRUE,IF(PM.5=\"\",\"-\",IF(OR(RFC.5=\"-\",RFC.5=\"\",RFC.5=0,Cf.ArAmb.5=\"-\"),\"-\",(Cf.ArAmb.5/'CMA AR'!F19))),\"-\")","v":"-"},null,{"$f":"IF(CENÁRIOS!H27=TRUE,IF(PM.5=\"\",\"-\",IF(OR(RFC.5=\"-\",RFC.5=\"\",RFC.5=0,Cf.GasSolo.5=\"-\",vol.5<>\"V\"),\"-\",(Cf.GasSolo.5/'CMA AR'!J19))),\"-\")","v":"-"}]
[null,6,{"$f":"SQI!D14","v":0},{"$f":"SQI!C14","v":""},"C",{"$f":"IF(CENÁRIOS!$H$27=TRUE,IF(PM.6=\"\",\"-\",IF(OR(IUR.6=\"-\",IUR.6=\"\",IUR.6=0,Cf.ArAmb.6=\"-\"),\"-\",(Cf.ArAmb.6/'CMA AR'!F20)*0.00001)),\"-\")","v":"-"},null,{"$f":"IF(CENÁRIOS!H27=TRUE,IF(PM.6=\"\",\"-\",IF(OR(IUR.6=\"-\",IUR.6=\"\",IUR.6=0,Cf.GasSolo.6=\"-\",vol.6<>\"V\"),\"-\",(Cf.GasSolo.6/'CMA AR'!J20)*0.00001)),\"-\")","v":"-"}]
[null,null,null,null,"NC",{"$f":"IF(CENÁRIOS!$H$27=TRUE,IF(PM.6=\"\",\"-\",IF(OR(RFC.6=\"-\",RFC.6=\"\",RFC.6=0,Cf.ArAmb.6=\"-\"),\"-\",(Cf.ArAmb.6/'CMA AR'!F21))),\"-\")","v":"-"},null,{"$f":"IF(CENÁRIOS!H27=TRUE,IF(PM.6=\"\",\"-\",IF(OR(RFC.6=\"-\",RFC.6=\"\",RFC.6=0,Cf.GasSolo.6=\"-\",vol.6<>\"V\"),\"-\",(Cf.GasSolo.6/'CMA AR'!J21))),\"-\")","v":"-"}]
[null,7,{"$f":"SQI!D15","v":0},{"$f":"SQI!C15","v":""},"C",{"$f":"IF(CENÁRIOS!$H$27=TRUE,IF(PM.7=\"\",\"-\",IF(OR(IUR.7=\"-\",IUR.7=\"\",IUR.7=0,Cf.ArAmb.7=\"-\"),\"-\",(Cf.ArAmb.7/'CMA AR'!F22)*0.00001)),\"-\")","v":"-"},null,{"$f":"IF(CENÁRIOS!H27=TRUE,IF(PM.7=\"\",\"-\",IF(OR(IUR.7=\"-\",IUR.7=\"\",IUR.7=0,Cf.GasSolo.7=\"-\",vol.7<>\"V\"),\"-\",(Cf.GasSolo.7/'CMA AR'!J22)*0.00001)),\"-\")","v":"-"}]
[null,null,null,null,"NC",{"$f":"IF(CENÁRIOS!$H$27=TRUE,IF(PM.7=\"\",\"-\",IF(OR(RFC.7=\"-\",RFC.7=\"\",RFC.7=0,Cf.ArAmb.7=\"-\"),\"-\",(Cf.ArAmb.7/'CMA AR'!F23))),\"-\")","v":"-"},null,{"$f":"IF(CENÁRIOS!H27=TRUE,IF(PM.7=\"\",\"-\",IF(OR(RFC.7=\"-\",RFC.7=\"\",RFC.7=0,Cf.GasSolo.7=\"-\",vol.7<>\"V\"),\"-\",(Cf.GasSolo.7/'CMA AR'!J23))),\"-\")","v":"-"}]
[null,8,{"$f":"SQI!D16","v":0},{"$f":"SQI!C16","v":""},"C",{"$f":"IF(CENÁRIOS!$H$27=TRUE,IF(PM.8=\"\",\"-\",IF(OR(IUR.8=\"-\",IUR.8=\"\",IUR.8=0,Cf.ArAmb.8=\"-\"),\"-\",(Cf.ArAmb.8/'CMA AR'!F24)*0.00001)),\"-\")","v":"-"},null,{"$f":"IF(CENÁRIOS!H27=TRUE,IF(PM.8=\"\",\"-\",IF(OR(IUR.8=\"-\",IUR.8=\"\",IUR.8=0,Cf.GasSolo.8=\"-\",vol.8<>\"V\"),\"-\",(Cf.GasSolo.8/'CMA AR'!J24)*0.00001)),\"-\")","v":"-"}]
[null,null,null,null,"NC",{"$f":"IF(CENÁRIOS!$H$27=TRUE,IF(PM.8=\"\",\"-\",IF(OR(RFC.8=\"-\",RFC.8=\"\",RFC.8=0,Cf.ArAmb.8=\"-\"),\"-\",(Cf.ArAmb.8/'CMA AR'!F25))),\"-\")","v":"-"},null,{"$f":"IF(CENÁRIOS!H27=TRUE,IF(PM.8=\"\",\"-\",IF(OR(RFC.8=\"-\",RFC.8=\"\",RFC.8=0,Cf.GasSolo.8=\"-\",vol.8<>\"V\"),\"-\",(Cf.GasSolo.8/'CMA AR'!J25))),\"-\")","v":"-"}]
[null,9,{"$f":"SQI!D17","v":0},{"$f":"SQI!C17","v":""},"C",{"$f":"IF(CENÁRIOS!$H$27=TRUE,IF(PM.9=\"\",\"-\",IF(OR(IUR.9=\"-\",IUR.9=\"\",IUR.9=0,Cf.ArAmb.9=\"-\"),\"-\",(Cf.ArAmb.9/'CMA AR'!F26)*0.00001)),\"-\")","v":"-"},null,{"$f":"IF(CENÁRIOS!H27=TRUE,IF(PM.9=\"\",\"-\",IF(OR(IUR.9=\"-\",IUR.9=\"\",IUR.9=0,Cf.GasSolo.9=\"-\",vol.9<>\"V\"),\"-\",(Cf.GasSolo.9/'CMA AR'!J26)*0.00001)),\"-\")","v":"-"}]
[null,null,null,null,"NC",{"$f":"IF(CENÁRIOS!$H$27=TRUE,IF(PM.9=\"\",\"-\",IF(OR(RFC.9=\"-\",RFC.9=\"\",RFC.9=0,Cf.ArAmb.9=\"-\"),\"-\",(Cf.ArAmb.9/'CMA AR'!F27))),\"-\")","v":"-"},null,{"$f":"IF(CENÁRIOS!H27=TRUE,IF(PM.9=\"\",\"-\",IF(OR(RFC.9=\"-\",RFC.9=\"\",RFC.9=0,Cf.GasSolo.9=\"-\",vol.9<>\"V\"),\"-\",(Cf.GasSolo.9/'CMA AR'!J27))),\"-\")","v":"-"}]
[null,10,{"$f":"SQI!D18","v":0},{"$f":"SQI!C18","v":""},"C",{"$f":"IF(CENÁRIOS!$H$27=TRUE,IF(PM.10=\"\",\"-\",IF(OR(IUR.10=\"-\",IUR.10=\"\",IUR.10=0,Cf.ArAmb.10=\"-\"),\"-\",(Cf.ArAmb.10/'CMA AR'!F28)*0.00001)),\"-\")","v":"-"},null,{"$f":"IF(CENÁRIOS!H27=TRUE,IF(PM.10=\"\",\"-\",IF(OR(IUR.10=\"-\",IUR.10=\"\",IUR.10=0,Cf.GasSolo.10=\"-\",vol.10<>\"V\"),\"-\",(Cf.GasSolo.10/'CMA AR'!J28)*0.00001)),\"-\")","v":"-"}]
[null,null,null,null,"NC",{"$f":"IF(CENÁRIOS!$H$27=TRUE,IF(PM.10=\"\",\"-\",IF(OR(RFC.10=\"-\",RFC.10=\"\",RFC.10=0,Cf.ArAmb.10=\"-\"),\"-\",(Cf.ArAmb.10/'CMA AR'!F29))),\"-\")","v":"-"},null,{"$f":"IF(CENÁRIOS!H27=TRUE,IF(PM.10=\"\",\"-\",IF(OR(RFC.10=\"-\",RFC.10=\"\",RFC.10=0,Cf.GasSolo.10=\"-\",vol.10<>\"V\"),\"-\",(Cf.GasSolo.10/'CMA AR'!J29))),\"-\")","v":"-"}]
[null,11,{"$f":"SQI!D19","v":0},{"$f":"SQI!C19","v":""},"C",{"$f":"IF(CENÁRIOS!$H$27=TRUE,IF(PM.11=\"\",\"-\",IF(OR(IUR.11=\"-\",IUR.11=\"\",IUR.11=0,Cf.ArAmb.11=\"-\"),\"-\",(Cf.ArAmb.11/'CMA AR'!F30)*0.00001)),\"-\")","v":"-"},null,{"$f":"IF(CENÁRIOS!H27=TRUE,IF(PM.11=\"\",\"-\",IF(OR(IUR.11=\"-\",IUR.11=\"\",IUR.11=0,Cf.GasSolo.11=\"-\",vol.11<>\"V\"),\"-\",(Cf.GasSolo.11/'CMA AR'!J30)*0.00001)),\"-\")","v":"-"}]
[null,null,null,null,"NC",{"$f":"IF(CENÁRIOS!$H$27=TRUE,IF(PM.11=\"\",\"-\",IF(OR(RFC.11=\"-\",RFC.11=\"\",RFC.11=0,Cf.ArAmb.11=\"-\"),\"-\",(Cf.ArAmb.11/'CMA AR'!F31))),\"-\")","v":"-"},null,{"$f":"IF(CENÁRIOS!H27=TRUE,IF(PM.11=\"\",\"-\",IF(OR(RFC.11=\"-\",RFC.11=\"\",RFC.11=0,Cf.GasSolo.11=\"-\",vol.11<>\"V\"),\"-\",(Cf.GasSolo.11/'CMA AR'!J31))),\"-\")","v":"-"}]
[null,12,{"$f":"SQI!D20","v":0},{"$f":"SQI!C20","v":""},"C",{"$f":"IF(CENÁRIOS!$H$27=TRUE,IF(PM.12=\"\",\"-\",IF(OR(IUR.12=\"-\",IUR.12=\"\",IUR.12=0,Cf.ArAmb.12=\"-\"),\"-\",(Cf.ArAmb.12/'CMA AR'!F32)*0.00001)),\"-\")","v":"-"},null,{"$f":"IF(CENÁRIOS!H27=TRUE,IF(PM.12=\"\",\"-\",IF(OR(IUR.12=\"-\",IUR.12=\"\",IUR.12=0,Cf.GasSolo.12=\"-\",vol.12<>\"V\"),\"-\",(Cf.GasSolo.12/'CMA AR'!J32)*0.00001)),\"-\")","v":"-"}]
[null,null,null,null,"NC",{"$f":"IF(CENÁRIOS!$H$27=TRUE,IF(PM.12=\"\",\"-\",IF(OR(RFC.12=\"-\",RFC.12=\"\",RFC.12=0,Cf.ArAmb.12=\"-\"),\"-\",(Cf.ArAmb.12/'CMA AR'!F33))),\"-\")","v":"-"},null,{"$f":"IF(CENÁRIOS!H27=TRUE,IF(PM.12=\"\",\"-\",IF(OR(RFC.12=\"-\",RFC.12=\"\",RFC.12=0,Cf.GasSolo.12=\"-\",vol.12<>\"V\"),\"-\",(Cf.GasSolo.12/'CMA AR'!J33))),\"-\")","v":"-"}]
[null,13,{"$f":"SQI!D21","v":0},{"$f":"SQI!C21","v":""},"C",{"$f":"IF(CENÁRIOS!$H$27=TRUE,IF(PM.13=\"\",\"-\",IF(OR(IUR.13=\"-\",IUR.13=\"\",IUR.13=0,Cf.ArAmb.13=\"-\"),\"-\",(Cf.ArAmb.13/'CMA AR'!F34)*0.00001)),\"-\")","v":"-"},null,{"$f":"IF(CENÁRIOS!H27=TRUE,IF(PM.13=\"\",\"-\",IF(OR(IUR.13=\"-\",IUR.13=\"\",IUR.13=0,Cf.GasSolo.13=\"-\",vol.13<>\"V\"),\"-\",(Cf.GasSolo.13/'CMA AR'!J34)*0.00001)),\"-\")","v":"-"}]
[null,null,null,null,"NC",{"$f":"IF(CENÁRIOS!$H$27=TRUE,IF(PM.13=\"\",\"-\",IF(OR(RFC.13=\"-\",RFC.13=\"\",RFC.13=0,Cf.ArAmb.13=\"-\"),\"-\",(Cf.ArAmb.13/'CMA AR'!F35))),\"-\")","v":"-"},null,{"$f":"IF(CENÁRIOS!H27=TRUE,IF(PM.13=\"\",\"-\",IF(OR(RFC.13=\"-\",RFC.13=\"\",RFC.13=0,Cf.GasSolo.13=\"-\",vol.13<>\"V\"),\"-\",(Cf.GasSolo.13/'CMA AR'!J35))),\"-\")","v":"-"}]
[null,14,{"$f":"SQI!D22","v":0},{"$f":"SQI!C22","v":""},"C",{"$f":"IF(CENÁRIOS!$H$27=TRUE,IF(PM.14=\"\",\"-\",IF(OR(IUR.14=\"-\",IUR.14=\"\",IUR.14=0,Cf.ArAmb.14=\"-\"),\"-\",(Cf.ArAmb.14/'CMA AR'!F36)*0.00001)),\"-\")","v":"-"},null,{"$f":"IF(CENÁRIOS!H27=TRUE,IF(PM.14=\"\",\"-\",IF(OR(IUR.14=\"-\",IUR.14=\"\",IUR.14=0,Cf.GasSolo.14=\"-\",vol.14<>\"V\"),\"-\",(Cf.GasSolo.14/'CMA AR'!J36)*0.00001)),\"-\")","v":"-"}]
[null,null,null,null,"NC",{"$f":"IF(CENÁRIOS!$H$27=TRUE,IF(PM.14=\"\",\"-\",IF(OR(RFC.14=\"-\",RFC.14=\"\",RFC.14=0,Cf.ArAmb.14=\"-\"),\"-\",(Cf.ArAmb.14/'CMA AR'!F37))),\"-\")","v":"-"},null,{"$f":"IF(CENÁRIOS!H27=TRUE,IF(PM.14=\"\",\"-\",IF(OR(RFC.14=\"-\",RFC.14=\"\",RFC.14=0,Cf.GasSolo.14=\"-\",vol.14<>\"V\"),\"-\",(Cf.GasSolo.14/'CMA AR'!J37))),\"-\")","v":"-"}]
[null,15,{"$f":"SQI!D23","v":0},{"$f":"SQI!C23","v":""},"C",{"$f":"IF(CENÁRIOS!$H$27=TRUE,IF(PM.15=\"\",\"-\",IF(OR(IUR.15=\"-\",IUR.15=\"\",IUR.15=0,Cf.ArAmb.15=\"-\"),\"-\",(Cf.ArAmb.15/'CMA AR'!F38)*0.00001)),\"-\")","v":"-"},null,{"$f":"IF(CENÁRIOS!H27=TRUE,IF(PM.15=\"\",\"-\",IF(OR(IUR.15=\"-\",IUR.15=\"\",IUR.15=0,Cf.GasSolo.15=\"-\",vol.15<>\"V\"),\"-\",(Cf.GasSolo.15/'CMA AR'!J38)*0.00001)),\"-\")","v":"-"}]
[null,null,null,null,"NC",{"$f":"IF(CENÁRIOS!$H$27=TRUE,IF(PM.15=\"\",\"-\",IF(OR(RFC.15=\"-\",RFC.15=\"\",RFC.15=0,Cf.ArAmb.15=\"-\"),\"-\",(Cf.ArAmb.15/'CMA AR'!F39))),\"-\")","v":"-"},null,{"$f":"IF(CENÁRIOS!H27=TRUE,IF(PM.15=\"\",\"-\",IF(OR(RFC.15=\"-\",RFC.15=\"\",RFC.15=0,Cf.GasSolo.15=\"-\",vol.15<>\"V\"),\"-\",(Cf.GasSolo.15/'CMA AR'!J39))),\"-\")","v":"-"}]
[null,16,{"$f":"SQI!D24","v":0},{"$f":"SQI!C24","v":""},"C",{"$f":"IF(CENÁRIOS!$H$27=TRUE,IF(PM.16=\"\",\"-\",IF(OR(IUR.16=\"-\",IUR.16=\"\",IUR.16=0,Cf.ArAmb.16=\"-\"),\"-\",(Cf.ArAmb.16/'CMA AR'!F40)*0.00001)),\"-\")","v":"-"},null,{"$f":"IF(CENÁRIOS!H27=TRUE,IF(PM.16=\"\",\"-\",IF(OR(IUR.16=\"-\",IUR.16=\"\",IUR.16=0,Cf.GasSolo.16=\"-\",vol.16<>\"V\"),\"-\",(Cf.GasSolo.16/'CMA AR'!J40)*0.00001)),\"-\")","v":"-"}]
[null,null,null,null,"NC",{"$f":"IF(CENÁRIOS!$H$27=TRUE,IF(PM.16=\"\",\"-\",IF(OR(RFC.16=\"-\",RFC.16=\"\",RFC.16=0,Cf.ArAmb.16=\"-\"),\"-\",(Cf.ArAmb.16/'CMA AR'!F41))),\"-\")","v":"-"},null,{"$f":"IF(CENÁRIOS!H27=TRUE,IF(PM.16=\"\",\"-\",IF(OR(RFC.16=\"-\",RFC.16=\"\",RFC.16=0,Cf.GasSolo.16=\"-\",vol.16<>\"V\"),\"-\",(Cf.GasSolo.16/'CMA AR'!J41))),\"-\")","v":"-"}]
[null,17,{"$f":"SQI!D25","v":0},{"$f":"SQI!C25","v":""},"C",{"$f":"IF(CENÁRIOS!$H$27=TRUE,IF(PM.17=\"\",\"-\",IF(OR(IUR.17=\"-\",IUR.17=\"\",IUR.17=0,Cf.ArAmb.17=\"-\"),\"-\",(Cf.ArAmb.17/'CMA AR'!F42)*0.00001)),\"-\")","v":"-"},null,{"$f":"IF(CENÁRIOS!H27=TRUE,IF(PM.17=\"\",\"-\",IF(OR(IUR.17=\"-\",IUR.17=\"\",IUR.17=0,Cf.GasSolo.17=\"-\",vol.17<>\"V\"),\"-\",(Cf.GasSolo.17/'CMA AR'!J42)*0.00001)),\"-\")","v":"-"}]
[null,null,null,null,"NC",{"$f":"IF(CENÁRIOS!$H$27=TRUE,IF(PM.17=\"\",\"-\",IF(OR(RFC.17=\"-\",RFC.17=\"\",RFC.17=0,Cf.ArAmb.17=\"-\"),\"-\",(Cf.ArAmb.17/'CMA AR'!F43))),\"-\")","v":"-"},null,{"$f":"IF(CENÁRIOS!H27=TRUE,IF(PM.17=\"\",\"-\",IF(OR(RFC.17=\"-\",RFC.17=\"\",RFC.17=0,Cf.GasSolo.17=\"-\",vol.17<>\"V\"),\"-\",(Cf.GasSolo.17/'CMA AR'!J43))),\"-\")","v":"-"}]
[null,18,{"$f":"SQI!D26","v":0},{"$f":"SQI!C26","v":""},"C",{"$f":"IF(CENÁRIOS!$H$27=TRUE,IF(PM.18=\"\",\"-\",IF(OR(IUR.18=\"-\",IUR.18=\"\",IUR.18=0,Cf.ArAmb.18=\"-\"),\"-\",(Cf.ArAmb.18/'CMA AR'!F44)*0.00001)),\"-\")","v":"-"},null,{"$f":"IF(CENÁRIOS!H27=TRUE,IF(PM.18=\"\",\"-\",IF(OR(IUR.18=\"-\",IUR.18=\"\",IUR.18=0,Cf.GasSolo.18=\"-\",vol.18<>\"V\"),\"-\",(Cf.GasSolo.18/'CMA AR'!J44)*0.00001)),\"-\")","v":"-"}]
[null,null,null,null,"NC",{"$f":"IF(CENÁRIOS!$H$27=TRUE,IF(PM.18=\"\",\"-\",IF(OR(RFC.18=\"-\",RFC.18=\"\",RFC.18=0,Cf.ArAmb.18=\"-\"),\"-\",(Cf.ArAmb.18/'CMA AR'!F45))),\"-\")","v":"-"},null,{"$f":"IF(CENÁRIOS!H27=TRUE,IF(PM.18=\"\",\"-\",IF(OR(RFC.18=\"-\",RFC.18=\"\",RFC.18=0,Cf.GasSolo.18=\"-\",vol.18<>\"V\"),\"-\",(Cf.GasSolo.18/'CMA AR'!J45))),\"-\")","v":"-"}]
[null,19,{"$f":"SQI!D27","v":0},{"$f":"SQI!C27","v":""},"C",{"$f":"IF(CENÁRIOS!$H$27=TRUE,IF(PM.19=\"\",\"-\",IF(OR(IUR.19=\"-\",IUR.19=\"\",IUR.19=0,Cf.ArAmb.19=\"-\"),\"-\",(Cf.ArAmb.19/'CMA AR'!F46)*0.00001)),\"-\")","v":"-"},null,{"$f":"IF(CENÁRIOS!H27=TRUE,IF(PM.19=\"\",\"-\",IF(OR(IUR.19=\"-\",IUR.19=\"\",IUR.19=0,Cf.GasSolo.19=\"-\",vol.19<>\"V\"),\"-\",(Cf.GasSolo.19/'CMA AR'!J46)*0.00001)),\"-\")","v":"-"}]
[null,null,null,null,"NC",{"$f":"IF(CENÁRIOS!$H$27=TRUE,IF(PM.19=\"\",\"-\",IF(OR(RFC.19=\"-\",RFC.19=\"\",RFC.19=0,Cf.ArAmb.19=\"-\"),\"-\",(Cf.ArAmb.19/'CMA AR'!F47))),\"-\")","v":"-"},null,{"$f":"IF(CENÁRIOS!H27=TRUE,IF(PM.19=\"\",\"-\",IF(OR(RFC.19=\"-\",RFC.19=\"\",RFC.19=0,Cf.GasSolo.19=\"-\",vol.19<>\"V\"),\"-\",(Cf.GasSolo.19/'CMA AR'!J47))),\"-\")","v":"-"}]
[null,20,{"$f":"SQI!D28","v":0},{"$f":"SQI!C28","v":""},"C",{"$f":"IF(CENÁRIOS!$H$27=TRUE,IF(PM.20=\"\",\"-\",IF(OR(IUR.20=\"-\",IUR.20=\"\",IUR.20=0,Cf.ArAmb.20=\"-\"),\"-\",(Cf.ArAmb.20/'CMA AR'!F48)*0.00001)),\"-\")","v":"-"},null,{"$f":"IF(CENÁRIOS!H27=TRUE,IF(PM.20=\"\",\"-\",IF(OR(IUR.20=\"-\",IUR.20=\"\",IUR.20=0,Cf.GasSolo.20=\"-\",vol.20<>\"V\"),\"-\",(Cf.GasSolo.20/'CMA AR'!J48)*0.00001)),\"-\")","v":"-"}]
[null,null,null,null,"NC",{"$f":"IF(CENÁRIOS!$H$27=TRUE,IF(PM.20=\"\",\"-\",IF(OR(RFC.20=\"-\",RFC.20=\"\",RFC.20=0,Cf.ArAmb.20=\"-\"),\"-\",(Cf.ArAmb.20/'CMA AR'!F49))),\"-\")","v":"-"},null,{"$f":"IF(CENÁRIOS!H27=TRUE,IF(PM.20=\"\",\"-\",IF(OR(RFC.20=\"-\",RFC.20=\"\",RFC.20=0,Cf.GasSolo.20=\"-\",vol.20<>\"V\"),\"-\",(Cf.GasSolo.20/'CMA AR'!J49))),\"-\")","v":"-"}]
[null,21,{"$f":"SQI!D29","v":0},{"$f":"SQI!C29","v":""},"C",{"$f":"IF(CENÁRIOS!$H$27=TRUE,IF(PM.21=\"\",\"-\",IF(OR(IUR.21=\"-\",IUR.21=\"\",IUR.21=0,Cf.ArAmb.21=\"-\"),\"-\",(Cf.ArAmb.21/'CMA AR'!F50)*0.00001)),\"-\")","v":"-"},null,{"$f":"IF(CENÁRIOS!H27=TRUE,IF(PM.21=\"\",\"-\",IF(OR(IUR.21=\"-\",IUR.21=\"\",IUR.21=0,Cf.GasSolo.21=\"-\",vol.21<>\"V\"),\"-\",(Cf.GasSolo.21/'CMA AR'!J50)*0.00001)),\"-\")","v":"-"}]
[null,null,null,null,"NC",{"$f":"IF(CENÁRIOS!$H$27=TRUE,IF(PM.21=\"\",\"-\",IF(OR(RFC.21=\"-\",RFC.21=\"\",RFC.21=0,Cf.ArAmb.21=\"-\"),\"-\",(Cf.ArAmb.21/'CMA AR'!F51))),\"-\")","v":"-"},null,{"$f":"IF(CENÁRIOS!H27=TRUE,IF(PM.21=\"\",\"-\",IF(OR(RFC.21=\"-\",RFC.21=\"\",RFC.21=0,Cf.GasSolo.21=\"-\",vol.21<>\"V\"),\"-\",(Cf.GasSolo.21/'CMA AR'!J51))),\"-\")","v":"-"}]
[null,22,{"$f":"SQI!D30","v":0},{"$f":"SQI!C30","v":""},"C",{"$f":"IF(CENÁRIOS!$H$27=TRUE,IF(PM.22=\"\",\"-\",IF(OR(IUR.22=\"-\",IUR.22=\"\",IUR.22=0,Cf.ArAmb.22=\"-\"),\"-\",(Cf.ArAmb.22/'CMA AR'!F52)*0.00001)),\"-\")","v":"-"},null,{"$f":"IF(CENÁRIOS!H27=TRUE,IF(PM.22=\"\",\"-\",IF(OR(IUR.22=\"-\",IUR.22=\"\",IUR.22=0,Cf.GasSolo.22=\"-\",vol.22<>\"V\"),\"-\",(Cf.GasSolo.22/'CMA AR'!J52)*0.00001)),\"-\")","v":"-"}]
[null,null,null,null,"NC",{"$f":"IF(CENÁRIOS!$H$27=TRUE,IF(PM.22=\"\",\"-\",IF(OR(RFC.22=\"-\",RFC.22=\"\",RFC.22=0,Cf.ArAmb.22=\"-\"),\"-\",(Cf.ArAmb.22/'CMA AR'!F53))),\"-\")","v":"-"},null,{"$f":"IF(CENÁRIOS!H27=TRUE,IF(PM.22=\"\",\"-\",IF(OR(RFC.22=\"-\",RFC.22=\"\",RFC.22=0,Cf.GasSolo.22=\"-\",vol.22<>\"V\"),\"-\",(Cf.GasSolo.22/'CMA AR'!J53))),\"-\")","v":"-"}]
[null,23,{"$f":"SQI!D31","v":0},{"$f":"SQI!C31","v":""},"C",{"$f":"IF(CENÁRIOS!$H$27=TRUE,IF(PM.23=\"\",\"-\",IF(OR(IUR.23=\"-\",IUR.23=\"\",IUR.23=0,Cf.ArAmb.23=\"-\"),\"-\",(Cf.ArAmb.23/'CMA AR'!F54)*0.00001)),\"-\")","v":"-"},null,{"$f":"IF(CENÁRIOS!H27=TRUE,IF(PM.23=\"\",\"-\",IF(OR(IUR.23=\"-\",IUR.23=\"\",IUR.23=0,Cf.GasSolo.23=\"-\",vol.23<>\"V\"),\"-\",(Cf.GasSolo.23/'CMA AR'!J54)*0.00001)),\"-\")","v":"-"}]
[null,null,null,null,"NC",{"$f":"IF(CENÁRIOS!$H$27=TRUE,IF(PM.23=\"\",\"-\",IF(OR(RFC.23=\"-\",RFC.23=\"\",RFC.23=0,Cf.ArAmb.23=\"-\"),\"-\",(Cf.ArAmb.23/'CMA AR'!F55))),\"-\")","v":"-"},null,{"$f":"IF(CENÁRIOS!H27=TRUE,IF(PM.23=\"\",\"-\",IF(OR(RFC.23=\"-\",RFC.23=\"\",RFC.23=0,Cf.GasSolo.23=\"-\",vol.23<>\"V\"),\"-\",(Cf.GasSolo.23/'CMA AR'!J55))),\"-\")","v":"-"}]
[null,24,{"$f":"SQI!D32","v":0},{"$f":"SQI!C32","v":""},"C",{"$f":"IF(CENÁRIOS!$H$27=TRUE,IF(PM.24=\"\",\"-\",IF(OR(IUR.24=\"-\",IUR.24=\"\",IUR.24=0,Cf.ArAmb.24=\"-\"),\"-\",(Cf.ArAmb.24/'CMA AR'!F56)*0.00001)),\"-\")","v":"-"},null,{"$f":"IF(CENÁRIOS!H27=TRUE,IF(PM.24=\"\",\"-\",IF(OR(IUR.24=\"-\",IUR.24=\"\",IUR.24=0,Cf.GasSolo.24=\"-\",vol.24<>\"V\"),\"-\",(Cf.GasSolo.24/'CMA AR'!J56)*0.00001)),\"-\")","v":"-"}]
[null,null,null,null,"NC",{"$f":"IF(CENÁRIOS!$H$27=TRUE,IF(PM.24=\"\",\"-\",IF(OR(RFC.24=\"-\",RFC.24=\"\",RFC.24=0,Cf.ArAmb.24=\"-\"),\"-\",(Cf.ArAmb.24/'CMA AR'!F57))),\"-\")","v":"-"},null,{"$f":"IF(CENÁRIOS!H27=TRUE,IF(PM.24=\"\",\"-\",IF(OR(RFC.24=\"-\",RFC.24=\"\",RFC.24=0,Cf.GasSolo.24=\"-\",vol.24<>\"V\"),\"-\",(Cf.GasSolo.24/'CMA AR'!J57))),\"-\")","v":"-"}]
[null,25,{"$f":"SQI!D33","v":0},{"$f":"SQI!C33","v":""},"C",{"$f":"IF(CENÁRIOS!$H$27=TRUE,IF(PM.25=\"\",\"-\",IF(OR(IUR.25=\"-\",IUR.25=\"\",IUR.25=0,Cf.ArAmb.25=\"-\"),\"-\",(Cf.ArAmb.25/'CMA AR'!F58)*0.00001)),\"-\")","v":"-"},null,{"$f":"IF(CENÁRIOS!H27=TRUE,IF(PM.25=\"\",\"-\",IF(OR(IUR.25=\"-\",IUR.25=\"\",IUR.25=0,Cf.GasSolo.25=\"-\",vol.25<>\"V\"),\"-\",(Cf.GasSolo.25/'CMA AR'!J58)*0.00001)),\"-\")","v":"-"}]
[null,null,null,null,"NC",{"$f":"IF(CENÁRIOS!$H$27=TRUE,IF(PM.25=\"\",\"-\",IF(OR(RFC.25=\"-\",RFC.25=\"\",RFC.25=0,Cf.ArAmb.25=\"-\"),\"-\",(Cf.ArAmb.25/'CMA AR'!F59))),\"-\")","v":"-"},null,{"$f":"IF(CENÁRIOS!H27=TRUE,IF(PM.25=\"\",\"-\",IF(OR(RFC.25=\"-\",RFC.25=\"\",RFC.25=0,Cf.GasSolo.25=\"-\",vol.25<>\"V\"),\"-\",(Cf.GasSolo.25/'CMA AR'!J59))),\"-\")","v":"-"}]
[null,26,{"$f":"SQI!D34","v":0},{"$f":"SQI!C34","v":""},"C",{"$f":"IF(CENÁRIOS!$H$27=TRUE,IF(PM.26=\"\",\"-\",IF(OR(IUR.26=\"-\",IUR.26=\"\",IUR.26=0,Cf.ArAmb.26=\"-\"),\"-\",(Cf.ArAmb.26/'CMA AR'!F60)*0.00001)),\"-\")","v":"-"},null,{"$f":"IF(CENÁRIOS!H27=TRUE,IF(PM.26=\"\",\"-\",IF(OR(IUR.26=\"-\",IUR.26=\"\",IUR.26=0,Cf.GasSolo.26=\"-\",vol.26<>\"V\"),\"-\",(Cf.GasSolo.26/'CMA AR'!J60)*0.00001)),\"-\")","v":"-"}]
[null,null,null,null,"NC",{"$f":"IF(CENÁRIOS!$H$27=TRUE,IF(PM.26=\"\",\"-\",IF(OR(RFC.26=\"-\",RFC.26=\"\",RFC.26=0,Cf.ArAmb.26=\"-\"),\"-\",(Cf.ArAmb.26/'CMA AR'!F61))),\"-\")","v":"-"},null,{"$f":"IF(CENÁRIOS!H27=TRUE,IF(PM.26=\"\",\"-\",IF(OR(RFC.26=\"-\",RFC.26=\"\",RFC.26=0,Cf.GasSolo.26=\"-\",vol.26<>\"V\"),\"-\",(Cf.GasSolo.26/'CMA AR'!J61))),\"-\")","v":"-"}]
[null,27,{"$f":"SQI!D35","v":0},{"$f":"SQI!C35","v":""},"C",{"$f":"IF(CENÁRIOS!$H$27=TRUE,IF(PM.27=\"\",\"-\",IF(OR(IUR.27=\"-\",IUR.27=\"\",IUR.27=0,Cf.ArAmb.27=\"-\"),\"-\",(Cf.ArAmb.27/'CMA AR'!F62)*0.00001)),\"-\")","v":"-"},null,{"$f":"IF(CENÁRIOS!H27=TRUE,IF(PM.27=\"\",\"-\",IF(OR(IUR.27=\"-\",IUR.27=\"\",IUR.27=0,Cf.GasSolo.27=\"-\",vol.27<>\"V\"),\"-\",(Cf.GasSolo.27/'CMA AR'!J62)*0.00001)),\"-\")","v":"-"}]
[null,null,null,null,"NC",{"$f":"IF(CENÁRIOS!$H$27=TRUE,IF(PM.27=\"\",\"-\",IF(OR(RFC.27=\"-\",RFC.27=\"\",RFC.27=0,Cf.ArAmb.27=\"-\"),\"-\",(Cf.ArAmb.27/'CMA AR'!F63))),\"-\")","v":"-"},null,{"$f":"IF(CENÁRIOS!H27=TRUE,IF(PM.27=\"\",\"-\",IF(OR(RFC.27=\"-\",RFC.27=\"\",RFC.27=0,Cf.GasSolo.27=\"-\",vol.27<>\"V\"),\"-\",(Cf.GasSolo.27/'CMA AR'!J63))),\"-\")","v":"-"}]
[null,28,{"$f":"SQI!D36","v":0},{"$f":"SQI!C36","v":""},"C",{"$f":"IF(CENÁRIOS!$H$27=TRUE,IF(PM.20=\"\",\"-\",IF(OR(IUR.28=\"-\",IUR.28=\"\",IUR.28=0,Cf.ArAmb.28=\"-\"),\"-\",(Cf.ArAmb.28/'CMA AR'!F64)*0.00001)),\"-\")","v":"-"},null,{"$f":"IF(CENÁRIOS!H27=TRUE,IF(PM.20=\"\",\"-\",IF(OR(IUR.28=\"-\",IUR.28=\"\",IUR.28=0,Cf.GasSolo.28=\"-\",vol.28<>\"V\"),\"-\",(Cf.GasSolo.28/'CMA AR'!J64)*0.00001)),\"-\")","v":"-"}]
[null,null,null,null,"NC",{"$f":"IF(CENÁRIOS!$H$27=TRUE,IF(PM.28=\"\",\"-\",IF(OR(RFC.28=\"-\",RFC.28=\"\",RFC.28=0,Cf.ArAmb.28=\"-\"),\"-\",(Cf.ArAmb.28/'CMA AR'!F65))),\"-\")","v":"-"},null,{"$f":"IF(CENÁRIOS!H27=TRUE,IF(PM.28=\"\",\"-\",IF(OR(RFC.28=\"-\",RFC.28=\"\",RFC.28=0,Cf.GasSolo.28=\"-\",vol.28<>\"V\"),\"-\",(Cf.GasSolo.28/'CMA AR'!J65))),\"-\")","v":"-"}]
[null,29,{"$f":"SQI!D37","v":0},{"$f":"SQI!C37","v":""},"C",{"$f":"IF(CENÁRIOS!$H$27=TRUE,IF(PM.29=\"\",\"-\",IF(OR(IUR.29=\"-\",IUR.29=\"\",IUR.29=0,Cf.ArAmb.29=\"-\"),\"-\",(Cf.ArAmb.29/'CMA AR'!F66)*0.00001)),\"-\")","v":"-"},null,{"$f":"IF(CENÁRIOS!H27=TRUE,IF(PM.29=\"\",\"-\",IF(OR(IUR.29=\"-\",IUR.29=\"\",IUR.29=0,Cf.GasSolo.29=\"-\",vol.29<>\"V\"),\"-\",(Cf.GasSolo.29/'CMA AR'!J66)*0.00001)),\"-\")","v":"-"}]
[null,null,null,null,"NC",{"$f":"IF(CENÁRIOS!$H$27=TRUE,IF(PM.29=\"\",\"-\",IF(OR(RFC.29=\"-\",RFC.29=\"\",RFC.29=0,Cf.ArAmb.29=\"-\"),\"-\",(Cf.ArAmb.29/'CMA AR'!F67))),\"-\")","v":"-"},null,{"$f":"IF(CENÁRIOS!H27=TRUE,IF(PM.29=\"\",\"-\",IF(OR(RFC.29=\"-\",RFC.29=\"\",RFC.29=0,Cf.GasSolo.29=\"-\",vol.29<>\"V\"),\"-\",(Cf.GasSolo.29/'CMA AR'!J67))),\"-\")","v":"-"}]
[null,30,{"$f":"SQI!D38","v":0},{"$f":"SQI!C38","v":""},"C",{"$f":"IF(CENÁRIOS!$H$27=TRUE,IF(PM.30=\"\",\"-\",IF(OR(IUR.30=\"-\",IUR.30=\"\",IUR.30=0,Cf.ArAmb.30=\"-\"),\"-\",(Cf.ArAmb.30/'CMA AR'!F68)*0.00001)),\"-\")","v":"-"},null,{"$f":"IF(CENÁRIOS!H27=TRUE,IF(PM.30=\"\",\"-\",IF(OR(IUR.30=\"-\",IUR.30=\"\",IUR.30=0,Cf.GasSolo.30=\"-\",vol.30<>\"V\"),\"-\",(Cf.GasSolo.30/'CMA AR'!J68)*0.00001)),\"-\")","v":"-"}]
[null,null,null,null,"NC",{"$f":"IF(CENÁRIOS!$H$27=TRUE,IF(PM.30=\"\",\"-\",IF(OR(RFC.30=\"-\",RFC.30=\"\",RFC.30=0,Cf.ArAmb.30=\"-\"),\"-\",(Cf.ArAmb.30/'CMA AR'!F69))),\"-\")","v":"-"},null,{"$f":"IF(CENÁRIOS!H27=TRUE,IF(PM.30=\"\",\"-\",IF(OR(RFC.30=\"-\",RFC.30=\"\",RFC.30=0,Cf.GasSolo.30=\"-\",vol.30<>\"V\"),\"-\",(Cf.GasSolo.30/'CMA AR'!J69))),\"-\")","v":"-"}]
[]
[null,"RISCO CUMULATIVO POR CENÁRIO",null,"SUBSTÂNCIAS CARCINOGENICAS",null,{"$f":"SUM(F9,F11,F13,F15,F17,F19,F21,F23,F25,F27,F29,F31,F33,F35,F37,F39,F41,F43,F45,F47,F49,F51,F53,F55,F57,F59,F61,F63,F65,F67)","v":0},null,{"$f":"SUM(H9,H11,H13,H15,H17,H19,H21,H23,H25,H27,H29,H31,H33,H35,H37,H39,H41,H43,H45,H47,H49,H271,H273,H275,H277,H279,H61,H63,H65,H67)","v":0}]
[null,null,null,"SUBSTÂNCIAS NÃO CARCINOGENICAS",null,{"$f":"SUM(F10,F12,F14,F16,F18,F20,F22,F24,F26,F28,F30,F32,F34,F36,F38,F40,F42,F44,F46,F48,F50,F52,F54,F56,F58,F60,F62,F64,F66,F68)","v":0},null,{"$f":"SUM(H10,H12,H14,H16,H18,H20,H22,H24,H26,H28,H30,H32,H34,H36,H38,H40,H42,H44,H46,H48,H270,H272,H274,H276,H278,H60,H62,H64,H66,H68)","v":0}]
[]
[null,"Risco Máximo Aceitável para Substâncias Carcinogênicas",null,null,null,1.0000000000000001E-5]
[null,"Quociente de Perigo Máximo Aceitável para Substâncias não Carcinogênicas",null,null,null,1]

{"sheet":"CMA Solo","index":8,"n_rows":73,"n_cols":25,"rows_kept":73,"cut":false,"hidden":false,"merged":[[3,5,3,24],[64,1,65,1],[64,2,65,2],[64,3,65,3],[66,1,67,1],[66,2,67,2],[66,3,67,3],[68,1,69,1],[68,2,69,2],[68,3,69,3],[58,1,59,1],[58,2,59,2],[58,3,59,3],[60,1,61,1],[60,2,61,2],[60,3,61,3],[62,1,63,1],[62,2,63,2],[62,3,63,3],[52,1,53,1],[52,2,53,2],[52,3,53,3],[54,1,55,1],[54,2,55,2],[54,3,55,3],[56,1,57,1],[56,2,57,2],[56,3,57,3],[46,1,47,1],[46,2,47,2],[46,3,47,3],[48,1,49,1],[48,2,49,2],[48,3,49,3],[50,1,51,1],[50,2,51,2],[50,3,51,3],[40,1,41,1],[40,2,41,2],[40,3,41,3],[42,1,43,1],[42,2,43,2],[42,3,43,3],[44,1,45,1],[44,2,45,2],[44,3,45,3],[34,1,35,1],[34,2,35,2],[34,3,35,3],[36,1,37,1],[36,2,37,2],[36,3,37,3],[38,1,39,1],[38,2,39,2],[38,3,39,3],[28,1,29,1],[28,2,29,2],[28,3,29,3],[30,1,31,1],[30,2,31,2],[30,3,31,3],[32,1,33,1],[32,2,33,2],[32,3,33,3],[22,1,23,1],[22,2,23,2],[22,3,23,3],[24,1,25,1],[24,2,25,2],[24,3,25,3],[26,1,27,1],[26,2,27,2],[26,3,27,3],[16,1,17,1],[16,2,17,2],[16,3,17,3],[18,1,19,1],[18,2,19,2],[18,3,19,3],[20,1,21,1],[20,2,21,2],[20,3,21,3],[8,7,8,8],[9,15,9,16],[7,13,8,14],[9,13,9,14],[9,7,9,8],[7,5,7,8],[8,5,8,6],[9,9,9,10],[7,9,8,10],[9,11,9,12],[7,11,8,12],[9,5,9,6],[10,1,11,1],[10,2,11,2],[10,3,11,3],[12,1,13,1],[12,2,13,2],[12,3,13,3],[14,1,15,1],[14,2,15,2],[14,3,15,3],[1,3,1,4],[1,9,1,21],[7,1,9,2],[2,3,9,3],[2,4,9,4],[2,1,6,2],[2,5,2,24],[9,23,9,24],[9,21,9,22],[9,17,9,18],[9,19,9,20],[6,13,6,16],[4,23,4,24],[5,23,5,24],[4,5,4,22],[5,17,5,22],[5,5,5,16],[6,23,8,24],[7,15,8,16],[6,5,6,12],[6,17,6,20],[6,21,8,22],[7,17,8,18],[7,19,8,20]]}
[]
[null,"DATA:",null,{"$f":"CENÁRIOS!C3","v":0},null,"IDENTIFICAÇÃO DA ÁREA:",null,null,null,{"$f":"CENÁRIOS!G3","v":0}]
[null,null,null,"CONTAMINANTE","EFEITO","CONCENTRAÇÕES MÁXIMAS ACEITÁVEIS PARA SOLO SUPERFICIAL E SUBSUPERFICIAL"]
[null,null,null,null,null,{"$f":"CENÁRIOS!H5","v":"TRABALHADOR EM OBRAS CIVIS E DE ESCAVAÇÃO"}]
[null,null,null,null,null,"NO PONTO DE EXPOSIÇÃO",null,null,null,null,null,null,null,null,null,null,null,null,null,null,null,null,null,"NA FONTE DE CONTAMINAÇÃO A UMA DISTANCIA DO PONTO DE EXPOSIÇÃO"]
[null,null,null,null,null,"SUPERFICIAL",null,null,null,null,null,null,null,null,null,null,null,"SUBSUPERFICIAL",null,null,null,null,null,"SUBSUPERFICIAL"]
[null,null,null,null,null,"CONTATO DIRETO",null,null,null,null,null,null,null,"INGESTÃO DE VEGETAIS",null,null,null,"INALAÇÃO",null,null,null,"INGESTÃO DE ÁGUA SUBTERRÂNEA A PARTIR DA LIXIVIAÇÃO DO SOLO\n",null,"LIXIVIAÇÃO PARA ÁGUA SUBTERRÂNEA"]
[null,"CAS N°",null,null,null,"INALAÇÃO",null,null,null,"CONTATO DÉRMICO",null,"INGESTÃO",null,"INGESTÃO DE COMPOSTOS METÁLICOS",null,"INGESTÃO DE COMPOSTOS ORGÂNICOS",null,"AMBIENTES ABERTOS",null,"AMBIENTES FECHADOS"]
[null,null,null,null,null,"VAPORES",null,"PARTÍCULAS"]
[null,null,null,null,null,"mg/kg",null,"mg/kg",null,"mg/kg",null,"mg/kg",null,"mg/kg",null,"mg/kg",null,"mg/kg",null,"mg/kg",null,"mg/kg",null,"mg/kg"]
[null,1,{"$f":"SQI!D9","v":0},{"$f":"SQI!C9","v":""},"C",{"$f":"IF(CENÁRIOS!$H$11=TRUE,IF(PM.1=\"\",\"-\",IF(OR(Sf.in.1=\"-\",Sf.in.1=\"\",Sf.in.1=0,FT!M8=\"-\"),\"-\",IF(ISERROR(TR/(FT!M8*IF.Solo.Ina.Vap.a.c*Sf.in.1)),\"-\",(TR/(FT!M8*IF.Solo.Ina.Vap.a.c*Sf.in.1))))),\"-\")","v":"-"},{"$f":"IF(OR(F11=\"-\",F11=\"-\"),0,Cf.SoloSup.1/F11)","v":0},{"$f":"IF(CENÁRIOS!$H$12=TRUE,IF(PM.1=\"\",\"-\",IF(OR(Sf.in.1=\"-\",Sf.in.1=\"\",Sf.in.1=0,FT!N8=\"-\"),\"-\",(TR/(FT!N8*IF.Solo.Ina.Par.a.c*Sf.in.1)))),\"-\")","v":"-"},{"$f":"IF(OR(H11=\"-\",H11=\"-\"),0,Cf.SoloSup.1/H11)","v":0},{"$f":"IF(CENÁRIOS!$H$13=TRUE,IF(PM.1=\"\",\"-\",IF(OR(Sf.dm.1=\"-\",Sf.dm.1=\"\",Sf.dm.1=0,ABSd.1=0,ABSd.1=\"\"),\"-\",(TR/(ABSd.1*IF.Solo.Con.Der.a.c*Sf.dm.1)))),\"-\")","v":"-"},{"$f":"IF(OR(J11=\"-\",J11=\"-\"),0,Cf.SoloSup.1/J11)","v":0},{"$f":"IF(CENÁRIOS!$H$14=TRUE,IF(PM.1=\"\",\"-\",IF(OR(Sf.ig.1=\"-\",Sf.ig.1=\"\",Sf.ig.1=0),\"-\",(TR/(IF.Solo.Ing.a.c*Biodisp.1*Sf.ig.1)))),\"-\")","v":"-"},{"$f":"IF(OR(L11=\"-\",L11=\"-\"),0,Cf.SoloSup.1/L11)","v":0},{"$f":"IF(CENÁRIOS!$H$15=TRUE,IF(OR(PM.1=\"\",Tipo.1<>\"METAL\"),\"-\",IF(OR(Sf.ig.1=\"-\",Sf.ig.1=\"\",Sf.ig.1=0,cdpx.1=\"-\",BCF.1=\"-\"),\"-\",(TR/((IF.Solo.Ing.Veg.c.i*Sf.ig.1)*(IRL.i*((BCFF.1+cdpx.1)/frbveg)+(IRR.i*(BCF.1/frkveg))))))),\"-\")","v":"-"},{"$f":"IF(OR(N11=\"-\",N11=\"-\"),0,Cf.SoloSup.1/N11)","v":0},{"$f":"IF(CENÁRIOS!$H$15=TRUE,IF(OR(PM.1=\"\",Tipo.1=\"METAL\"),\"-\",IF(OR(Sf.ig.1=\"-\",Sf.ig.1=\"\",Sf.ig.1=0,cdpx.1=\"-\",pw.1=\"-\",BCFR.1=\"-\",a.1=\"-\"),\"-\",(TR/((IF.Solo.Ing.Veg.c.i*Sf.ig.1)*(IRL.i*(((ps*pw.1*tscf.1*Qveg)/(Vwveg*pplantveg*a.1*Vlveg))+cdpx.1*fdwsveg)+(IRR.i*BCFR.1)))))),\"-\")","v":"-"},{"$f":"IF(OR(P11=\"-\",P11=\"-\"),0,Cf.SoloSup.1/P11)","v":0},{"$f":"IF(CENÁRIOS!$H$16=TRUE,IF(PM.1=\"\",\"-\",IF(OR(Sf.in.1=\"-\",Sf.in.1=\"\",Sf.in.1=0,Sf.in.1=0,FT!O8=\"-\"),\"-\",IF(ISERROR(TR/(FT!O8*IF.SoloSub.Ina.Abe.a.c*Sf.in.1)),\"-\",(TR/(FT!O8*IF.SoloSub.Ina.Abe.a.c*Sf.in.1))))),\"-\")","v":"-"},{"$f":"IF(OR(R11=\"-\",R11=\"-\"),0,Cf.SoloSub.1/R11)","v":0},{"$f":"IF(CENÁRIOS!$H$17=TRUE,IF(PM.1=\"\",\"-\",IF(OR(Sf.in.1=\"-\",Sf.in.1=\"\",Sf.in.1=0,FT!P8=\"-\"),\"-\",IF(ISERROR(TR/(FT!P8*IF.SoloSub.Ina.Fec.a.c*Sf.in.1)),\"-\",(TR/(FT!P8*IF.SoloSub.Ina.Fec.a.c*Sf.in.1))))),\"-\")","v":"-"},{"$f":"IF(OR(T11=\"-\",T11=\"-\"),0,Cf.SoloSub.1/T11)","v":0},{"$f":"IF(CENÁRIOS!$H$18=TRUE,IF(PM.1=\"\",\"-\",IF(OR(Sf.ig.1=\"-\",Sf.ig.1=\"\",Sf.ig.1=0,FT!Q8=\"-\"),\"-\",(TR/(FT!Q8*IF.SoloSub.Lix.AS.a.c*Sf.ig.1))*10^3)),\"-\")","v":"-"},{"$f":"IF(OR(V11=\"-\",V11=\"-\"),0,Cf.SoloSub.1/V11)","v":0},{"$f":"IF(CENÁRIOS!$I$18=TRUE,IF(PM.1=\"\",\"-\",IF(OR(Sf.ig.1=\"-\",Sf.ig.1=\"\",Sf.ig.1=0,FT!Q8=\"-\",DAF.1=\"-\"),\"-\",(TR/((FT!Q8*DAF.1)*IF.SoloSub.Lix.AS.a.c*Sf.ig.1))*10^3)),\"-\")","v":"-"},{"$f":"IF(OR(X11=\"-\",X11=\"-\"),0,Cf.SoloSub.1/X11)","v":0}]
[null,null,null,null,"NC",{"$f":"IF(CENÁRIOS!$H$11=TRUE,IF(PM.1=\"\",\"-\",IF(OR(RfD.in.cn.1=\"-\",RfD.in.cn.1=\"\",RfD.in.cn.1=0,FT!M8=\"-\"),\"-\",((THI*RfD.in.cn.1)/(FT!M8*IF.Solo.Ina.Vap.a.nc)))),\"-\")","v":"-"},{"$f":"IF(OR(F12=\"-\",F12=\"-\"),0,Cf.SoloSup.1/F12)","v":0},{"$f":"IF(CENÁRIOS!$H$12=TRUE,IF(PM.1=\"\",\"-\",IF(OR(RfD.in.cn.1=\"-\",RfD.in.cn.1=\"\",RfD.in.cn.1=0,FT!N8=\"-\"),\"-\",((THI*RfD.in.cn.1)/(FT!N8*IF.Solo.Ina.Par.a.nc)))),\"-\")","v":"-"},{"$f":"IF(OR(H12=\"-\",H12=\"-\"),0,Cf.SoloSup.1/H12)","v":0},{"$f":"IF(CENÁRIOS!$H$13=TRUE,IF(PM.1=\"\",\"-\",IF(OR(RfD.dm.cn.1=\"-\",RfD.dm.cn.1=\"\",RfD.dm.cn.1=0,ABSd.1=0,ABSd.1=\"\"),\"-\",((THI*RfD.dm.cn.1)/(ABSd.1*IF.Solo.Con.Der.a.nc)))),\"-\")","v":"-"},{"$f":"IF(OR(J12=\"-\",J12=\"-\"),0,Cf.SoloSup.1/J12)","v":0},{"$f":"IF(CENÁRIOS!$H$14=TRUE,IF(PM.1=\"\",\"-\",IF(OR(RfD.ig.cn.1=\"-\",RfD.ig.cn.1=\"\",RfD.ig.cn.1=0),\"-\",((THI*RfD.ig.cn.1)/(IF.Solo.Ing.a.nc*Biodisp.1)))),\"-\")","v":"-"},{"$f":"IF(OR(L12=\"-\",L12=\"-\"),0,Cf.SoloSup.1/L12)","v":0},{"$f":"IF(CENÁRIOS!$H$15=TRUE,IF(OR(PM.1=\"\",Tipo.1<>\"METAL\"),\"-\",IF(OR(RfD.ig.cn.1=\"-\",RfD.ig.cn.1=\"\",RfD.ig.cn.1=0,cdpx.1=\"-\",BCF.1=\"-\"),\"-\",((THI*RfD.ig.cn.1)/((IF.Solo.Ing.Veg.nc.i)*(IRL.i*((BCFF.1+cdpx.1)/frbveg)+(IRR.i*(BCF.1/frkveg))))))),\"-\")","v":"-"},{"$f":"IF(OR(N12=\"-\",N12=\"-\"),0,Cf.SoloSup.1/N12)","v":0},{"$f":"IF(CENÁRIOS!$H$15=TRUE,IF(OR(PM.1=\"\",Tipo.1=\"METAL\"),\"-\",IF(OR(RfD.ig.cn.1=\"-\",RfD.ig.cn.1=\"\",RfD.ig.cn.1=0,cdpx.1=\"-\",pw.1=\"-\",BCFR.1=\"-\",a.1=\"-\"),\"-\",((THI*RfD.ig.cn.1)/((IF.Solo.Ing.Veg.nc.i)*(IRL.i*(((ps*pw.1*tscf.1*Qveg)/(Vwveg*pplantveg*a.1*Vlveg))+cdpx.1*fdwsveg)+(IRR.i*BCFR.1)))))),\"-\")","v":"-"},{"$f":"IF(OR(P12=\"-\",P12=\"-\"),0,Cf.SoloSup.1/P12)","v":0},{"$f":"IF(CENÁRIOS!$H$16=TRUE,IF(PM.1=\"\",\"-\",IF(OR(RfD.in.cn.1=\"-\",RfD.in.cn.1=\"\",RfD.in.cn.1=0,FT!O8=\"-\"),\"-\",((THI*RfD.in.cn.1)/(FT!O8*IF.SoloSub.Ina.Abe.a.nc)))),\"-\")","v":"-"},{"$f":"IF(OR(R12=\"-\",R12=\"-\"),0,Cf.SoloSub.1/R12)","v":0},{"$f":"IF(CENÁRIOS!$H$17=TRUE,IF(PM.1=\"\",\"-\",IF(OR(RfD.in.cn.1=\"-\",RfD.in.cn.1=\"\",RfD.in.cn.1=0,FT!P8=\"-\"),\"-\",((THI*RfD.in.cn.1)/(FT!P8*IF.SoloSub.Ina.Fec.a.nc)))),\"-\")","v":"-"},{"$f":"IF(OR(T12=\"-\",T12=\"-\"),0,Cf.SoloSub.1/T12)","v":0},{"$f":"IF(CENÁRIOS!$H$18=TRUE,IF(PM.1=\"\",\"-\",IF(OR(RfD.ig.cn.1=\"-\",RfD.ig.cn.1=\"\",RfD.ig.cn.1=0,FT!Q8=\"-\"),\"-\",((THI*RfD.ig.cn.1)/(FT!Q8*IF.SoloSub.Lix.AS.a.nc))*10^3)),\"-\")","v":"-"},{"$f":"IF(OR(V12=\"-\",V12=\"-\"),0,Cf.SoloSub.1/V12)","v":0},{"$f":"IF(CENÁRIOS!$I$18=TRUE,IF(PM.1=\"\",\"-\",IF(OR(RfD.ig.cn.1=\"-\",RfD.ig.cn.1=\"\",RfD.ig.cn.1=0,FT!Q8=\"-\",DAF.1=\"-\"),\"-\",((THI*RfD.ig.cn.1)/((FT!Q8*DAF.1)*IF.SoloSub.Lix.AS.a.nc))*10^3)),\"-\")","v":"-"},{"$f":"IF(OR(X12=\"-\",X12=\"-\"),0,Cf.SoloSub.1/X12)","v":0}]
[null,2,{"$f":"SQI!D10","v":0},{"$f":"SQI!C10","v":""},"C",{"$f":"IF(CENÁRIOS!$H$11=TRUE,IF(PM.2=\"\",\"-\",IF(OR(Sf.in.2=\"-\",Sf.in.2=\"\",Sf.in.2=0,FT!M9=\"-\"),\"-\",IF(ISERROR(TR/(FT!M9*IF.Solo.Ina.Vap.a.c*Sf.in.2)),\"-\",(TR/(FT!M9*IF.Solo.Ina.Vap.a.c*Sf.in.2))))),\"-\")","v":"-"},{"$f":"IF(OR(F13=\"-\",F13=\"-\"),0,Cf.SoloSup.2/F13)","v":0},{"$f":"IF(CENÁRIOS!$H$12=TRUE,IF(PM.2=\"\",\"-\",IF(OR(Sf.in.2=\"-\",Sf.in.2=\"\",Sf.in.2=0,FT!N9=\"-\"),\"-\",(TR/(FT!N9*IF.Solo.Ina.Par.a.c*Sf.in.2)))),\"-\")","v":"-"},{"$f":"IF(OR(H13=\"-\",H13=\"-\"),0,Cf.SoloSup.2/H13)","v":0},{"$f":"IF(CENÁRIOS!$H$13=TRUE,IF(PM.2=\"\",\"-\",IF(OR(Sf.dm.2=\"-\",Sf.dm.2=\"\",Sf.dm.2=0,ABSd.2=0,ABSd.2=\"\"),\"-\",(TR/(ABSd.2*IF.Solo.Con.Der.a.c*Sf.dm.2)))),\"-\")","v":"-"},{"$f":"IF(OR(J13=\"-\",J13=\"-\"),0,Cf.SoloSup.2/J13)","v":0},{"$f":"IF(CENÁRIOS!$H$14=TRUE,IF(PM.2=\"\",\"-\",IF(OR(Sf.ig.2=\"-\",Sf.ig.2=\"\",Sf.ig.2=0),\"-\",(TR/(IF.Solo.Ing.a.c*Biodisp.2*Sf.ig.2)))),\"-\")","v":"-"},{"$f":"IF(OR(L13=\"-\",L13=\"-\"),0,Cf.SoloSup.2/L13)","v":0},{"$f":"IF(CENÁRIOS!$H$15=TRUE,IF(OR(PM.2=\"\",Tipo.2<>\"METAL\"),\"-\",IF(OR(Sf.ig.2=\"-\",Sf.ig.2=\"\",Sf.ig.2=0,cdpx.2=\"-\",BCF.2=\"-\"),\"-\",(TR/((IF.Solo.Ing.Veg.c.i*Sf.ig.2)*(IRL.i*((BCFF.2+cdpx.2)/frbveg)+(IRR.i*(BCF.2/frkveg))))))),\"-\")","v":"-"},{"$f":"IF(OR(N13=\"-\",N13=\"-\"),0,Cf.SoloSup.2/N13)","v":0},{"$f":"IF(CENÁRIOS!$H$15=TRUE,IF(OR(PM.2=\"\",Tipo.2=\"METAL\"),\"-\",IF(OR(Sf.ig.2=\"-\",Sf.ig.2=\"\",Sf.ig.2=0,cdpx.2=\"-\",pw.2=\"-\",BCFR.2=\"-\",a.2=\"-\"),\"-\",(TR/((IF.Solo.Ing.Veg.c.i*Sf.ig.2)*(IRL.i*(((ps*pw.2*tscf.2*Qveg)/(Vwveg*pplantveg*a.2*Vlveg))+cdpx.2*fdwsveg)+(IRR.i*BCFR.2)))))),\"-\")","v":"-"},{"$f":"IF(OR(P13=\"-\",P13=\"-\"),0,Cf.SoloSup.2/P13)","v":0},{"$f":"IF(CENÁRIOS!$H$16=TRUE,IF(PM.2=\"\",\"-\",IF(OR(Sf.in.2=\"-\",Sf.in.2=\"\",Sf.in.2=0,Sf.in.2=0,FT!O9=\"-\"),\"-\",IF(ISERROR(TR/(FT!O9*IF.SoloSub.Ina.Abe.a.c*Sf.in.2)),\"-\",(TR/(FT!O9*IF.SoloSub.Ina.Abe.a.c*Sf.in.2))))),\"-\")","v":"-"},{"$f":"IF(OR(R13=\"-\",R13=\"-\"),0,Cf.SoloSub.2/R13)","v":0},{"$f":"IF(CENÁRIOS!$H$17=TRUE,IF(PM.2=\"\",\"-\",IF(OR(Sf.in.2=\"-\",Sf.in.2=\"\",Sf.in.2=0,FT!P9=\"-\"),\"-\",IF(ISERROR(TR/(FT!P9*IF.SoloSub.Ina.Fec.a.c*Sf.in.2)),\"-\",(TR/(FT!P9*IF.SoloSub.Ina.Fec.a.c*Sf.in.2))))),\"-\")","v":"-"},{"$f":"IF(OR(T13=\"-\",T13=\"-\"),0,Cf.SoloSub.2/T13)","v":0},{"$f":"IF(CENÁRIOS!$H$18=TRUE,IF(PM.2=\"\",\"-\",IF(OR(Sf.ig.2=\"-\",Sf.ig.2=\"\",Sf.ig.2=0,FT!Q9=\"-\"),\"-\",(TR/(FT!Q9*IF.SoloSub.Lix.AS.a.c*Sf.ig.2))*10^3)),\"-\")","v":"-"},{"$f":"IF(OR(V13=\"-\",V13=\"-\"),0,Cf.SoloSub.2/V13)","v":0},{"$f":"IF(CENÁRIOS!$I$18=TRUE,IF(PM.2=\"\",\"-\",IF(OR(Sf.ig.2=\"-\",Sf.ig.2=\"\",Sf.ig.2=0,FT!Q9=\"-\",DAF.2=\"-\"),\"-\",(TR/((FT!Q9*DAF.2)*IF.SoloSub.Lix.AS.a.c*Sf.ig.2))*10^3)),\"-\")","v":"-"},{"$f":"IF(OR(X13=\"-\",X13=\"-\"),0,Cf.SoloSub.2/X13)","v":0}]
[null,null,null,null,"NC",{"$f":"IF(CENÁRIOS!$H$11=TRUE,IF(PM.2=\"\",\"-\",IF(OR(RfD.in.cn.2=\"-\",RfD.in.cn.2=\"\",RfD.in.cn.2=0,FT!M9=\"-\"),\"-\",((THI*RfD.in.cn.2)/(FT!M9*IF.Solo.Ina.Vap.a.nc)))),\"-\")","v":"-"},{"$f":"IF(OR(F14=\"-\",F14=\"-\"),0,Cf.SoloSup.2/F14)","v":0},{"$f":"IF(CENÁRIOS!$H$12=TRUE,IF(PM.2=\"\",\"-\",IF(OR(RfD.in.cn.2=\"-\",RfD.in.cn.2=\"\",RfD.in.cn.2=0,FT!N9=\"-\"),\"-\",((THI*RfD.in.cn.2)/(FT!N9*IF.Solo.Ina.Par.a.nc)))),\"-\")","v":"-"},{"$f":"IF(OR(H14=\"-\",H14=\"-\"),0,Cf.SoloSup.2/H14)","v":0},{"$f":"IF(CENÁRIOS!$H$13=TRUE,IF(PM.2=\"\",\"-\",IF(OR(RfD.dm.cn.2=\"-\",RfD.dm.cn.2=\"\",RfD.dm.cn.2=0,ABSd.2=0,ABSd.2=\"\"),\"-\",((THI*RfD.dm.cn.2)/(ABSd.2*IF.Solo.Con.Der.a.nc)))),\"-\")","v":"-"},{"$f":"IF(OR(J14=\"-\",J14=\"-\"),0,Cf.SoloSup.2/J14)","v":0},{"$f":"IF(CENÁRIOS!$H$14=TRUE,IF(PM.2=\"\",\"-\",IF(OR(RfD.ig.cn.2=\"-\",RfD.ig.cn.2=\"\",RfD.ig.cn.2=0),\"-\",((THI*RfD.ig.cn.2)/(IF.Solo.Ing.a.nc*Biodisp.2)))),\"-\")","v":"-"},{"$f":"IF(OR(L14=\"-\",L14=\"-\"),0,Cf.SoloSup.2/L14)","v":0},{"$f":"IF(CENÁRIOS!$H$15=TRUE,IF(OR(PM.2=\"\",Tipo.2<>\"METAL\"),\"-\",IF(OR(RfD.ig.cn.2=\"-\",RfD.ig.cn.2=\"\",RfD.ig.cn.2=0,cdpx.2=\"-\",BCF.2=\"-\"),\"-\",((THI*RfD.ig.cn.2)/((IF.Solo.Ing.Veg.nc.i)*(IRL.i*((BCFF.2+cdpx.2)/frbveg)+(IRR.i*(BCF.2/frkveg))))))),\"-\")","v":"-"},{"$f":"IF(OR(N14=\"-\",N14=\"-\"),0,Cf.SoloSup.2/N14)","v":0},{"$f":"IF(CENÁRIOS!$H$15=TRUE,IF(OR(PM.2=\"\",Tipo.2=\"METAL\"),\"-\",IF(OR(RfD.ig.cn.2=\"-\",RfD.ig.cn.2=\"\",RfD.ig.cn.2=0,cdpx.2=\"-\",pw.2=\"-\",BCFR.2=\"-\",a.2=\"-\"),\"-\",((THI*RfD.ig.cn.2)/((IF.Solo.Ing.Veg.nc.i)*(IRL.i*(((ps*pw.2*tscf.2*Qveg)/(Vwveg*pplantveg*a.2*Vlveg))+cdpx.2*fdwsveg)+(IRR.i*BCFR.2)))))),\"-\")","v":"-"},{"$f":"IF(OR(P14=\"-\",P14=\"-\"),0,Cf.SoloSup.2/P14)","v":0},{"$f":"IF(CENÁRIOS!$H$16=TRUE,IF(PM.2=\"\",\"-\",IF(OR(RfD.in.cn.2=\"-\",RfD.in.cn.2=\"\",RfD.in.cn.2=0,FT!O9=\"-\"),\"-\",((THI*RfD.in.cn.2)/(FT!O9*IF.SoloSub.Ina.Abe.a.nc)))),\"-\")","v":"-"},{"$f":"IF(OR(R14=\"-\",R14=\"-\"),0,Cf.SoloSub.2/R14)","v":0},{"$f":"IF(CENÁRIOS!$H$17=TRUE,IF(PM.2=\"\",\"-\",IF(OR(RfD.in.cn.2=\"-\",RfD.in.cn.2=\"\",RfD.in.cn.2=0,FT!P9=\"-\"),\"-\",((THI*RfD.in.cn.2)/(FT!P9*IF.SoloSub.Ina.Fec.a.nc)))),\"-\")","v":"-"},{"$f":"IF(OR(T14=\"-\",T14=\"-\"),0,Cf.SoloSub.2/T14)","v":0},{"$f":"IF(CENÁRIOS!$H$18=TRUE,IF(PM.2=\"\",\"-\",IF(OR(RfD.ig.cn.2=\"-\",RfD.ig.cn.2=\"\",RfD.ig.cn.2=0,FT!Q9=\"-\"),\"-\",((THI*RfD.ig.cn.2)/(FT!Q9*IF.SoloSub.Lix.AS.a.nc))*10^3)),\"-\")","v":"-"},{"$f":"IF(OR(V14=\"-\",V14=\"-\"),0,Cf.SoloSub.2/V14)","v":0},{"$f":"IF(CENÁRIOS!$I$18=TRUE,IF(PM.2=\"\",\"-\",IF(OR(RfD.ig.cn.2=\"-\",RfD.ig.cn.2=\"\",RfD.ig.cn.2=0,FT!Q9=\"-\",DAF.2=\"-\"),\"-\",((THI*RfD.ig.cn.2)/((FT!Q9*DAF.2)*IF.SoloSub.Lix.AS.a.nc))*10^3)),\"-\")","v":"-"},{"$f":"IF(OR(X14=\"-\",X14=\"-\"),0,Cf.SoloSub.2/X14)","v":0}]
[null,3,{"$f":"SQI!D11","v":0},{"$f":"SQI!C11","v":""},"C",{"$f":"IF(CENÁRIOS!$H$11=TRUE,IF(PM.3=\"\",\"-\",IF(OR(Sf.in.3=\"-\",Sf.in.3=\"\",Sf.in.3=0,FT!M10=\"-\"),\"-\",IF(ISERROR(TR/(FT!M10*IF.Solo.Ina.Vap.a.c*Sf.in.3)),\"-\",(TR/(FT!M10*IF.Solo.Ina.Vap.a.c*Sf.in.3))))),\"-\")","v":"-"},{"$f":"IF(OR(F15=\"-\",F15=\"-\"),0,Cf.SoloSup.3/F15)","v":0},{"$f":"IF(CENÁRIOS!$H$12=TRUE,IF(PM.3=\"\",\"-\",IF(OR(Sf.in.3=\"-\",Sf.in.3=\"\",Sf.in.3=0,FT!N10=\"-\"),\"-\",(TR/(FT!N10*IF.Solo.Ina.Par.a.c*Sf.in.3)))),\"-\")","v":"-"},{"$f":"IF(OR(H15=\"-\",H15=\"-\"),0,Cf.SoloSup.3/H15)","v":0},{"$f":"IF(CENÁRIOS!$H$13=TRUE,IF(PM.3=\"\",\"-\",IF(OR(Sf.dm.3=\"-\",Sf.dm.3=\"\",Sf.dm.3=0,ABSd.3=0,ABSd.3=\"\"),\"-\",(TR/(ABSd.3*IF.Solo.Con.Der.a.c*Sf.dm.3)))),\"-\")","v":"-"},{"$f":"IF(OR(J15=\"-\",J15=\"-\"),0,Cf.SoloSup.3/J15)","v":0},{"$f":"IF(CENÁRIOS!$H$14=TRUE,IF(PM.3=\"\",\"-\",IF(OR(Sf.ig.3=\"-\",Sf.ig.3=\"\",Sf.ig.3=0),\"-\",(TR/(IF.Solo.Ing.a.c*Biodisp.3*Sf.ig.3)))),\"-\")","v":"-"},{"$f":"IF(OR(L15=\"-\",L15=\"-\"),0,Cf.SoloSup.3/L15)","v":0},{"$f":"IF(CENÁRIOS!$H$15=TRUE,IF(OR(PM.3=\"\",Tipo.3<>\"METAL\"),\"-\",IF(OR(Sf.ig.3=\"-\",Sf.ig.3=\"\",Sf.ig.3=0,cdpx.3=\"-\",BCF.3=\"-\"),\"-\",(TR/((IF.Solo.Ing.Veg.c.i*Sf.ig.3)*(IRL.i*((BCFF.3+cdpx.3)/frbveg)+(IRR.i*(BCF.3/frkveg))))))),\"-\")","v":"-"},{"$f":"IF(OR(N15=\"-\",N15=\"-\"),0,Cf.SoloSup.3/N15)","v":0},{"$f":"IF(CENÁRIOS!$H$15=TRUE,IF(OR(PM.3=\"\",Tipo.3=\"METAL\"),\"-\",IF(OR(Sf.ig.3=\"-\",Sf.ig.3=\"\",Sf.ig.3=0,cdpx.3=\"-\",pw.3=\"-\",BCFR.3=\"-\",a.3=\"-\"),\"-\",(TR/((IF.Solo.Ing.Veg.c.i*Sf.ig.3)*(IRL.i*(((ps*pw.3*tscf.3*Qveg)/(Vwveg*pplantveg*a.3*Vlveg))+cdpx.3*fdwsveg)+(IRR.i*BCFR.3)))))),\"-\")","v":"-"},{"$f":"IF(OR(P15=\"-\",P15=\"-\"),0,Cf.SoloSup.3/P15)","v":0},{"$f":"IF(CENÁRIOS!$H$16=TRUE,IF(PM.3=\"\",\"-\",IF(OR(Sf.in.3=\"-\",Sf.in.3=\"\",Sf.in.3=0,Sf.in.3=0,FT!O10=\"-\"),\"-\",IF(ISERROR(TR/(FT!O10*IF.SoloSub.Ina.Abe.a.c*Sf.in.3)),\"-\",(TR/(FT!O10*IF.SoloSub.Ina.Abe.a.c*Sf.in.3))))),\"-\")","v":"-"},{"$f":"IF(OR(R15=\"-\",R15=\"-\"),0,Cf.SoloSub.3/R15)","v":0},{"$f":"IF(CENÁRIOS!$H$17=TRUE,IF(PM.3=\"\",\"-\",IF(OR(Sf.in.3=\"-\",Sf.in.3=\"\",Sf.in.3=0,FT!P10=\"-\"),\"-\",IF(ISERROR(TR/(FT!P10*IF.SoloSub.Ina.Fec.a.c*Sf.in.3)),\"-\",(TR/(FT!P10*IF.SoloSub.Ina.Fec.a.c*Sf.in.3))))),\"-\")","v":"-"},{"$f":"IF(OR(T15=\"-\",T15=\"-\"),0,Cf.SoloSub.3/T15)","v":0},{"$f":"IF(CENÁRIOS!$H$18=TRUE,IF(PM.3=\"\",\"-\",IF(OR(Sf.ig.3=\"-\",Sf.ig.3=\"\",Sf.ig.3=0,FT!Q10=\"-\"),\"-\",(TR/(FT!Q10*IF.SoloSub.Lix.AS.a.c*Sf.ig.3))*10^3)),\"-\")","v":"-"},{"$f":"IF(OR(V15=\"-\",V15=\"-\"),0,Cf.SoloSub.3/V15)","v":0},{"$f":"IF(CENÁRIOS!$I$18=TRUE,IF(PM.3=\"\",\"-\",IF(OR(Sf.ig.3=\"-\",Sf.ig.3=\"\",Sf.ig.3=0,FT!Q10=\"-\",DAF.3=\"-\"),\"-\",(TR/((FT!Q10*DAF.3)*IF.SoloSub.Lix.AS.a.c*Sf.ig.3))*10^3)),\"-\")","v":"-"},{"$f":"IF(OR(X15=\"-\",X15=\"-\"),0,Cf.SoloSub.3/X15)","v":0}]
[null,null,null,null,"NC",{"$f":"IF(CENÁRIOS!$H$11=TRUE,IF(PM.3=\"\",\"-\",IF(OR(RfD.in.cn.3=\"-\",RfD.in.cn.3=\"\",RfD.in.cn.3=0,FT!M10=\"-\"),\"-\",((THI*RfD.in.cn.3)/(FT!M10*IF.Solo.Ina.Vap.a.nc)))),\"-\")","v":"-"},{"$f":"IF(OR(F16=\"-\",F16=\"-\"),0,Cf.SoloSup.3/F16)","v":0},{"$f":"IF(CENÁRIOS!$H$12=TRUE,IF(PM.3=\"\",\"-\",IF(OR(RfD.in.cn.3=\"-\",RfD.in.cn.3=\"\",RfD.in.cn.3=0,FT!N10=\"-\"),\"-\",((THI*RfD.in.cn.3)/(FT!N10*IF.Solo.Ina.Par.a.nc)))),\"-\")","v":"-"},{"$f":"IF(OR(H16=\"-\",H16=\"-\"),0,Cf.SoloSup.3/H16)","v":0},{"$f":"IF(CENÁRIOS!$H$13=TRUE,IF(PM.3=\"\",\"-\",IF(OR(RfD.dm.cn.3=\"-\",RfD.dm.cn.3=\"\",RfD.dm.cn.3=0,ABSd.3=0,ABSd.3=\"\"),\"-\",((THI*RfD.dm.cn.3)/(ABSd.3*IF.Solo.Con.Der.a.nc)))),\"-\")","v":"-"},{"$f":"IF(OR(J16=\"-\",J16=\"-\"),0,Cf.SoloSup.3/J16)","v":0},{"$f":"IF(CENÁRIOS!$H$14=TRUE,IF(PM.3=\"\",\"-\",IF(OR(RfD.ig.cn.3=\"-\",RfD.ig.cn.3=\"\",RfD.ig.cn.3=0),\"-\",((THI*RfD.ig.cn.3)/(IF.Solo.Ing.a.nc*Biodisp.3)))),\"-\")","v":"-"},{"$f":"IF(OR(L16=\"-\",L16=\"-\"),0,Cf.SoloSup.3/L16)","v":0},{"$f":"IF(CENÁRIOS!$H$15=TRUE,IF(OR(PM.3=\"\",Tipo.3<>\"METAL\"),\"-\",IF(OR(RfD.ig.cn.3=\"-\",RfD.ig.cn.3=\"\",RfD.ig.cn.3=0,cdpx.3=\"-\",BCF.3=\"-\"),\"-\",((THI*RfD.ig.cn.3)/((IF.Solo.Ing.Veg.nc.i)*(IRL.i*((BCFF.3+cdpx.3)/frbveg)+(IRR.i*(BCF.3/frkveg))))))),\"-\")","v":"-"},{"$f":"IF(OR(N16=\"-\",N16=\"-\"),0,Cf.SoloSup.3/N16)","v":0},{"$f":"IF(CENÁRIOS!$H$15=TRUE,IF(OR(PM.3=\"\",Tipo.3=\"METAL\"),\"-\",IF(OR(RfD.ig.cn.3=\"-\",RfD.ig.cn.3=\"\",RfD.ig.cn.3=0,cdpx.3=\"-\",pw.3=\"-\",BCFR.3=\"-\",a.3=\"-\"),\"-\",((THI*RfD.ig.cn.3)/((IF.Solo.Ing.Veg.nc.i)*(IRL.i*(((ps*pw.3*tscf.3*Qveg)/(Vwveg*pplantveg*a.3*Vlveg))+cdpx.3*fdwsveg)+(IRR.i*BCFR.3)))))),\"-\")","v":"-"},{"$f":"IF(OR(P16=\"-\",P16=\"-\"),0,Cf.SoloSup.3/P16)","v":0},{"$f":"IF(CENÁRIOS!$H$16=TRUE,IF(PM.3=\"\",\"-\",IF(OR(RfD.in.cn.3=\"-\",RfD.in.cn.3=\"\",RfD.in.cn.3=0,FT!O10=\"-\"),\"-\",((THI*RfD.in.cn.3)/(FT!O10*IF.SoloSub.Ina.Abe.a.nc)))),\"-\")","v":"-"},{"$f":"IF(OR(R16=\"-\",R16=\"-\"),0,Cf.SoloSub.3/R16)","v":0},{"$f":"IF(CENÁRIOS!$H$17=TRUE,IF(PM.3=\"\",\"-\",IF(OR(RfD.in.cn.3=\"-\",RfD.in.cn.3=\"\",RfD.in.cn.3=0,FT!P10=\"-\"),\"-\",((THI*RfD.in.cn.3)/(FT!P10*IF.SoloSub.Ina.Fec.a.nc)))),\"-\")","v":"-"},{"$f":"IF(OR(T16=\"-\",T16=\"-\"),0,Cf.SoloSub.3/T16)","v":0},{"$f":"IF(CENÁRIOS!$H$18=TRUE,IF(PM.3=\"\",\"-\",IF(OR(RfD.ig.cn.3=\"-\",RfD.ig.cn.3=\"\",RfD.ig.cn.3=0,FT!Q10=\"-\"),\"-\",((THI*RfD.ig.cn.3)/(FT!Q10*IF.SoloSub.Lix.AS.a.nc))*10^3)),\"-\")","v":"-"},{"$f":"IF(OR(V16=\"-\",V16=\"-\"),0,Cf.SoloSub.3/V16)","v":0},{"$f":"IF(CENÁRIOS!$I$18=TRUE,IF(PM.3=\"\",\"-\",IF(OR(RfD.ig.cn.3=\"-\",RfD.ig.cn.3=\"\",RfD.ig.cn.3=0,FT!Q10=\"-\",DAF.3=\"-\"),\"-\",((THI*RfD.ig.cn.3)/((FT!Q10*DAF.3)*IF.SoloSub.Lix.AS.a.nc))*10^3)),\"-\")","v":"-"},{"$f":"IF(OR(X16=\"-\",X16=\"-\"),0,Cf.SoloSub.3/X16)","v":0}]
[null,4,{"$f":"SQI!D12","v":0},{"$f":"SQI!C12","v":""},"C",{"$f":"IF(CENÁRIOS!$H$11=TRUE,IF(PM.4=\"\",\"-\",IF(OR(Sf.in.4=\"-\",Sf.in.4=\"\",Sf.in.4=0,FT!M11=\"-\"),\"-\",IF(ISERROR(TR/(FT!M11*IF.Solo.Ina.Vap.a.c*Sf.in.4)),\"-\",(TR/(FT!M11*IF.Solo.Ina.Vap.a.c*Sf.in.4))))),\"-\")","v":"-"},{"$f":"IF(OR(F17=\"-\",F17=\"-\"),0,Cf.SoloSup.4/F17)","v":0},{"$f":"IF(CENÁRIOS!$H$12=TRUE,IF(PM.4=\"\",\"-\",IF(OR(Sf.in.4=\"-\",Sf.in.4=\"\",Sf.in.4=0,FT!N11=\"-\"),\"-\",(TR/(FT!N11*IF.Solo.Ina.Par.a.c*Sf.in.4)))),\"-\")","v":"-"},{"$f":"IF(OR(H17=\"-\",H17=\"-\"),0,Cf.SoloSup.4/H17)","v":0},{"$f":"IF(CENÁRIOS!$H$13=TRUE,IF(PM.4=\"\",\"-\",IF(OR(Sf.dm.4=\"-\",Sf.dm.4=\"\",Sf.dm.4=0,ABSd.4=0,ABSd.4=\"\"),\"-\",(TR/(ABSd.4*IF.Solo.Con.Der.a.c*Sf.dm.4)))),\"-\")","v":"-"},{"$f":"IF(OR(J17=\"-\",J17=\"-\"),0,Cf.SoloSup.4/J17)","v":0},{"$f":"IF(CENÁRIOS!$H$14=TRUE,IF(PM.4=\"\",\"-\",IF(OR(Sf.ig.4=\"-\",Sf.ig.4=\"\",Sf.ig.4=0),\"-\",(TR/(IF.Solo.Ing.a.c*Biodisp.4*Sf.ig.4)))),\"-\")","v":"-"},{"$f":"IF(OR(L17=\"-\",L17=\"-\"),0,Cf.SoloSup.4/L17)","v":0},{"$f":"IF(CENÁRIOS!$H$15=TRUE,IF(OR(PM.4=\"\",Tipo.4<>\"METAL\"),\"-\",IF(OR(Sf.ig.4=\"-\",Sf.ig.4=\"\",Sf.ig.4=0,cdpx.4=\"-\",BCF.4=\"-\"),\"-\",(TR/((IF.Solo.Ing.Veg.c.i*Sf.ig.4)*(IRL.i*((BCFF.4+cdpx.4)/frbveg)+(IRR.i*(BCF.4/frkveg))))))),\"-\")","v":"-"},{"$f":"IF(OR(N17=\"-\",N17=\"-\"),0,Cf.SoloSup.4/N17)","v":0},{"$f":"IF(CENÁRIOS!$H$15=TRUE,IF(OR(PM.4=\"\",Tipo.4=\"METAL\"),\"-\",IF(OR(Sf.ig.4=\"-\",Sf.ig.4=\"\",Sf.ig.4=0,cdpx.4=\"-\",pw.4=\"-\",BCFR.4=\"-\",a.4=\"-\"),\"-\",(TR/((IF.Solo.Ing.Veg.c.i*Sf.ig.4)*(IRL.i*(((ps*pw.4*tscf.4*Qveg)/(Vwveg*pplantveg*a.4*Vlveg))+cdpx.4*fdwsveg)+(IRR.i*BCFR.4)))))),\"-\")","v":"-"},{"$f":"IF(OR(P17=\"-\",P17=\"-\"),0,Cf.SoloSup.4/P17)","v":0},{"$f":"IF(CENÁRIOS!$H$16=TRUE,IF(PM.4=\"\",\"-\",IF(OR(Sf.in.4=\"-\",Sf.in.4=\"\",Sf.in.4=0,Sf.in.4=0,FT!O11=\"-\"),\"-\",IF(ISERROR(TR/(FT!O11*IF.SoloSub.Ina.Abe.a.c*Sf.in.4)),\"-\",(TR/(FT!O11*IF.SoloSub.Ina.Abe.a.c*Sf.in.4))))),\"-\")","v":"-"},{"$f":"IF(OR(R17=\"-\",R17=\"-\"),0,Cf.SoloSub.4/R17)","v":0},{"$f":"IF(CENÁRIOS!$H$17=TRUE,IF(PM.4=\"\",\"-\",IF(OR(Sf.in.4=\"-\",Sf.in.4=\"\",Sf.in.4=0,FT!P11=\"-\"),\"-\",IF(ISERROR(TR/(FT!P11*IF.SoloSub.Ina.Fec.a.c*Sf.in.4)),\"-\",(TR/(FT!P11*IF.SoloSub.Ina.Fec.a.c*Sf.in.4))))),\"-\")","v":"-"},{"$f":"IF(OR(T17=\"-\",T17=\"-\"),0,Cf.SoloSub.4/T17)","v":0},{"$f":"IF(CENÁRIOS!$H$18=TRUE,IF(PM.4=\"\",\"-\",IF(OR(Sf.ig.4=\"-\",Sf.ig.4=\"\",Sf.ig.4=0,FT!Q11=\"-\"),\"-\",(TR/(FT!Q11*IF.SoloSub.Lix.AS.a.c*Sf.ig.4))*10^3)),\"-\")","v":"-"},{"$f":"IF(OR(V17=\"-\",V17=\"-\"),0,Cf.SoloSub.4/V17)","v":0},{"$f":"IF(CENÁRIOS!$I$18=TRUE,IF(PM.4=\"\",\"-\",IF(OR(Sf.ig.4=\"-\",Sf.ig.4=\"\",Sf.ig.4=0,FT!Q11=\"-\",DAF.4=\"-\"),\"-\",(TR/((FT!Q11*DAF.4)*IF.SoloSub.Lix.AS.a.c*Sf.ig.4))*10^3)),\"-\")","v":"-"},{"$f":"IF(OR(X17=\"-\",X17=\"-\"),0,Cf.SoloSub.4/X17)","v":0}]
[null,null,null,null,"NC",{"$f":"IF(CENÁRIOS!$H$11=TRUE,IF(PM.4=\"\",\"-\",IF(OR(RfD.in.cn.4=\"-\",RfD.in.cn.4=\"\",RfD.in.cn.4=0,FT!M11=\"-\"),\"-\",((THI*RfD.in.cn.4)/(FT!M11*IF.Solo.Ina.Vap.a.nc)))),\"-\")","v":"-"},{"$f":"IF(OR(F18=\"-\",F18=\"-\"),0,Cf.SoloSup.4/F18)","v":0},{"$f":"IF(CENÁRIOS!$H$12=TRUE,IF(PM.4=\"\",\"-\",IF(OR(RfD.in.cn.4=\"-\",RfD.in.cn.4=\"\",RfD.in.cn.4=0,FT!N11=\"-\"),\"-\",((THI*RfD.in.cn.4)/(FT!N11*IF.Solo.Ina.Par.a.nc)))),\"-\")","v":"-"},{"$f":"IF(OR(H18=\"-\",H18=\"-\"),0,Cf.SoloSup.4/H18)","v":0},{"$f":"IF(CENÁRIOS!$H$13=TRUE,IF(PM.4=\"\",\"-\",IF(OR(RfD.dm.cn.4=\"-\",RfD.dm.cn.4=\"\",RfD.dm.cn.4=0,ABSd.4=0,ABSd.4=\"\"),\"-\",((THI*RfD.dm.cn.4)/(ABSd.4*IF.Solo.Con.Der.a.nc)))),\"-\")","v":"-"},{"$f":"IF(OR(J18=\"-\",J18=\"-\"),0,Cf.SoloSup.4/J18)","v":0},{"$f":"IF(CENÁRIOS!$H$14=TRUE,IF(PM.4=\"\",\"-\",IF(OR(RfD.ig.cn.4=\"-\",RfD.ig.cn.4=\"\",RfD.ig.cn.4=0),\"-\",((THI*RfD.ig.cn.4)/(IF.Solo.Ing.a.nc*Biodisp.4)))),\"-\")","v":"-"},{"$f":"IF(OR(L18=\"-\",L18=\"-\"),0,Cf.SoloSup.4/L18)","v":0},{"$f":"IF(CENÁRIOS!$H$15=TRUE,IF(OR(PM.4=\"\",Tipo.4<>\"METAL\"),\"-\",IF(OR(RfD.ig.cn.4=\"-\",RfD.ig.cn.4=\"\",RfD.ig.cn.4=0,cdpx.4=\"-\",BCF.4=\"-\"),\"-\",((THI*RfD.ig.cn.4)/((IF.Solo.Ing.Veg.nc.i)*(IRL.i*((BCFF.4+cdpx.4)/frbveg)+(IRR.i*(BCF.4/frkveg))))))),\"-\")","v":"-"},{"$f":"IF(OR(N18=\"-\",N18=\"-\"),0,Cf.SoloSup.4/N18)","v":0},{"$f":"IF(CENÁRIOS!$H$15=TRUE,IF(OR(PM.4=\"\",Tipo.4=\"METAL\"),\"-\",IF(OR(RfD.ig.cn.4=\"-\",RfD.ig.cn.4=\"\",RfD.ig.cn.4=0,cdpx.4=\"-\",pw.4=\"-\",BCFR.4=\"-\",a.4=\"-\"),\"-\",((THI*RfD.ig.cn.4)/((IF.Solo.Ing.Veg.nc.i)*(IRL.i*(((ps*pw.4*tscf.4*Qveg)/(Vwveg*pplantveg*a.4*Vlveg))+cdpx.4*fdwsveg)+(IRR.i*BCFR.4)))))),\"-\")","v":"-"},{"$f":"IF(OR(P18=\"-\",P18=\"-\"),0,Cf.SoloSup.4/P18)","v":0},{"$f":"IF(CENÁRIOS!$H$16=TRUE,IF(PM.4=\"\",\"-\",IF(OR(RfD.in.cn.4=\"-\",RfD.in.cn.4=\"\",RfD.in.cn.4=0,FT!O11=\"-\"),\"-\",((THI*RfD.in.cn.4)/(FT!O11*IF.SoloSub.Ina.Abe.a.nc)))),\"-\")","v":"-"},{"$f":"IF(OR(R18=\"-\",R18=\"-\"),0,Cf.SoloSub.4/R18)","v":0},{"$f":"IF(CENÁRIOS!$H$17=TRUE,IF(PM.4=\"\",\"-\",IF(OR(RfD.in.cn.4=\"-\",RfD.in.cn.4=\"\",RfD.in.cn.4=0,FT!P11=\"-\"),\"-\",((THI*RfD.in.cn.4)/(FT!P11*IF.SoloSub.Ina.Fec.a.nc)))),\"-\")","v":"-"},{"$f":"IF(OR(T18=\"-\",T18=\"-\"),0,Cf.SoloSub.4/T18)","v":0},{"$f":"IF(CENÁRIOS!$H$18=TRUE,IF(PM.4=\"\",\"-\",IF(OR(RfD.ig.cn.4=\"-\",RfD.ig.cn.4=\"\",RfD.ig.cn.4=0,FT!Q11=\"-\"),\"-\",((THI*RfD.ig.cn.4)/(FT!Q11*IF.SoloSub.Lix.AS.a.nc))*10^3)),\"-\")","v":"-"},{"$f":"IF(OR(V18=\"-\",V18=\"-\"),0,Cf.SoloSub.4/V18)","v":0},{"$f":"IF(CENÁRIOS!$I$18=TRUE,IF(PM.4=\"\",\"-\",IF(OR(RfD.ig.cn.4=\"-\",RfD.ig.cn.4=\"\",RfD.ig.cn.4=0,FT!Q11=\"-\",DAF.4=\"-\"),\"-\",((THI*RfD.ig.cn.4)/((FT!Q11*DAF.4)*IF.SoloSub.Lix.AS.a.nc))*10^3)),\"-\")","v":"-"},{"$f":"IF(OR(X18=\"-\",X18=\"-\"),0,Cf.SoloSub.4/X18)","v":0}]
[null,5,{"$f":"SQI!D13","v":0},{"$f":"SQI!C13","v":""},"C",{"$f":"IF(CENÁRIOS!$H$11=TRUE,IF(PM.5=\"\",\"-\",IF(OR(Sf.in.5=\"-\",Sf.in.5=\"\",Sf.in.5=0,FT!M12=\"-\"),\"-\",IF(ISERROR(TR/(FT!M12*IF.Solo.Ina.Vap.a.c*Sf.in.5)),\"-\",(TR/(FT!M12*IF.Solo.Ina.Vap.a.c*Sf.in.5))))),\"-\")","v":"-"},{"$f":"IF(OR(F19=\"-\",F19=\"-\"),0,Cf.SoloSup.5/F19)","v":0},{"$f":"IF(CENÁRIOS!$H$12=TRUE,IF(PM.5=\"\",\"-\",IF(OR(Sf.in.5=\"-\",Sf.in.5=\"\",Sf.in.5=0,FT!N12=\"-\"),\"-\",(TR/(FT!N12*IF.Solo.Ina.Par.a.c*Sf.in.5)))),\"-\")","v":"-"},{"$f":"IF(OR(H19=\"-\",H19=\"-\"),0,Cf.SoloSup.5/H19)","v":0},{"$f":"IF(CENÁRIOS!$H$13=TRUE,IF(PM.5=\"\",\"-\",IF(OR(Sf.dm.5=\"-\",Sf.dm.5=\"\",Sf.dm.5=0,ABSd.5=0,ABSd.5=\"\"),\"-\",(TR/(ABSd.5*IF.Solo.Con.Der.a.c*Sf.dm.5)))),\"-\")","v":"-"},{"$f":"IF(OR(J19=\"-\",J19=\"-\"),0,Cf.SoloSup.5/J19)","v":0},{"$f":"IF(CENÁRIOS!$H$14=TRUE,IF(PM.5=\"\",\"-\",IF(OR(Sf.ig.5=\"-\",Sf.ig.5=\"\",Sf.ig.5=0),\"-\",(TR/(IF.Solo.Ing.a.c*Biodisp.5*Sf.ig.5)))),\"-\")","v":"-"},{"$f":"IF(OR(L19=\"-\",L19=\"-\"),0,Cf.SoloSup.5/L19)","v":0},{"$f":"IF(CENÁRIOS!$H$15=TRUE,IF(OR(PM.5=\"\",Tipo.5<>\"METAL\"),\"-\",IF(OR(Sf.ig.5=\"-\",Sf.ig.5=\"\",Sf.ig.5=0,cdpx.5=\"-\",BCF.5=\"-\"),\"-\",(TR/((IF.Solo.Ing.Veg.c.i*Sf.ig.5)*(IRL.i*((BCFF.5+cdpx.5)/frbveg)+(IRR.i*(BCF.5/frkveg))))))),\"-\")","v":"-"},{"$f":"IF(OR(N19=\"-\",N19=\"-\"),0,Cf.SoloSup.5/N19)","v":0},{"$f":"IF(CENÁRIOS!$H$15=TRUE,IF(OR(PM.5=\"\",Tipo.5=\"METAL\"),\"-\",IF(OR(Sf.ig.5=\"-\",Sf.ig.5=\"\",Sf.ig.5=0,cdpx.5=\"-\",pw.5=\"-\",BCFR.5=\"-\",a.5=\"-\"),\"-\",(TR/((IF.Solo.Ing.Veg.c.i*Sf.ig.5)*(IRL.i*(((ps*pw.5*tscf.5*Qveg)/(Vwveg*pplantveg*a.5*Vlveg))+cdpx.5*fdwsveg)+(IRR.i*BCFR.5)))))),\"-\")","v":"-"},{"$f":"IF(OR(P19=\"-\",P19=\"-\"),0,Cf.SoloSup.5/P19)","v":0},{"$f":"IF(CENÁRIOS!$H$16=TRUE,IF(PM.5=\"\",\"-\",IF(OR(Sf.in.5=\"-\",Sf.in.5=\"\",Sf.in.5=0,Sf.in.5=0,FT!O12=\"-\"),\"-\",IF(ISERROR(TR/(FT!O12*IF.SoloSub.Ina.Abe.a.c*Sf.in.5)),\"-\",(TR/(FT!O12*IF.SoloSub.Ina.Abe.a.c*Sf.in.5))))),\"-\")","v":"-"},{"$f":"IF(OR(R19=\"-\",R19=\"-\"),0,Cf.SoloSub.5/R19)","v":0},{"$f":"IF(CENÁRIOS!$H$17=TRUE,IF(PM.5=\"\",\"-\",IF(OR(Sf.in.5=\"-\",Sf.in.5=\"\",Sf.in.5=0,FT!P12=\"-\"),\"-\",IF(ISERROR(TR/(FT!P12*IF.SoloSub.Ina.Fec.a.c*Sf.in.5)),\"-\",(TR/(FT!P12*IF.SoloSub.Ina.Fec.a.c*Sf.in.5))))),\"-\")","v":"-"},{"$f":"IF(OR(T19=\"-\",T19=\"-\"),0,Cf.SoloSub.5/T19)","v":0},{"$f":"IF(CENÁRIOS!$H$18=TRUE,IF(PM.5=\"\",\"-\",IF(OR(Sf.ig.5=\"-\",Sf.ig.5=\"\",Sf.ig.5=0,FT!Q12=\"-\"),\"-\",(TR/(FT!Q12*IF.SoloSub.Lix.AS.a.c*Sf.ig.5))*10^3)),\"-\")","v":"-"},{"$f":"IF(OR(V19=\"-\",V19=\"-\"),0,Cf.SoloSub.5/V19)","v":0},{"$f":"IF(CENÁRIOS!$I$18=TRUE,IF(PM.5=\"\",\"-\",IF(OR(Sf.ig.5=\"-\",Sf.ig.5=\"\",Sf.ig.5=0,FT!Q12=\"-\",DAF.5=\"-\"),\"-\",(TR/((FT!Q12*DAF.5)*IF.SoloSub.Lix.AS.a.c*Sf.ig.5))*10^3)),\"-\")","v":"-"},{"$f":"IF(OR(X19=\"-\",X19=\"-\"),0,Cf.SoloSub.5/X19)","v":0}]
[null,null,null,null,"NC",{"$f":"IF(CENÁRIOS!$H$11=TRUE,IF(PM.5=\"\",\"-\",IF(OR(RfD.in.cn.5=\"-\",RfD.in.cn.5=\"\",RfD.in.cn.5=0,FT!M12=\"-\"),\"-\",((THI*RfD.in.cn.5)/(FT!M12*IF.Solo.Ina.Vap.a.nc)))),\"-\")","v":"-"},{"$f":"IF(OR(F20=\"-\",F20=\"-\"),0,Cf.SoloSup.5/F20)","v":0},{"$f":"IF(CENÁRIOS!$H$12=TRUE,IF(PM.5=\"\",\"-\",IF(OR(RfD.in.cn.5=\"-\",RfD.in.cn.5=\"\",RfD.in.cn.5=0,FT!N12=\"-\"),\"-\",((THI*RfD.in.cn.5)/(FT!N12*IF.Solo.Ina.Par.a.nc)))),\"-\")","v":"-"},{"$f":"IF(OR(H20=\"-\",H20=\"-\"),0,Cf.SoloSup.5/H20)","v":0},{"$f":"IF(CENÁRIOS!$H$13=TRUE,IF(PM.5=\"\",\"-\",IF(OR(RfD.dm.cn.5=\"-\",RfD.dm.cn.5=\"\",RfD.dm.cn.5=0,ABSd.5=0,ABSd.5=\"\"),\"-\",((THI*RfD.dm.cn.5)/(ABSd.5*IF.Solo.Con.Der.a.nc)))),\"-\")","v":"-"},{"$f":"IF(OR(J20=\"-\",J20=\"-\"),0,Cf.SoloSup.5/J20)","v":0},{"$f":"IF(CENÁRIOS!$H$14=TRUE,IF(PM.5=\"\",\"-\",IF(OR(RfD.ig.cn.5=\"-\",RfD.ig.cn.5=\"\",RfD.ig.cn.5=0),\"-\",((THI*RfD.ig.cn.5)/(IF.Solo.Ing.a.nc*Biodisp.5)))),\"-\")","v":"-"},{"$f":"IF(OR(L20=\"-\",L20=\"-\"),0,Cf.SoloSup.5/L20)","v":0},{"$f":"IF(CENÁRIOS!$H$15=TRUE,IF(OR(PM.5=\"\",Tipo.5<>\"METAL\"),\"-\",IF(OR(RfD.ig.cn.5=\"-\",RfD.ig.cn.5=\"\",RfD.ig.cn.5=0,cdpx.5=\"-\",BCF.5=\"-\"),\"-\",((THI*RfD.ig.cn.5)/((IF.Solo.Ing.Veg.nc.i)*(IRL.i*((BCFF.5+cdpx.5)/frbveg)+(IRR.i*(BCF.5/frkveg))))))),\"-\")","v":"-"},{"$f":"IF(OR(N20=\"-\",N20=\"-\"),0,Cf.SoloSup.5/N20)","v":0},{"$f":"IF(CENÁRIOS!$H$15=TRUE,IF(OR(PM.5=\"\",Tipo.5=\"METAL\"),\"-\",IF(OR(RfD.ig.cn.5=\"-\",RfD.ig.cn.5=\"\",RfD.ig.cn.5=0,cdpx.5=\"-\",pw.5=\"-\",BCFR.5=\"-\",a.5=\"-\"),\"-\",((THI*RfD.ig.cn.5)/((IF.Solo.Ing.Veg.nc.i)*(IRL.i*(((ps*pw.5*tscf.5*Qveg)/(Vwveg*pplantveg*a.5*Vlveg))+cdpx.5*fdwsveg)+(IRR.i*BCFR.5)))))),\"-\")","v":"-"},{"$f":"IF(OR(P20=\"-\",P20=\"-\"),0,Cf.SoloSup.5/P20)","v":0},{"$f":"IF(CENÁRIOS!$H$16=TRUE,IF(PM.5=\"\",\"-\",IF(OR(RfD.in.cn.5=\"-\",RfD.in.cn.5=\"\",RfD.in.cn.5=0,FT!O12=\"-\"),\"-\",((THI*RfD.in.cn.5)/(FT!O12*IF.SoloSub.Ina.Abe.a.nc)))),\"-\")","v":"-"},{"$f":"IF(OR(R20=\"-\",R20=\"-\"),0,Cf.SoloSub.5/R20)","v":0},{"$f":"IF(CENÁRIOS!$H$17=TRUE,IF(PM.5=\"\",\"-\",IF(OR(RfD.in.cn.5=\"-\",RfD.in.cn.5=\"\",RfD.in.cn.5=0,FT!P12=\"-\"),\"-\",((THI*RfD.in.cn.5)/(FT!P12*IF.SoloSub.Ina.Fec.a.nc)))),\"-\")","v":"-"},{"$f":"IF(OR(T20=\"-\",T20=\"-\"),0,Cf.SoloSub.5/T20)","v":0},{"$f":"IF(CENÁRIOS!$H$18=TRUE,IF(PM.5=\"\",\"-\",IF(OR(RfD.ig.cn.5=\"-\",RfD.ig.cn.5=\"\",RfD.ig.cn.5=0,FT!Q12=\"-\"),\"-\",((THI*RfD.ig.cn.5)/(FT!Q12*IF.SoloSub.Lix.AS.a.nc))*10^3)),\"-\")","v":"-"},{"$f":"IF(OR(V20=\"-\",V20=\"-\"),0,Cf.SoloSub.5/V20)","v":0},{"$f":"IF(CENÁRIOS!$I$18=TRUE,IF(PM.5=\"\",\"-\",IF(OR(RfD.ig.cn.5=\"-\",RfD.ig.cn.5=\"\",RfD.ig.cn.5=0,FT!Q12=\"-\",DAF.5=\"-\"),\"-\",((THI*RfD.ig.cn.5)/((FT!Q12*DAF.5)*IF.SoloSub.Lix.AS.a.nc))*10^3)),\"-\")","v":"-"},{"$f":"IF(OR(X20=\"-\",X20=\"-\"),0,Cf.SoloSub.5/X20)","v":0}]
[null,6,{"$f":"SQI!D14","v":0},{"$f":"SQI!C14","v":""},"C",{"$f":"IF(CENÁRIOS!$H$11=TRUE,IF(PM.6=\"\",\"-\",IF(OR(Sf.in.6=\"-\",Sf.in.6=\"\",Sf.in.6=0,FT!M13=\"-\"),\"-\",IF(ISERROR(TR/(FT!M13*IF.Solo.Ina.Vap.a.c*Sf.in.6)),\"-\",(TR/(FT!M13*IF.Solo.Ina.Vap.a.c*Sf.in.6))))),\"-\")","v":"-"},{"$f":"IF(OR(F21=\"-\",F21=\"-\"),0,Cf.SoloSup.6/F21)","v":0},{"$f":"IF(CENÁRIOS!$H$12=TRUE,IF(PM.6=\"\",\"-\",IF(OR(Sf.in.6=\"-\",Sf.in.6=\"\",Sf.in.6=0,FT!N13=\"-\"),\"-\",(TR/(FT!N13*IF.Solo.Ina.Par.a.c*Sf.in.6)))),\"-\")","v":"-"},{"$f":"IF(OR(H21=\"-\",H21=\"-\"),0,Cf.SoloSup.6/H21)","v":0},{"$f":"IF(CENÁRIOS!$H$13=TRUE,IF(PM.6=\"\",\"-\",IF(OR(Sf.dm.6=\"-\",Sf.dm.6=\"\",Sf.dm.6=0,ABSd.6=0,ABSd.6=\"\"),\"-\",(TR/(ABSd.6*IF.Solo.Con.Der.a.c*Sf.dm.6)))),\"-\")","v":"-"},{"$f":"IF(OR(J21=\"-\",J21=\"-\"),0,Cf.SoloSup.6/J21)","v":0},{"$f":"IF(CENÁRIOS!$H$14=TRUE,IF(PM.6=\"\",\"-\",IF(OR(Sf.ig.6=\"-\",Sf.ig.6=\"\",Sf.ig.6=0),\"-\",(TR/(IF.Solo.Ing.a.c*Biodisp.6*Sf.ig.6)))),\"-\")","v":"-"},{"$f":"IF(OR(L21=\"-\",L21=\"-\"),0,Cf.SoloSup.6/L21)","v":0},{"$f":"IF(CENÁRIOS!$H$15=TRUE,IF(OR(PM.6=\"\",Tipo.6<>\"METAL\"),\"-\",IF(OR(Sf.ig.6=\"-\",Sf.ig.6=\"\",Sf.ig.6=0,cdpx.6=\"-\",BCF.6=\"-\"),\"-\",(TR/((IF.Solo.Ing.Veg.c.i*Sf.ig.6)*(IRL.i*((BCFF.6+cdpx.6)/frbveg)+(IRR.i*(BCF.6/frkveg))))))),\"-\")","v":"-"},{"$f":"IF(OR(N21=\"-\",N21=\"-\"),0,Cf.SoloSup.6/N21)","v":0},{"$f":"IF(CENÁRIOS!$H$15=TRUE,IF(OR(PM.6=\"\",Tipo.6=\"METAL\"),\"-\",IF(OR(Sf.ig.6=\"-\",Sf.ig.6=\"\",Sf.ig.6=0,cdpx.6=\"-\",pw.6=\"-\",BCFR.6=\"-\",a.6=\"-\"),\"-\",(TR/((IF.Solo.Ing.Veg.c.i*Sf.ig.6)*(IRL.i*(((ps*pw.6*tscf.6*Qveg)/(Vwveg*pplantveg*a.6*Vlveg))+cdpx.6*fdwsveg)+(IRR.i*BCFR.6)))))),\"-\")","v":"-"},{"$f":"IF(OR(P21=\"-\",P21=\"-\"),0,Cf.SoloSup.6/P21)","v":0},{"$f":"IF(CENÁRIOS!$H$16=TRUE,IF(PM.6=\"\",\"-\",IF(OR(Sf.in.6=\"-\",Sf.in.6=\"\",Sf.in.6=0,Sf.in.6=0,FT!O13=\"-\"),\"-\",IF(ISERROR(TR/(FT!O13*IF.SoloSub.Ina.Abe.a.c*Sf.in.6)),\"-\",(TR/(FT!O13*IF.SoloSub.Ina.Abe.a.c*Sf.in.6))))),\"-\")","v":"-"},{"$f":"IF(OR(R21=\"-\",R21=\"-\"),0,Cf.SoloSub.6/R21)","v":0},{"$f":"IF(CENÁRIOS!$H$17=TRUE,IF(PM.6=\"\",\"-\",IF(OR(Sf.in.6=\"-\",Sf.in.6=\"\",Sf.in.6=0,FT!P13=\"-\"),\"-\",IF(ISERROR(TR/(FT!P13*IF.SoloSub.Ina.Fec.a.c*Sf.in.6)),\"-\",(TR/(FT!P13*IF.SoloSub.Ina.Fec.a.c*Sf.in.6))))),\"-\")","v":"-"},{"$f":"IF(OR(T21=\"-\",T21=\"-\"),0,Cf.SoloSub.6/T21)","v":0},{"$f":"IF(CENÁRIOS!$H$18=TRUE,IF(PM.6=\"\",\"-\",IF(OR(Sf.ig.6=\"-\",Sf.ig.6=\"\",Sf.ig.6=0,FT!Q13=\"-\"),\"-\",(TR/(FT!Q13*IF.SoloSub.Lix.AS.a.c*Sf.ig.6))*10^3)),\"-\")","v":"-"},{"$f":"IF(OR(V21=\"-\",V21=\"-\"),0,Cf.SoloSub.6/V21)","v":0},{"$f":"IF(CENÁRIOS!$I$18=TRUE,IF(PM.6=\"\",\"-\",IF(OR(Sf.ig.6=\"-\",Sf.ig.6=\"\",Sf.ig.6=0,FT!Q13=\"-\",DAF.6=\"-\"),\"-\",(TR/((FT!Q13*DAF.6)*IF.SoloSub.Lix.AS.a.c*Sf.ig.6))*10^3)),\"-\")","v":"-"},{"$f":"IF(OR(X21=\"-\",X21=\"-\"),0,Cf.SoloSub.6/X21)","v":0}]
[null,null,null,null,"NC",{"$f":"IF(CENÁRIOS!$H$11=TRUE,IF(PM.6=\"\",\"-\",IF(OR(RfD.in.cn.6=\"-\",RfD.in.cn.6=\"\",RfD.in.cn.6=0,FT!M13=\"-\"),\"-\",((THI*RfD.in.cn.6)/(FT!M13*IF.Solo.Ina.Vap.a.nc)))),\"-\")","v":"-"},{"$f":"IF(OR(F22=\"-\",F22=\"-\"),0,Cf.SoloSup.6/F22)","v":0},{"$f":"IF(CENÁRIOS!$H$12=TRUE,IF(PM.6=\"\",\"-\",IF(OR(RfD.in.cn.6=\"-\",RfD.in.cn.6=\"\",RfD.in.cn.6=0,FT!N13=\"-\"),\"-\",((THI*RfD.in.cn.6)/(FT!N13*IF.Solo.Ina.Par.a.nc)))),\"-\")","v":"-"},{"$f":"IF(OR(H22=\"-\",H22=\"-\"),0,Cf.SoloSup.6/H22)","v":0},{"$f":"IF(CENÁRIOS!$H$13=TRUE,IF(PM.6=\"\",\"-\",IF(OR(RfD.dm.cn.6=\"-\",RfD.dm.cn.6=\"\",RfD.dm.cn.6=0,ABSd.6=0,ABSd.6=\"\"),\"-\",((THI*RfD.dm.cn.6)/(ABSd.6*IF.Solo.Con.Der.a.nc)))),\"-\")","v":"-"},{"$f":"IF(OR(J22=\"-\",J22=\"-\"),0,Cf.SoloSup.6/J22)","v":0},{"$f":"IF(CENÁRIOS!$H$14=TRUE,IF(PM.6=\"\",\"-\",IF(OR(RfD.ig.cn.6=\"-\",RfD.ig.cn.6=\"\",RfD.ig.cn.6=0),\"-\",((THI*RfD.ig.cn.6)/(IF.Solo.Ing.a.nc*Biodisp.6)))),\"-\")","v":"-"},{"$f":"IF(OR(L22=\"-\",L22=\"-\"),0,Cf.SoloSup.6/L22)","v":0},{"$f":"IF(CENÁRIOS!$H$15=TRUE,IF(OR(PM.6=\"\",Tipo.6<>\"METAL\"),\"-\",IF(OR(RfD.ig.cn.6=\"-\",RfD.ig.cn.6=\"\",RfD.ig.cn.6=0,cdpx.6=\"-\",BCF.6=\"-\"),\"-\",((THI*RfD.ig.cn.6)/((IF.Solo.Ing.Veg.nc.i)*(IRL.i*((BCFF.6+cdpx.6)/frbveg)+(IRR.i*(BCF.6/frkveg))))))),\"-\")","v":"-"},{"$f":"IF(OR(N22=\"-\",N22=\"-\"),0,Cf.SoloSup.6/N22)","v":0},{"$f":"IF(CENÁRIOS!$H$15=TRUE,IF(OR(PM.6=\"\",Tipo.6=\"METAL\"),\"-\",IF(OR(RfD.ig.cn.6=\"-\",RfD.ig.cn.6=\"\",RfD.ig.cn.6=0,cdpx.6=\"-\",pw.6=\"-\",BCFR.6=\"-\",a.6=\"-\"),\"-\",((THI*RfD.ig.cn.6)/((IF.Solo.Ing.Veg.nc.i)*(IRL.i*(((ps*pw.6*tscf.6*Qveg)/(Vwveg*pplantveg*a.6*Vlveg))+cdpx.6*fdwsveg)+(IRR.i*BCFR.6)))))),\"-\")","v":"-"},{"$f":"IF(OR(P22=\"-\",P22=\"-\"),0,Cf.SoloSup.6/P22)","v":0},{"$f":"IF(CENÁRIOS!$H$16=TRUE,IF(PM.6=\"\",\"-\",IF(OR(RfD.in.cn.6=\"-\",RfD.in.cn.6=\"\",RfD.in.cn.6=0,FT!O13=\"-\"),\"-\",((THI*RfD.in.cn.6)/(FT!O13*IF.SoloSub.Ina.Abe.a.nc)))),\"-\")","v":"-"},{"$f":"IF(OR(R22=\"-\",R22=\"-\"),0,Cf.SoloSub.6/R22)","v":0},{"$f":"IF(CENÁRIOS!$H$17=TRUE,IF(PM.6=\"\",\"-\",IF(OR(RfD.in.cn.6=\"-\",RfD.in.cn.6=\"\",RfD.in.cn.6=0,FT!P13=\"-\"),\"-\",((THI*RfD.in.cn.6)/(FT!P13*IF.SoloSub.Ina.Fec.a.nc)))),\"-\")","v":"-"},{"$f":"IF(OR(T22=\"-\",T22=\"-\"),0,Cf.SoloSub.6/T22)","v":0},{"$f":"IF(CENÁRIOS!$H$18=TRUE,IF(PM.6=\"\",\"-\",IF(OR(RfD.ig.cn.6=\"-\",RfD.ig.cn.6=\"\",RfD.ig.cn.6=0,FT!Q13=\"-\"),\"-\",((THI*RfD.ig.cn.6)/(FT!Q13*IF.SoloSub.Lix.AS.a.nc))*10^3)),\"-\")","v":"-"},{"$f":"IF(OR(V22=\"-\",V22=\"-\"),0,Cf.SoloSub.6/V22)","v":0},{"$f":"IF(CENÁRIOS!$I$18=TRUE,IF(PM.6=\"\",\"-\",IF(OR(RfD.ig.cn.6=\"-\",RfD.ig.cn.6=\"\",RfD.ig.cn.6=0,FT!Q13=\"-\",DAF.6=\"-\"),\"-\",((THI*RfD.ig.cn.6)/((FT!Q13*DAF.6)*IF.SoloSub.Lix.AS.a.nc))*10^3)),\"-\")","v":"-"},{"$f":"IF(OR(X22=\"-\",X22=\"-\"),0,Cf.SoloSub.6/X22)","v":0}]
[null,7,{"$f":"SQI!D15","v":0},{"$f":"SQI!C15","v":""},"C",{"$f":"IF(CENÁRIOS!$H$11=TRUE,IF(PM.7=\"\",\"-\",IF(OR(Sf.in.7=\"-\",Sf.in.7=\"\",Sf.in.7=0,FT!M14=\"-\"),\"-\",IF(ISERROR(TR/(FT!M14*IF.Solo.Ina.Vap.a.c*Sf.in.7)),\"-\",(TR/(FT!M14*IF.Solo.Ina.Vap.a.c*Sf.in.7))))),\"-\")","v":"-"},{"$f":"IF(OR(F23=\"-\",F23=\"-\"),0,Cf.SoloSup.7/F23)","v":0},{"$f":"IF(CENÁRIOS!$H$12=TRUE,IF(PM.7=\"\",\"-\",IF(OR(Sf.in.7=\"-\",Sf.in.7=\"\",Sf.in.7=0,FT!N14=\"-\"),\"-\",(TR/(FT!N14*IF.Solo.Ina.Par.a.c*Sf.in.7)))),\"-\")","v":"-"},{"$f":"IF(OR(H23=\"-\",H23=\"-\"),0,Cf.SoloSup.7/H23)","v":0},{"$f":"IF(CENÁRIOS!$H$13=TRUE,IF(PM.7=\"\",\"-\",IF(OR(Sf.dm.7=\"-\",Sf.dm.7=\"\",Sf.dm.7=0,ABSd.7=0,ABSd.7=\"\"),\"-\",(TR/(ABSd.7*IF.Solo.Con.Der.a.c*Sf.dm.7)))),\"-\")","v":"-"},{"$f":"IF(OR(J23=\"-\",J23=\"-\"),0,Cf.SoloSup.7/J23)","v":0},{"$f":"IF(CENÁRIOS!$H$14=TRUE,IF(PM.7=\"\",\"-\",IF(OR(Sf.ig.7=\"-\",Sf.ig.7=\"\",Sf.ig.7=0),\"-\",(TR/(IF.Solo.Ing.a.c*Biodisp.7*Sf.ig.7)))),\"-\")","v":"-"},{"$f":"IF(OR(L23=\"-\",L23=\"-\"),0,Cf.SoloSup.7/L23)","v":0},{"$f":"IF(CENÁRIOS!$H$15=TRUE,IF(OR(PM.7=\"\",Tipo.7<>\"METAL\"),\"-\",IF(OR(Sf.ig.7=\"-\",Sf.ig.7=\"\",Sf.ig.7=0,cdpx.7=\"-\",BCF.7=\"-\"),\"-\",(TR/((IF.Solo.Ing.Veg.c.i*Sf.ig.7)*(IRL.i*((BCFF.7+cdpx.7)/frbveg)+(IRR.i*(BCF.7/frkveg))))))),\"-\")","v":"-"},{"$f":"IF(OR(N23=\"-\",N23=\"-\"),0,Cf.SoloSup.7/N23)","v":0},{"$f":"IF(CENÁRIOS!$H$15=TRUE,IF(OR(PM.7=\"\",Tipo.7=\"METAL\"),\"-\",IF(OR(Sf.ig.7=\"-\",Sf.ig.7=\"\",Sf.ig.7=0,cdpx.7=\"-\",pw.7=\"-\",BCFR.7=\"-\",a.7=\"-\"),\"-\",(TR/((IF.Solo.Ing.Veg.c.i*Sf.ig.7)*(IRL.i*(((ps*pw.7*tscf.7*Qveg)/(Vwveg*pplantveg*a.7*Vlveg))+cdpx.7*fdwsveg)+(IRR.i*BCFR.7)))))),\"-\")","v":"-"},{"$f":"IF(OR(P23=\"-\",P23=\"-\"),0,Cf.SoloSup.7/P23)","v":0},{"$f":"IF(CENÁRIOS!$H$16=TRUE,IF(PM.7=\"\",\"-\",IF(OR(Sf.in.7=\"-\",Sf.in.7=\"\",Sf.in.7=0,Sf.in.7=0,FT!O14=\"-\"),\"-\",IF(ISERROR(TR/(FT!O14*IF.SoloSub.Ina.Abe.a.c*Sf.in.7)),\"-\",(TR/(FT!O14*IF.SoloSub.Ina.Abe.a.c*Sf.in.7))))),\"-\")","v":"-"},{"$f":"IF(OR(R23=\"-\",R23=\"-\"),0,Cf.SoloSub.7/R23)","v":0},{"$f":"IF(CENÁRIOS!$H$17=TRUE,IF(PM.7=\"\",\"-\",IF(OR(Sf.in.7=\"-\",Sf.in.7=\"\",Sf.in.7=0,FT!P14=\"-\"),\"-\",IF(ISERROR(TR/(FT!P14*IF.SoloSub.Ina.Fec.a.c*Sf.in.7)),\"-\",(TR/(FT!P14*IF.SoloSub.Ina.Fec.a.c*Sf.in.7))))),\"-\")","v":"-"},{"$f":"IF(OR(T23=\"-\",T23=\"-\"),0,Cf.SoloSub.7/T23)","v":0},{"$f":"IF(CENÁRIOS!$H$18=TRUE,IF(PM.7=\"\",\"-\",IF(OR(Sf.ig.7=\"-\",Sf.ig.7=\"\",Sf.ig.7=0,FT!Q14=\"-\"),\"-\",(TR/(FT!Q14*IF.SoloSub.Lix.AS.a.c*Sf.ig.7))*10^3)),\"-\")","v":"-"},{"$f":"IF(OR(V23=\"-\",V23=\"-\"),0,Cf.SoloSub.7/V23)","v":0},{"$f":"IF(CENÁRIOS!$I$18=TRUE,IF(PM.7=\"\",\"-\",IF(OR(Sf.ig.7=\"-\",Sf.ig.7=\"\",Sf.ig.7=0,FT!Q14=\"-\",DAF.7=\"-\"),\"-\",(TR/((FT!Q14*DAF.7)*IF.SoloSub.Lix.AS.a.c*Sf.ig.7))*10^3)),\"-\")","v":"-"},{"$f":"IF(OR(X23=\"-\",X23=\"-\"),0,Cf.SoloSub.7/X23)","v":0}]
[null,null,null,null,"NC",{"$f":"IF(CENÁRIOS!$H$11=TRUE,IF(PM.7=\"\",\"-\",IF(OR(RfD.in.cn.7=\"-\",RfD.in.cn.7=\"\",RfD.in.cn.7=0,FT!M14=\"-\"),\"-\",((THI*RfD.in.cn.7)/(FT!M14*IF.Solo.Ina.Vap.a.nc)))),\"-\")","v":"-"},{"$f":"IF(OR(F24=\"-\",F24=\"-\"),0,Cf.SoloSup.7/F24)","v":0},{"$f":"IF(CENÁRIOS!$H$12=TRUE,IF(PM.7=\"\",\"-\",IF(OR(RfD.in.cn.7=\"-\",RfD.in.cn.7=\"\",RfD.in.cn.7=0,FT!N14=\"-\"),\"-\",((THI*RfD.in.cn.7)/(FT!N14*IF.Solo.Ina.Par.a.nc)))),\"-\")","v":"-"},{"$f":"IF(OR(H24=\"-\",H24=\"-\"),0,Cf.SoloSup.7/H24)","v":0},{"$f":"IF(CENÁRIOS!$H$13=TRUE,IF(PM.7=\"\",\"-\",IF(OR(RfD.dm.cn.7=\"-\",RfD.dm.cn.7=\"\",RfD.dm.cn.7=0,ABSd.7=0,ABSd.7=\"\"),\"-\",((THI*RfD.dm.cn.7)/(ABSd.7*IF.Solo.Con.Der.a.nc)))),\"-\")","v":"-"},{"$f":"IF(OR(J24=\"-\",J24=\"-\"),0,Cf.SoloSup.7/J24)","v":0},{"$f":"IF(CENÁRIOS!$H$14=TRUE,IF(PM.7=\"\",\"-\",IF(OR(RfD.ig.cn.7=\"-\",RfD.ig.cn.7=\"\",RfD.ig.cn.7=0),\"-\",((THI*RfD.ig.cn.7)/(IF.Solo.Ing.a.nc*Biodisp.7)))),\"-\")","v":"-"},{"$f":"IF(OR(L24=\"-\",L24=\"-\"),0,Cf.SoloSup.7/L24)","v":0},{"$f":"IF(CENÁRIOS!$H$15=TRUE,IF(OR(PM.7=\"\",Tipo.7<>\"METAL\"),\"-\",IF(OR(RfD.ig.cn.7=\"-\",RfD.ig.cn.7=\"\",RfD.ig.cn.7=0,cdpx.7=\"-\",BCF.7=\"-\"),\"-\",((THI*RfD.ig.cn.7)/((IF.Solo.Ing.Veg.nc.i)*(IRL.i*((BCFF.7+cdpx.7)/frbveg)+(IRR.i*(BCF.7/frkveg))))))),\"-\")","v":"-"},{"$f":"IF(OR(N24=\"-\",N24=\"-\"),0,Cf.SoloSup.7/N24)","v":0},{"$f":"IF(CENÁRIOS!$H$15=TRUE,IF(OR(PM.7=\"\",Tipo.7=\"METAL\"),\"-\",IF(OR(RfD.ig.cn.7=\"-\",RfD.ig.cn.7=\"\",RfD.ig.cn.7=0,cdpx.7=\"-\",pw.7=\"-\",BCFR.7=\"-\",a.7=\"-\"),\"-\",((THI*RfD.ig.cn.7)/((IF.Solo.Ing.Veg.nc.i)*(IRL.i*(((ps*pw.7*tscf.7*Qveg)/(Vwveg*pplantveg*a.7*Vlveg))+cdpx.7*fdwsveg)+(IRR.i*BCFR.7)))))),\"-\")","v":"-"},{"$f":"IF(OR(P24=\"-\",P24=\"-\"),0,Cf.SoloSup.7/P24)","v":0},{"$f":"IF(CENÁRIOS!$H$16=TRUE,IF(PM.7=\"\",\"-\",IF(OR(RfD.in.cn.7=\"-\",RfD.in.cn.7=\"\",RfD.in.cn.7=0,FT!O14=\"-\"),\"-\",((THI*RfD.in.cn.7)/(FT!O14*IF.SoloSub.Ina.Abe.a.nc)))),\"-\")","v":"-"},{"$f":"IF(OR(R24=\"-\",R24=\"-\"),0,Cf.SoloSub.7/R24)","v":0},{"$f":"IF(CENÁRIOS!$H$17=TRUE,IF(PM.7=\"\",\"-\",IF(OR(RfD.in.cn.7=\"-\",RfD.in.cn.7=\"\",RfD.in.cn.7=0,FT!P14=\"-\"),\"-\",((THI*RfD.in.cn.7)/(FT!P14*IF.SoloSub.Ina.Fec.a.nc)))),\"-\")","v":"-"},{"$f":"IF(OR(T24=\"-\",T24=\"-\"),0,Cf.SoloSub.7/T24)","v":0},{"$f":"IF(CENÁRIOS!$H$18=TRUE,IF(PM.7=\"\",\"-\",IF(OR(RfD.ig.cn.7=\"-\",RfD.ig.cn.7=\"\",RfD.ig.cn.7=0,FT!Q14=\"-\"),\"-\",((THI*RfD.ig.cn.7)/(FT!Q14*IF.SoloSub.Lix.AS.a.nc))*10^3)),\"-\")","v":"-"},{"$f":"IF(OR(V24=\"-\",V24=\"-\"),0,Cf.SoloSub.7/V24)","v":0},{"$f":"IF(CENÁRIOS!$I$18=TRUE,IF(PM.7=\"\",\"-\",IF(OR(RfD.ig.cn.7=\"-\",RfD.ig.cn.7=\"\",RfD.ig.cn.7=0,FT!Q14=\"-\",DAF.7=\"-\"),\"-\",((THI*RfD.ig.cn.7)/((FT!Q14*DAF.7)*IF.SoloSub.Lix.AS.a.nc))*10^3)),\"-\")","v":"-"},{"$f":"IF(OR(X24=\"-\",X24=\"-\"),0,Cf.SoloSub.7/X24)","v":0}]
[null,8,{"$f":"SQI!D16","v":0},{"$f":"SQI!C16","v":""},"C",{"$f":"IF(CENÁRIOS!$H$11=TRUE,IF(PM.8=\"\",\"-\",IF(OR(Sf.in.8=\"-\",Sf.in.8=\"\",Sf.in.8=0,FT!M15=\"-\"),\"-\",IF(ISERROR(TR/(FT!M15*IF.Solo.Ina.Vap.a.c*Sf.in.8)),\"-\",(TR/(FT!M15*IF.Solo.Ina.Vap.a.c*Sf.in.8))))),\"-\")","v":"-"},{"$f":"IF(OR(F25=\"-\",F25=\"-\"),0,Cf.SoloSup.8/F25)","v":0},{"$f":"IF(CENÁRIOS!$H$12=TRUE,IF(PM.8=\"\",\"-\",IF(OR(Sf.in.8=\"-\",Sf.in.8=\"\",Sf.in.8=0,FT!N15=\"-\"),\"-\",(TR/(FT!N15*IF.Solo.Ina.Par.a.c*Sf.in.8)))),\"-\")","v":"-"},{"$f":"IF(OR(H25=\"-\",H25=\"-\"),0,Cf.SoloSup.8/H25)","v":0},{"$f":"IF(CENÁRIOS!$H$13=TRUE,IF(PM.8=\"\",\"-\",IF(OR(Sf.dm.8=\"-\",Sf.dm.8=\"\",Sf.dm.8=0,ABSd.8=0,ABSd.8=\"\"),\"-\",(TR/(ABSd.8*IF.Solo.Con.Der.a.c*Sf.dm.8)))),\"-\")","v":"-"},{"$f":"IF(OR(J25=\"-\",J25=\"-\"),0,Cf.SoloSup.8/J25)","v":0},{"$f":"IF(CENÁRIOS!$H$14=TRUE,IF(PM.8=\"\",\"-\",IF(OR(Sf.ig.8=\"-\",Sf.ig.8=\"\",Sf.ig.8=0),\"-\",(TR/(IF.Solo.Ing.a.c*Biodisp.8*Sf.ig.8)))),\"-\")","v":"-"},{"$f":"IF(OR(L25=\"-\",L25=\"-\"),0,Cf.SoloSup.8/L25)","v":0},{"$f":"IF(CENÁRIOS!$H$15=TRUE,IF(OR(PM.8=\"\",Tipo.8<>\"METAL\"),\"-\",IF(OR(Sf.ig.8=\"-\",Sf.ig.8=\"\",Sf.ig.8=0,cdpx.8=\"-\",BCF.8=\"-\"),\"-\",(TR/((IF.Solo.Ing.Veg.c.i*Sf.ig.8)*(IRL.i*((BCFF.8+cdpx.8)/frbveg)+(IRR.i*(BCF.8/frkveg))))))),\"-\")","v":"-"},{"$f":"IF(OR(N25=\"-\",N25=\"-\"),0,Cf.SoloSup.8/N25)","v":0},{"$f":"IF(CENÁRIOS!$H$15=TRUE,IF(OR(PM.8=\"\",Tipo.8=\"METAL\"),\"-\",IF(OR(Sf.ig.8=\"-\",Sf.ig.8=\"\",Sf.ig.8=0,cdpx.8=\"-\",pw.8=\"-\",BCFR.8=\"-\",a.8=\"-\"),\"-\",(TR/((IF.Solo.Ing.Veg.c.i*Sf.ig.8)*(IRL.i*(((ps*pw.8*tscf.8*Qveg)/(Vwveg*pplantveg*a.8*Vlveg))+cdpx.8*fdwsveg)+(IRR.i*BCFR.8)))))),\"-\")","v":"-"},{"$f":"IF(OR(P25=\"-\",P25=\"-\"),0,Cf.SoloSup.8/P25)","v":0},{"$f":"IF(CENÁRIOS!$H$16=TRUE,IF(PM.8=\"\",\"-\",IF(OR(Sf.in.8=\"-\",Sf.in.8=\"\",Sf.in.8=0,Sf.in.8=0,FT!O15=\"-\"),\"-\",IF(ISERROR(TR/(FT!O15*IF.SoloSub.Ina.Abe.a.c*Sf.in.8)),\"-\",(TR/(FT!O15*IF.SoloSub.Ina.Abe.a.c*Sf.in.8))))),\"-\")","v":"-"},{"$f":"IF(OR(R25=\"-\",R25=\"-\"),0,Cf.SoloSub.8/R25)","v":0},{"$f":"IF(CENÁRIOS!$H$17=TRUE,IF(PM.8=\"\",\"-\",IF(OR(Sf.in.8=\"-\",Sf.in.8=\"\",Sf.in.8=0,FT!P15=\"-\"),\"-\",IF(ISERROR(TR/(FT!P15*IF.SoloSub.Ina.Fec.a.c*Sf.in.8)),\"-\",(TR/(FT!P15*IF.SoloSub.Ina.Fec.a.c*Sf.in.8))))),\"-\")","v":"-"},{"$f":"IF(OR(T25=\"-\",T25=\"-\"),0,Cf.SoloSub.8/T25)","v":0},{"$f":"IF(CENÁRIOS!$H$18=TRUE,IF(PM.8=\"\",\"-\",IF(OR(Sf.ig.8=\"-\",Sf.ig.8=\"\",Sf.ig.8=0,FT!Q15=\"-\"),\"-\",(TR/(FT!Q15*IF.SoloSub.Lix.AS.a.c*Sf.ig.8))*10^3)),\"-\")","v":"-"},{"$f":"IF(OR(V25=\"-\",V25=\"-\"),0,Cf.SoloSub.8/V25)","v":0},{"$f":"IF(CENÁRIOS!$I$18=TRUE,IF(PM.8=\"\",\"-\",IF(OR(Sf.ig.8=\"-\",Sf.ig.8=\"\",Sf.ig.8=0,FT!Q15=\"-\",DAF.8=\"-\"),\"-\",(TR/((FT!Q15*DAF.8)*IF.SoloSub.Lix.AS.a.c*Sf.ig.8))*10^3)),\"-\")","v":"-"},{"$f":"IF(OR(X25=\"-\",X25=\"-\"),0,Cf.SoloSub.8/X25)","v":0}]
[null,null,null,null,"NC",{"$f":"IF(CENÁRIOS!$H$11=TRUE,IF(PM.8=\"\",\"-\",IF(OR(RfD.in.cn.8=\"-\",RfD.in.cn.8=\"\",RfD.in.cn.8=0,FT!M15=\"-\"),\"-\",((THI*RfD.in.cn.8)/(FT!M15*IF.Solo.Ina.Vap.a.nc)))),\"-\")","v":"-"},{"$f":"IF(OR(F26=\"-\",F26=\"-\"),0,Cf.SoloSup.8/F26)","v":0},{"$f":"IF(CENÁRIOS!$H$12=TRUE,IF(PM.8=\"\",\"-\",IF(OR(RfD.in.cn.8=\"-\",RfD.in.cn.8=\"\",RfD.in.cn.8=0,FT!N15=\"-\"),\"-\",((THI*RfD.in.cn.8)/(FT!N15*IF.Solo.Ina.Par.a.nc)))),\"-\")","v":"-"},{"$f":"IF(OR(H26=\"-\",H26=\"-\"),0,Cf.SoloSup.8/H26)","v":0},{"$f":"IF(CENÁRIOS!$H$13=TRUE,IF(PM.8=\"\",\"-\",IF(OR(RfD.dm.cn.8=\"-\",RfD.dm.cn.8=\"\",RfD.dm.cn.8=0,ABSd.8=0,ABSd.8=\"\"),\"-\",((THI*RfD.dm.cn.8)/(ABSd.8*IF.Solo.Con.Der.a.nc)))),\"-\")","v":"-"},{"$f":"IF(OR(J26=\"-\",J26=\"-\"),0,Cf.SoloSup.8/J26)","v":0},{"$f":"IF(CENÁRIOS!$H$14=TRUE,IF(PM.8=\"\",\"-\",IF(OR(RfD.ig.cn.8=\"-\",RfD.ig.cn.8=\"\",RfD.ig.cn.8=0),\"-\",((THI*RfD.ig.cn.8)/(IF.Solo.Ing.a.nc*Biodisp.8)))),\"-\")","v":"-"},{"$f":"IF(OR(L26=\"-\",L26=\"-\"),0,Cf.SoloSup.8/L26)","v":0},{"$f":"IF(CENÁRIOS!$H$15=TRUE,IF(OR(PM.8=\"\",Tipo.8<>\"METAL\"),\"-\",IF(OR(RfD.ig.cn.8=\"-\",RfD.ig.cn.8=\"\",RfD.ig.cn.8=0,cdpx.8=\"-\",BCF.8=\"-\"),\"-\",((THI*RfD.ig.cn.8)/((IF.Solo.Ing.Veg.nc.i)*(IRL.i*((BCFF.8+cdpx.8)/frbveg)+(IRR.i*(BCF.8/frkveg))))))),\"-\")","v":"-"},{"$f":"IF(OR(N26=\"-\",N26=\"-\"),0,Cf.SoloSup.8/N26)","v":0},{"$f":"IF(CENÁRIOS!$H$15=TRUE,IF(OR(PM.8=\"\",Tipo.8=\"METAL\"),\"-\",IF(OR(RfD.ig.cn.8=\"-\",RfD.ig.cn.8=\"\",RfD.ig.cn.8=0,cdpx.8=\"-\",pw.8=\"-\",BCFR.8=\"-\",a.8=\"-\"),\"-\",((THI*RfD.ig.cn.8)/((IF.Solo.Ing.Veg.nc.i)*(IRL.i*(((ps*pw.8*tscf.8*Qveg)/(Vwveg*pplantveg*a.8*Vlveg))+cdpx.8*fdwsveg)+(IRR.i*BCFR.8)))))),\"-\")","v":"-"},{"$f":"IF(OR(P26=\"-\",P26=\"-\"),0,Cf.SoloSup.8/P26)","v":0},{"$f":"IF(CENÁRIOS!$H$16=TRUE,IF(PM.8=\"\",\"-\",IF(OR(RfD.in.cn.8=\"-\",RfD.in.cn.8=\"\",RfD.in.cn.8=0,FT!O15=\"-\"),\"-\",((THI*RfD.in.cn.8)/(FT!O15*IF.SoloSub.Ina.Abe.a.nc)))),\"-\")","v":"-"},{"$f":"IF(OR(R26=\"-\",R26=\"-\"),0,Cf.SoloSub.8/R26)","v":0},{"$f":"IF(CENÁRIOS!$H$17=TRUE,IF(PM.8=\"\",\"-\",IF(OR(RfD.in.cn.8=\"-\",RfD.in.cn.8=\"\",RfD.in.cn.8=0,FT!P15=\"-\"),\"-\",((THI*RfD.in.cn.8)/(FT!P15*IF.SoloSub.Ina.Fec.a.nc)))),\"-\")","v":"-"},{"$f":"IF(OR(T26=\"-\",T26=\"-\"),0,Cf.SoloSub.8/T26)","v":0},{"$f":"IF(CENÁRIOS!$H$18=TRUE,IF(PM.8=\"\",\"-\",IF(OR(RfD.ig.cn.8=\"-\",RfD.ig.cn.8=\"\",RfD.ig.cn.8=0,FT!Q15=\"-\"),\"-\",((THI*RfD.ig.cn.8)/(FT!Q15*IF.SoloSub.Lix.AS.a.nc))*10^3)),\"-\")","v":"-"},{"$f":"IF(OR(V26=\"-\",V26=\"-\"),0,Cf.SoloSub.8/V26)","v":0},{"$f":"IF(CENÁRIOS!$I$18=TRUE,IF(PM.8=\"\",\"-\",IF(OR(RfD.ig.cn.8=\"-\",RfD.ig.cn.8=\"\",RfD.ig.cn.8=0,FT!Q15=\"-\",DAF.8=\"-\"),\"-\",((THI*RfD.ig.cn.8)/((FT!Q15*DAF.8)*IF.SoloSub.Lix.AS.a.nc))*10^3)),\"-\")","v":"-"},{"$f":"IF(OR(X26=\"-\",X26=\"-\"),0,Cf.SoloSub.8/X26)","v":0}]
[null,9,{"$f":"SQI!D17","v":0},{"$f":"SQI!C17","v":""},"C",{"$f":"IF(CENÁRIOS!$H$11=TRUE,IF(PM.9=\"\",\"-\",IF(OR(Sf.in.9=\"-\",Sf.in.9=\"\",Sf.in.9=0,FT!M16=\"-\"),\"-\",IF(ISERROR(TR/(FT!M16*IF.Solo.Ina.Vap.a.c*Sf.in.9)),\"-\",(TR/(FT!M16*IF.Solo.Ina.Vap.a.c*Sf.in.9))))),\"-\")","v":"-"},{"$f":"IF(OR(F27=\"-\",F27=\"-\"),0,Cf.SoloSup.9/F27)","v":0},{"$f":"IF(CENÁRIOS!$H$12=TRUE,IF(PM.9=\"\",\"-\",IF(OR(Sf.in.9=\"-\",Sf.in.9=\"\",Sf.in.9=0,FT!N16=\"-\"),\"-\",(TR/(FT!N16*IF.Solo.Ina.Par.a.c*Sf.in.9)))),\"-\")","v":"-"},{"$f":"IF(OR(H27=\"-\",H27=\"-\"),0,Cf.SoloSup.9/H27)","v":0},{"$f":"IF(CENÁRIOS!$H$13=TRUE,IF(PM.9=\"\",\"-\",IF(OR(Sf.dm.9=\"-\",Sf.dm.9=\"\",Sf.dm.9=0,ABSd.9=0,ABSd.9=\"\"),\"-\",(TR/(ABSd.9*IF.Solo.Con.Der.a.c*Sf.dm.9)))),\"-\")","v":"-"},{"$f":"IF(OR(J27=\"-\",J27=\"-\"),0,Cf.SoloSup.9/J27)","v":0},{"$f":"IF(CENÁRIOS!$H$14=TRUE,IF(PM.9=\"\",\"-\",IF(OR(Sf.ig.9=\"-\",Sf.ig.9=\"\",Sf.ig.9=0),\"-\",(TR/(IF.Solo.Ing.a.c*Biodisp.9*Sf.ig.9)))),\"-\")","v":"-"},{"$f":"IF(OR(L27=\"-\",L27=\"-\"),0,Cf.SoloSup.9/L27)","v":0},{"$f":"IF(CENÁRIOS!$H$15=TRUE,IF(OR(PM.9=\"\",Tipo.9<>\"METAL\"),\"-\",IF(OR(Sf.ig.9=\"-\",Sf.ig.9=\"\",Sf.ig.9=0,cdpx.9=\"-\",BCF.9=\"-\"),\"-\",(TR/((IF.Solo.Ing.Veg.c.i*Sf.ig.9)*(IRL.i*((BCFF.9+cdpx.9)/frbveg)+(IRR.i*(BCF.9/frkveg))))))),\"-\")","v":"-"},{"$f":"IF(OR(N27=\"-\",N27=\"-\"),0,Cf.SoloSup.9/N27)","v":0},{"$f":"IF(CENÁRIOS!$H$15=TRUE,IF(OR(PM.9=\"\",Tipo.9=\"METAL\"),\"-\",IF(OR(Sf.ig.9=\"-\",Sf.ig.9=\"\",Sf.ig.9=0,cdpx.9=\"-\",pw.9=\"-\",BCFR.9=\"-\",a.9=\"-\"),\"-\",(TR/((IF.Solo.Ing.Veg.c.i*Sf.ig.9)*(IRL.i*(((ps*pw.9*tscf.9*Qveg)/(Vwveg*pplantveg*a.9*Vlveg))+cdpx.9*fdwsveg)+(IRR.i*BCFR.9)))))),\"-\")","v":"-"},{"$f":"IF(OR(P27=\"-\",P27=\"-\"),0,Cf.SoloSup.9/P27)","v":0},{"$f":"IF(CENÁRIOS!$H$16=TRUE,IF(PM.9=\"\",\"-\",IF(OR(Sf.in.9=\"-\",Sf.in.9=\"\",Sf.in.9=0,Sf.in.9=0,FT!O16=\"-\"),\"-\",IF(ISERROR(TR/(FT!O16*IF.SoloSub.Ina.Abe.a.c*Sf.in.9)),\"-\",(TR/(FT!O16*IF.SoloSub.Ina.Abe.a.c*Sf.in.9))))),\"-\")","v":"-"},{"$f":"IF(OR(R27=\"-\",R27=\"-\"),0,Cf.SoloSub.9/R27)","v":0},{"$f":"IF(CENÁRIOS!$H$17=TRUE,IF(PM.9=\"\",\"-\",IF(OR(Sf.in.9=\"-\",Sf.in.9=\"\",Sf.in.9=0,FT!P16=\"-\"),\"-\",IF(ISERROR(TR/(FT!P16*IF.SoloSub.Ina.Fec.a.c*Sf.in.9)),\"-\",(TR/(FT!P16*IF.SoloSub.Ina.Fec.a.c*Sf.in.9))))),\"-\")","v":"-"},{"$f":"IF(OR(T27=\"-\",T27=\"-\"),0,Cf.SoloSub.9/T27)","v":0},{"$f":"IF(CENÁRIOS!$H$18=TRUE,IF(PM.9=\"\",\"-\",IF(OR(Sf.ig.9=\"-\",Sf.ig.9=\"\",Sf.ig.9=0,FT!Q16=\"-\"),\"-\",(TR/(FT!Q16*IF.SoloSub.Lix.AS.a.c*Sf.ig.9))*10^3)),\"-\")","v":"-"},{"$f":"IF(OR(V27=\"-\",V27=\"-\"),0,Cf.SoloSub.9/V27)","v":0},{"$f":"IF(CENÁRIOS!$I$18=TRUE,IF(PM.9=\"\",\"-\",IF(OR(Sf.ig.9=\"-\",Sf.ig.9=\"\",Sf.ig.9=0,FT!Q16=\"-\",DAF.9=\"-\"),\"-\",(TR/((FT!Q16*DAF.9)*IF.SoloSub.Lix.AS.a.c*Sf.ig.9))*10^3)),\"-\")","v":"-"},{"$f":"IF(OR(X27=\"-\",X27=\"-\"),0,Cf.SoloSub.9/X27)","v":0}]
[null,null,null,null,"NC",{"$f":"IF(CENÁRIOS!$H$11=TRUE,IF(PM.9=\"\",\"-\",IF(OR(RfD.in.cn.9=\"-\",RfD.in.cn.9=\"\",RfD.in.cn.9=0,FT!M16=\"-\"),\"-\",((THI*RfD.in.cn.9)/(FT!M16*IF.Solo.Ina.Vap.a.nc)))),\"-\")","v":"-"},{"$f":"IF(OR(F28=\"-\",F28=\"-\"),0,Cf.SoloSup.9/F28)","v":0},{"$f":"IF(CENÁRIOS!$H$12=TRUE,IF(PM.9=\"\",\"-\",IF(OR(RfD.in.cn.9=\"-\",RfD.in.cn.9=\"\",RfD.in.cn.9=0,FT!N16=\"-\"),\"-\",((THI*RfD.in.cn.9)/(FT!N16*IF.Solo.Ina.Par.a.nc)))),\"-\")","v":"-"},{"$f":"IF(OR(H28=\"-\",H28=\"-\"),0,Cf.SoloSup.9/H28)","v":0},{"$f":"IF(CENÁRIOS!$H$13=TRUE,IF(PM.9=\"\",\"-\",IF(OR(RfD.dm.cn.9=\"-\",RfD.dm.cn.9=\"\",RfD.dm.cn.9=0,ABSd.9=0,ABSd.9=\"\"),\"-\",((THI*RfD.dm.cn.9)/(ABSd.9*IF.Solo.Con.Der.a.nc)))),\"-\")","v":"-"},{"$f":"IF(OR(J28=\"-\",J28=\"-\"),0,Cf.SoloSup.9/J28)","v":0},{"$f":"IF(CENÁRIOS!$H$14=TRUE,IF(PM.9=\"\",\"-\",IF(OR(RfD.ig.cn.9=\"-\",RfD.ig.cn.9=\"\",RfD.ig.cn.9=0),\"-\",((THI*RfD.ig.cn.9)/(IF.Solo.Ing.a.nc*Biodisp.9)))),\"-\")","v":"-"},{"$f":"IF(OR(L28=\"-\",L28=\"-\"),0,Cf.SoloSup.9/L28)","v":0},{"$f":"IF(CENÁRIOS!$H$15=TRUE,IF(OR(PM.9=\"\",Tipo.9<>\"METAL\"),\"-\",IF(OR(RfD.ig.cn.9=\"-\",RfD.ig.cn.9=\"\",RfD.ig.cn.9=0,cdpx.9=\"-\",BCF.9=\"-\"),\"-\",((THI*RfD.ig.cn.9)/((IF.Solo.Ing.Veg.nc.i)*(IRL.i*((BCFF.9+cdpx.9)/frbveg)+(IRR.i*(BCF.9/frkveg))))))),\"-\")","v":"-"},{"$f":"IF(OR(N28=\"-\",N28=\"-\"),0,Cf.SoloSup.9/N28)","v":0},{"$f":"IF(CENÁRIOS!$H$15=TRUE,IF(OR(PM.9=\"\",Tipo.9=\"METAL\"),\"-\",IF(OR(RfD.ig.cn.9=\"-\",RfD.ig.cn.9=\"\",RfD.ig.cn.9=0,cdpx.9=\"-\",pw.9=\"-\",BCFR.9=\"-\",a.9=\"-\"),\"-\",((THI*RfD.ig.cn.9)/((IF.Solo.Ing.Veg.nc.i)*(IRL.i*(((ps*pw.9*tscf.9*Qveg)/(Vwveg*pplantveg*a.9*Vlveg))+cdpx.9*fdwsveg)+(IRR.i*BCFR.9)))))),\"-\")","v":"-"},{"$f":"IF(OR(P28=\"-\",P28=\"-\"),0,Cf.SoloSup.9/P28)","v":0},{"$f":"IF(CENÁRIOS!$H$16=TRUE,IF(PM.9=\"\",\"-\",IF(OR(RfD.in.cn.9=\"-\",RfD.in.cn.9=\"\",RfD.in.cn.9=0,FT!O16=\"-\"),\"-\",((THI*RfD.in.cn.9)/(FT!O16*IF.SoloSub.Ina.Abe.a.nc)))),\"-\")","v":"-"},{"$f":"IF(OR(R28=\"-\",R28=\"-\"),0,Cf.SoloSub.9/R28)","v":0},{"$f":"IF(CENÁRIOS!$H$17=TRUE,IF(PM.9=\"\",\"-\",IF(OR(RfD.in.cn.9=\"-\",RfD.in.cn.9=\"\",RfD.in.cn.9=0,FT!P16=\"-\"),\"-\",((THI*RfD.in.cn.9)/(FT!P16*IF.SoloSub.Ina.Fec.a.nc)))),\"-\")","v":"-"},{"$f":"IF(OR(T28=\"-\",T28=\"-\"),0,Cf.SoloSub.9/T28)","v":0},{"$f":"IF(CENÁRIOS!$H$18=TRUE,IF(PM.9=\"\",\"-\",IF(OR(RfD.ig.cn.9=\"-\",RfD.ig.cn.9=\"\",RfD.ig.cn.9=0,FT!Q16=\"-\"),\"-\",((THI*RfD.ig.cn.9)/(FT!Q16*IF.SoloSub.Lix.AS.a.nc))*10^3)),\"-\")","v":"-"},{"$f":"IF(OR(V28=\"-\",V28=\"-\"),0,Cf.SoloSub.9/V28)","v":0},{"$f":"IF(CENÁRIOS!$I$18=TRUE,IF(PM.9=\"\",\"-\",IF(OR(RfD.ig.cn.9=\"-\",RfD.ig.cn.9=\"\",RfD.ig.cn.9=0,FT!Q16=\"-\",DAF.9=\"-\"),\"-\",((THI*RfD.ig.cn.9)/((FT!Q16*DAF.9)*IF.SoloSub.Lix.AS.a.nc))*10^3)),\"-\")","v":"-"},{"$f":"IF(OR(X28=\"-\",X28=\"-\"),0,Cf.SoloSub.9/X28)","v":0}]
[null,10,{"$f":"SQI!D18","v":0},{"$f":"SQI!C18","v":""},"C",{"$f":"IF(CENÁRIOS!$H$11=TRUE,IF(PM.10=\"\",\"-\",IF(OR(Sf.in.10=\"-\",Sf.in.10=\"\",Sf.in.10=0,FT!M17=\"-\"),\"-\",IF(ISERROR(TR/(FT!M17*IF.Solo.Ina.Vap.a.c*Sf.in.10)),\"-\",(TR/(FT!M17*IF.Solo.Ina.Vap.a.c*Sf.in.10))))),\"-\")","v":"-"},{"$f":"IF(OR(F29=\"-\",F29=\"-\"),0,Cf.SoloSup.10/F29)","v":0},{"$f":"IF(CENÁRIOS!$H$12=TRUE,IF(PM.10=\"\",\"-\",IF(OR(Sf.in.10=\"-\",Sf.in.10=\"\",Sf.in.10=0,FT!N17=\"-\"),\"-\",(TR/(FT!N17*IF.Solo.Ina.Par.a.c*Sf.in.10)))),\"-\")","v":"-"},{"$f":"IF(OR(H29=\"-\",H29=\"-\"),0,Cf.SoloSup.10/H29)","v":0},{"$f":"IF(CENÁRIOS!$H$13=TRUE,IF(PM.10=\"\",\"-\",IF(OR(Sf.dm.10=\"-\",Sf.dm.10=\"\",Sf.dm.10=0,ABSd.10=0,ABSd.10=\"\"),\"-\",(TR/(ABSd.10*IF.Solo.Con.Der.a.c*Sf.dm.10)))),\"-\")","v":"-"},{"$f":"IF(OR(J29=\"-\",J29=\"-\"),0,Cf.SoloSup.10/J29)","v":0},{"$f":"IF(CENÁRIOS!$H$14=TRUE,IF(PM.10=\"\",\"-\",IF(OR(Sf.ig.10=\"-\",Sf.ig.10=\"\",Sf.ig.10=0),\"-\",(TR/(IF.Solo.Ing.a.c*Biodisp.10*Sf.ig.10)))),\"-\")","v":"-"},{"$f":"IF(OR(L29=\"-\",L29=\"-\"),0,Cf.SoloSup.10/L29)","v":0},{"$f":"IF(CENÁRIOS!$H$15=TRUE,IF(OR(PM.10=\"\",Tipo.10<>\"METAL\"),\"-\",IF(OR(Sf.ig.10=\"-\",Sf.ig.10=\"\",Sf.ig.10=0,cdpx.10=\"-\",BCF.10=\"-\"),\"-\",(TR/((IF.Solo.Ing.Veg.c.i*Sf.ig.10)*(IRL.i*((BCFF.10+cdpx.10)/frbveg)+(IRR.i*(BCF.10/frkveg))))))),\"-\")","v":"-"},{"$f":"IF(OR(N29=\"-\",N29=\"-\"),0,Cf.SoloSup.10/N29)","v":0},{"$f":"IF(CENÁRIOS!$H$15=TRUE,IF(OR(PM.10=\"\",Tipo.10=\"METAL\"),\"-\",IF(OR(Sf.ig.10=\"-\",Sf.ig.10=\"\",Sf.ig.10=0,cdpx.10=\"-\",pw.10=\"-\",BCFR.10=\"-\",a.10=\"-\"),\"-\",(TR/((IF.Solo.Ing.Veg.c.i*Sf.ig.10)*(IRL.i*(((ps*pw.10*tscf.10*Qveg)/(Vwveg*pplantveg*a.10*Vlveg))+cdpx.10*fdwsveg)+(IRR.i*BCFR.10)))))),\"-\")","v":"-"},{"$f":"IF(OR(P29=\"-\",P29=\"-\"),0,Cf.SoloSup.10/P29)","v":0},{"$f":"IF(CENÁRIOS!$H$16=TRUE,IF(PM.10=\"\",\"-\",IF(OR(Sf.in.10=\"-\",Sf.in.10=\"\",Sf.in.10=0,Sf.in.10=0,FT!O17=\"-\"),\"-\",IF(ISERROR(TR/(FT!O17*IF.SoloSub.Ina.Abe.a.c*Sf.in.10)),\"-\",(TR/(FT!O17*IF.SoloSub.Ina.Abe.a.c*Sf.in.10))))),\"-\")","v":"-"},{"$f":"IF(OR(R29=\"-\",R29=\"-\"),0,Cf.SoloSub.10/R29)","v":0},{"$f":"IF(CENÁRIOS!$H$17=TRUE,IF(PM.10=\"\",\"-\",IF(OR(Sf.in.10=\"-\",Sf.in.10=\"\",Sf.in.10=0,FT!P17=\"-\"),\"-\",IF(ISERROR(TR/(FT!P17*IF.SoloSub.Ina.Fec.a.c*Sf.in.10)),\"-\",(TR/(FT!P17*IF.SoloSub.Ina.Fec.a.c*Sf.in.10))))),\"-\")","v":"-"},{"$f":"IF(OR(T29=\"-\",T29=\"-\"),0,Cf.SoloSub.10/T29)","v":0},{"$f":"IF(CENÁRIOS!$H$18=TRUE,IF(PM.10=\"\",\"-\",IF(OR(Sf.ig.10=\"-\",Sf.ig.10=\"\",Sf.ig.10=0,FT!Q17=\"-\"),\"-\",(TR/(FT!Q17*IF.SoloSub.Lix.AS.a.c*Sf.ig.10))*10^3)),\"-\")","v":"-"},{"$f":"IF(OR(V29=\"-\",V29=\"-\"),0,Cf.SoloSub.10/V29)","v":0},{"$f":"IF(CENÁRIOS!$I$18=TRUE,IF(PM.10=\"\",\"-\",IF(OR(Sf.ig.10=\"-\",Sf.ig.10=\"\",Sf.ig.10=0,FT!Q17=\"-\",DAF.10=\"-\"),\"-\",(TR/((FT!Q17*DAF.10)*IF.SoloSub.Lix.AS.a.c*Sf.ig.10))*10^3)),\"-\")","v":"-"},{"$f":"IF(OR(X29=\"-\",X29=\"-\"),0,Cf.SoloSub.10/X29)","v":0}]
[null,null,null,null,"NC",{"$f":"IF(CENÁRIOS!$H$11=TRUE,IF(PM.10=\"\",\"-\",IF(OR(RfD.in.cn.10=\"-\",RfD.in.cn.10=\"\",RfD.in.cn.10=0,FT!M17=\"-\"),\"-\",((THI*RfD.in.cn.10)/(FT!M17*IF.Solo.Ina.Vap.a.nc)))),\"-\")","v":"-"},{"$f":"IF(OR(F30=\"-\",F30=\"-\"),0,Cf.SoloSup.10/F30)","v":0},{"$f":"IF(CENÁRIOS!$H$12=TRUE,IF(PM.10=\"\",\"-\",IF(OR(RfD.in.cn.10=\"-\",RfD.in.cn.10=\"\",RfD.in.cn.10=0,FT!N17=\"-\"),\"-\",((THI*RfD.in.cn.10)/(FT!N17*IF.Solo.Ina.Par.a.nc)))),\"-\")","v":"-"},{"$f":"IF(OR(H30=\"-\",H30=\"-\"),0,Cf.SoloSup.10/H30)","v":0},{"$f":"IF(CENÁRIOS!$H$13=TRUE,IF(PM.10=\"\",\"-\",IF(OR(RfD.dm.cn.10=\"-\",RfD.dm.cn.10=\"\",RfD.dm.cn.10=0,ABSd.10=0,ABSd.10=\"\"),\"-\",((THI*RfD.dm.cn.10)/(ABSd.10*IF.Solo.Con.Der.a.nc)))),\"-\")","v":"-"},{"$f":"IF(OR(J30=\"-\",J30=\"-\"),0,Cf.SoloSup.10/J30)","v":0},{"$f":"IF(CENÁRIOS!$H$14=TRUE,IF(PM.10=\"\",\"-\",IF(OR(RfD.ig.cn.10=\"-\",RfD.ig.cn.10=\"\",RfD.ig.cn.10=0),\"-\",((THI*RfD.ig.cn.10)/(IF.Solo.Ing.a.nc*Biodisp.10)))),\"-\")","v":"-"},{"$f":"IF(OR(L30=\"-\",L30=\"-\"),0,Cf.SoloSup.10/L30)","v":0},{"$f":"IF(CENÁRIOS!$H$15=TRUE,IF(OR(PM.10=\"\",Tipo.10<>\"METAL\"),\"-\",IF(OR(RfD.ig.cn.10=\"-\",RfD.ig.cn.10=\"\",RfD.ig.cn.10=0,cdpx.10=\"-\",BCF.10=\"-\"),\"-\",((THI*RfD.ig.cn.10)/((IF.Solo.Ing.Veg.nc.i)*(IRL.i*((BCFF.10+cdpx.10)/frbveg)+(IRR.i*(BCF.10/frkveg))))))),\"-\")","v":"-"},{"$f":"IF(OR(N30=\"-\",N30=\"-\"),0,Cf.SoloSup.10/N30)","v":0},{"$f":"IF(CENÁRIOS!$H$15=TRUE,IF(OR(PM.10=\"\",Tipo.10=\"METAL\"),\"-\",IF(OR(RfD.ig.cn.10=\"-\",RfD.ig.cn.10=\"\",RfD.ig.cn.10=0,cdpx.10=\"-\",pw.10=\"-\",BCFR.10=\"-\",a.10=\"-\"),\"-\",((THI*RfD.ig.cn.10)/((IF.Solo.Ing.Veg.nc.i)*(IRL.i*(((ps*pw.10*tscf.10*Qveg)/(Vwveg*pplantveg*a.10*Vlveg))+cdpx.10*fdwsveg)+(IRR.i*BCFR.10)))))),\"-\")","v":"-"},{"$f":"IF(OR(P30=\"-\",P30=\"-\"),0,Cf.SoloSup.10/P30)","v":0},{"$f":"IF(CENÁRIOS!$H$16=TRUE,IF(PM.10=\"\",\"-\",IF(OR(RfD.in.cn.10=\"-\",RfD.in.cn.10=\"\",RfD.in.cn.10=0,FT!O17=\"-\"),\"-\",((THI*RfD.in.cn.10)/(FT!O17*IF.SoloSub.Ina.Abe.a.nc)))),\"-\")","v":"-"},{"$f":"IF(OR(R30=\"-\",R30=\"-\"),0,Cf.SoloSub.10/R30)","v":0},{"$f":"IF(CENÁRIOS!$H$17=TRUE,IF(PM.10=\"\",\"-\",IF(OR(RfD.in.cn.10=\"-\",RfD.in.cn.10=\"\",RfD.in.cn.10=0,FT!P17=\"-\"),\"-\",((THI*RfD.in.cn.10)/(FT!P17*IF.SoloSub.Ina.Fec.a.nc)))),\"-\")","v":"-"},{"$f":"IF(OR(T30=\"-\",T30=\"-\"),0,Cf.SoloSub.10/T30)","v":0},{"$f":"IF(CENÁRIOS!$H$18=TRUE,IF(PM.10=\"\",\"-\",IF(OR(RfD.ig.cn.10=\"-\",RfD.ig.cn.10=\"\",RfD.ig.cn.10=0,FT!Q17=\"-\"),\"-\",((THI*RfD.ig.cn.10)/(FT!Q17*IF.SoloSub.Lix.AS.a.nc))*10^3)),\"-\")","v":"-"},{"$f":"IF(OR(V30=\"-\",V30=\"-\"),0,Cf.SoloSub.10/V30)","v":0},{"$f":"IF(CENÁRIOS!$I$18=TRUE,IF(PM.10=\"\",\"-\",IF(OR(RfD.ig.cn.10=\"-\",RfD.ig.cn.10=\"\",RfD.ig.cn.10=0,FT!Q17=\"-\",DAF.10=\"-\"),\"-\",((THI*RfD.ig.cn.10)/((FT!Q17*DAF.10)*IF.SoloSub.Lix.AS.a.nc))*10^3)),\"-\")","v":"-"},{"$f":"IF(OR(X30=\"-\",X30=\"-\"),0,Cf.SoloSub.10/X30)","v":0}]
[null,11,{"$f":"SQI!D19","v":0},{"$f":"SQI!C19","v":""},"C",{"$f":"IF(CENÁRIOS!$H$11=TRUE,IF(PM.11=\"\",\"-\",IF(OR(Sf.in.11=\"-\",Sf.in.11=\"\",Sf.in.11=0,FT!M18=\"-\"),\"-\",IF(ISERROR(TR/(FT!M18*IF.Solo.Ina.Vap.a.c*Sf.in.11)),\"-\",(TR/(FT!M18*IF.Solo.Ina.Vap.a.c*Sf.in.11))))),\"-\")","v":"-"},{"$f":"IF(OR(F31=\"-\",F31=\"-\"),0,Cf.SoloSup.11/F31)","v":0},{"$f":"IF(CENÁRIOS!$H$12=TRUE,IF(PM.11=\"\",\"-\",IF(OR(Sf.in.11=\"-\",Sf.in.11=\"\",Sf.in.11=0,FT!N18=\"-\"),\"-\",(TR/(FT!N18*IF.Solo.Ina.Par.a.c*Sf.in.11)))),\"-\")","v":"-"},{"$f":"IF(OR(H31=\"-\",H31=\"-\"),0,Cf.SoloSup.11/H31)","v":0},{"$f":"IF(CENÁRIOS!$H$13=TRUE,IF(PM.11=\"\",\"-\",IF(OR(Sf.dm.11=\"-\",Sf.dm.11=\"\",Sf.dm.11=0,ABSd.11=0,ABSd.11=\"\"),\"-\",(TR/(ABSd.11*IF.Solo.Con.Der.a.c*Sf.dm.11)))),\"-\")","v":"-"},{"$f":"IF(OR(J31=\"-\",J31=\"-\"),0,Cf.SoloSup.11/J31)","v":0},{"$f":"IF(CENÁRIOS!$H$14=TRUE,IF(PM.11=\"\",\"-\",IF(OR(Sf.ig.11=\"-\",Sf.ig.11=\"\",Sf.ig.11=0),\"-\",(TR/(IF.Solo.Ing.a.c*Biodisp.11*Sf.ig.11)))),\"-\")","v":"-"},{"$f":"IF(OR(L31=\"-\",L31=\"-\"),0,Cf.SoloSup.11/L31)","v":0},{"$f":"IF(CENÁRIOS!$H$15=TRUE,IF(OR(PM.11=\"\",Tipo.11<>\"METAL\"),\"-\",IF(OR(Sf.ig.11=\"-\",Sf.ig.11=\"\",Sf.ig.11=0,cdpx.11=\"-\",BCF.11=\"-\"),\"-\",(TR/((IF.Solo.Ing.Veg.c.i*Sf.ig.11)*(IRL.i*((BCFF.11+cdpx.11)/frbveg)+(IRR.i*(BCF.11/frkveg))))))),\"-\")","v":"-"},{"$f":"IF(OR(N31=\"-\",N31=\"-\"),0,Cf.SoloSup.11/N31)","v":0},{"$f":"IF(CENÁRIOS!$H$15=TRUE,IF(OR(PM.11=\"\",Tipo.11=\"METAL\"),\"-\",IF(OR(Sf.ig.11=\"-\",Sf.ig.11=\"\",Sf.ig.11=0,cdpx.11=\"-\",pw.11=\"-\",BCFR.11=\"-\",a.11=\"-\"),\"-\",(TR/((IF.Solo.Ing.Veg.c.i*Sf.ig.11)*(IRL.i*(((ps*pw.11*tscf.11*Qveg)/(Vwveg*pplantveg*a.11*Vlveg))+cdpx.11*fdwsveg)+(IRR.i*BCFR.11)))))),\"-\")","v":"-"},{"$f":"IF(OR(P31=\"-\",P31=\"-\"),0,Cf.SoloSup.11/P31)","v":0},{"$f":"IF(CENÁRIOS!$H$16=TRUE,IF(PM.11=\"\",\"-\",IF(OR(Sf.in.11=\"-\",Sf.in.11=\"\",Sf.in.11=0,Sf.in.11=0,FT!O18=\"-\"),\"-\",IF(ISERROR(TR/(FT!O18*IF.SoloSub.Ina.Abe.a.c*Sf.in.11)),\"-\",(TR/(FT!O18*IF.SoloSub.Ina.Abe.a.c*Sf.in.11))))),\"-\")","v":"-"},{"$f":"IF(OR(R31=\"-\",R31=\"-\"),0,Cf.SoloSub.11/R31)","v":0},{"$f":"IF(CENÁRIOS!$H$17=TRUE,IF(PM.11=\"\",\"-\",IF(OR(Sf.in.11=\"-\",Sf.in.11=\"\",Sf.in.11=0,FT!P18=\"-\"),\"-\",IF(ISERROR(TR/(FT!P18*IF.SoloSub.Ina.Fec.a.c*Sf.in.11)),\"-\",(TR/(FT!P18*IF.SoloSub.Ina.Fec.a.c*Sf.in.11))))),\"-\")","v":"-"},{"$f":"IF(OR(T31=\"-\",T31=\"-\"),0,Cf.SoloSub.11/T31)","v":0},{"$f":"IF(CENÁRIOS!$H$18=TRUE,IF(PM.11=\"\",\"-\",IF(OR(Sf.ig.11=\"-\",Sf.ig.11=\"\",Sf.ig.11=0,FT!Q18=\"-\"),\"-\",(TR/(FT!Q18*IF.SoloSub.Lix.AS.a.c*Sf.ig.11))*10^3)),\"-\")","v":"-"},{"$f":"IF(OR(V31=\"-\",V31=\"-\"),0,Cf.SoloSub.11/V31)","v":0},{"$f":"IF(CENÁRIOS!$I$18=TRUE,IF(PM.11=\"\",\"-\",IF(OR(Sf.ig.11=\"-\",Sf.ig.11=\"\",Sf.ig.11=0,FT!Q18=\"-\",DAF.11=\"-\"),\"-\",(TR/((FT!Q18*DAF.11)*IF.SoloSub.Lix.AS.a.c*Sf.ig.11))*10^3)),\"-\")","v":"-"},{"$f":"IF(OR(X31=\"-\",X31=\"-\"),0,Cf.SoloSub.11/X31)","v":0}]
[null,null,null,null,"NC",{"$f":"IF(CENÁRIOS!$H$11=TRUE,IF(PM.11=\"\",\"-\",IF(OR(RfD.in.cn.11=\"-\",RfD.in.cn.11=\"\",RfD.in.cn.11=0,FT!M18=\"-\"),\"-\",((THI*RfD.in.cn.11)/(FT!M18*IF.Solo.Ina.Vap.a.nc)))),\"-\")","v":"-"},{"$f":"IF(OR(F32=\"-\",F32=\"-\"),0,Cf.SoloSup.11/F32)","v":0},{"$f":"IF(CENÁRIOS!$H$12=TRUE,IF(PM.11=\"\",\"-\",IF(OR(RfD.in.cn.11=\"-\",RfD.in.cn.11=\"\",RfD.in.cn.11=0,FT!N18=\"-\"),\"-\",((THI*RfD.in.cn.11)/(FT!N18*IF.Solo.Ina.Par.a.nc)))),\"-\")","v":"-"},{"$f":"IF(OR(H32=\"-\",H32=\"-\"),0,Cf.SoloSup.11/H32)","v":0},{"$f":"IF(CENÁRIOS!$H$13=TRUE,IF(PM.11=\"\",\"-\",IF(OR(RfD.dm.cn.11=\"-\",RfD.dm.cn.11=\"\",RfD.dm.cn.11=0,ABSd.11=0,ABSd.11=\"\"),\"-\",((THI*RfD.dm.cn.11)/(ABSd.11*IF.Solo.Con.Der.a.nc)))),\"-\")","v":"-"},{"$f":"IF(OR(J32=\"-\",J32=\"-\"),0,Cf.SoloSup.11/J32)","v":0},{"$f":"IF(CENÁRIOS!$H$14=TRUE,IF(PM.11=\"\",\"-\",IF(OR(RfD.ig.cn.11=\"-\",RfD.ig.cn.11=\"\",RfD.ig.cn.11=0),\"-\",((THI*RfD.ig.cn.11)/(IF.Solo.Ing.a.nc*Biodisp.11)))),\"-\")","v":"-"},{"$f":"IF(OR(L32=\"-\",L32=\"-\"),0,Cf.SoloSup.11/L32)","v":0},{"$f":"IF(CENÁRIOS!$H$15=TRUE,IF(OR(PM.11=\"\",Tipo.11<>\"METAL\"),\"-\",IF(OR(RfD.ig.cn.11=\"-\",RfD.ig.cn.11=\"\",RfD.ig.cn.11=0,cdpx.11=\"-\",BCF.11=\"-\"),\"-\",((THI*RfD.ig.cn.11)/((IF.Solo.Ing.Veg.nc.i)*(IRL.i*((BCFF.11+cdpx.11)/frbveg)+(IRR.i*(BCF.11/frkveg))))))),\"-\")","v":"-"},{"$f":"IF(OR(N32=\"-\",N32=\"-\"),0,Cf.SoloSup.11/N32)","v":0},{"$f":"IF(CENÁRIOS!$H$15=TRUE,IF(OR(PM.11=\"\",Tipo.11=\"METAL\"),\"-\",IF(OR(RfD.ig.cn.11=\"-\",RfD.ig.cn.11=\"\",RfD.ig.cn.11=0,cdpx.11=\"-\",pw.11=\"-\",BCFR.11=\"-\",a.11=\"-\"),\"-\",((THI*RfD.ig.cn.11)/((IF.Solo.Ing.Veg.nc.i)*(IRL.i*(((ps*pw.11*tscf.11*Qveg)/(Vwveg*pplantveg*a.11*Vlveg))+cdpx.11*fdwsveg)+(IRR.i*BCFR.11)))))),\"-\")","v":"-"},{"$f":"IF(OR(P32=\"-\",P32=\"-\"),0,Cf.SoloSup.11/P32)","v":0},{"$f":"IF(CENÁRIOS!$H$16=TRUE,IF(PM.11=\"\",\"-\",IF(OR(RfD.in.cn.11=\"-\",RfD.in.cn.11=\"\",RfD.in.cn.11=0,FT!O18=\"-\"),\"-\",((THI*RfD.in.cn.11)/(FT!O18*IF.SoloSub.Ina.Abe.a.nc)))),\"-\")","v":"-"},{"$f":"IF(OR(R32=\"-\",R32=\"-\"),0,Cf.SoloSub.11/R32)","v":0},{"$f":"IF(CENÁRIOS!$H$17=TRUE,IF(PM.11=\"\",\"-\",IF(OR(RfD.in.cn.11=\"-\",RfD.in.cn.11=\"\",RfD.in.cn.11=0,FT!P18=\"-\"),\"-\",((THI*RfD.in.cn.11)/(FT!P18*IF.SoloSub.Ina.Fec.a.nc)))),\"-\")","v":"-"},{"$f":"IF(OR(T32=\"-\",T32=\"-\"),0,Cf.SoloSub.11/T32)","v":0},{"$f":"IF(CENÁRIOS!$H$18=TRUE,IF(PM.11=\"\",\"-\",IF(OR(RfD.ig.cn.11=\"-\",RfD.ig.cn.11=\"\",RfD.ig.cn.11=0,FT!Q18=\"-\"),\"-\",((THI*RfD.ig.cn.11)/(FT!Q18*IF.SoloSub.Lix.AS.a.nc))*10^3)),\"-\")","v":"-"},{"$f":"IF(OR(V32=\"-\",V32=\"-\"),0,Cf.SoloSub.11/V32)","v":0},{"$f":"IF(CENÁRIOS!$I$18=TRUE,IF(PM.11=\"\",\"-\",IF(OR(RfD.ig.cn.11=\"-\",RfD.ig.cn.11=\"\",RfD.ig.cn.11=0,FT!Q18=\"-\",DAF.11=\"-\"),\"-\",((THI*RfD.ig.cn.11)/((FT!Q18*DAF.11)*IF.SoloSub.Lix.AS.a.nc))*10^3)),\"-\")","v":"-"},{"$f":"IF(OR(X32=\"-\",X32=\"-\"),0,Cf.SoloSub.11/X32)","v":0}]
[null,12,{"$f":"SQI!D20","v":0},{"$f":"SQI!C20","v":""},"C",{"$f":"IF(CENÁRIOS!$H$11=TRUE,IF(PM.12=\"\",\"-\",IF(OR(Sf.in.12=\"-\",Sf.in.12=\"\",Sf.in.12=0,FT!M19=\"-\"),\"-\",IF(ISERROR(TR/(FT!M19*IF.Solo.Ina.Vap.a.c*Sf.in.12)),\"-\",(TR/(FT!M19*IF.Solo.Ina.Vap.a.c*Sf.in.12))))),\"-\")","v":"-"},{"$f":"IF(OR(F33=\"-\",F33=\"-\"),0,Cf.SoloSup.12/F33)","v":0},{"$f":"IF(CENÁRIOS!$H$12=TRUE,IF(PM.12=\"\",\"-\",IF(OR(Sf.in.12=\"-\",Sf.in.12=\"\",Sf.in.12=0,FT!N19=\"-\"),\"-\",(TR/(FT!N19*IF.Solo.Ina.Par.a.c*Sf.in.12)))),\"-\")","v":"-"},{"$f":"IF(OR(H33=\"-\",H33=\"-\"),0,Cf.SoloSup.12/H33)","v":0},{"$f":"IF(CENÁRIOS!$H$13=TRUE,IF(PM.12=\"\",\"-\",IF(OR(Sf.dm.12=\"-\",Sf.dm.12=\"\",Sf.dm.12=0,ABSd.12=0,ABSd.12=\"\"),\"-\",(TR/(ABSd.12*IF.Solo.Con.Der.a.c*Sf.dm.12)))),\"-\")","v":"-"},{"$f":"IF(OR(J33=\"-\",J33=\"-\"),0,Cf.SoloSup.12/J33)","v":0},{"$f":"IF(CENÁRIOS!$H$14=TRUE,IF(PM.12=\"\",\"-\",IF(OR(Sf.ig.12=\"-\",Sf.ig.12=\"\",Sf.ig.12=0),\"-\",(TR/(IF.Solo.Ing.a.c*Biodisp.12*Sf.ig.12)))),\"-\")","v":"-"},{"$f":"IF(OR(L33=\"-\",L33=\"-\"),0,Cf.SoloSup.12/L33)","v":0},{"$f":"IF(CENÁRIOS!$H$15=TRUE,IF(OR(PM.12=\"\",Tipo.12<>\"METAL\"),\"-\",IF(OR(Sf.ig.12=\"-\",Sf.ig.12=\"\",Sf.ig.12=0,cdpx.12=\"-\",BCF.12=\"-\"),\"-\",(TR/((IF.Solo.Ing.Veg.c.i*Sf.ig.12)*(IRL.i*((BCFF.12+cdpx.12)/frbveg)+(IRR.i*(BCF.12/frkveg))))))),\"-\")","v":"-"},{"$f":"IF(OR(N33=\"-\",N33=\"-\"),0,Cf.SoloSup.12/N33)","v":0},{"$f":"IF(CENÁRIOS!$H$15=TRUE,IF(OR(PM.12=\"\",Tipo.12=\"METAL\"),\"-\",IF(OR(Sf.ig.12=\"-\",Sf.ig.12=\"\",Sf.ig.12=0,cdpx.12=\"-\",pw.12=\"-\",BCFR.12=\"-\",a.12=\"-\"),\"-\",(TR/((IF.Solo.Ing.Veg.c.i*Sf.ig.12)*(IRL.i*(((ps*pw.12*tscf.12*Qveg)/(Vwveg*pplantveg*a.12*Vlveg))+cdpx.12*fdwsveg)+(IRR.i*BCFR.12)))))),\"-\")","v":"-"},{"$f":"IF(OR(P33=\"-\",P33=\"-\"),0,Cf.SoloSup.12/P33)","v":0},{"$f":"IF(CENÁRIOS!$H$16=TRUE,IF(PM.12=\"\",\"-\",IF(OR(Sf.in.12=\"-\",Sf.in.12=\"\",Sf.in.12=0,Sf.in.12=0,FT!O19=\"-\"),\"-\",IF(ISERROR(TR/(FT!O19*IF.SoloSub.Ina.Abe.a.c*Sf.in.12)),\"-\",(TR/(FT!O19*IF.SoloSub.Ina.Abe.a.c*Sf.in.12))))),\"-\")","v":"-"},{"$f":"IF(OR(R33=\"-\",R33=\"-\"),0,Cf.SoloSub.12/R33)","v":0},{"$f":"IF(CENÁRIOS!$H$17=TRUE,IF(PM.12=\"\",\"-\",IF(OR(Sf.in.12=\"-\",Sf.in.12=\"\",Sf.in.12=0,FT!P19=\"-\"),\"-\",IF(ISERROR(TR/(FT!P19*IF.SoloSub.Ina.Fec.a.c*Sf.in.12)),\"-\",(TR/(FT!P19*IF.SoloSub.Ina.Fec.a.c*Sf.in.12))))),\"-\")","v":"-"},{"$f":"IF(OR(T33=\"-\",T33=\"-\"),0,Cf.SoloSub.12/T33)","v":0},{"$f":"IF(CENÁRIOS!$H$18=TRUE,IF(PM.12=\"\",\"-\",IF(OR(Sf.ig.12=\"-\",Sf.ig.12=\"\",Sf.ig.12=0,FT!Q19=\"-\"),\"-\",(TR/(FT!Q19*IF.SoloSub.Lix.AS.a.c*Sf.ig.12))*10^3)),\"-\")","v":"-"},{"$f":"IF(OR(V33=\"-\",V33=\"-\"),0,Cf.SoloSub.12/V33)","v":0},{"$f":"IF(CENÁRIOS!$I$18=TRUE,IF(PM.12=\"\",\"-\",IF(OR(Sf.ig.12=\"-\",Sf.ig.12=\"\",Sf.ig.12=0,FT!Q19=\"-\",DAF.12=\"-\"),\"-\",(TR/((FT!Q19*DAF.12)*IF.SoloSub.Lix.AS.a.c*Sf.ig.12))*10^3)),\"-\")","v":"-"},{"$f":"IF(OR(X33=\"-\",X33=\"-\"),0,Cf.SoloSub.12/X33)","v":0}]
[null,null,null,null,"NC",{"$f":"IF(CENÁRIOS!$H$11=TRUE,IF(PM.12=\"\",\"-\",IF(OR(RfD.in.cn.12=\"-\",RfD.in.cn.12=\"\",RfD.in.cn.12=0,FT!M19=\"-\"),\"-\",((THI*RfD.in.cn.12)/(FT!M19*IF.Solo.Ina.Vap.a.nc)))),\"-\")","v":"-"},{"$f":"IF(OR(F34=\"-\",F34=\"-\"),0,Cf.SoloSup.12/F34)","v":0},{"$f":"IF(CENÁRIOS!$H$12=TRUE,IF(PM.12=\"\",\"-\",IF(OR(RfD.in.cn.12=\"-\",RfD.in.cn.12=\"\",RfD.in.cn.12=0,FT!N19=\"-\"),\"-\",((THI*RfD.in.cn.12)/(FT!N19*IF.Solo.Ina.Par.a.nc)))),\"-\")","v":"-"},{"$f":"IF(OR(H34=\"-\",H34=\"-\"),0,Cf.SoloSup.12/H34)","v":0},{"$f":"IF(CENÁRIOS!$H$13=TRUE,IF(PM.12=\"\",\"-\",IF(OR(RfD.dm.cn.12=\"-\",RfD.dm.cn.12=\"\",RfD.dm.cn.12=0,ABSd.12=0,ABSd.12=\"\"),\"-\",((THI*RfD.dm.cn.12)/(ABSd.12*IF.Solo.Con.Der.a.nc)))),\"-\")","v":"-"},{"$f":"IF(OR(J34=\"-\",J34=\"-\"),0,Cf.SoloSup.12/J34)","v":0},{"$f":"IF(CENÁRIOS!$H$14=TRUE,IF(PM.12=\"\",\"-\",IF(OR(RfD.ig.cn.12=\"-\",RfD.ig.cn.12=\"\",RfD.ig.cn.12=0),\"-\",((THI*RfD.ig.cn.12)/(IF.Solo.Ing.a.nc*Biodisp.12)))),\"-\")","v":"-"},{"$f":"IF(OR(L34=\"-\",L34=\"-\"),0,Cf.SoloSup.12/L34)","v":0},{"$f":"IF(CENÁRIOS!$H$15=TRUE,IF(OR(PM.12=\"\",Tipo.12<>\"METAL\"),\"-\",IF(OR(RfD.ig.cn.12=\"-\",RfD.ig.cn.12=\"\",RfD.ig.cn.12=0,cdpx.12=\"-\",BCF.12=\"-\"),\"-\",((THI*RfD.ig.cn.12)/((IF.Solo.Ing.Veg.nc.i)*(IRL.i*((BCFF.12+cdpx.12)/frbveg)+(IRR.i*(BCF.12/frkveg))))))),\"-\")","v":"-"},{"$f":"IF(OR(N34=\"-\",N34=\"-\"),0,Cf.SoloSup.12/N34)","v":0},{"$f":"IF(CENÁRIOS!$H$15=TRUE,IF(OR(PM.12=\"\",Tipo.12=\"METAL\"),\"-\",IF(OR(RfD.ig.cn.12=\"-\",RfD.ig.cn.12=\"\",RfD.ig.cn.12=0,cdpx.12=\"-\",pw.12=\"-\",BCFR.12=\"-\",a.12=\"-\"),\"-\",((THI*RfD.ig.cn.12)/((IF.Solo.Ing.Veg.nc.i)*(IRL.i*(((ps*pw.12*tscf.12*Qveg)/(Vwveg*pplantveg*a.12*Vlveg))+cdpx.12*fdwsveg)+(IRR.i*BCFR.12)))))),\"-\")","v":"-"},{"$f":"IF(OR(P34=\"-\",P34=\"-\"),0,Cf.SoloSup.12/P34)","v":0},{"$f":"IF(CENÁRIOS!$H$16=TRUE,IF(PM.12=\"\",\"-\",IF(OR(RfD.in.cn.12=\"-\",RfD.in.cn.12=\"\",RfD.in.cn.12=0,FT!O19=\"-\"),\"-\",((THI*RfD.in.cn.12)/(FT!O19*IF.SoloSub.Ina.Abe.a.nc)))),\"-\")","v":"-"},{"$f":"IF(OR(R34=\"-\",R34=\"-\"),0,Cf.SoloSub.12/R34)","v":0},{"$f":"IF(CENÁRIOS!$H$17=TRUE,IF(PM.12=\"\",\"-\",IF(OR(RfD.in.cn.12=\"-\",RfD.in.cn.12=\"\",RfD.in.cn.12=0,FT!P19=\"-\"),\"-\",((THI*RfD.in.cn.12)/(FT!P19*IF.SoloSub.Ina.Fec.a.nc)))),\"-\")","v":"-"},{"$f":"IF(OR(T34=\"-\",T34=\"-\"),0,Cf.SoloSub.12/T34)","v":0},{"$f":"IF(CENÁRIOS!$H$18=TRUE,IF(PM.12=\"\",\"-\",IF(OR(RfD.ig.cn.12=\"-\",RfD.ig.cn.12=\"\",RfD.ig.cn.12=0,FT!Q19=\"-\"),\"-\",((THI*RfD.ig.cn.12)/(FT!Q19*IF.SoloSub.Lix.AS.a.nc))*10^3)),\"-\")","v":"-"},{"$f":"IF(OR(V34=\"-\",V34=\"-\"),0,Cf.SoloSub.12/V34)","v":0},{"$f":"IF(CENÁRIOS!$I$18=TRUE,IF(PM.12=\"\",\"-\",IF(OR(RfD.ig.cn.12=\"-\",RfD.ig.cn.12=\"\",RfD.ig.cn.12=0,FT!Q19=\"-\",DAF.12=\"-\"),\"-\",((THI*RfD.ig.cn.12)/((FT!Q19*DAF.12)*IF.SoloSub.Lix.AS.a.nc))*10^3)),\"-\")","v":"-"},{"$f":"IF(OR(X34=\"-\",X34=\"-\"),0,Cf.SoloSub.12/X34)","v":0}]
[null,13,{"$f":"SQI!D21","v":0},{"$f":"SQI!C21","v":""},"C",{"$f":"IF(CENÁRIOS!$H$11=TRUE,IF(PM.13=\"\",\"-\",IF(OR(Sf.in.13=\"-\",Sf.in.13=\"\",Sf.in.13=0,FT!M20=\"-\"),\"-\",IF(ISERROR(TR/(FT!M20*IF.Solo.Ina.Vap.a.c*Sf.in.13)),\"-\",(TR/(FT!M20*IF.Solo.Ina.Vap.a.c*Sf.in.13))))),\"-\")","v":"-"},{"$f":"IF(OR(F35=\"-\",F35=\"-\"),0,Cf.SoloSup.13/F35)","v":0},{"$f":"IF(CENÁRIOS!$H$12=TRUE,IF(PM.13=\"\",\"-\",IF(OR(Sf.in.13=\"-\",Sf.in.13=\"\",Sf.in.13=0,FT!N20=\"-\"),\"-\",(TR/(FT!N20*IF.Solo.Ina.Par.a.c*Sf.in.13)))),\"-\")","v":"-"},{"$f":"IF(OR(H35=\"-\",H35=\"-\"),0,Cf.SoloSup.13/H35)","v":0},{"$f":"IF(CENÁRIOS!$H$13=TRUE,IF(PM.13=\"\",\"-\",IF(OR(Sf.dm.13=\"-\",Sf.dm.13=\"\",Sf.dm.13=0,ABSd.13=0,ABSd.13=\"\"),\"-\",(TR/(ABSd.13*IF.Solo.Con.Der.a.c*Sf.dm.13)))),\"-\")","v":"-"},{"$f":"IF(OR(J35=\"-\",J35=\"-\"),0,Cf.SoloSup.13/J35)","v":0},{"$f":"IF(CENÁRIOS!$H$14=TRUE,IF(PM.13=\"\",\"-\",IF(OR(Sf.ig.13=\"-\",Sf.ig.13=\"\",Sf.ig.13=0),\"-\",(TR/(IF.Solo.Ing.a.c*Biodisp.13*Sf.ig.13)))),\"-\")","v":"-"},{"$f":"IF(OR(L35=\"-\",L35=\"-\"),0,Cf.SoloSup.13/L35)","v":0},{"$f":"IF(CENÁRIOS!$H$15=TRUE,IF(OR(PM.13=\"\",Tipo.13<>\"METAL\"),\"-\",IF(OR(Sf.ig.13=\"-\",Sf.ig.13=\"\",Sf.ig.13=0,cdpx.13=\"-\",BCF.13=\"-\"),\"-\",(TR/((IF.Solo.Ing.Veg.c.i*Sf.ig.13)*(IRL.i*((BCFF.13+cdpx.13)/frbveg)+(IRR.i*(BCF.13/frkveg))))))),\"-\")","v":"-"},{"$f":"IF(OR(N35=\"-\",N35=\"-\"),0,Cf.SoloSup.13/N35)","v":0},{"$f":"IF(CENÁRIOS!$H$15=TRUE,IF(OR(PM.13=\"\",Tipo.13=\"METAL\"),\"-\",IF(OR(Sf.ig.13=\"-\",Sf.ig.13=\"\",Sf.ig.13=0,cdpx.13=\"-\",pw.13=\"-\",BCFR.13=\"-\",a.13=\"-\"),\"-\",(TR/((IF.Solo.Ing.Veg.c.i*Sf.ig.13)*(IRL.i*(((ps*pw.13*tscf.13*Qveg)/(Vwveg*pplantveg*a.13*Vlveg))+cdpx.13*fdwsveg)+(IRR.i*BCFR.13)))))),\"-\")","v":"-"},{"$f":"IF(OR(P35=\"-\",P35=\"-\"),0,Cf.SoloSup.13/P35)","v":0},{"$f":"IF(CENÁRIOS!$H$16=TRUE,IF(PM.13=\"\",\"-\",IF(OR(Sf.in.13=\"-\",Sf.in.13=\"\",Sf.in.13=0,Sf.in.13=0,FT!O20=\"-\"),\"-\",IF(ISERROR(TR/(FT!O20*IF.SoloSub.Ina.Abe.a.c*Sf.in.13)),\"-\",(TR/(FT!O20*IF.SoloSub.Ina.Abe.a.c*Sf.in.13))))),\"-\")","v":"-"},{"$f":"IF(OR(R35=\"-\",R35=\"-\"),0,Cf.SoloSub.13/R35)","v":0},{"$f":"IF(CENÁRIOS!$H$17=TRUE,IF(PM.13=\"\",\"-\",IF(OR(Sf.in.13=\"-\",Sf.in.13=\"\",Sf.in.13=0,FT!P20=\"-\"),\"-\",IF(ISERROR(TR/(FT!P20*IF.SoloSub.Ina.Fec.a.c*Sf.in.13)),\"-\",(TR/(FT!P20*IF.SoloSub.Ina.Fec.a.c*Sf.in.13))))),\"-\")","v":"-"},{"$f":"IF(OR(T35=\"-\",T35=\"-\"),0,Cf.SoloSub.13/T35)","v":0},{"$f":"IF(CENÁRIOS!$H$18=TRUE,IF(PM.13=\"\",\"-\",IF(OR(Sf.ig.13=\"-\",Sf.ig.13=\"\",Sf.ig.13=0,FT!Q20=\"-\"),\"-\",(TR/(FT!Q20*IF.SoloSub.Lix.AS.a.c*Sf.ig.13))*10^3)),\"-\")","v":"-"},{"$f":"IF(OR(V35=\"-\",V35=\"-\"),0,Cf.SoloSub.13/V35)","v":0},{"$f":"IF(CENÁRIOS!$I$18=TRUE,IF(PM.13=\"\",\"-\",IF(OR(Sf.ig.13=\"-\",Sf.ig.13=\"\",Sf.ig.13=0,FT!Q20=\"-\",DAF.13=\"-\"),\"-\",(TR/((FT!Q20*DAF.13)*IF.SoloSub.Lix.AS.a.c*Sf.ig.13))*10^3)),\"-\")","v":"-"},{"$f":"IF(OR(X35=\"-\",X35=\"-\"),0,Cf.SoloSub.13/X35)","v":0}]
[null,null,null,null,"NC",{"$f":"IF(CENÁRIOS!$H$11=TRUE,IF(PM.13=\"\",\"-\",IF(OR(RfD.in.cn.13=\"-\",RfD.in.cn.13=\"\",RfD.in.cn.13=0,FT!M20=\"-\"),\"-\",((THI*RfD.in.cn.13)/(FT!M20*IF.Solo.Ina.Vap.a.nc)))),\"-\")","v":"-"},{"$f":"IF(OR(F36=\"-\",F36=\"-\"),0,Cf.SoloSup.13/F36)","v":0},{"$f":"IF(CENÁRIOS!$H$12=TRUE,IF(PM.13=\"\",\"-\",IF(OR(RfD.in.cn.13=\"-\",RfD.in.cn.13=\"\",RfD.in.cn.13=0,FT!N20=\"-\"),\"-\",((THI*RfD.in.cn.13)/(FT!N20*IF.Solo.Ina.Par.a.nc)))),\"-\")","v":"-"},{"$f":"IF(OR(H36=\"-\",H36=\"-\"),0,Cf.SoloSup.13/H36)","v":0},{"$f":"IF(CENÁRIOS!$H$13=TRUE,IF(PM.13=\"\",\"-\",IF(OR(RfD.dm.cn.13=\"-\",RfD.dm.cn.13=\"\",RfD.dm.cn.13=0,ABSd.13=0,ABSd.13=\"\"),\"-\",((THI*RfD.dm.cn.13)/(ABSd.13*IF.Solo.Con.Der.a.nc)))),\"-\")","v":"-"},{"$f":"IF(OR(J36=\"-\",J36=\"-\"),0,Cf.SoloSup.13/J36)","v":0},{"$f":"IF(CENÁRIOS!$H$14=TRUE,IF(PM.13=\"\",\"-\",IF(OR(RfD.ig.cn.13=\"-\",RfD.ig.cn.13=\"\",RfD.ig.cn.13=0),\"-\",((THI*RfD.ig.cn.13)/(IF.Solo.Ing.a.nc*Biodisp.13)))),\"-\")","v":"-"},{"$f":"IF(OR(L36=\"-\",L36=\"-\"),0,Cf.SoloSup.13/L36)","v":0},{"$f":"IF(CENÁRIOS!$H$15=TRUE,IF(OR(PM.13=\"\",Tipo.13<>\"METAL\"),\"-\",IF(OR(RfD.ig.cn.13=\"-\",RfD.ig.cn.13=\"\",RfD.ig.cn.13=0,cdpx.13=\"-\",BCF.13=\"-\"),\"-\",((THI*RfD.ig.cn.13)/((IF.Solo.Ing.Veg.nc.i)*(IRL.i*((BCFF.13+cdpx.13)/frbveg)+(IRR.i*(BCF.13/frkveg))))))),\"-\")","v":"-"},{"$f":"IF(OR(N36=\"-\",N36=\"-\"),0,Cf.SoloSup.13/N36)","v":0},{"$f":"IF(CENÁRIOS!$H$15=TRUE,IF(OR(PM.13=\"\",Tipo.13=\"METAL\"),\"-\",IF(OR(RfD.ig.cn.13=\"-\",RfD.ig.cn.13=\"\",RfD.ig.cn.13=0,cdpx.13=\"-\",pw.13=\"-\",BCFR.13=\"-\",a.13=\"-\"),\"-\",((THI*RfD.ig.cn.13)/((IF.Solo.Ing.Veg.nc.i)*(IRL.i*(((ps*pw.13*tscf.13*Qveg)/(Vwveg*pplantveg*a.13*Vlveg))+cdpx.13*fdwsveg)+(IRR.i*BCFR.13)))))),\"-\")","v":"-"},{"$f":"IF(OR(P36=\"-\",P36=\"-\"),0,Cf.SoloSup.13/P36)","v":0},{"$f":"IF(CENÁRIOS!$H$16=TRUE,IF(PM.13=\"\",\"-\",IF(OR(RfD.in.cn.13=\"-\",RfD.in.cn.13=\"\",RfD.in.cn.13=0,FT!O20=\"-\"),\"-\",((THI*RfD.in.cn.13)/(FT!O20*IF.SoloSub.Ina.Abe.a.nc)))),\"-\")","v":"-"},{"$f":"IF(OR(R36=\"-\",R36=\"-\"),0,Cf.SoloSub.13/R36)","v":0},{"$f":"IF(CENÁRIOS!$H$17=TRUE,IF(PM.13=\"\",\"-\",IF(OR(RfD.in.cn.13=\"-\",RfD.in.cn.13=\"\",RfD.in.cn.13=0,FT!P20=\"-\"),\"-\",((THI*RfD.in.cn.13)/(FT!P20*IF.SoloSub.Ina.Fec.a.nc)))),\"-\")","v":"-"},{"$f":"IF(OR(T36=\"-\",T36=\"-\"),0,Cf.SoloSub.13/T36)","v":0},{"$f":"IF(CENÁRIOS!$H$18=TRUE,IF(PM.13=\"\",\"-\",IF(OR(RfD.ig.cn.13=\"-\",RfD.ig.cn.13=\"\",RfD.ig.cn.13=0,FT!Q20=\"-\"),\"-\",((THI*RfD.ig.cn.13)/(FT!Q20*IF.SoloSub.Lix.AS.a.nc))*10^3)),\"-\")","v":"-"},{"$f":"IF(OR(V36=\"-\",V36=\"-\"),0,Cf.SoloSub.13/V36)","v":0},{"$f":"IF(CENÁRIOS!$I$18=TRUE,IF(PM.13=\"\",\"-\",IF(OR(RfD.ig.cn.13=\"-\",RfD.ig.cn.13=\"\",RfD.ig.cn.13=0,FT!Q20=\"-\",DAF.13=\"-\"),\"-\",((THI*RfD.ig.cn.13)/((FT!Q20*DAF.13)*IF.SoloSub.Lix.AS.a.nc))*10^3)),\"-\")","v":"-"},{"$f":"IF(OR(X36=\"-\",X36=\"-\"),0,Cf.SoloSub.13/X36)","v":0}]
[null,14,{"$f":"SQI!D22","v":0},{"$f":"SQI!C22","v":""},"C",{"$f":"IF(CENÁRIOS!$H$11=TRUE,IF(PM.14=\"\",\"-\",IF(OR(Sf.in.14=\"-\",Sf.in.14=\"\",Sf.in.14=0,FT!M21=\"-\"),\"-\",IF(ISERROR(TR/(FT!M21*IF.Solo.Ina.Vap.a.c*Sf.in.14)),\"-\",(TR/(FT!M21*IF.Solo.Ina.Vap.a.c*Sf.in.14))))),\"-\")","v":"-"},{"$f":"IF(OR(F37=\"-\",F37=\"-\"),0,Cf.SoloSup.14/F37)","v":0},{"$f":"IF(CENÁRIOS!$H$12=TRUE,IF(PM.14=\"\",\"-\",IF(OR(Sf.in.14=\"-\",Sf.in.14=\"\",Sf.in.14=0,FT!N21=\"-\"),\"-\",(TR/(FT!N21*IF.Solo.Ina.Par.a.c*Sf.in.14)))),\"-\")","v":"-"},{"$f":"IF(OR(H37=\"-\",H37=\"-\"),0,Cf.SoloSup.14/H37)","v":0},{"$f":"IF(CENÁRIOS!$H$13=TRUE,IF(PM.14=\"\",\"-\",IF(OR(Sf.dm.14=\"-\",Sf.dm.14=\"\",Sf.dm.14=0,ABSd.14=0,ABSd.14=\"\"),\"-\",(TR/(ABSd.14*IF.Solo.Con.Der.a.c*Sf.dm.14)))),\"-\")","v":"-"},{"$f":"IF(OR(J37=\"-\",J37=\"-\"),0,Cf.SoloSup.14/J37)","v":0},{"$f":"IF(CENÁRIOS!$H$14=TRUE,IF(PM.14=\"\",\"-\",IF(OR(Sf.ig.14=\"-\",Sf.ig.14=\"\",Sf.ig.14=0),\"-\",(TR/(IF.Solo.Ing.a.c*Biodisp.14*Sf.ig.14)))),\"-\")","v":"-"},{"$f":"IF(OR(L37=\"-\",L37=\"-\"),0,Cf.SoloSup.14/L37)","v":0},{"$f":"IF(CENÁRIOS!$H$15=TRUE,IF(OR(PM.14=\"\",Tipo.14<>\"METAL\"),\"-\",IF(OR(Sf.ig.14=\"-\",Sf.ig.14=\"\",Sf.ig.14=0,cdpx.14=\"-\",BCF.14=\"-\"),\"-\",(TR/((IF.Solo.Ing.Veg.c.i*Sf.ig.14)*(IRL.i*((BCFF.14+cdpx.14)/frbveg)+(IRR.i*(BCF.14/frkveg))))))),\"-\")","v":"-"},{"$f":"IF(OR(N37=\"-\",N37=\"-\"),0,Cf.SoloSup.14/N37)","v":0},{"$f":"IF(CENÁRIOS!$H$15=TRUE,IF(OR(PM.14=\"\",Tipo.14=\"METAL\"),\"-\",IF(OR(Sf.ig.14=\"-\",Sf.ig.14=\"\",Sf.ig.14=0,cdpx.14=\"-\",pw.14=\"-\",BCFR.14=\"-\",a.14=\"-\"),\"-\",(TR/((IF.Solo.Ing.Veg.c.i*Sf.ig.14)*(IRL.i*(((ps*pw.14*tscf.14*Qveg)/(Vwveg*pplantveg*a.14*Vlveg))+cdpx.14*fdwsveg)+(IRR.i*BCFR.14)))))),\"-\")","v":"-"},{"$f":"IF(OR(P37=\"-\",P37=\"-\"),0,Cf.SoloSup.14/P37)","v":0},{"$f":"IF(CENÁRIOS!$H$16=TRUE,IF(PM.14=\"\",\"-\",IF(OR(Sf.in.14=\"-\",Sf.in.14=\"\",Sf.in.14=0,Sf.in.14=0,FT!O21=\"-\"),\"-\",IF(ISERROR(TR/(FT!O21*IF.SoloSub.Ina.Abe.a.c*Sf.in.14)),\"-\",(TR/(FT!O21*IF.SoloSub.Ina.Abe.a.c*Sf.in.14))))),\"-\")","v":"-"},{"$f":"IF(OR(R37=\"-\",R37=\"-\"),0,Cf.SoloSub.14/R37)","v":0},{"$f":"IF(CENÁRIOS!$H$17=TRUE,IF(PM.14=\"\",\"-\",IF(OR(Sf.in.14=\"-\",Sf.in.14=\"\",Sf.in.14=0,FT!P21=\"-\"),\"-\",IF(ISERROR(TR/(FT!P21*IF.SoloSub.Ina.Fec.a.c*Sf.in.14)),\"-\",(TR/(FT!P21*IF.SoloSub.Ina.Fec.a.c*Sf.in.14))))),\"-\")","v":"-"},{"$f":"IF(OR(T37=\"-\",T37=\"-\"),0,Cf.SoloSub.14/T37)","v":0},{"$f":"IF(CENÁRIOS!$H$18=TRUE,IF(PM.14=\"\",\"-\",IF(OR(Sf.ig.14=\"-\",Sf.ig.14=\"\",Sf.ig.14=0,FT!Q21=\"-\"),\"-\",(TR/(FT!Q21*IF.SoloSub.Lix.AS.a.c*Sf.ig.14))*10^3)),\"-\")","v":"-"},{"$f":"IF(OR(V37=\"-\",V37=\"-\"),0,Cf.SoloSub.14/V37)","v":0},{"$f":"IF(CENÁRIOS!$I$18=TRUE,IF(PM.14=\"\",\"-\",IF(OR(Sf.ig.14=\"-\",Sf.ig.14=\"\",Sf.ig.14=0,FT!Q21=\"-\",DAF.14=\"-\"),\"-\",(TR/((FT!Q21*DAF.14)*IF.SoloSub.Lix.AS.a.c*Sf.ig.14))*10^3)),\"-\")","v":"-"},{"$f":"IF(OR(X37=\"-\",X37=\"-\"),0,Cf.SoloSub.14/X37)","v":0}]
[null,null,null,null,"NC",{"$f":"IF(CENÁRIOS!$H$11=TRUE,IF(PM.14=\"\",\"-\",IF(OR(RfD.in.cn.14=\"-\",RfD.in.cn.14=\"\",RfD.in.cn.14=0,FT!M21=\"-\"),\"-\",((THI*RfD.in.cn.14)/(FT!M21*IF.Solo.Ina.Vap.a.nc)))),\"-\")","v":"-"},{"$f":"IF(OR(F38=\"-\",F38=\"-\"),0,Cf.SoloSup.14/F38)","v":0},{"$f":"IF(CENÁRIOS!$H$12=TRUE,IF(PM.14=\"\",\"-\",IF(OR(RfD.in.cn.14=\"-\",RfD.in.cn.14=\"\",RfD.in.cn.14=0,FT!N21=\"-\"),\"-\",((THI*RfD.in.cn.14)/(FT!N21*IF.Solo.Ina.Par.a.nc)))),\"-\")","v":"-"},{"$f":"IF(OR(H38=\"-\",H38=\"-\"),0,Cf.SoloSup.14/H38)","v":0},{"$f":"IF(CENÁRIOS!$H$13=TRUE,IF(PM.14=\"\",\"-\",IF(OR(RfD.dm.cn.14=\"-\",RfD.dm.cn.14=\"\",RfD.dm.cn.14=0,ABSd.14=0,ABSd.14=\"\"),\"-\",((THI*RfD.dm.cn.14)/(ABSd.14*IF.Solo.Con.Der.a.nc)))),\"-\")","v":"-"},{"$f":"IF(OR(J38=\"-\",J38=\"-\"),0,Cf.SoloSup.14/J38)","v":0},{"$f":"IF(CENÁRIOS!$H$14=TRUE,IF(PM.14=\"\",\"-\",IF(OR(RfD.ig.cn.14=\"-\",RfD.ig.cn.14=\"\",RfD.ig.cn.14=0),\"-\",((THI*RfD.ig.cn.14)/(IF.Solo.Ing.a.nc*Biodisp.14)))),\"-\")","v":"-"},{"$f":"IF(OR(L38=\"-\",L38=\"-\"),0,Cf.SoloSup.14/L38)","v":0},{"$f":"IF(CENÁRIOS!$H$15=TRUE,IF(OR(PM.14=\"\",Tipo.14<>\"METAL\"),\"-\",IF(OR(RfD.ig.cn.14=\"-\",RfD.ig.cn.14=\"\",RfD.ig.cn.14=0,cdpx.14=\"-\",BCF.14=\"-\"),\"-\",((THI*RfD.ig.cn.14)/((IF.Solo.Ing.Veg.nc.i)*(IRL.i*((BCFF.14+cdpx.14)/frbveg)+(IRR.i*(BCF.14/frkveg))))))),\"-\")","v":"-"},{"$f":"IF(OR(N38=\"-\",N38=\"-\"),0,Cf.SoloSup.14/N38)","v":0},{"$f":"IF(CENÁRIOS!$H$15=TRUE,IF(OR(PM.14=\"\",Tipo.14=\"METAL\"),\"-\",IF(OR(RfD.ig.cn.14=\"-\",RfD.ig.cn.14=\"\",RfD.ig.cn.14=0,cdpx.14=\"-\",pw.14=\"-\",BCFR.14=\"-\",a.14=\"-\"),\"-\",((THI*RfD.ig.cn.14)/((IF.Solo.Ing.Veg.nc.i)*(IRL.i*(((ps*pw.14*tscf.14*Qveg)/(Vwveg*pplantveg*a.14*Vlveg))+cdpx.14*fdwsveg)+(IRR.i*BCFR.14)))))),\"-\")","v":"-"},{"$f":"IF(OR(P38=\"-\",P38=\"-\"),0,Cf.SoloSup.14/P38)","v":0},{"$f":"IF(CENÁRIOS!$H$16=TRUE,IF(PM.14=\"\",\"-\",IF(OR(RfD.in.cn.14=\"-\",RfD.in.cn.14=\"\",RfD.in.cn.14=0,FT!O21=\"-\"),\"-\",((THI*RfD.in.cn.14)/(FT!O21*IF.SoloSub.Ina.Abe.a.nc)))),\"-\")","v":"-"},{"$f":"IF(OR(R38=\"-\",R38=\"-\"),0,Cf.SoloSub.14/R38)","v":0},{"$f":"IF(CENÁRIOS!$H$17=TRUE,IF(PM.14=\"\",\"-\",IF(OR(RfD.in.cn.14=\"-\",RfD.in.cn.14=\"\",RfD.in.cn.14=0,FT!P21=\"-\"),\"-\",((THI*RfD.in.cn.14)/(FT!P21*IF.SoloSub.Ina.Fec.a.nc)))),\"-\")","v":"-"},{"$f":"IF(OR(T38=\"-\",T38=\"-\"),0,Cf.SoloSub.14/T38)","v":0},{"$f":"IF(CENÁRIOS!$H$18=TRUE,IF(PM.14=\"\",\"-\",IF(OR(RfD.ig.cn.14=\"-\",RfD.ig.cn.14=\"\",RfD.ig.cn.14=0,FT!Q21=\"-\"),\"-\",((THI*RfD.ig.cn.14)/(FT!Q21*IF.SoloSub.Lix.AS.a.nc))*10^3)),\"-\")","v":"-"},{"$f":"IF(OR(V38=\"-\",V38=\"-\"),0,Cf.SoloSub.14/V38)","v":0},{"$f":"IF(CENÁRIOS!$I$18=TRUE,IF(PM.14=\"\",\"-\",IF(OR(RfD.ig.cn.14=\"-\",RfD.ig.cn.14=\"\",RfD.ig.cn.14=0,FT!Q21=\"-\",DAF.14=\"-\"),\"-\",((THI*RfD.ig.cn.14)/((FT!Q21*DAF.14)*IF.SoloSub.Lix.AS.a.nc))*10^3)),\"-\")","v":"-"},{"$f":"IF(OR(X38=\"-\",X38=\"-\"),0,Cf.SoloSub.14/X38)","v":0}]
[null,15,{"$f":"SQI!D23","v":0},{"$f":"SQI!C23","v":""},"C",{"$f":"IF(CENÁRIOS!$H$11=TRUE,IF(PM.15=\"\",\"-\",IF(OR(Sf.in.15=\"-\",Sf.in.15=\"\",Sf.in.15=0,FT!M22=\"-\"),\"-\",IF(ISERROR(TR/(FT!M22*IF.Solo.Ina.Vap.a.c*Sf.in.15)),\"-\",(TR/(FT!M22*IF.Solo.Ina.Vap.a.c*Sf.in.15))))),\"-\")","v":"-"},{"$f":"IF(OR(F39=\"-\",F39=\"-\"),0,Cf.SoloSup.15/F39)","v":0},{"$f":"IF(CENÁRIOS!$H$12=TRUE,IF(PM.15=\"\",\"-\",IF(OR(Sf.in.15=\"-\",Sf.in.15=\"\",Sf.in.15=0,FT!N22=\"-\"),\"-\",(TR/(FT!N22*IF.Solo.Ina.Par.a.c*Sf.in.15)))),\"-\")","v":"-"},{"$f":"IF(OR(H39=\"-\",H39=\"-\"),0,Cf.SoloSup.15/H39)","v":0},{"$f":"IF(CENÁRIOS!$H$13=TRUE,IF(PM.15=\"\",\"-\",IF(OR(Sf.dm.15=\"-\",Sf.dm.15=\"\",Sf.dm.15=0,ABSd.15=0,ABSd.15=\"\"),\"-\",(TR/(ABSd.15*IF.Solo.Con.Der.a.c*Sf.dm.15)))),\"-\")","v":"-"},{"$f":"IF(OR(J39=\"-\",J39=\"-\"),0,Cf.SoloSup.15/J39)","v":0},{"$f":"IF(CENÁRIOS!$H$14=TRUE,IF(PM.15=\"\",\"-\",IF(OR(Sf.ig.15=\"-\",Sf.ig.15=\"\",Sf.ig.15=0),\"-\",(TR/(IF.Solo.Ing.a.c*Biodisp.15*Sf.ig.15)))),\"-\")","v":"-"},{"$f":"IF(OR(L39=\"-\",L39=\"-\"),0,Cf.SoloSup.15/L39)","v":0},{"$f":"IF(CENÁRIOS!$H$15=TRUE,IF(OR(PM.15=\"\",Tipo.15<>\"METAL\"),\"-\",IF(OR(Sf.ig.15=\"-\",Sf.ig.15=\"\",Sf.ig.15=0,cdpx.15=\"-\",BCF.15=\"-\"),\"-\",(TR/((IF.Solo.Ing.Veg.c.i*Sf.ig.15)*(IRL.i*((BCFF.15+cdpx.15)/frbveg)+(IRR.i*(BCF.15/frkveg))))))),\"-\")","v":"-"},{"$f":"IF(OR(N39=\"-\",N39=\"-\"),0,Cf.SoloSup.15/N39)","v":0},{"$f":"IF(CENÁRIOS!$H$15=TRUE,IF(OR(PM.15=\"\",Tipo.15=\"METAL\"),\"-\",IF(OR(Sf.ig.15=\"-\",Sf.ig.15=\"\",Sf.ig.15=0,cdpx.15=\"-\",pw.15=\"-\",BCFR.15=\"-\",a.15=\"-\"),\"-\",(TR/((IF.Solo.Ing.Veg.c.i*Sf.ig.15)*(IRL.i*(((ps*pw.15*tscf.15*Qveg)/(Vwveg*pplantveg*a.15*Vlveg))+cdpx.15*fdwsveg)+(IRR.i*BCFR.15)))))),\"-\")","v":"-"},{"$f":"IF(OR(P39=\"-\",P39=\"-\"),0,Cf.SoloSup.15/P39)","v":0},{"$f":"IF(CENÁRIOS!$H$16=TRUE,IF(PM.15=\"\",\"-\",IF(OR(Sf.in.15=\"-\",Sf.in.15=\"\",Sf.in.15=0,Sf.in.15=0,FT!O22=\"-\"),\"-\",IF(ISERROR(TR/(FT!O22*IF.SoloSub.Ina.Abe.a.c*Sf.in.15)),\"-\",(TR/(FT!O22*IF.SoloSub.Ina.Abe.a.c*Sf.in.15))))),\"-\")","v":"-"},{"$f":"IF(OR(R39=\"-\",R39=\"-\"),0,Cf.SoloSub.15/R39)","v":0},{"$f":"IF(CENÁRIOS!$H$17=TRUE,IF(PM.15=\"\",\"-\",IF(OR(Sf.in.15=\"-\",Sf.in.15=\"\",Sf.in.15=0,FT!P22=\"-\"),\"-\",IF(ISERROR(TR/(FT!P22*IF.SoloSub.Ina.Fec.a.c*Sf.in.15)),\"-\",(TR/(FT!P22*IF.SoloSub.Ina.Fec.a.c*Sf.in.15))))),\"-\")","v":"-"},{"$f":"IF(OR(T39=\"-\",T39=\"-\"),0,Cf.SoloSub.15/T39)","v":0},{"$f":"IF(CENÁRIOS!$H$18=TRUE,IF(PM.15=\"\",\"-\",IF(OR(Sf.ig.15=\"-\",Sf.ig.15=\"\",Sf.ig.15=0,FT!Q22=\"-\"),\"-\",(TR/(FT!Q22*IF.SoloSub.Lix.AS.a.c*Sf.ig.15))*10^3)),\"-\")","v":"-"},{"$f":"IF(OR(V39=\"-\",V39=\"-\"),0,Cf.SoloSub.15/V39)","v":0},{"$f":"IF(CENÁRIOS!$I$18=TRUE,IF(PM.15=\"\",\"-\",IF(OR(Sf.ig.15=\"-\",Sf.ig.15=\"\",Sf.ig.15=0,FT!Q22=\"-\",DAF.15=\"-\"),\"-\",(TR/((FT!Q22*DAF.15)*IF.SoloSub.Lix.AS.a.c*Sf.ig.15))*10^3)),\"-\")","v":"-"},{"$f":"IF(OR(X39=\"-\",X39=\"-\"),0,Cf.SoloSub.15/X39)","v":0}]
[null,null,null,null,"NC",{"$f":"IF(CENÁRIOS!$H$11=TRUE,IF(PM.15=\"\",\"-\",IF(OR(RfD.in.cn.15=\"-\",RfD.in.cn.15=\"\",RfD.in.cn.15=0,FT!M22=\"-\"),\"-\",((THI*RfD.in.cn.15)/(FT!M22*IF.Solo.Ina.Vap.a.nc)))),\"-\")","v":"-"},{"$f":"IF(OR(F40=\"-\",F40=\"-\"),0,Cf.SoloSup.15/F40)","v":0},{"$f":"IF(CENÁRIOS!$H$12=TRUE,IF(PM.15=\"\",\"-\",IF(OR(RfD.in.cn.15=\"-\",RfD.in.cn.15=\"\",RfD.in.cn.15=0,FT!N22=\"-\"),\"-\",((THI*RfD.in.cn.15)/(FT!N22*IF.Solo.Ina.Par.a.nc)))),\"-\")","v":"-"},{"$f":"IF(OR(H40=\"-\",H40=\"-\"),0,Cf.SoloSup.15/H40)","v":0},{"$f":"IF(CENÁRIOS!$H$13=TRUE,IF(PM.15=\"\",\"-\",IF(OR(RfD.dm.cn.15=\"-\",RfD.dm.cn.15=\"\",RfD.dm.cn.15=0,ABSd.15=0,ABSd.15=\"\"),\"-\",((THI*RfD.dm.cn.15)/(ABSd.15*IF.Solo.Con.Der.a.nc)))),\"-\")","v":"-"},{"$f":"IF(OR(J40=\"-\",J40=\"-\"),0,Cf.SoloSup.15/J40)","v":0},{"$f":"IF(CENÁRIOS!$H$14=TRUE,IF(PM.15=\"\",\"-\",IF(OR(RfD.ig.cn.15=\"-\",RfD.ig.cn.15=\"\",RfD.ig.cn.15=0),\"-\",((THI*RfD.ig.cn.15)/(IF.Solo.Ing.a.nc*Biodisp.15)))),\"-\")","v":"-"},{"$f":"IF(OR(L40=\"-\",L40=\"-\"),0,Cf.SoloSup.15/L40)","v":0},{"$f":"IF(CENÁRIOS!$H$15=TRUE,IF(OR(PM.15=\"\",Tipo.15<>\"METAL\"),\"-\",IF(OR(RfD.ig.cn.15=\"-\",RfD.ig.cn.15=\"\",RfD.ig.cn.15=0,cdpx.15=\"-\",BCF.15=\"-\"),\"-\",((THI*RfD.ig.cn.15)/((IF.Solo.Ing.Veg.nc.i)*(IRL.i*((BCFF.15+cdpx.15)/frbveg)+(IRR.i*(BCF.15/frkveg))))))),\"-\")","v":"-"},{"$f":"IF(OR(N40=\"-\",N40=\"-\"),0,Cf.SoloSup.15/N40)","v":0},{"$f":"IF(CENÁRIOS!$H$15=TRUE,IF(OR(PM.15=\"\",Tipo.15=\"METAL\"),\"-\",IF(OR(RfD.ig.cn.15=\"-\",RfD.ig.cn.15=\"\",RfD.ig.cn.15=0,cdpx.15=\"-\",pw.15=\"-\",BCFR.15=\"-\",a.15=\"-\"),\"-\",((THI*RfD.ig.cn.15)/((IF.Solo.Ing.Veg.nc.i)*(IRL.i*(((ps*pw.15*tscf.15*Qveg)/(Vwveg*pplantveg*a.15*Vlveg))+cdpx.15*fdwsveg)+(IRR.i*BCFR.15)))))),\"-\")","v":"-"},{"$f":"IF(OR(P40=\"-\",P40=\"-\"),0,Cf.SoloSup.15/P40)","v":0},{"$f":"IF(CENÁRIOS!$H$16=TRUE,IF(PM.15=\"\",\"-\",IF(OR(RfD.in.cn.15=\"-\",RfD.in.cn.15=\"\",RfD.in.cn.15=0,FT!O22=\"-\"),\"-\",((THI*RfD.in.cn.15)/(FT!O22*IF.SoloSub.Ina.Abe.a.nc)))),\"-\")","v":"-"},{"$f":"IF(OR(R40=\"-\",R40=\"-\"),0,Cf.SoloSub.15/R40)","v":0},{"$f":"IF(CENÁRIOS!$H$17=TRUE,IF(PM.15=\"\",\"-\",IF(OR(RfD.in.cn.15=\"-\",RfD.in.cn.15=\"\",RfD.in.cn.15=0,FT!P22=\"-\"),\"-\",((THI*RfD.in.cn.15)/(FT!P22*IF.SoloSub.Ina.Fec.a.nc)))),\"-\")","v":"-"},{"$f":"IF(OR(T40=\"-\",T40=\"-\"),0,Cf.SoloSub.15/T40)","v":0},{"$f":"IF(CENÁRIOS!$H$18=TRUE,IF(PM.15=\"\",\"-\",IF(OR(RfD.ig.cn.15=\"-\",RfD.ig.cn.15=\"\",RfD.ig.cn.15=0,FT!Q22=\"-\"),\"-\",((THI*RfD.ig.cn.15)/(FT!Q22*IF.SoloSub.Lix.AS.a.nc))*10^3)),\"-\")","v":"-"},{"$f":"IF(OR(V40=\"-\",V40=\"-\"),0,Cf.SoloSub.15/V40)","v":0},{"$f":"IF(CENÁRIOS!$I$18=TRUE,IF(PM.15=\"\",\"-\",IF(OR(RfD.ig.cn.15=\"-\",RfD.ig.cn.15=\"\",RfD.ig.cn.15=0,FT!Q22=\"-\",DAF.15=\"-\"),\"-\",((THI*RfD.ig.cn.15)/((FT!Q22*DAF.15)*IF.SoloSub.Lix.AS.a.nc))*10^3)),\"-\")","v":"-"},{"$f":"IF(OR(X40=\"-\",X40=\"-\"),0,Cf.SoloSub.15/X40)","v":0}]
[null,16,{"$f":"SQI!D24","v":0},{"$f":"SQI!C24","v":""},"C",{"$f":"IF(CENÁRIOS!$H$11=TRUE,IF(PM.16=\"\",\"-\",IF(OR(Sf.in.16=\"-\",Sf.in.16=\"\",Sf.in.16=0,FT!M23=\"-\"),\"-\",IF(ISERROR(TR/(FT!M23*IF.Solo.Ina.Vap.a.c*Sf.in.16)),\"-\",(TR/(FT!M23*IF.Solo.Ina.Vap.a.c*Sf.in.16))))),\"-\")","v":"-"},{"$f":"IF(OR(F41=\"-\",F41=\"-\"),0,Cf.SoloSup.16/F41)","v":0},{"$f":"IF(CENÁRIOS!$H$12=TRUE,IF(PM.16=\"\",\"-\",IF(OR(Sf.in.16=\"-\",Sf.in.16=\"\",Sf.in.16=0,FT!N23=\"-\"),\"-\",(TR/(FT!N23*IF.Solo.Ina.Par.a.c*Sf.in.16)))),\"-\")","v":"-"},{"$f":"IF(OR(H41=\"-\",H41=\"-\"),0,Cf.SoloSup.16/H41)","v":0},{"$f":"IF(CENÁRIOS!$H$13=TRUE,IF(PM.16=\"\",\"-\",IF(OR(Sf.dm.16=\"-\",Sf.dm.16=\"\",Sf.dm.16=0,ABSd.16=0,ABSd.16=\"\"),\"-\",(TR/(ABSd.16*IF.Solo.Con.Der.a.c*Sf.dm.16)))),\"-\")","v":"-"},{"$f":"IF(OR(J41=\"-\",J41=\"-\"),0,Cf.SoloSup.16/J41)","v":0},{"$f":"IF(CENÁRIOS!$H$14=TRUE,IF(PM.16=\"\",\"-\",IF(OR(Sf.ig.16=\"-\",Sf.ig.16=\"\",Sf.ig.16=0),\"-\",(TR/(IF.Solo.Ing.a.c*Biodisp.16*Sf.ig.16)))),\"-\")","v":"-"},{"$f":"IF(OR(L41=\"-\",L41=\"-\"),0,Cf.SoloSup.16/L41)","v":0},{"$f":"IF(CENÁRIOS!$H$15=TRUE,IF(OR(PM.16=\"\",Tipo.16<>\"METAL\"),\"-\",IF(OR(Sf.ig.16=\"-\",Sf.ig.16=\"\",Sf.ig.16=0,cdpx.16=\"-\",BCF.16=\"-\"),\"-\",(TR/((IF.Solo.Ing.Veg.c.i*Sf.ig.16)*(IRL.i*((BCFF.16+cdpx.16)/frbveg)+(IRR.i*(BCF.16/frkveg))))))),\"-\")","v":"-"},{"$f":"IF(OR(N41=\"-\",N41=\"-\"),0,Cf.SoloSup.16/N41)","v":0},{"$f":"IF(CENÁRIOS!$H$15=TRUE,IF(OR(PM.16=\"\",Tipo.16=\"METAL\"),\"-\",IF(OR(Sf.ig.16=\"-\",Sf.ig.16=\"\",Sf.ig.16=0,cdpx.16=\"-\",pw.16=\"-\",BCFR.16=\"-\",a.16=\"-\"),\"-\",(TR/((IF.Solo.Ing.Veg.c.i*Sf.ig.16)*(IRL.i*(((ps*pw.16*tscf.16*Qveg)/(Vwveg*pplantveg*a.16*Vlveg))+cdpx.16*fdwsveg)+(IRR.i*BCFR.16)))))),\"-\")","v":"-"},{"$f":"IF(OR(P41=\"-\",P41=\"-\"),0,Cf.SoloSup.16/P41)","v":0},{"$f":"IF(CENÁRIOS!$H$16=TRUE,IF(PM.16=\"\",\"-\",IF(OR(Sf.in.16=\"-\",Sf.in.16=\"\",Sf.in.16=0,Sf.in.16=0,FT!O23=\"-\"),\"-\",IF(ISERROR(TR/(FT!O23*IF.SoloSub.Ina.Abe.a.c*Sf.in.16)),\"-\",(TR/(FT!O23*IF.SoloSub.Ina.Abe.a.c*Sf.in.16))))),\"-\")","v":"-"},{"$f":"IF(OR(R41=\"-\",R41=\"-\"),0,Cf.SoloSub.16/R41)","v":0},{"$f":"IF(CENÁRIOS!$H$17=TRUE,IF(PM.16=\"\",\"-\",IF(OR(Sf.in.16=\"-\",Sf.in.16=\"\",Sf.in.16=0,FT!P23=\"-\"),\"-\",IF(ISERROR(TR/(FT!P23*IF.SoloSub.Ina.Fec.a.c*Sf.in.16)),\"-\",(TR/(FT!P23*IF.SoloSub.Ina.Fec.a.c*Sf.in.16))))),\"-\")","v":"-"},{"$f":"IF(OR(T41=\"-\",T41=\"-\"),0,Cf.SoloSub.16/T41)","v":0},{"$f":"IF(CENÁRIOS!$H$18=TRUE,IF(PM.16=\"\",\"-\",IF(OR(Sf.ig.16=\"-\",Sf.ig.16=\"\",Sf.ig.16=0,FT!Q23=\"-\"),\"-\",(TR/(FT!Q23*IF.SoloSub.Lix.AS.a.c*Sf.ig.16))*10^3)),\"-\")","v":"-"},{"$f":"IF(OR(V41=\"-\",V41=\"-\"),0,Cf.SoloSub.16/V41)","v":0},{"$f":"IF(CENÁRIOS!$I$18=TRUE,IF(PM.16=\"\",\"-\",IF(OR(Sf.ig.16=\"-\",Sf.ig.16=\"\",Sf.ig.16=0,FT!Q23=\"-\",DAF.16=\"-\"),\"-\",(TR/((FT!Q23*DAF.16)*IF.SoloSub.Lix.AS.a.c*Sf.ig.16))*10^3)),\"-\")","v":"-"},{"$f":"IF(OR(X41=\"-\",X41=\"-\"),0,Cf.SoloSub.16/X41)","v":0}]
[null,null,null,null,"NC",{"$f":"IF(CENÁRIOS!$H$11=TRUE,IF(PM.16=\"\",\"-\",IF(OR(RfD.in.cn.16=\"-\",RfD.in.cn.16=\"\",RfD.in.cn.16=0,FT!M23=\"-\"),\"-\",((THI*RfD.in.cn.16)/(FT!M23*IF.Solo.Ina.Vap.a.nc)))),\"-\")","v":"-"},{"$f":"IF(OR(F42=\"-\",F42=\"-\"),0,Cf.SoloSup.16/F42)","v":0},{"$f":"IF(CENÁRIOS!$H$12=TRUE,IF(PM.16=\"\",\"-\",IF(OR(RfD.in.cn.16=\"-\",RfD.in.cn.16=\"\",RfD.in.cn.16=0,FT!N23=\"-\"),\"-\",((THI*RfD.in.cn.16)/(FT!N23*IF.Solo.Ina.Par.a.nc)))),\"-\")","v":"-"},{"$f":"IF(OR(H42=\"-\",H42=\"-\"),0,Cf.SoloSup.16/H42)","v":0},{"$f":"IF(CENÁRIOS!$H$13=TRUE,IF(PM.16=\"\",\"-\",IF(OR(RfD.dm.cn.16=\"-\",RfD.dm.cn.16=\"\",RfD.dm.cn.16=0,ABSd.16=0,ABSd.16=\"\"),\"-\",((THI*RfD.dm.cn.16)/(ABSd.16*IF.Solo.Con.Der.a.nc)))),\"-\")","v":"-"},{"$f":"IF(OR(J42=\"-\",J42=\"-\"),0,Cf.SoloSup.16/J42)","v":0},{"$f":"IF(CENÁRIOS!$H$14=TRUE,IF(PM.16=\"\",\"-\",IF(OR(RfD.ig.cn.16=\"-\",RfD.ig.cn.16=\"\",RfD.ig.cn.16=0),\"-\",((THI*RfD.ig.cn.16)/(IF.Solo.Ing.a.nc*Biodisp.16)))),\"-\")","v":"-"},{"$f":"IF(OR(L42=\"-\",L42=\"-\"),0,Cf.SoloSup.16/L42)","v":0},{"$f":"IF(CENÁRIOS!$H$15=TRUE,IF(OR(PM.16=\"\",Tipo.16<>\"METAL\"),\"-\",IF(OR(RfD.ig.cn.16=\"-\",RfD.ig.cn.16=\"\",RfD.ig.cn.16=0,cdpx.16=\"-\",BCF.16=\"-\"),\"-\",((THI*RfD.ig.cn.16)/((IF.Solo.Ing.Veg.nc.i)*(IRL.i*((BCFF.16+cdpx.16)/frbveg)+(IRR.i*(BCF.16/frkveg))))))),\"-\")","v":"-"},{"$f":"IF(OR(N42=\"-\",N42=\"-\"),0,Cf.SoloSup.16/N42)","v":0},{"$f":"IF(CENÁRIOS!$H$15=TRUE,IF(OR(PM.16=\"\",Tipo.16=\"METAL\"),\"-\",IF(OR(RfD.ig.cn.16=\"-\",RfD.ig.cn.16=\"\",RfD.ig.cn.16=0,cdpx.16=\"-\",pw.16=\"-\",BCFR.16=\"-\",a.16=\"-\"),\"-\",((THI*RfD.ig.cn.16)/((IF.Solo.Ing.Veg.nc.i)*(IRL.i*(((ps*pw.16*tscf.16*Qveg)/(Vwveg*pplantveg*a.16*Vlveg))+cdpx.16*fdwsveg)+(IRR.i*BCFR.16)))))),\"-\")","v":"-"},{"$f":"IF(OR(P42=\"-\",P42=\"-\"),0,Cf.SoloSup.16/P42)","v":0},{"$f":"IF(CENÁRIOS!$H$16=TRUE,IF(PM.16=\"\",\"-\",IF(OR(RfD.in.cn.16=\"-\",RfD.in.cn.16=\"\",RfD.in.cn.16=0,FT!O23=\"-\"),\"-\",((THI*RfD.in.cn.16)/(FT!O23*IF.SoloSub.Ina.Abe.a.nc)))),\"-\")","v":"-"},{"$f":"IF(OR(R42=\"-\",R42=\"-\"),0,Cf.SoloSub.16/R42)","v":0},{"$f":"IF(CENÁRIOS!$H$17=TRUE,IF(PM.16=\"\",\"-\",IF(OR(RfD.in.cn.16=\"-\",RfD.in.cn.16=\"\",RfD.in.cn.16=0,FT!P23=\"-\"),\"-\",((THI*RfD.in.cn.16)/(FT!P23*IF.SoloSub.Ina.Fec.a.nc)))),\"-\")","v":"-"},{"$f":"IF(OR(T42=\"-\",T42=\"-\"),0,Cf.SoloSub.16/T42)","v":0},{"$f":"IF(CENÁRIOS!$H$18=TRUE,IF(PM.16=\"\",\"-\",IF(OR(RfD.ig.cn.16=\"-\",RfD.ig.cn.16=\"\",RfD.ig.cn.16=0,FT!Q23=\"-\"),\"-\",((THI*RfD.ig.cn.16)/(FT!Q23*IF.SoloSub.Lix.AS.a.nc))*10^3)),\"-\")","v":"-"},{"$f":"IF(OR(V42=\"-\",V42=\"-\"),0,Cf.SoloSub.16/V42)","v":0},{"$f":"IF(CENÁRIOS!$I$18=TRUE,IF(PM.16=\"\",\"-\",IF(OR(RfD.ig.cn.16=\"-\",RfD.ig.cn.16=\"\",RfD.ig.cn.16=0,FT!Q23=\"-\",DAF.16=\"-\"),\"-\",((THI*RfD.ig.cn.16)/((FT!Q23*DAF.16)*IF.SoloSub.Lix.AS.a.nc))*10^3)),\"-\")","v":"-"},{"$f":"IF(OR(X42=\"-\",X42=\"-\"),0,Cf.SoloSub.16/X42)","v":0}]
[null,17,{"$f":"SQI!D25","v":0},{"$f":"SQI!C25","v":""},"C",{"$f":"IF(CENÁRIOS!$H$11=TRUE,IF(PM.17=\"\",\"-\",IF(OR(Sf.in.17=\"-\",Sf.in.17=\"\",Sf.in.17=0,FT!M24=\"-\"),\"-\",IF(ISERROR(TR/(FT!M24*IF.Solo.Ina.Vap.a.c*Sf.in.17)),\"-\",(TR/(FT!M24*IF.Solo.Ina.Vap.a.c*Sf.in.17))))),\"-\")","v":"-"},{"$f":"IF(OR(F43=\"-\",F43=\"-\"),0,Cf.SoloSup.17/F43)","v":0},{"$f":"IF(CENÁRIOS!$H$12=TRUE,IF(PM.17=\"\",\"-\",IF(OR(Sf.in.17=\"-\",Sf.in.17=\"\",Sf.in.17=0,FT!N24=\"-\"),\"-\",(TR/(FT!N24*IF.Solo.Ina.Par.a.c*Sf.in.17)))),\"-\")","v":"-"},{"$f":"IF(OR(H43=\"-\",H43=\"-\"),0,Cf.SoloSup.17/H43)","v":0},{"$f":"IF(CENÁRIOS!$H$13=TRUE,IF(PM.17=\"\",\"-\",IF(OR(Sf.dm.17=\"-\",Sf.dm.17=\"\",Sf.dm.17=0,ABSd.17=0,ABSd.17=\"\"),\"-\",(TR/(ABSd.17*IF.Solo.Con.Der.a.c*Sf.dm.17)))),\"-\")","v":"-"},{"$f":"IF(OR(J43=\"-\",J43=\"-\"),0,Cf.SoloSup.17/J43)","v":0},{"$f":"IF(CENÁRIOS!$H$14=TRUE,IF(PM.17=\"\",\"-\",IF(OR(Sf.ig.17=\"-\",Sf.ig.17=\"\",Sf.ig.17=0),\"-\",(TR/(IF.Solo.Ing.a.c*Biodisp.17*Sf.ig.17)))),\"-\")","v":"-"},{"$f":"IF(OR(L43=\"-\",L43=\"-\"),0,Cf.SoloSup.17/L43)","v":0},{"$f":"IF(CENÁRIOS!$H$15=TRUE,IF(OR(PM.17=\"\",Tipo.17<>\"METAL\"),\"-\",IF(OR(Sf.ig.17=\"-\",Sf.ig.17=\"\",Sf.ig.17=0,cdpx.17=\"-\",BCF.17=\"-\"),\"-\",(TR/((IF.Solo.Ing.Veg.c.i*Sf.ig.17)*(IRL.i*((BCFF.17+cdpx.17)/frbveg)+(IRR.i*(BCF.17/frkveg))))))),\"-\")","v":"-"},{"$f":"IF(OR(N43=\"-\",N43=\"-\"),0,Cf.SoloSup.17/N43)","v":0},{"$f":"IF(CENÁRIOS!$H$15=TRUE,IF(OR(PM.17=\"\",Tipo.17=\"METAL\"),\"-\",IF(OR(Sf.ig.17=\"-\",Sf.ig.17=\"\",Sf.ig.17=0,cdpx.17=\"-\",pw.17=\"-\",BCFR.17=\"-\",a.17=\"-\"),\"-\",(TR/((IF.Solo.Ing.Veg.c.i*Sf.ig.17)*(IRL.i*(((ps*pw.17*tscf.17*Qveg)/(Vwveg*pplantveg*a.17*Vlveg))+cdpx.17*fdwsveg)+(IRR.i*BCFR.17)))))),\"-\")","v":"-"},{"$f":"IF(OR(P43=\"-\",P43=\"-\"),0,Cf.SoloSup.17/P43)","v":0},{"$f":"IF(CENÁRIOS!$H$16=TRUE,IF(PM.17=\"\",\"-\",IF(OR(Sf.in.17=\"-\",Sf.in.17=\"\",Sf.in.17=0,Sf.in.17=0,FT!O24=\"-\"),\"-\",IF(ISERROR(TR/(FT!O24*IF.SoloSub.Ina.Abe.a.c*Sf.in.17)),\"-\",(TR/(FT!O24*IF.SoloSub.Ina.Abe.a.c*Sf.in.17))))),\"-\")","v":"-"},{"$f":"IF(OR(R43=\"-\",R43=\"-\"),0,Cf.SoloSub.17/R43)","v":0},{"$f":"IF(CENÁRIOS!$H$17=TRUE,IF(PM.17=\"\",\"-\",IF(OR(Sf.in.17=\"-\",Sf.in.17=\"\",Sf.in.17=0,FT!P24=\"-\"),\"-\",IF(ISERROR(TR/(FT!P24*IF.SoloSub.Ina.Fec.a.c*Sf.in.17)),\"-\",(TR/(FT!P24*IF.SoloSub.Ina.Fec.a.c*Sf.in.17))))),\"-\")","v":"-"},{"$f":"IF(OR(T43=\"-\",T43=\"-\"),0,Cf.SoloSub.17/T43)","v":0},{"$f":"IF(CENÁRIOS!$H$18=TRUE,IF(PM.17=\"\",\"-\",IF(OR(Sf.ig.17=\"-\",Sf.ig.17=\"\",Sf.ig.17=0,FT!Q24=\"-\"),\"-\",(TR/(FT!Q24*IF.SoloSub.Lix.AS.a.c*Sf.ig.17))*10^3)),\"-\")","v":"-"},{"$f":"IF(OR(V43=\"-\",V43=\"-\"),0,Cf.SoloSub.17/V43)","v":0},{"$f":"IF(CENÁRIOS!$I$18=TRUE,IF(PM.17=\"\",\"-\",IF(OR(Sf.ig.17=\"-\",Sf.ig.17=\"\",Sf.ig.17=0,FT!Q24=\"-\",DAF.17=\"-\"),\"-\",(TR/((FT!Q24*DAF.17)*IF.SoloSub.Lix.AS.a.c*Sf.ig.17))*10^3)),\"-\")","v":"-"},{"$f":"IF(OR(X43=\"-\",X43=\"-\"),0,Cf.SoloSub.17/X43)","v":0}]
[null,null,null,null,"NC",{"$f":"IF(CENÁRIOS!$H$11=TRUE,IF(PM.17=\"\",\"-\",IF(OR(RfD.in.cn.17=\"-\",RfD.in.cn.17=\"\",RfD.in.cn.17=0,FT!M24=\"-\"),\"-\",((THI*RfD.in.cn.17)/(FT!M24*IF.Solo.Ina.Vap.a.nc)))),\"-\")","v":"-"},{"$f":"IF(OR(F44=\"-\",F44=\"-\"),0,Cf.SoloSup.17/F44)","v":0},{"$f":"IF(CENÁRIOS!$H$12=TRUE,IF(PM.17=\"\",\"-\",IF(OR(RfD.in.cn.17=\"-\",RfD.in.cn.17=\"\",RfD.in.cn.17=0,FT!N24=\"-\"),\"-\",((THI*RfD.in.cn.17)/(FT!N24*IF.Solo.Ina.Par.a.nc)))),\"-\")","v":"-"},{"$f":"IF(OR(H44=\"-\",H44=\"-\"),0,Cf.SoloSup.17/H44)","v":0},{"$f":"IF(CENÁRIOS!$H$13=TRUE,IF(PM.17=\"\",\"-\",IF(OR(RfD.dm.cn.17=\"-\",RfD.dm.cn.17=\"\",RfD.dm.cn.17=0,ABSd.17=0,ABSd.17=\"\"),\"-\",((THI*RfD.dm.cn.17)/(ABSd.17*IF.Solo.Con.Der.a.nc)))),\"-\")","v":"-"},{"$f":"IF(OR(J44=\"-\",J44=\"-\"),0,Cf.SoloSup.17/J44)","v":0},{"$f":"IF(CENÁRIOS!$H$14=TRUE,IF(PM.17=\"\",\"-\",IF(OR(RfD.ig.cn.17=\"-\",RfD.ig.cn.17=\"\",RfD.ig.cn.17=0),\"-\",((THI*RfD.ig.cn.17)/(IF.Solo.Ing.a.nc*Biodisp.17)))),\"-\")","v":"-"},{"$f":"IF(OR(L44=\"-\",L44=\"-\"),0,Cf.SoloSup.17/L44)","v":0},{"$f":"IF(CENÁRIOS!$H$15=TRUE,IF(OR(PM.17=\"\",Tipo.17<>\"METAL\"),\"-\",IF(OR(RfD.ig.cn.17=\"-\",RfD.ig.cn.17=\"\",RfD.ig.cn.17=0,cdpx.17=\"-\",BCF.17=\"-\"),\"-\",((THI*RfD.ig.cn.17)/((IF.Solo.Ing.Veg.nc.i)*(IRL.i*((BCFF.17+cdpx.17)/frbveg)+(IRR.i*(BCF.17/frkveg))))))),\"-\")","v":"-"},{"$f":"IF(OR(N44=\"-\",N44=\"-\"),0,Cf.SoloSup.17/N44)","v":0},{"$f":"IF(CENÁRIOS!$H$15=TRUE,IF(OR(PM.17=\"\",Tipo.17=\"METAL\"),\"-\",IF(OR(RfD.ig.cn.17=\"-\",RfD.ig.cn.17=\"\",RfD.ig.cn.17=0,cdpx.17=\"-\",pw.17=\"-\",BCFR.17=\"-\",a.17=\"-\"),\"-\",((THI*RfD.ig.cn.17)/((IF.Solo.Ing.Veg.nc.i)*(IRL.i*(((ps*pw.17*tscf.17*Qveg)/(Vwveg*pplantveg*a.17*Vlveg))+cdpx.17*fdwsveg)+(IRR.i*BCFR.17)))))),\"-\")","v":"-"},{"$f":"IF(OR(P44=\"-\",P44=\"-\"),0,Cf.SoloSup.17/P44)","v":0},{"$f":"IF(CENÁRIOS!$H$16=TRUE,IF(PM.17=\"\",\"-\",IF(OR(RfD.in.cn.17=\"-\",RfD.in.cn.17=\"\",RfD.in.cn.17=0,FT!O24=\"-\"),\"-\",((THI*RfD.in.cn.17)/(FT!O24*IF.SoloSub.Ina.Abe.a.nc)))),\"-\")","v":"-"},{"$f":"IF(OR(R44=\"-\",R44=\"-\"),0,Cf.SoloSub.17/R44)","v":0},{"$f":"IF(CENÁRIOS!$H$17=TRUE,IF(PM.17=\"\",\"-\",IF(OR(RfD.in.cn.17=\"-\",RfD.in.cn.17=\"\",RfD.in.cn.17=0,FT!P24=\"-\"),\"-\",((THI*RfD.in.cn.17)/(FT!P24*IF.SoloSub.Ina.Fec.a.nc)))),\"-\")","v":"-"},{"$f":"IF(OR(T44=\"-\",T44=\"-\"),0,Cf.SoloSub.17/T44)","v":0},{"$f":"IF(CENÁRIOS!$H$18=TRUE,IF(PM.17=\"\",\"-\",IF(OR(RfD.ig.cn.17=\"-\",RfD.ig.cn.17=\"\",RfD.ig.cn.17=0,FT!Q24=\"-\"),\"-\",((THI*RfD.ig.cn.17)/(FT!Q24*IF.SoloSub.Lix.AS.a.nc))*10^3)),\"-\")","v":"-"},{"$f":"IF(OR(V44=\"-\",V44=\"-\"),0,Cf.SoloSub.17/V44)","v":0},{"$f":"IF(CENÁRIOS!$I$18=TRUE,IF(PM.17=\"\",\"-\",IF(OR(RfD.ig.cn.17=\"-\",RfD.ig.cn.17=\"\",RfD.ig.cn.17=0,FT!Q24=\"-\",DAF.17=\"-\"),\"-\",((THI*RfD.ig.cn.17)/((FT!Q24*DAF.17)*IF.SoloSub.Lix.AS.a.nc))*10^3)),\"-\")","v":"-"},{"$f":"IF(OR(X44=\"-\",X44=\"-\"),0,Cf.SoloSub.17/X44)","v":0}]
[null,18,{"$f":"SQI!D26","v":0},{"$f":"SQI!C26","v":""},"C",{"$f":"IF(CENÁRIOS!$H$11=TRUE,IF(PM.18=\"\",\"-\",IF(OR(Sf.in.18=\"-\",Sf.in.18=\"\",Sf.in.18=0,FT!M25=\"-\"),\"-\",IF(ISERROR(TR/(FT!M25*IF.Solo.Ina.Vap.a.c*Sf.in.18)),\"-\",(TR/(FT!M25*IF.Solo.Ina.Vap.a.c*Sf.in.18))))),\"-\")","v":"-"},{"$f":"IF(OR(F45=\"-\",F45=\"-\"),0,Cf.SoloSup.18/F45)","v":0},{"$f":"IF(CENÁRIOS!$H$12=TRUE,IF(PM.18=\"\",\"-\",IF(OR(Sf.in.18=\"-\",Sf.in.18=\"\",Sf.in.18=0,FT!N25=\"-\"),\"-\",(TR/(FT!N25*IF.Solo.Ina.Par.a.c*Sf.in.18)))),\"-\")","v":"-"},{"$f":"IF(OR(H45=\"-\",H45=\"-\"),0,Cf.SoloSup.18/H45)","v":0},{"$f":"IF(CENÁRIOS!$H$13=TRUE,IF(PM.18=\"\",\"-\",IF(OR(Sf.dm.18=\"-\",Sf.dm.18=\"\",Sf.dm.18=0,ABSd.18=0,ABSd.18=\"\"),\"-\",(TR/(ABSd.18*IF.Solo.Con.Der.a.c*Sf.dm.18)))),\"-\")","v":"-"},{"$f":"IF(OR(J45=\"-\",J45=\"-\"),0,Cf.SoloSup.18/J45)","v":0},{"$f":"IF(CENÁRIOS!$H$14=TRUE,IF(PM.18=\"\",\"-\",IF(OR(Sf.ig.18=\"-\",Sf.ig.18=\"\",Sf.ig.18=0),\"-\",(TR/(IF.Solo.Ing.a.c*Biodisp.18*Sf.ig.18)))),\"-\")","v":"-"},{"$f":"IF(OR(L45=\"-\",L45=\"-\"),0,Cf.SoloSup.18/L45)","v":0},{"$f":"IF(CENÁRIOS!$H$15=TRUE,IF(OR(PM.18=\"\",Tipo.18<>\"METAL\"),\"-\",IF(OR(Sf.ig.18=\"-\",Sf.ig.18=\"\",Sf.ig.18=0,cdpx.18=\"-\",BCF.18=\"-\"),\"-\",(TR/((IF.Solo.Ing.Veg.c.i*Sf.ig.18)*(IRL.i*((BCFF.18+cdpx.18)/frbveg)+(IRR.i*(BCF.18/frkveg))))))),\"-\")","v":"-"},{"$f":"IF(OR(N45=\"-\",N45=\"-\"),0,Cf.SoloSup.18/N45)","v":0},{"$f":"IF(CENÁRIOS!$H$15=TRUE,IF(OR(PM.18=\"\",Tipo.18=\"METAL\"),\"-\",IF(OR(Sf.ig.18=\"-\",Sf.ig.18=\"\",Sf.ig.18=0,cdpx.18=\"-\",pw.18=\"-\",BCFR.18=\"-\",a.18=\"-\"),\"-\",(TR/((IF.Solo.Ing.Veg.c.i*Sf.ig.18)*(IRL.i*(((ps*pw.18*tscf.18*Qveg)/(Vwveg*pplantveg*a.18*Vlveg))+cdpx.18*fdwsveg)+(IRR.i*BCFR.18)))))),\"-\")","v":"-"},{"$f":"IF(OR(P45=\"-\",P45=\"-\"),0,Cf.SoloSup.18/P45)","v":0},{"$f":"IF(CENÁRIOS!$H$16=TRUE,IF(PM.18=\"\",\"-\",IF(OR(Sf.in.18=\"-\",Sf.in.18=\"\",Sf.in.18=0,Sf.in.18=0,FT!O25=\"-\"),\"-\",IF(ISERROR(TR/(FT!O25*IF.SoloSub.Ina.Abe.a.c*Sf.in.18)),\"-\",(TR/(FT!O25*IF.SoloSub.Ina.Abe.a.c*Sf.in.18))))),\"-\")","v":"-"},{"$f":"IF(OR(R45=\"-\",R45=\"-\"),0,Cf.SoloSub.18/R45)","v":0},{"$f":"IF(CENÁRIOS!$H$17=TRUE,IF(PM.18=\"\",\"-\",IF(OR(Sf.in.18=\"-\",Sf.in.18=\"\",Sf.in.18=0,FT!P25=\"-\"),\"-\",IF(ISERROR(TR/(FT!P25*IF.SoloSub.Ina.Fec.a.c*Sf.in.18)),\"-\",(TR/(FT!P25*IF.SoloSub.Ina.Fec.a.c*Sf.in.18))))),\"-\")","v":"-"},{"$f":"IF(OR(T45=\"-\",T45=\"-\"),0,Cf.SoloSub.18/T45)","v":0},{"$f":"IF(CENÁRIOS!$H$18=TRUE,IF(PM.18=\"\",\"-\",IF(OR(Sf.ig.18=\"-\",Sf.ig.18=\"\",Sf.ig.18=0,FT!Q25=\"-\"),\"-\",(TR/(FT!Q25*IF.SoloSub.Lix.AS.a.c*Sf.ig.18))*10^3)),\"-\")","v":"-"},{"$f":"IF(OR(V45=\"-\",V45=\"-\"),0,Cf.SoloSub.18/V45)","v":0},{"$f":"IF(CENÁRIOS!$I$18=TRUE,IF(PM.18=\"\",\"-\",IF(OR(Sf.ig.18=\"-\",Sf.ig.18=\"\",Sf.ig.18=0,FT!Q25=\"-\",DAF.18=\"-\"),\"-\",(TR/((FT!Q25*DAF.18)*IF.SoloSub.Lix.AS.a.c*Sf.ig.18))*10^3)),\"-\")","v":"-"},{"$f":"IF(OR(X45=\"-\",X45=\"-\"),0,Cf.SoloSub.18/X45)","v":0}]
[null,null,null,null,"NC",{"$f":"IF(CENÁRIOS!$H$11=TRUE,IF(PM.18=\"\",\"-\",IF(OR(RfD.in.cn.18=\"-\",RfD.in.cn.18=\"\",RfD.in.cn.18=0,FT!M25=\"-\"),\"-\",((THI*RfD.in.cn.18)/(FT!M25*IF.Solo.Ina.Vap.a.nc)))),\"-\")","v":"-"},{"$f":"IF(OR(F46=\"-\",F46=\"-\"),0,Cf.SoloSup.18/F46)","v":0},{"$f":"IF(CENÁRIOS!$H$12=TRUE,IF(PM.18=\"\",\"-\",IF(OR(RfD.in.cn.18=\"-\",RfD.in.cn.18=\"\",RfD.in.cn.18=0,FT!N25=\"-\"),\"-\",((THI*RfD.in.cn.18)/(FT!N25*IF.Solo.Ina.Par.a.nc)))),\"-\")","v":"-"},{"$f":"IF(OR(H46=\"-\",H46=\"-\"),0,Cf.SoloSup.18/H46)","v":0},{"$f":"IF(CENÁRIOS!$H$13=TRUE,IF(PM.18=\"\",\"-\",IF(OR(RfD.dm.cn.18=\"-\",RfD.dm.cn.18=\"\",RfD.dm.cn.18=0,ABSd.18=0,ABSd.18=\"\"),\"-\",((THI*RfD.dm.cn.18)/(ABSd.18*IF.Solo.Con.Der.a.nc)))),\"-\")","v":"-"},{"$f":"IF(OR(J46=\"-\",J46=\"-\"),0,Cf.SoloSup.18/J46)","v":0},{"$f":"IF(CENÁRIOS!$H$14=TRUE,IF(PM.18=\"\",\"-\",IF(OR(RfD.ig.cn.18=\"-\",RfD.ig.cn.18=\"\",RfD.ig.cn.18=0),\"-\",((THI*RfD.ig.cn.18)/(IF.Solo.Ing.a.nc*Biodisp.18)))),\"-\")","v":"-"},{"$f":"IF(OR(L46=\"-\",L46=\"-\"),0,Cf.SoloSup.18/L46)","v":0},{"$f":"IF(CENÁRIOS!$H$15=TRUE,IF(OR(PM.18=\"\",Tipo.18<>\"METAL\"),\"-\",IF(OR(RfD.ig.cn.18=\"-\",RfD.ig.cn.18=\"\",RfD.ig.cn.18=0,cdpx.18=\"-\",BCF.18=\"-\"),\"-\",((THI*RfD.ig.cn.18)/((IF.Solo.Ing.Veg.nc.i)*(IRL.i*((BCFF.18+cdpx.18)/frbveg)+(IRR.i*(BCF.18/frkveg))))))),\"-\")","v":"-"},{"$f":"IF(OR(N46=\"-\",N46=\"-\"),0,Cf.SoloSup.18/N46)","v":0},{"$f":"IF(CENÁRIOS!$H$15=TRUE,IF(OR(PM.18=\"\",Tipo.18=\"METAL\"),\"-\",IF(OR(RfD.ig.cn.18=\"-\",RfD.ig.cn.18=\"\",RfD.ig.cn.18=0,cdpx.18=\"-\",pw.18=\"-\",BCFR.18=\"-\",a.18=\"-\"),\"-\",((THI*RfD.ig.cn.18)/((IF.Solo.Ing.Veg.nc.i)*(IRL.i*(((ps*pw.18*tscf.18*Qveg)/(Vwveg*pplantveg*a.18*Vlveg))+cdpx.18*fdwsveg)+(IRR.i*BCFR.18)))))),\"-\")","v":"-"},{"$f":"IF(OR(P46=\"-\",P46=\"-\"),0,Cf.SoloSup.18/P46)","v":0},{"$f":"IF(CENÁRIOS!$H$16=TRUE,IF(PM.18=\"\",\"-\",IF(OR(RfD.in.cn.18=\"-\",RfD.in.cn.18=\"\",RfD.in.cn.18=0,FT!O25=\"-\"),\"-\",((THI*RfD.in.cn.18)/(FT!O25*IF.SoloSub.Ina.Abe.a.nc)))),\"-\")","v":"-"},{"$f":"IF(OR(R46=\"-\",R46=\"-\"),0,Cf.SoloSub.18/R46)","v":0},{"$f":"IF(CENÁRIOS!$H$17=TRUE,IF(PM.18=\"\",\"-\",IF(OR(RfD.in.cn.18=\"-\",RfD.in.cn.18=\"\",RfD.in.cn.18=0,FT!P25=\"-\"),\"-\",((THI*RfD.in.cn.18)/(FT!P25*IF.SoloSub.Ina.Fec.a.nc)))),\"-\")","v":"-"},{"$f":"IF(OR(T46=\"-\",T46=\"-\"),0,Cf.SoloSub.18/T46)","v":0},{"$f":"IF(CENÁRIOS!$H$18=TRUE,IF(PM.18=\"\",\"-\",IF(OR(RfD.ig.cn.18=\"-\",RfD.ig.cn.18=\"\",RfD.ig.cn.18=0,FT!Q25=\"-\"),\"-\",((THI*RfD.ig.cn.18)/(FT!Q25*IF.SoloSub.Lix.AS.a.nc))*10^3)),\"-\")","v":"-"},{"$f":"IF(OR(V46=\"-\",V46=\"-\"),0,Cf.SoloSub.18/V46)","v":0},{"$f":"IF(CENÁRIOS!$I$18=TRUE,IF(PM.18=\"\",\"-\",IF(OR(RfD.ig.cn.18=\"-\",RfD.ig.cn.18=\"\",RfD.ig.cn.18=0,FT!Q25=\"-\",DAF.18=\"-\"),\"-\",((THI*RfD.ig.cn.18)/((FT!Q25*DAF.18)*IF.SoloSub.Lix.AS.a.nc))*10^3)),\"-\")","v":"-"},{"$f":"IF(OR(X46=\"-\",X46=\"-\"),0,Cf.SoloSub.18/X46)","v":0}]
[null,19,{"$f":"SQI!D27","v":0},{"$f":"SQI!C27","v":""},"C",{"$f":"IF(CENÁRIOS!$H$11=TRUE,IF(PM.19=\"\",\"-\",IF(OR(Sf.in.19=\"-\",Sf.in.19=\"\",Sf.in.19=0,FT!M26=\"-\"),\"-\",IF(ISERROR(TR/(FT!M26*IF.Solo.Ina.Vap.a.c*Sf.in.19)),\"-\",(TR/(FT!M26*IF.Solo.Ina.Vap.a.c*Sf.in.19))))),\"-\")","v":"-"},{"$f":"IF(OR(F47=\"-\",F47=\"-\"),0,Cf.SoloSup.19/F47)","v":0},{"$f":"IF(CENÁRIOS!$H$12=TRUE,IF(PM.19=\"\",\"-\",IF(OR(Sf.in.19=\"-\",Sf.in.19=\"\",Sf.in.19=0,FT!N26=\"-\"),\"-\",(TR/(FT!N26*IF.Solo.Ina.Par.a.c*Sf.in.19)))),\"-\")","v":"-"},{"$f":"IF(OR(H47=\"-\",H47=\"-\"),0,Cf.SoloSup.19/H47)","v":0},{"$f":"IF(CENÁRIOS!$H$13=TRUE,IF(PM.19=\"\",\"-\",IF(OR(Sf.dm.19=\"-\",Sf.dm.19=\"\",Sf.dm.19=0,ABSd.19=0,ABSd.19=\"\"),\"-\",(TR/(ABSd.19*IF.Solo.Con.Der.a.c*Sf.dm.19)))),\"-\")","v":"-"},{"$f":"IF(OR(J47=\"-\",J47=\"-\"),0,Cf.SoloSup.19/J47)","v":0},{"$f":"IF(CENÁRIOS!$H$14=TRUE,IF(PM.19=\"\",\"-\",IF(OR(Sf.ig.19=\"-\",Sf.ig.19=\"\",Sf.ig.19=0),\"-\",(TR/(IF.Solo.Ing.a.c*Biodisp.19*Sf.ig.19)))),\"-\")","v":"-"},{"$f":"IF(OR(L47=\"-\",L47=\"-\"),0,Cf.SoloSup.19/L47)","v":0},{"$f":"IF(CENÁRIOS!$H$15=TRUE,IF(OR(PM.19=\"\",Tipo.19<>\"METAL\"),\"-\",IF(OR(Sf.ig.19=\"-\",Sf.ig.19=\"\",Sf.ig.19=0,cdpx.19=\"-\",BCF.19=\"-\"),\"-\",(TR/((IF.Solo.Ing.Veg.c.i*Sf.ig.19)*(IRL.i*((BCFF.19+cdpx.19)/frbveg)+(IRR.i*(BCF.19/frkveg))))))),\"-\")","v":"-"},{"$f":"IF(OR(N47=\"-\",N47=\"-\"),0,Cf.SoloSup.19/N47)","v":0},{"$f":"IF(CENÁRIOS!$H$15=TRUE,IF(OR(PM.19=\"\",Tipo.19=\"METAL\"),\"-\",IF(OR(Sf.ig.19=\"-\",Sf.ig.19=\"\",Sf.ig.19=0,cdpx.19=\"-\",pw.19=\"-\",BCFR.19=\"-\",a.19=\"-\"),\"-\",(TR/((IF.Solo.Ing.Veg.c.i*Sf.ig.19)*(IRL.i*(((ps*pw.19*tscf.19*Qveg)/(Vwveg*pplantveg*a.19*Vlveg))+cdpx.19*fdwsveg)+(IRR.i*BCFR.19)))))),\"-\")","v":"-"},{"$f":"IF(OR(P47=\"-\",P47=\"-\"),0,Cf.SoloSup.19/P47)","v":0},{"$f":"IF(CENÁRIOS!$H$16=TRUE,IF(PM.19=\"\",\"-\",IF(OR(Sf.in.19=\"-\",Sf.in.19=\"\",Sf.in.19=0,Sf.in.19=0,FT!O26=\"-\"),\"-\",IF(ISERROR(TR/(FT!O26*IF.SoloSub.Ina.Abe.a.c*Sf.in.19)),\"-\",(TR/(FT!O26*IF.SoloSub.Ina.Abe.a.c*Sf.in.19))))),\"-\")","v":"-"},{"$f":"IF(OR(R47=\"-\",R47=\"-\"),0,Cf.SoloSub.19/R47)","v":0},{"$f":"IF(CENÁRIOS!$H$17=TRUE,IF(PM.19=\"\",\"-\",IF(OR(Sf.in.19=\"-\",Sf.in.19=\"\",Sf.in.19=0,FT!P26=\"-\"),\"-\",IF(ISERROR(TR/(FT!P26*IF.SoloSub.Ina.Fec.a.c*Sf.in.19)),\"-\",(TR/(FT!P26*IF.SoloSub.Ina.Fec.a.c*Sf.in.19))))),\"-\")","v":"-"},{"$f":"IF(OR(T47=\"-\",T47=\"-\"),0,Cf.SoloSub.19/T47)","v":0},{"$f":"IF(CENÁRIOS!$H$18=TRUE,IF(PM.19=\"\",\"-\",IF(OR(Sf.ig.19=\"-\",Sf.ig.19=\"\",Sf.ig.19=0,FT!Q26=\"-\"),\"-\",(TR/(FT!Q26*IF.SoloSub.Lix.AS.a.c*Sf.ig.19))*10^3)),\"-\")","v":"-"},{"$f":"IF(OR(V47=\"-\",V47=\"-\"),0,Cf.SoloSub.19/V47)","v":0},{"$f":"IF(CENÁRIOS!$I$18=TRUE,IF(PM.19=\"\",\"-\",IF(OR(Sf.ig.19=\"-\",Sf.ig.19=\"\",Sf.ig.19=0,FT!Q26=\"-\",DAF.19=\"-\"),\"-\",(TR/((FT!Q26*DAF.19)*IF.SoloSub.Lix.AS.a.c*Sf.ig.19))*10^3)),\"-\")","v":"-"},{"$f":"IF(OR(X47=\"-\",X47=\"-\"),0,Cf.SoloSub.19/X47)","v":0}]
[null,null,null,null,"NC",{"$f":"IF(CENÁRIOS!$H$11=TRUE,IF(PM.19=\"\",\"-\",IF(OR(RfD.in.cn.19=\"-\",RfD.in.cn.19=\"\",RfD.in.cn.19=0,FT!M26=\"-\"),\"-\",((THI*RfD.in.cn.19)/(FT!M26*IF.Solo.Ina.Vap.a.nc)))),\"-\")","v":"-"},{"$f":"IF(OR(F48=\"-\",F48=\"-\"),0,Cf.SoloSup.19/F48)","v":0},{"$f":"IF(CENÁRIOS!$H$12=TRUE,IF(PM.19=\"\",\"-\",IF(OR(RfD.in.cn.19=\"-\",RfD.in.cn.19=\"\",RfD.in.cn.19=0,FT!N26=\"-\"),\"-\",((THI*RfD.in.cn.19)/(FT!N26*IF.Solo.Ina.Par.a.nc)))),\"-\")","v":"-"},{"$f":"IF(OR(H48=\"-\",H48=\"-\"),0,Cf.SoloSup.19/H48)","v":0},{"$f":"IF(CENÁRIOS!$H$13=TRUE,IF(PM.19=\"\",\"-\",IF(OR(RfD.dm.cn.19=\"-\",RfD.dm.cn.19=\"\",RfD.dm.cn.19=0,ABSd.19=0,ABSd.19=\"\"),\"-\",((THI*RfD.dm.cn.19)/(ABSd.19*IF.Solo.Con.Der.a.nc)))),\"-\")","v":"-"},{"$f":"IF(OR(J48=\"-\",J48=\"-\"),0,Cf.SoloSup.19/J48)","v":0},{"$f":"IF(CENÁRIOS!$H$14=TRUE,IF(PM.19=\"\",\"-\",IF(OR(RfD.ig.cn.19=\"-\",RfD.ig.cn.19=\"\",RfD.ig.cn.19=0),\"-\",((THI*RfD.ig.cn.19)/(IF.Solo.Ing.a.nc*Biodisp.19)))),\"-\")","v":"-"},{"$f":"IF(OR(L48=\"-\",L48=\"-\"),0,Cf.SoloSup.19/L48)","v":0},{"$f":"IF(CENÁRIOS!$H$15=TRUE,IF(OR(PM.19=\"\",Tipo.19<>\"METAL\"),\"-\",IF(OR(RfD.ig.cn.19=\"-\",RfD.ig.cn.19=\"\",RfD.ig.cn.19=0,cdpx.19=\"-\",BCF.19=\"-\"),\"-\",((THI*RfD.ig.cn.19)/((IF.Solo.Ing.Veg.nc.i)*(IRL.i*((BCFF.19+cdpx.19)/frbveg)+(IRR.i*(BCF.19/frkveg))))))),\"-\")","v":"-"},{"$f":"IF(OR(N48=\"-\",N48=\"-\"),0,Cf.SoloSup.19/N48)","v":0},{"$f":"IF(CENÁRIOS!$H$15=TRUE,IF(OR(PM.19=\"\",Tipo.19=\"METAL\"),\"-\",IF(OR(RfD.ig.cn.19=\"-\",RfD.ig.cn.19=\"\",RfD.ig.cn.19=0,cdpx.19=\"-\",pw.19=\"-\",BCFR.19=\"-\",a.19=\"-\"),\"-\",((THI*RfD.ig.cn.19)/((IF.Solo.Ing.Veg.nc.i)*(IRL.i*(((ps*pw.19*tscf.19*Qveg)/(Vwveg*pplantveg*a.19*Vlveg))+cdpx.19*fdwsveg)+(IRR.i*BCFR.19)))))),\"-\")","v":"-"},{"$f":"IF(OR(P48=\"-\",P48=\"-\"),0,Cf.SoloSup.19/P48)","v":0},{"$f":"IF(CENÁRIOS!$H$16=TRUE,IF(PM.19=\"\",\"-\",IF(OR(RfD.in.cn.19=\"-\",RfD.in.cn.19=\"\",RfD.in.cn.19=0,FT!O26=\"-\"),\"-\",((THI*RfD.in.cn.19)/(FT!O26*IF.SoloSub.Ina.Abe.a.nc)))),\"-\")","v":"-"},{"$f":"IF(OR(R48=\"-\",R48=\"-\"),0,Cf.SoloSub.19/R48)","v":0},{"$f":"IF(CENÁRIOS!$H$17=TRUE,IF(PM.19=\"\",\"-\",IF(OR(RfD.in.cn.19=\"-\",RfD.in.cn.19=\"\",RfD.in.cn.19=0,FT!P26=\"-\"),\"-\",((THI*RfD.in.cn.19)/(FT!P26*IF.SoloSub.Ina.Fec.a.nc)))),\"-\")","v":"-"},{"$f":"IF(OR(T48=\"-\",T48=\"-\"),0,Cf.SoloSub.19/T48)","v":0},{"$f":"IF(CENÁRIOS!$H$18=TRUE,IF(PM.19=\"\",\"-\",IF(OR(RfD.ig.cn.19=\"-\",RfD.ig.cn.19=\"\",RfD.ig.cn.19=0,FT!Q26=\"-\"),\"-\",((THI*RfD.ig.cn.19)/(FT!Q26*IF.SoloSub.Lix.AS.a.nc))*10^3)),\"-\")","v":"-"},{"$f":"IF(OR(V48=\"-\",V48=\"-\"),0,Cf.SoloSub.19/V48)","v":0},{"$f":"IF(CENÁRIOS!$I$18=TRUE,IF(PM.19=\"\",\"-\",IF(OR(RfD.ig.cn.19=\"-\",RfD.ig.cn.19=\"\",RfD.ig.cn.19=0,FT!Q26=\"-\",DAF.19=\"-\"),\"-\",((THI*RfD.ig.cn.19)/((FT!Q26*DAF.19)*IF.SoloSub.Lix.AS.a.nc))*10^3)),\"-\")","v":"-"},{"$f":"IF(OR(X48=\"-\",X48=\"-\"),0,Cf.SoloSub.19/X48)","v":0}]
[null,20,{"$f":"SQI!D28","v":0},{"$f":"SQI!C28","v":""},"C",{"$f":"IF(CENÁRIOS!$H$11=TRUE,IF(PM.20=\"\",\"-\",IF(OR(Sf.in.20=\"-\",Sf.in.20=\"\",Sf.in.20=0,FT!M27=\"-\"),\"-\",IF(ISERROR(TR/(FT!M27*IF.Solo.Ina.Vap.a.c*Sf.in.20)),\"-\",(TR/(FT!M27*IF.Solo.Ina.Vap.a.c*Sf.in.20))))),\"-\")","v":"-"},{"$f":"IF(OR(F49=\"-\",F49=\"-\"),0,Cf.SoloSup.20/F49)","v":0},{"$f":"IF(CENÁRIOS!$H$12=TRUE,IF(PM.20=\"\",\"-\",IF(OR(Sf.in.20=\"-\",Sf.in.20=\"\",Sf.in.20=0,FT!N27=\"-\"),\"-\",(TR/(FT!N27*IF.Solo.Ina.Par.a.c*Sf.in.20)))),\"-\")","v":"-"},{"$f":"IF(OR(H49=\"-\",H49=\"-\"),0,Cf.SoloSup.20/H49)","v":0},{"$f":"IF(CENÁRIOS!$H$13=TRUE,IF(PM.20=\"\",\"-\",IF(OR(Sf.dm.20=\"-\",Sf.dm.20=\"\",Sf.dm.20=0,ABSd.20=0,ABSd.20=\"\"),\"-\",(TR/(ABSd.20*IF.Solo.Con.Der.a.c*Sf.dm.20)))),\"-\")","v":"-"},{"$f":"IF(OR(J49=\"-\",J49=\"-\"),0,Cf.SoloSup.20/J49)","v":0},{"$f":"IF(CENÁRIOS!$H$14=TRUE,IF(PM.20=\"\",\"-\",IF(OR(Sf.ig.20=\"-\",Sf.ig.20=\"\",Sf.ig.20=0),\"-\",(TR/(IF.Solo.Ing.a.c*Biodisp.20*Sf.ig.20)))),\"-\")","v":"-"},{"$f":"IF(OR(L49=\"-\",L49=\"-\"),0,Cf.SoloSup.20/L49)","v":0},{"$f":"IF(CENÁRIOS!$H$15=TRUE,IF(OR(PM.20=\"\",Tipo.20<>\"METAL\"),\"-\",IF(OR(Sf.ig.20=\"-\",Sf.ig.20=\"\",Sf.ig.20=0,cdpx.20=\"-\",BCF.20=\"-\"),\"-\",(TR/((IF.Solo.Ing.Veg.c.i*Sf.ig.20)*(IRL.i*((BCFF.20+cdpx.20)/frbveg)+(IRR.i*(BCF.20/frkveg))))))),\"-\")","v":"-"},{"$f":"IF(OR(N49=\"-\",N49=\"-\"),0,Cf.SoloSup.20/N49)","v":0},{"$f":"IF(CENÁRIOS!$H$15=TRUE,IF(OR(PM.20=\"\",Tipo.20=\"METAL\"),\"-\",IF(OR(Sf.ig.20=\"-\",Sf.ig.20=\"\",Sf.ig.20=0,cdpx.20=\"-\",pw.20=\"-\",BCFR.20=\"-\",a.20=\"-\"),\"-\",(TR/((IF.Solo.Ing.Veg.c.i*Sf.ig.20)*(IRL.i*(((ps*pw.20*tscf.20*Qveg)/(Vwveg*pplantveg*a.20*Vlveg))+cdpx.20*fdwsveg)+(IRR.i*BCFR.20)))))),\"-\")","v":"-"},{"$f":"IF(OR(P49=\"-\",P49=\"-\"),0,Cf.SoloSup.20/P49)","v":0},{"$f":"IF(CENÁRIOS!$H$16=TRUE,IF(PM.20=\"\",\"-\",IF(OR(Sf.in.20=\"-\",Sf.in.20=\"\",Sf.in.20=0,Sf.in.20=0,FT!O27=\"-\"),\"-\",IF(ISERROR(TR/(FT!O27*IF.SoloSub.Ina.Abe.a.c*Sf.in.20)),\"-\",(TR/(FT!O27*IF.SoloSub.Ina.Abe.a.c*Sf.in.20))))),\"-\")","v":"-"},{"$f":"IF(OR(R49=\"-\",R49=\"-\"),0,Cf.SoloSub.20/R49)","v":0},{"$f":"IF(CENÁRIOS!$H$17=TRUE,IF(PM.20=\"\",\"-\",IF(OR(Sf.in.20=\"-\",Sf.in.20=\"\",Sf.in.20=0,FT!P27=\"-\"),\"-\",IF(ISERROR(TR/(FT!P27*IF.SoloSub.Ina.Fec.a.c*Sf.in.20)),\"-\",(TR/(FT!P27*IF.SoloSub.Ina.Fec.a.c*Sf.in.20))))),\"-\")","v":"-"},{"$f":"IF(OR(T49=\"-\",T49=\"-\"),0,Cf.SoloSub.20/T49)","v":0},{"$f":"IF(CENÁRIOS!$H$18=TRUE,IF(PM.20=\"\",\"-\",IF(OR(Sf.ig.20=\"-\",Sf.ig.20=\"\",Sf.ig.20=0,FT!Q27=\"-\"),\"-\",(TR/(FT!Q27*IF.SoloSub.Lix.AS.a.c*Sf.ig.20))*10^3)),\"-\")","v":"-"},{"$f":"IF(OR(V49=\"-\",V49=\"-\"),0,Cf.SoloSub.20/V49)","v":0},{"$f":"IF(CENÁRIOS!$I$18=TRUE,IF(PM.20=\"\",\"-\",IF(OR(Sf.ig.20=\"-\",Sf.ig.20=\"\",Sf.ig.20=0,FT!Q27=\"-\",DAF.20=\"-\"),\"-\",(TR/((FT!Q27*DAF.20)*IF.SoloSub.Lix.AS.a.c*Sf.ig.20))*10^3)),\"-\")","v":"-"},{"$f":"IF(OR(X49=\"-\",X49=\"-\"),0,Cf.SoloSub.20/X49)","v":0}]
[null,null,null,null,"NC",{"$f":"IF(CENÁRIOS!$H$11=TRUE,IF(PM.20=\"\",\"-\",IF(OR(RfD.in.cn.20=\"-\",RfD.in.cn.20=\"\",RfD.in.cn.20=0,FT!M27=\"-\"),\"-\",((THI*RfD.in.cn.20)/(FT!M27*IF.Solo.Ina.Vap.a.nc)))),\"-\")","v":"-"},{"$f":"IF(OR(F50=\"-\",F50=\"-\"),0,Cf.SoloSup.20/F50)","v":0},{"$f":"IF(CENÁRIOS!$H$12=TRUE,IF(PM.20=\"\",\"-\",IF(OR(RfD.in.cn.20=\"-\",RfD.in.cn.20=\"\",RfD.in.cn.20=0,FT!N27=\"-\"),\"-\",((THI*RfD.in.cn.20)/(FT!N27*IF.Solo.Ina.Par.a.nc)))),\"-\")","v":"-"},{"$f":"IF(OR(H50=\"-\",H50=\"-\"),0,Cf.SoloSup.20/H50)","v":0},{"$f":"IF(CENÁRIOS!$H$13=TRUE,IF(PM.20=\"\",\"-\",IF(OR(RfD.dm.cn.20=\"-\",RfD.dm.cn.20=\"\",RfD.dm.cn.20=0,ABSd.20=0,ABSd.20=\"\"),\"-\",((THI*RfD.dm.cn.20)/(ABSd.20*IF.Solo.Con.Der.a.nc)))),\"-\")","v":"-"},{"$f":"IF(OR(J50=\"-\",J50=\"-\"),0,Cf.SoloSup.20/J50)","v":0},{"$f":"IF(CENÁRIOS!$H$14=TRUE,IF(PM.20=\"\",\"-\",IF(OR(RfD.ig.cn.20=\"-\",RfD.ig.cn.20=\"\",RfD.ig.cn.20=0),\"-\",((THI*RfD.ig.cn.20)/(IF.Solo.Ing.a.nc*Biodisp.20)))),\"-\")","v":"-"},{"$f":"IF(OR(L50=\"-\",L50=\"-\"),0,Cf.SoloSup.20/L50)","v":0},{"$f":"IF(CENÁRIOS!$H$15=TRUE,IF(OR(PM.20=\"\",Tipo.20<>\"METAL\"),\"-\",IF(OR(RfD.ig.cn.20=\"-\",RfD.ig.cn.20=\"\",RfD.ig.cn.20=0,cdpx.20=\"-\",BCF.20=\"-\"),\"-\",((THI*RfD.ig.cn.20)/((IF.Solo.Ing.Veg.nc.i)*(IRL.i*((BCFF.20+cdpx.20)/frbveg)+(IRR.i*(BCF.20/frkveg))))))),\"-\")","v":"-"},{"$f":"IF(OR(N50=\"-\",N50=\"-\"),0,Cf.SoloSup.20/N50)","v":0},{"$f":"IF(CENÁRIOS!$H$15=TRUE,IF(OR(PM.20=\"\",Tipo.20=\"METAL\"),\"-\",IF(OR(RfD.ig.cn.20=\"-\",RfD.ig.cn.20=\"\",RfD.ig.cn.20=0,cdpx.20=\"-\",pw.20=\"-\",BCFR.20=\"-\",a.20=\"-\"),\"-\",((THI*RfD.ig.cn.20)/((IF.Solo.Ing.Veg.nc.i)*(IRL.i*(((ps*pw.20*tscf.20*Qveg)/(Vwveg*pplantveg*a.20*Vlveg))+cdpx.20*fdwsveg)+(IRR.i*BCFR.20)))))),\"-\")","v":"-"},{"$f":"IF(OR(P50=\"-\",P50=\"-\"),0,Cf.SoloSup.20/P50)","v":0},{"$f":"IF(CENÁRIOS!$H$16=TRUE,IF(PM.20=\"\",\"-\",IF(OR(RfD.in.cn.20=\"-\",RfD.in.cn.20=\"\",RfD.in.cn.20=0,FT!O27=\"-\"),\"-\",((THI*RfD.in.cn.20)/(FT!O27*IF.SoloSub.Ina.Abe.a.nc)))),\"-\")","v":"-"},{"$f":"IF(OR(R50=\"-\",R50=\"-\"),0,Cf.SoloSub.20/R50)","v":0},{"$f":"IF(CENÁRIOS!$H$17=TRUE,IF(PM.20=\"\",\"-\",IF(OR(RfD.in.cn.20=\"-\",RfD.in.cn.20=\"\",RfD.in.cn.20=0,FT!P27=\"-\"),\"-\",((THI*RfD.in.cn.20)/(FT!P27*IF.SoloSub.Ina.Fec.a.nc)))),\"-\")","v":"-"},{"$f":"IF(OR(T50=\"-\",T50=\"-\"),0,Cf.SoloSub.20/T50)","v":0},{"$f":"IF(CENÁRIOS!$H$18=TRUE,IF(PM.20=\"\",\"-\",IF(OR(RfD.ig.cn.20=\"-\",RfD.ig.cn.20=\"\",RfD.ig.cn.20=0,FT!Q27=\"-\"),\"-\",((THI*RfD.ig.cn.20)/(FT!Q27*IF.SoloSub.Lix.AS.a.nc))*10^3)),\"-\")","v":"-"},{"$f":"IF(OR(V50=\"-\",V50=\"-\"),0,Cf.SoloSub.20/V50)","v":0},{"$f":"IF(CENÁRIOS!$I$18=TRUE,IF(PM.20=\"\",\"-\",IF(OR(RfD.ig.cn.20=\"-\",RfD.ig.cn.20=\"\",RfD.ig.cn.20=0,FT!Q27=\"-\",DAF.20=\"-\"),\"-\",((THI*RfD.ig.cn.20)/((FT!Q27*DAF.20)*IF.SoloSub.Lix.AS.a.nc))*10^3)),\"-\")","v":"-"},{"$f":"IF(OR(X50=\"-\",X50=\"-\"),0,Cf.SoloSub.20/X50)","v":0}]
[null,21,{"$f":"SQI!D29","v":0},{"$f":"SQI!C29","v":""},"C",{"$f":"IF(CENÁRIOS!$H$11=TRUE,IF(PM.21=\"\",\"-\",IF(OR(Sf.in.21=\"-\",Sf.in.21=\"\",Sf.in.21=0,FT!M28=\"-\"),\"-\",IF(ISERROR(TR/(FT!M28*IF.Solo.Ina.Vap.a.c*Sf.in.21)),\"-\",(TR/(FT!M28*IF.Solo.Ina.Vap.a.c*Sf.in.21))))),\"-\")","v":"-"},{"$f":"IF(OR(F51=\"-\",F51=\"-\"),0,Cf.SoloSup.21/F51)","v":0},{"$f":"IF(CENÁRIOS!$H$12=TRUE,IF(PM.21=\"\",\"-\",IF(OR(Sf.in.21=\"-\",Sf.in.21=\"\",Sf.in.21=0,FT!N28=\"-\"),\"-\",(TR/(FT!N28*IF.Solo.Ina.Par.a.c*Sf.in.21)))),\"-\")","v":"-"},{"$f":"IF(OR(H51=\"-\",H51=\"-\"),0,Cf.SoloSup.21/H51)","v":0},{"$f":"IF(CENÁRIOS!$H$13=TRUE,IF(PM.21=\"\",\"-\",IF(OR(Sf.dm.21=\"-\",Sf.dm.21=\"\",Sf.dm.21=0,ABSd.21=0,ABSd.21=\"\"),\"-\",(TR/(ABSd.21*IF.Solo.Con.Der.a.c*Sf.dm.21)))),\"-\")","v":"-"},{"$f":"IF(OR(J51=\"-\",J51=\"-\"),0,Cf.SoloSup.21/J51)","v":0},{"$f":"IF(CENÁRIOS!$H$14=TRUE,IF(PM.21=\"\",\"-\",IF(OR(Sf.ig.21=\"-\",Sf.ig.21=\"\",Sf.ig.21=0),\"-\",(TR/(IF.Solo.Ing.a.c*Biodisp.21*Sf.ig.21)))),\"-\")","v":"-"},{"$f":"IF(OR(L51=\"-\",L51=\"-\"),0,Cf.SoloSup.21/L51)","v":0},{"$f":"IF(CENÁRIOS!$H$15=TRUE,IF(OR(PM.21=\"\",Tipo.21<>\"METAL\"),\"-\",IF(OR(Sf.ig.21=\"-\",Sf.ig.21=\"\",Sf.ig.21=0,cdpx.21=\"-\",BCF.21=\"-\"),\"-\",(TR/((IF.Solo.Ing.Veg.c.i*Sf.ig.21)*(IRL.i*((BCFF.21+cdpx.21)/frbveg)+(IRR.i*(BCF.21/frkveg))))))),\"-\")","v":"-"},{"$f":"IF(OR(N51=\"-\",N51=\"-\"),0,Cf.SoloSup.21/N51)","v":0},{"$f":"IF(CENÁRIOS!$H$15=TRUE,IF(OR(PM.21=\"\",Tipo.21=\"METAL\"),\"-\",IF(OR(Sf.ig.21=\"-\",Sf.ig.21=\"\",Sf.ig.21=0,cdpx.21=\"-\",pw.21=\"-\",BCFR.21=\"-\",a.21=\"-\"),\"-\",(TR/((IF.Solo.Ing.Veg.c.i*Sf.ig.21)*(IRL.i*(((ps*pw.21*tscf.21*Qveg)/(Vwveg*pplantveg*a.21*Vlveg))+cdpx.21*fdwsveg)+(IRR.i*BCFR.21)))))),\"-\")","v":"-"},{"$f":"IF(OR(P51=\"-\",P51=\"-\"),0,Cf.SoloSup.21/P51)","v":0},{"$f":"IF(CENÁRIOS!$H$16=TRUE,IF(PM.21=\"\",\"-\",IF(OR(Sf.in.21=\"-\",Sf.in.21=\"\",Sf.in.21=0,Sf.in.21=0,FT!O28=\"-\"),\"-\",IF(ISERROR(TR/(FT!O28*IF.SoloSub.Ina.Abe.a.c*Sf.in.21)),\"-\",(TR/(FT!O28*IF.SoloSub.Ina.Abe.a.c*Sf.in.21))))),\"-\")","v":"-"},{"$f":"IF(OR(R51=\"-\",R51=\"-\"),0,Cf.SoloSub.21/R51)","v":0},{"$f":"IF(CENÁRIOS!$H$17=TRUE,IF(PM.21=\"\",\"-\",IF(OR(Sf.in.21=\"-\",Sf.in.21=\"\",Sf.in.21=0,FT!P28=\"-\"),\"-\",IF(ISERROR(TR/(FT!P28*IF.SoloSub.Ina.Fec.a.c*Sf.in.21)),\"-\",(TR/(FT!P28*IF.SoloSub.Ina.Fec.a.c*Sf.in.21))))),\"-\")","v":"-"},{"$f":"IF(OR(T51=\"-\",T51=\"-\"),0,Cf.SoloSub.21/T51)","v":0},{"$f":"IF(CENÁRIOS!$H$18=TRUE,IF(PM.21=\"\",\"-\",IF(OR(Sf.ig.21=\"-\",Sf.ig.21=\"\",Sf.ig.21=0,FT!Q28=\"-\"),\"-\",(TR/(FT!Q28*IF.SoloSub.Lix.AS.a.c*Sf.ig.21))*10^3)),\"-\")","v":"-"},{"$f":"IF(OR(V51=\"-\",V51=\"-\"),0,Cf.SoloSub.21/V51)","v":0},{"$f":"IF(CENÁRIOS!$I$18=TRUE,IF(PM.21=\"\",\"-\",IF(OR(Sf.ig.21=\"-\",Sf.ig.21=\"\",Sf.ig.21=0,FT!Q28=\"-\",DAF.21=\"-\"),\"-\",(TR/((FT!Q28*DAF.21)*IF.SoloSub.Lix.AS.a.c*Sf.ig.21))*10^3)),\"-\")","v":"-"},{"$f":"IF(OR(X51=\"-\",X51=\"-\"),0,Cf.SoloSub.21/X51)","v":0}]
[null,null,null,null,"NC",{"$f":"IF(CENÁRIOS!$H$11=TRUE,IF(PM.21=\"\",\"-\",IF(OR(RfD.in.cn.21=\"-\",RfD.in.cn.21=\"\",RfD.in.cn.21=0,FT!M28=\"-\"),\"-\",((THI*RfD.in.cn.21)/(FT!M28*IF.Solo.Ina.Vap.a.nc)))),\"-\")","v":"-"},{"$f":"IF(OR(F52=\"-\",F52=\"-\"),0,Cf.SoloSup.21/F52)","v":0},{"$f":"IF(CENÁRIOS!$H$12=TRUE,IF(PM.21=\"\",\"-\",IF(OR(RfD.in.cn.21=\"-\",RfD.in.cn.21=\"\",RfD.in.cn.21=0,FT!N28=\"-\"),\"-\",((THI*RfD.in.cn.21)/(FT!N28*IF.Solo.Ina.Par.a.nc)))),\"-\")","v":"-"},{"$f":"IF(OR(H52=\"-\",H52=\"-\"),0,Cf.SoloSup.21/H52)","v":0},{"$f":"IF(CENÁRIOS!$H$13=TRUE,IF(PM.21=\"\",\"-\",IF(OR(RfD.dm.cn.21=\"-\",RfD.dm.cn.21=\"\",RfD.dm.cn.21=0,ABSd.21=0,ABSd.21=\"\"),\"-\",((THI*RfD.dm.cn.21)/(ABSd.21*IF.Solo.Con.Der.a.nc)))),\"-\")","v":"-"},{"$f":"IF(OR(J52=\"-\",J52=\"-\"),0,Cf.SoloSup.21/J52)","v":0},{"$f":"IF(CENÁRIOS!$H$14=TRUE,IF(PM.21=\"\",\"-\",IF(OR(RfD.ig.cn.21=\"-\",RfD.ig.cn.21=\"\",RfD.ig.cn.21=0),\"-\",((THI*RfD.ig.cn.21)/(IF.Solo.Ing.a.nc*Biodisp.21)))),\"-\")","v":"-"},{"$f":"IF(OR(L52=\"-\",L52=\"-\"),0,Cf.SoloSup.21/L52)","v":0},{"$f":"IF(CENÁRIOS!$H$15=TRUE,IF(OR(PM.21=\"\",Tipo.21<>\"METAL\"),\"-\",IF(OR(RfD.ig.cn.21=\"-\",RfD.ig.cn.21=\"\",RfD.ig.cn.21=0,cdpx.21=\"-\",BCF.21=\"-\"),\"-\",((THI*RfD.ig.cn.21)/((IF.Solo.Ing.Veg.nc.i)*(IRL.i*((BCFF.21+cdpx.21)/frbveg)+(IRR.i*(BCF.21/frkveg))))))),\"-\")","v":"-"},{"$f":"IF(OR(N52=\"-\",N52=\"-\"),0,Cf.SoloSup.21/N52)","v":0},{"$f":"IF(CENÁRIOS!$H$15=TRUE,IF(OR(PM.21=\"\",Tipo.21=\"METAL\"),\"-\",IF(OR(RfD.ig.cn.21=\"-\",RfD.ig.cn.21=\"\",RfD.ig.cn.21=0,cdpx.21=\"-\",pw.21=\"-\",BCFR.21=\"-\",a.21=\"-\"),\"-\",((THI*RfD.ig.cn.21)/((IF.Solo.Ing.Veg.nc.i)*(IRL.i*(((ps*pw.21*tscf.21*Qveg)/(Vwveg*pplantveg*a.21*Vlveg))+cdpx.21*fdwsveg)+(IRR.i*BCFR.21)))))),\"-\")","v":"-"},{"$f":"IF(OR(P52=\"-\",P52=\"-\"),0,Cf.SoloSup.21/P52)","v":0},{"$f":"IF(CENÁRIOS!$H$16=TRUE,IF(PM.21=\"\",\"-\",IF(OR(RfD.in.cn.21=\"-\",RfD.in.cn.21=\"\",RfD.in.cn.21=0,FT!O28=\"-\"),\"-\",((THI*RfD.in.cn.21)/(FT!O28*IF.SoloSub.Ina.Abe.a.nc)))),\"-\")","v":"-"},{"$f":"IF(OR(R52=\"-\",R52=\"-\"),0,Cf.SoloSub.21/R52)","v":0},{"$f":"IF(CENÁRIOS!$H$17=TRUE,IF(PM.21=\"\",\"-\",IF(OR(RfD.in.cn.21=\"-\",RfD.in.cn.21=\"\",RfD.in.cn.21=0,FT!P28=\"-\"),\"-\",((THI*RfD.in.cn.21)/(FT!P28*IF.SoloSub.Ina.Fec.a.nc)))),\"-\")","v":"-"},{"$f":"IF(OR(T52=\"-\",T52=\"-\"),0,Cf.SoloSub.21/T52)","v":0},{"$f":"IF(CENÁRIOS!$H$18=TRUE,IF(PM.21=\"\",\"-\",IF(OR(RfD.ig.cn.21=\"-\",RfD.ig.cn.21=\"\",RfD.ig.cn.21=0,FT!Q28=\"-\"),\"-\",((THI*RfD.ig.cn.21)/(FT!Q28*IF.SoloSub.Lix.AS.a.nc))*10^3)),\"-\")","v":"-"},{"$f":"IF(OR(V52=\"-\",V52=\"-\"),0,Cf.SoloSub.21/V52)","v":0},{"$f":"IF(CENÁRIOS!$I$18=TRUE,IF(PM.21=\"\",\"-\",IF(OR(RfD.ig.cn.21=\"-\",RfD.ig.cn.21=\"\",RfD.ig.cn.21=0,FT!Q28=\"-\",DAF.21=\"-\"),\"-\",((THI*RfD.ig.cn.21)/((FT!Q28*DAF.21)*IF.SoloSub.Lix.AS.a.nc))*10^3)),\"-\")","v":"-"},{"$f":"IF(OR(X52=\"-\",X52=\"-\"),0,Cf.SoloSub.21/X52)","v":0}]
[null,22,{"$f":"SQI!D30","v":0},{"$f":"SQI!C30","v":""},"C",{"$f":"IF(CENÁRIOS!$H$11=TRUE,IF(PM.22=\"\",\"-\",IF(OR(Sf.in.22=\"-\",Sf.in.22=\"\",Sf.in.22=0,FT!M29=\"-\"),\"-\",IF(ISERROR(TR/(FT!M29*IF.Solo.Ina.Vap.a.c*Sf.in.22)),\"-\",(TR/(FT!M29*IF.Solo.Ina.Vap.a.c*Sf.in.22))))),\"-\")","v":"-"},{"$f":"IF(OR(F53=\"-\",F53=\"-\"),0,Cf.SoloSup.22/F53)","v":0},{"$f":"IF(CENÁRIOS!$H$12=TRUE,IF(PM.22=\"\",\"-\",IF(OR(Sf.in.22=\"-\",Sf.in.22=\"\",Sf.in.22=0,FT!N29=\"-\"),\"-\",(TR/(FT!N29*IF.Solo.Ina.Par.a.c*Sf.in.22)))),\"-\")","v":"-"},{"$f":"IF(OR(H53=\"-\",H53=\"-\"),0,Cf.SoloSup.22/H53)","v":0},{"$f":"IF(CENÁRIOS!$H$13=TRUE,IF(PM.22=\"\",\"-\",IF(OR(Sf.dm.22=\"-\",Sf.dm.22=\"\",Sf.dm.22=0,ABSd.22=0,ABSd.22=\"\"),\"-\",(TR/(ABSd.22*IF.Solo.Con.Der.a.c*Sf.dm.22)))),\"-\")","v":"-"},{"$f":"IF(OR(J53=\"-\",J53=\"-\"),0,Cf.SoloSup.22/J53)","v":0},{"$f":"IF(CENÁRIOS!$H$14=TRUE,IF(PM.22=\"\",\"-\",IF(OR(Sf.ig.22=\"-\",Sf.ig.22=\"\",Sf.ig.22=0),\"-\",(TR/(IF.Solo.Ing.a.c*Biodisp.22*Sf.ig.22)))),\"-\")","v":"-"},{"$f":"IF(OR(L53=\"-\",L53=\"-\"),0,Cf.SoloSup.22/L53)","v":0},{"$f":"IF(CENÁRIOS!$H$15=TRUE,IF(OR(PM.22=\"\",Tipo.22<>\"METAL\"),\"-\",IF(OR(Sf.ig.22=\"-\",Sf.ig.22=\"\",Sf.ig.22=0,cdpx.22=\"-\",BCF.22=\"-\"),\"-\",(TR/((IF.Solo.Ing.Veg.c.i*Sf.ig.22)*(IRL.i*((BCFF.22+cdpx.22)/frbveg)+(IRR.i*(BCF.22/frkveg))))))),\"-\")","v":"-"},{"$f":"IF(OR(N53=\"-\",N53=\"-\"),0,Cf.SoloSup.22/N53)","v":0},{"$f":"IF(CENÁRIOS!$H$15=TRUE,IF(OR(PM.22=\"\",Tipo.22=\"METAL\"),\"-\",IF(OR(Sf.ig.22=\"-\",Sf.ig.22=\"\",Sf.ig.22=0,cdpx.22=\"-\",pw.22=\"-\",BCFR.22=\"-\",a.22=\"-\"),\"-\",(TR/((IF.Solo.Ing.Veg.c.i*Sf.ig.22)*(IRL.i*(((ps*pw.22*tscf.22*Qveg)/(Vwveg*pplantveg*a.22*Vlveg))+cdpx.22*fdwsveg)+(IRR.i*BCFR.22)))))),\"-\")","v":"-"},{"$f":"IF(OR(P53=\"-\",P53=\"-\"),0,Cf.SoloSup.22/P53)","v":0},{"$f":"IF(CENÁRIOS!$H$16=TRUE,IF(PM.22=\"\",\"-\",IF(OR(Sf.in.22=\"-\",Sf.in.22=\"\",Sf.in.22=0,Sf.in.22=0,FT!O29=\"-\"),\"-\",IF(ISERROR(TR/(FT!O29*IF.SoloSub.Ina.Abe.a.c*Sf.in.22)),\"-\",(TR/(FT!O29*IF.SoloSub.Ina.Abe.a.c*Sf.in.22))))),\"-\")","v":"-"},{"$f":"IF(OR(R53=\"-\",R53=\"-\"),0,Cf.SoloSub.22/R53)","v":0},{"$f":"IF(CENÁRIOS!$H$17=TRUE,IF(PM.22=\"\",\"-\",IF(OR(Sf.in.22=\"-\",Sf.in.22=\"\",Sf.in.22=0,FT!P29=\"-\"),\"-\",IF(ISERROR(TR/(FT!P29*IF.SoloSub.Ina.Fec.a.c*Sf.in.22)),\"-\",(TR/(FT!P29*IF.SoloSub.Ina.Fec.a.c*Sf.in.22))))),\"-\")","v":"-"},{"$f":"IF(OR(T53=\"-\",T53=\"-\"),0,Cf.SoloSub.22/T53)","v":0},{"$f":"IF(CENÁRIOS!$H$18=TRUE,IF(PM.22=\"\",\"-\",IF(OR(Sf.ig.22=\"-\",Sf.ig.22=\"\",Sf.ig.22=0,FT!Q29=\"-\"),\"-\",(TR/(FT!Q29*IF.SoloSub.Lix.AS.a.c*Sf.ig.22))*10^3)),\"-\")","v":"-"},{"$f":"IF(OR(V53=\"-\",V53=\"-\"),0,Cf.SoloSub.22/V53)","v":0},{"$f":"IF(CENÁRIOS!$I$18=TRUE,IF(PM.22=\"\",\"-\",IF(OR(Sf.ig.22=\"-\",Sf.ig.22=\"\",Sf.ig.22=0,FT!Q29=\"-\",DAF.22=\"-\"),\"-\",(TR/((FT!Q29*DAF.22)*IF.SoloSub.Lix.AS.a.c*Sf.ig.22))*10^3)),\"-\")","v":"-"},{"$f":"IF(OR(X53=\"-\",X53=\"-\"),0,Cf.SoloSub.22/X53)","v":0}]
[null,null,null,null,"NC",{"$f":"IF(CENÁRIOS!$H$11=TRUE,IF(PM.22=\"\",\"-\",IF(OR(RfD.in.cn.22=\"-\",RfD.in.cn.22=\"\",RfD.in.cn.22=0,FT!M29=\"-\"),\"-\",((THI*RfD.in.cn.22)/(FT!M29*IF.Solo.Ina.Vap.a.nc)))),\"-\")","v":"-"},{"$f":"IF(OR(F54=\"-\",F54=\"-\"),0,Cf.SoloSup.22/F54)","v":0},{"$f":"IF(CENÁRIOS!$H$12=TRUE,IF(PM.22=\"\",\"-\",IF(OR(RfD.in.cn.22=\"-\",RfD.in.cn.22=\"\",RfD.in.cn.22=0,FT!N29=\"-\"),\"-\",((THI*RfD.in.cn.22)/(FT!N29*IF.Solo.Ina.Par.a.nc)))),\"-\")","v":"-"},{"$f":"IF(OR(H54=\"-\",H54=\"-\"),0,Cf.SoloSup.22/H54)","v":0},{"$f":"IF(CENÁRIOS!$H$13=TRUE,IF(PM.22=\"\",\"-\",IF(OR(RfD.dm.cn.22=\"-\",RfD.dm.cn.22=\"\",RfD.dm.cn.22=0,ABSd.22=0,ABSd.22=\"\"),\"-\",((THI*RfD.dm.cn.22)/(ABSd.22*IF.Solo.Con.Der.a.nc)))),\"-\")","v":"-"},{"$f":"IF(OR(J54=\"-\",J54=\"-\"),0,Cf.SoloSup.22/J54)","v":0},{"$f":"IF(CENÁRIOS!$H$14=TRUE,IF(PM.22=\"\",\"-\",IF(OR(RfD.ig.cn.22=\"-\",RfD.ig.cn.22=\"\",RfD.ig.cn.22=0),\"-\",((THI*RfD.ig.cn.22)/(IF.Solo.Ing.a.nc*Biodisp.22)))),\"-\")","v":"-"},{"$f":"IF(OR(L54=\"-\",L54=\"-\"),0,Cf.SoloSup.22/L54)","v":0},{"$f":"IF(CENÁRIOS!$H$15=TRUE,IF(OR(PM.22=\"\",Tipo.22<>\"METAL\"),\"-\",IF(OR(RfD.ig.cn.22=\"-\",RfD.ig.cn.22=\"\",RfD.ig.cn.22=0,cdpx.22=\"-\",BCF.22=\"-\"),\"-\",((THI*RfD.ig.cn.22)/((IF.Solo.Ing.Veg.nc.i)*(IRL.i*((BCFF.22+cdpx.22)/frbveg)+(IRR.i*(BCF.22/frkveg))))))),\"-\")","v":"-"},{"$f":"IF(OR(N54=\"-\",N54=\"-\"),0,Cf.SoloSup.22/N54)","v":0},{"$f":"IF(CENÁRIOS!$H$15=TRUE,IF(OR(PM.22=\"\",Tipo.22=\"METAL\"),\"-\",IF(OR(RfD.ig.cn.22=\"-\",RfD.ig.cn.22=\"\",RfD.ig.cn.22=0,cdpx.22=\"-\",pw.22=\"-\",BCFR.22=\"-\",a.22=\"-\"),\"-\",((THI*RfD.ig.cn.22)/((IF.Solo.Ing.Veg.nc.i)*(IRL.i*(((ps*pw.22*tscf.22*Qveg)/(Vwveg*pplantveg*a.22*Vlveg))+cdpx.22*fdwsveg)+(IRR.i*BCFR.22)))))),\"-\")","v":"-"},{"$f":"IF(OR(P54=\"-\",P54=\"-\"),0,Cf.SoloSup.22/P54)","v":0},{"$f":"IF(CENÁRIOS!$H$16=TRUE,IF(PM.22=\"\",\"-\",IF(OR(RfD.in.cn.22=\"-\",RfD.in.cn.22=\"\",RfD.in.cn.22=0,FT!O29=\"-\"),\"-\",((THI*RfD.in.cn.22)/(FT!O29*IF.SoloSub.Ina.Abe.a.nc)))),\"-\")","v":"-"},{"$f":"IF(OR(R54=\"-\",R54=\"-\"),0,Cf.SoloSub.22/R54)","v":0},{"$f":"IF(CENÁRIOS!$H$17=TRUE,IF(PM.22=\"\",\"-\",IF(OR(RfD.in.cn.22=\"-\",RfD.in.cn.22=\"\",RfD.in.cn.22=0,FT!P29=\"-\"),\"-\",((THI*RfD.in.cn.22)/(FT!P29*IF.SoloSub.Ina.Fec.a.nc)))),\"-\")","v":"-"},{"$f":"IF(OR(T54=\"-\",T54=\"-\"),0,Cf.SoloSub.22/T54)","v":0},{"$f":"IF(CENÁRIOS!$H$18=TRUE,IF(PM.22=\"\",\"-\",IF(OR(RfD.ig.cn.22=\"-\",RfD.ig.cn.22=\"\",RfD.ig.cn.22=0,FT!Q29=\"-\"),\"-\",((THI*RfD.ig.cn.22)/(FT!Q29*IF.SoloSub.Lix.AS.a.nc))*10^3)),\"-\")","v":"-"},{"$f":"IF(OR(V54=\"-\",V54=\"-\"),0,Cf.SoloSub.22/V54)","v":0},{"$f":"IF(CENÁRIOS!$I$18=TRUE,IF(PM.22=\"\",\"-\",IF(OR(RfD.ig.cn.22=\"-\",RfD.ig.cn.22=\"\",RfD.ig.cn.22=0,FT!Q29=\"-\",DAF.22=\"-\"),\"-\",((THI*RfD.ig.cn.22)/((FT!Q29*DAF.22)*IF.SoloSub.Lix.AS.a.nc))*10^3)),\"-\")","v":"-"},{"$f":"IF(OR(X54=\"-\",X54=\"-\"),0,Cf.SoloSub.22/X54)","v":0}]
[null,23,{"$f":"SQI!D31","v":0},{"$f":"SQI!C31","v":""},"C",{"$f":"IF(CENÁRIOS!$H$11=TRUE,IF(PM.23=\"\",\"-\",IF(OR(Sf.in.23=\"-\",Sf.in.23=\"\",Sf.in.23=0,FT!M30=\"-\"),\"-\",IF(ISERROR(TR/(FT!M30*IF.Solo.Ina.Vap.a.c*Sf.in.23)),\"-\",(TR/(FT!M30*IF.Solo.Ina.Vap.a.c*Sf.in.23))))),\"-\")","v":"-"},{"$f":"IF(OR(F55=\"-\",F55=\"-\"),0,Cf.SoloSup.23/F55)","v":0},{"$f":"IF(CENÁRIOS!$H$12=TRUE,IF(PM.23=\"\",\"-\",IF(OR(Sf.in.23=\"-\",Sf.in.23=\"\",Sf.in.23=0,FT!N30=\"-\"),\"-\",(TR/(FT!N30*IF.Solo.Ina.Par.a.c*Sf.in.23)))),\"-\")","v":"-"},{"$f":"IF(OR(H55=\"-\",H55=\"-\"),0,Cf.SoloSup.23/H55)","v":0},{"$f":"IF(CENÁRIOS!$H$13=TRUE,IF(PM.23=\"\",\"-\",IF(OR(Sf.dm.23=\"-\",Sf.dm.23=\"\",Sf.dm.23=0,ABSd.23=0,ABSd.23=\"\"),\"-\",(TR/(ABSd.23*IF.Solo.Con.Der.a.c*Sf.dm.23)))),\"-\")","v":"-"},{"$f":"IF(OR(J55=\"-\",J55=\"-\"),0,Cf.SoloSup.23/J55)","v":0},{"$f":"IF(CENÁRIOS!$H$14=TRUE,IF(PM.23=\"\",\"-\",IF(OR(Sf.ig.23=\"-\",Sf.ig.23=\"\",Sf.ig.23=0),\"-\",(TR/(IF.Solo.Ing.a.c*Biodisp.23*Sf.ig.23)))),\"-\")","v":"-"},{"$f":"IF(OR(L55=\"-\",L55=\"-\"),0,Cf.SoloSup.23/L55)","v":0},{"$f":"IF(CENÁRIOS!$H$15=TRUE,IF(OR(PM.23=\"\",Tipo.23<>\"METAL\"),\"-\",IF(OR(Sf.ig.23=\"-\",Sf.ig.23=\"\",Sf.ig.23=0,cdpx.23=\"-\",BCF.23=\"-\"),\"-\",(TR/((IF.Solo.Ing.Veg.c.i*Sf.ig.23)*(IRL.i*((BCFF.23+cdpx.23)/frbveg)+(IRR.i*(BCF.23/frkveg))))))),\"-\")","v":"-"},{"$f":"IF(OR(N55=\"-\",N55=\"-\"),0,Cf.SoloSup.23/N55)","v":0},{"$f":"IF(CENÁRIOS!$H$15=TRUE,IF(OR(PM.23=\"\",Tipo.23=\"METAL\"),\"-\",IF(OR(Sf.ig.23=\"-\",Sf.ig.23=\"\",Sf.ig.23=0,cdpx.23=\"-\",pw.23=\"-\",BCFR.23=\"-\",a.23=\"-\"),\"-\",(TR/((IF.Solo.Ing.Veg.c.i*Sf.ig.23)*(IRL.i*(((ps*pw.23*tscf.23*Qveg)/(Vwveg*pplantveg*a.23*Vlveg))+cdpx.23*fdwsveg)+(IRR.i*BCFR.23)))))),\"-\")","v":"-"},{"$f":"IF(OR(P55=\"-\",P55=\"-\"),0,Cf.SoloSup.23/P55)","v":0},{"$f":"IF(CENÁRIOS!$H$16=TRUE,IF(PM.23=\"\",\"-\",IF(OR(Sf.in.23=\"-\",Sf.in.23=\"\",Sf.in.23=0,Sf.in.23=0,FT!O30=\"-\"),\"-\",IF(ISERROR(TR/(FT!O30*IF.SoloSub.Ina.Abe.a.c*Sf.in.23)),\"-\",(TR/(FT!O30*IF.SoloSub.Ina.Abe.a.c*Sf.in.23))))),\"-\")","v":"-"},{"$f":"IF(OR(R55=\"-\",R55=\"-\"),0,Cf.SoloSub.23/R55)","v":0},{"$f":"IF(CENÁRIOS!$H$17=TRUE,IF(PM.23=\"\",\"-\",IF(OR(Sf.in.23=\"-\",Sf.in.23=\"\",Sf.in.23=0,FT!P30=\"-\"),\"-\",IF(ISERROR(TR/(FT!P30*IF.SoloSub.Ina.Fec.a.c*Sf.in.23)),\"-\",(TR/(FT!P30*IF.SoloSub.Ina.Fec.a.c*Sf.in.23))))),\"-\")","v":"-"},{"$f":"IF(OR(T55=\"-\",T55=\"-\"),0,Cf.SoloSub.23/T55)","v":0},{"$f":"IF(CENÁRIOS!$H$18=TRUE,IF(PM.23=\"\",\"-\",IF(OR(Sf.ig.23=\"-\",Sf.ig.23=\"\",Sf.ig.23=0,FT!Q30=\"-\"),\"-\",(TR/(FT!Q30*IF.SoloSub.Lix.AS.a.c*Sf.ig.23))*10^3)),\"-\")","v":"-"},{"$f":"IF(OR(V55=\"-\",V55=\"-\"),0,Cf.SoloSub.23/V55)","v":0},{"$f":"IF(CENÁRIOS!$I$18=TRUE,IF(PM.23=\"\",\"-\",IF(OR(Sf.ig.23=\"-\",Sf.ig.23=\"\",Sf.ig.23=0,FT!Q30=\"-\",DAF.23=\"-\"),\"-\",(TR/((FT!Q30*DAF.23)*IF.SoloSub.Lix.AS.a.c*Sf.ig.23))*10^3)),\"-\")","v":"-"},{"$f":"IF(OR(X55=\"-\",X55=\"-\"),0,Cf.SoloSub.23/X55)","v":0}]
[null,null,null,null,"NC",{"$f":"IF(CENÁRIOS!$H$11=TRUE,IF(PM.23=\"\",\"-\",IF(OR(RfD.in.cn.23=\"-\",RfD.in.cn.23=\"\",RfD.in.cn.23=0,FT!M30=\"-\"),\"-\",((THI*RfD.in.cn.23)/(FT!M30*IF.Solo.Ina.Vap.a.nc)))),\"-\")","v":"-"},{"$f":"IF(OR(F56=\"-\",F56=\"-\"),0,Cf.SoloSup.23/F56)","v":0},{"$f":"IF(CENÁRIOS!$H$12=TRUE,IF(PM.23=\"\",\"-\",IF(OR(RfD.in.cn.23=\"-\",RfD.in.cn.23=\"\",RfD.in.cn.23=0,FT!N30=\"-\"),\"-\",((THI*RfD.in.cn.23)/(FT!N30*IF.Solo.Ina.Par.a.nc)))),\"-\")","v":"-"},{"$f":"IF(OR(H56=\"-\",H56=\"-\"),0,Cf.SoloSup.23/H56)","v":0},{"$f":"IF(CENÁRIOS!$H$13=TRUE,IF(PM.23=\"\",\"-\",IF(OR(RfD.dm.cn.23=\"-\",RfD.dm.cn.23=\"\",RfD.dm.cn.23=0,ABSd.23=0,ABSd.23=\"\"),\"-\",((THI*RfD.dm.cn.23)/(ABSd.23*IF.Solo.Con.Der.a.nc)))),\"-\")","v":"-"},{"$f":"IF(OR(J56=\"-\",J56=\"-\"),0,Cf.SoloSup.23/J56)","v":0},{"$f":"IF(CENÁRIOS!$H$14=TRUE,IF(PM.23=\"\",\"-\",IF(OR(RfD.ig.cn.23=\"-\",RfD.ig.cn.23=\"\",RfD.ig.cn.23=0),\"-\",((THI*RfD.ig.cn.23)/(IF.Solo.Ing.a.nc*Biodisp.23)))),\"-\")","v":"-"},{"$f":"IF(OR(L56=\"-\",L56=\"-\"),0,Cf.SoloSup.23/L56)","v":0},{"$f":"IF(CENÁRIOS!$H$15=TRUE,IF(OR(PM.23=\"\",Tipo.23<>\"METAL\"),\"-\",IF(OR(RfD.ig.cn.23=\"-\",RfD.ig.cn.23=\"\",RfD.ig.cn.23=0,cdpx.23=\"-\",BCF.23=\"-\"),\"-\",((THI*RfD.ig.cn.23)/((IF.Solo.Ing.Veg.nc.i)*(IRL.i*((BCFF.23+cdpx.23)/frbveg)+(IRR.i*(BCF.23/frkveg))))))),\"-\")","v":"-"},{"$f":"IF(OR(N56=\"-\",N56=\"-\"),0,Cf.SoloSup.23/N56)","v":0},{"$f":"IF(CENÁRIOS!$H$15=TRUE,IF(OR(PM.23=\"\",Tipo.23=\"METAL\"),\"-\",IF(OR(RfD.ig.cn.23=\"-\",RfD.ig.cn.23=\"\",RfD.ig.cn.23=0,cdpx.23=\"-\",pw.23=\"-\",BCFR.23=\"-\",a.23=\"-\"),\"-\",((THI*RfD.ig.cn.23)/((IF.Solo.Ing.Veg.nc.i)*(IRL.i*(((ps*pw.23*tscf.23*Qveg)/(Vwveg*pplantveg*a.23*Vlveg))+cdpx.23*fdwsveg)+(IRR.i*BCFR.23)))))),\"-\")","v":"-"},{"$f":"IF(OR(P56=\"-\",P56=\"-\"),0,Cf.SoloSup.23/P56)","v":0},{"$f":"IF(CENÁRIOS!$H$16=TRUE,IF(PM.23=\"\",\"-\",IF(OR(RfD.in.cn.23=\"-\",RfD.in.cn.23=\"\",RfD.in.cn.23=0,FT!O30=\"-\"),\"-\",((THI*RfD.in.cn.23)/(FT!O30*IF.SoloSub.Ina.Abe.a.nc)))),\"-\")","v":"-"},{"$f":"IF(OR(R56=\"-\",R56=\"-\"),0,Cf.SoloSub.23/R56)","v":0},{"$f":"IF(CENÁRIOS!$H$17=TRUE,IF(PM.23=\"\",\"-\",IF(OR(RfD.in.cn.23=\"-\",RfD.in.cn.23=\"\",RfD.in.cn.23=0,FT!P30=\"-\"),\"-\",((THI*RfD.in.cn.23)/(FT!P30*IF.SoloSub.Ina.Fec.a.nc)))),\"-\")","v":"-"},{"$f":"IF(OR(T56=\"-\",T56=\"-\"),0,Cf.SoloSub.23/T56)","v":0},{"$f":"IF(CENÁRIOS!$H$18=TRUE,IF(PM.23=\"\",\"-\",IF(OR(RfD.ig.cn.23=\"-\",RfD.ig.cn.23=\"\",RfD.ig.cn.23=0,FT!Q30=\"-\"),\"-\",((THI*RfD.ig.cn.23)/(FT!Q30*IF.SoloSub.Lix.AS.a.nc))*10^3)),\"-\")","v":"-"},{"$f":"IF(OR(V56=\"-\",V56=\"-\"),0,Cf.SoloSub.23/V56)","v":0},{"$f":"IF(CENÁRIOS!$I$18=TRUE,IF(PM.23=\"\",\"-\",IF(OR(RfD.ig.cn.23=\"-\",RfD.ig.cn.23=\"\",RfD.ig.cn.23=0,FT!Q30=\"-\",DAF.23=\"-\"),\"-\",((THI*RfD.ig.cn.23)/((FT!Q30*DAF.23)*IF.SoloSub.Lix.AS.a.nc))*10^3)),\"-\")","v":"-"},{"$f":"IF(OR(X56=\"-\",X56=\"-\"),0,Cf.SoloSub.23/X56)","v":0}]
[null,24,{"$f":"SQI!D32","v":0},{"$f":"SQI!C32","v":""},"C",{"$f":"IF(CENÁRIOS!$H$11=TRUE,IF(PM.24=\"\",\"-\",IF(OR(Sf.in.24=\"-\",Sf.in.24=\"\",Sf.in.24=0,FT!M31=\"-\"),\"-\",IF(ISERROR(TR/(FT!M31*IF.Solo.Ina.Vap.a.c*Sf.in.24)),\"-\",(TR/(FT!M31*IF.Solo.Ina.Vap.a.c*Sf.in.24))))),\"-\")","v":"-"},{"$f":"IF(OR(F57=\"-\",F57=\"-\"),0,Cf.SoloSup.24/F57)","v":0},{"$f":"IF(CENÁRIOS!$H$12=TRUE,IF(PM.24=\"\",\"-\",IF(OR(Sf.in.24=\"-\",Sf.in.24=\"\",Sf.in.24=0,FT!N31=\"-\"),\"-\",(TR/(FT!N31*IF.Solo.Ina.Par.a.c*Sf.in.24)))),\"-\")","v":"-"},{"$f":"IF(OR(H57=\"-\",H57=\"-\"),0,Cf.SoloSup.24/H57)","v":0},{"$f":"IF(CENÁRIOS!$H$13=TRUE,IF(PM.24=\"\",\"-\",IF(OR(Sf.dm.24=\"-\",Sf.dm.24=\"\",Sf.dm.24=0,ABSd.24=0,ABSd.24=\"\"),\"-\",(TR/(ABSd.24*IF.Solo.Con.Der.a.c*Sf.dm.24)))),\"-\")","v":"-"},{"$f":"IF(OR(J57=\"-\",J57=\"-\"),0,Cf.SoloSup.24/J57)","v":0},{"$f":"IF(CENÁRIOS!$H$14=TRUE,IF(PM.24=\"\",\"-\",IF(OR(Sf.ig.24=\"-\",Sf.ig.24=\"\",Sf.ig.24=0),\"-\",(TR/(IF.Solo.Ing.a.c*Biodisp.24*Sf.ig.24)))),\"-\")","v":"-"},{"$f":"IF(OR(L57=\"-\",L57=\"-\"),0,Cf.SoloSup.24/L57)","v":0},{"$f":"IF(CENÁRIOS!$H$15=TRUE,IF(OR(PM.24=\"\",Tipo.24<>\"METAL\"),\"-\",IF(OR(Sf.ig.24=\"-\",Sf.ig.24=\"\",Sf.ig.24=0,cdpx.24=\"-\",BCF.24=\"-\"),\"-\",(TR/((IF.Solo.Ing.Veg.c.i*Sf.ig.24)*(IRL.i*((BCFF.24+cdpx.24)/frbveg)+(IRR.i*(BCF.24/frkveg))))))),\"-\")","v":"-"},{"$f":"IF(OR(N57=\"-\",N57=\"-\"),0,Cf.SoloSup.24/N57)","v":0},{"$f":"IF(CENÁRIOS!$H$15=TRUE,IF(OR(PM.24=\"\",Tipo.24=\"METAL\"),\"-\",IF(OR(Sf.ig.24=\"-\",Sf.ig.24=\"\",Sf.ig.24=0,cdpx.24=\"-\",pw.24=\"-\",BCFR.24=\"-\",a.24=\"-\"),\"-\",(TR/((IF.Solo.Ing.Veg.c.i*Sf.ig.24)*(IRL.i*(((ps*pw.24*tscf.24*Qveg)/(Vwveg*pplantveg*a.24*Vlveg))+cdpx.24*fdwsveg)+(IRR.i*BCFR.24)))))),\"-\")","v":"-"},{"$f":"IF(OR(P57=\"-\",P57=\"-\"),0,Cf.SoloSup.24/P57)","v":0},{"$f":"IF(CENÁRIOS!$H$16=TRUE,IF(PM.24=\"\",\"-\",IF(OR(Sf.in.24=\"-\",Sf.in.24=\"\",Sf.in.24=0,Sf.in.24=0,FT!O31=\"-\"),\"-\",IF(ISERROR(TR/(FT!O31*IF.SoloSub.Ina.Abe.a.c*Sf.in.24)),\"-\",(TR/(FT!O31*IF.SoloSub.Ina.Abe.a.c*Sf.in.24))))),\"-\")","v":"-"},{"$f":"IF(OR(R57=\"-\",R57=\"-\"),0,Cf.SoloSub.24/R57)","v":0},{"$f":"IF(CENÁRIOS!$H$17=TRUE,IF(PM.24=\"\",\"-\",IF(OR(Sf.in.24=\"-\",Sf.in.24=\"\",Sf.in.24=0,FT!P31=\"-\"),\"-\",IF(ISERROR(TR/(FT!P31*IF.SoloSub.Ina.Fec.a.c*Sf.in.24)),\"-\",(TR/(FT!P31*IF.SoloSub.Ina.Fec.a.c*Sf.in.24))))),\"-\")","v":"-"},{"$f":"IF(OR(T57=\"-\",T57=\"-\"),0,Cf.SoloSub.24/T57)","v":0},{"$f":"IF(CENÁRIOS!$H$18=TRUE,IF(PM.24=\"\",\"-\",IF(OR(Sf.ig.24=\"-\",Sf.ig.24=\"\",Sf.ig.24=0,FT!Q31=\"-\"),\"-\",(TR/(FT!Q31*IF.SoloSub.Lix.AS.a.c*Sf.ig.24))*10^3)),\"-\")","v":"-"},{"$f":"IF(OR(V57=\"-\",V57=\"-\"),0,Cf.SoloSub.24/V57)","v":0},{"$f":"IF(CENÁRIOS!$I$18=TRUE,IF(PM.24=\"\",\"-\",IF(OR(Sf.ig.24=\"-\",Sf.ig.24=\"\",Sf.ig.24=0,FT!Q31=\"-\",DAF.24=\"-\"),\"-\",(TR/((FT!Q31*DAF.24)*IF.SoloSub.Lix.AS.a.c*Sf.ig.24))*10^3)),\"-\")","v":"-"},{"$f":"IF(OR(X57=\"-\",X57=\"-\"),0,Cf.SoloSub.24/X57)","v":0}]
[null,null,null,null,"NC",{"$f":"IF(CENÁRIOS!$H$11=TRUE,IF(PM.24=\"\",\"-\",IF(OR(RfD.in.cn.24=\"-\",RfD.in.cn.24=\"\",RfD.in.cn.24=0,FT!M31=\"-\"),\"-\",((THI*RfD.in.cn.24)/(FT!M31*IF.Solo.Ina.Vap.a.nc)))),\"-\")","v":"-"},{"$f":"IF(OR(F58=\"-\",F58=\"-\"),0,Cf.SoloSup.24/F58)","v":0},{"$f":"IF(CENÁRIOS!$H$12=TRUE,IF(PM.24=\"\",\"-\",IF(OR(RfD.in.cn.24=\"-\",RfD.in.cn.24=\"\",RfD.in.cn.24=0,FT!N31=\"-\"),\"-\",((THI*RfD.in.cn.24)/(FT!N31*IF.Solo.Ina.Par.a.nc)))),\"-\")","v":"-"},{"$f":"IF(OR(H58=\"-\",H58=\"-\"),0,Cf.SoloSup.24/H58)","v":0},{"$f":"IF(CENÁRIOS!$H$13=TRUE,IF(PM.24=\"\",\"-\",IF(OR(RfD.dm.cn.24=\"-\",RfD.dm.cn.24=\"\",RfD.dm.cn.24=0,ABSd.24=0,ABSd.24=\"\"),\"-\",((THI*RfD.dm.cn.24)/(ABSd.24*IF.Solo.Con.Der.a.nc)))),\"-\")","v":"-"},{"$f":"IF(OR(J58=\"-\",J58=\"-\"),0,Cf.SoloSup.24/J58)","v":0},{"$f":"IF(CENÁRIOS!$H$14=TRUE,IF(PM.24=\"\",\"-\",IF(OR(RfD.ig.cn.24=\"-\",RfD.ig.cn.24=\"\",RfD.ig.cn.24=0),\"-\",((THI*RfD.ig.cn.24)/(IF.Solo.Ing.a.nc*Biodisp.24)))),\"-\")","v":"-"},{"$f":"IF(OR(L58=\"-\",L58=\"-\"),0,Cf.SoloSup.24/L58)","v":0},{"$f":"IF(CENÁRIOS!$H$15=TRUE,IF(OR(PM.24=\"\",Tipo.24<>\"METAL\"),\"-\",IF(OR(RfD.ig.cn.24=\"-\",RfD.ig.cn.24=\"\",RfD.ig.cn.24=0,cdpx.24=\"-\",BCF.24=\"-\"),\"-\",((THI*RfD.ig.cn.24)/((IF.Solo.Ing.Veg.nc.i)*(IRL.i*((BCFF.24+cdpx.24)/frbveg)+(IRR.i*(BCF.24/frkveg))))))),\"-\")","v":"-"},{"$f":"IF(OR(N58=\"-\",N58=\"-\"),0,Cf.SoloSup.24/N58)","v":0},{"$f":"IF(CENÁRIOS!$H$15=TRUE,IF(OR(PM.24=\"\",Tipo.24=\"METAL\"),\"-\",IF(OR(RfD.ig.cn.24=\"-\",RfD.ig.cn.24=\"\",RfD.ig.cn.24=0,cdpx.24=\"-\",pw.24=\"-\",BCFR.24=\"-\",a.24=\"-\"),\"-\",((THI*RfD.ig.cn.24)/((IF.Solo.Ing.Veg.nc.i)*(IRL.i*(((ps*pw.24*tscf.24*Qveg)/(Vwveg*pplantveg*a.24*Vlveg))+cdpx.24*fdwsveg)+(IRR.i*BCFR.24)))))),\"-\")","v":"-"},{"$f":"IF(OR(P58=\"-\",P58=\"-\"),0,Cf.SoloSup.24/P58)","v":0},{"$f":"IF(CENÁRIOS!$H$16=TRUE,IF(PM.24=\"\",\"-\",IF(OR(RfD.in.cn.24=\"-\",RfD.in.cn.24=\"\",RfD.in.cn.24=0,FT!O31=\"-\"),\"-\",((THI*RfD.in.cn.24)/(FT!O31*IF.SoloSub.Ina.Abe.a.nc)))),\"-\")","v":"-"},{"$f":"IF(OR(R58=\"-\",R58=\"-\"),0,Cf.SoloSub.24/R58)","v":0},{"$f":"IF(CENÁRIOS!$H$17=TRUE,IF(PM.24=\"\",\"-\",IF(OR(RfD.in.cn.24=\"-\",RfD.in.cn.24=\"\",RfD.in.cn.24=0,FT!P31=\"-\"),\"-\",((THI*RfD.in.cn.24)/(FT!P31*IF.SoloSub.Ina.Fec.a.nc)))),\"-\")","v":"-"},{"$f":"IF(OR(T58=\"-\",T58=\"-\"),0,Cf.SoloSub.24/T58)","v":0},{"$f":"IF(CENÁRIOS!$H$18=TRUE,IF(PM.24=\"\",\"-\",IF(OR(RfD.ig.cn.24=\"-\",RfD.ig.cn.24=\"\",RfD.ig.cn.24=0,FT!Q31=\"-\"),\"-\",((THI*RfD.ig.cn.24)/(FT!Q31*IF.SoloSub.Lix.AS.a.nc))*10^3)),\"-\")","v":"-"},{"$f":"IF(OR(V58=\"-\",V58=\"-\"),0,Cf.SoloSub.24/V58)","v":0},{"$f":"IF(CENÁRIOS!$I$18=TRUE,IF(PM.24=\"\",\"-\",IF(OR(RfD.ig.cn.24=\"-\",RfD.ig.cn.24=\"\",RfD.ig.cn.24=0,FT!Q31=\"-\",DAF.24=\"-\"),\"-\",((THI*RfD.ig.cn.24)/((FT!Q31*DAF.24)*IF.SoloSub.Lix.AS.a.nc))*10^3)),\"-\")","v":"-"},{"$f":"IF(OR(X58=\"-\",X58=\"-\"),0,Cf.SoloSub.24/X58)","v":0}]
[null,25,{"$f":"SQI!D33","v":0},{"$f":"SQI!C33","v":""},"C",{"$f":"IF(CENÁRIOS!$H$11=TRUE,IF(PM.25=\"\",\"-\",IF(OR(Sf.in.25=\"-\",Sf.in.25=\"\",Sf.in.25=0,FT!M32=\"-\"),\"-\",IF(ISERROR(TR/(FT!M32*IF.Solo.Ina.Vap.a.c*Sf.in.25)),\"-\",(TR/(FT!M32*IF.Solo.Ina.Vap.a.c*Sf.in.25))))),\"-\")","v":"-"},{"$f":"IF(OR(F59=\"-\",F59=\"-\"),0,Cf.SoloSup.25/F59)","v":0},{"$f":"IF(CENÁRIOS!$H$12=TRUE,IF(PM.25=\"\",\"-\",IF(OR(Sf.in.25=\"-\",Sf.in.25=\"\",Sf.in.25=0,FT!N32=\"-\"),\"-\",(TR/(FT!N32*IF.Solo.Ina.Par.a.c*Sf.in.25)))),\"-\")","v":"-"},{"$f":"IF(OR(H59=\"-\",H59=\"-\"),0,Cf.SoloSup.25/H59)","v":0},{"$f":"IF(CENÁRIOS!$H$13=TRUE,IF(PM.25=\"\",\"-\",IF(OR(Sf.dm.25=\"-\",Sf.dm.25=\"\",Sf.dm.25=0,ABSd.25=0,ABSd.25=\"\"),\"-\",(TR/(ABSd.25*IF.Solo.Con.Der.a.c*Sf.dm.25)))),\"-\")","v":"-"},{"$f":"IF(OR(J59=\"-\",J59=\"-\"),0,Cf.SoloSup.25/J59)","v":0},{"$f":"IF(CENÁRIOS!$H$14=TRUE,IF(PM.25=\"\",\"-\",IF(OR(Sf.ig.25=\"-\",Sf.ig.25=\"\",Sf.ig.25=0),\"-\",(TR/(IF.Solo.Ing.a.c*Biodisp.25*Sf.ig.25)))),\"-\")","v":"-"},{"$f":"IF(OR(L59=\"-\",L59=\"-\"),0,Cf.SoloSup.25/L59)","v":0},{"$f":"IF(CENÁRIOS!$H$15=TRUE,IF(OR(PM.25=\"\",Tipo.25<>\"METAL\"),\"-\",IF(OR(Sf.ig.25=\"-\",Sf.ig.25=\"\",Sf.ig.25=0,cdpx.25=\"-\",BCF.25=\"-\"),\"-\",(TR/((IF.Solo.Ing.Veg.c.i*Sf.ig.25)*(IRL.i*((BCFF.25+cdpx.25)/frbveg)+(IRR.i*(BCF.25/frkveg))))))),\"-\")","v":"-"},{"$f":"IF(OR(N59=\"-\",N59=\"-\"),0,Cf.SoloSup.25/N59)","v":0},{"$f":"IF(CENÁRIOS!$H$15=TRUE,IF(OR(PM.25=\"\",Tipo.25=\"METAL\"),\"-\",IF(OR(Sf.ig.25=\"-\",Sf.ig.25=\"\",Sf.ig.25=0,cdpx.25=\"-\",pw.25=\"-\",BCFR.25=\"-\",a.25=\"-\"),\"-\",(TR/((IF.Solo.Ing.Veg.c.i*Sf.ig.25)*(IRL.i*(((ps*pw.25*tscf.25*Qveg)/(Vwveg*pplantveg*a.25*Vlveg))+cdpx.25*fdwsveg)+(IRR.i*BCFR.25)))))),\"-\")","v":"-"},{"$f":"IF(OR(P59=\"-\",P59=\"-\"),0,Cf.SoloSup.25/P59)","v":0},{"$f":"IF(CENÁRIOS!$H$16=TRUE,IF(PM.25=\"\",\"-\",IF(OR(Sf.in.25=\"-\",Sf.in.25=\"\",Sf.in.25=0,Sf.in.25=0,FT!O32=\"-\"),\"-\",IF(ISERROR(TR/(FT!O32*IF.SoloSub.Ina.Abe.a.c*Sf.in.25)),\"-\",(TR/(FT!O32*IF.SoloSub.Ina.Abe.a.c*Sf.in.25))))),\"-\")","v":"-"},{"$f":"IF(OR(R59=\"-\",R59=\"-\"),0,Cf.SoloSub.25/R59)","v":0},{"$f":"IF(CENÁRIOS!$H$17=TRUE,IF(PM.25=\"\",\"-\",IF(OR(Sf.in.25=\"-\",Sf.in.25=\"\",Sf.in.25=0,FT!P32=\"-\"),\"-\",IF(ISERROR(TR/(FT!P32*IF.SoloSub.Ina.Fec.a.c*Sf.in.25)),\"-\",(TR/(FT!P32*IF.SoloSub.Ina.Fec.a.c*Sf.in.25))))),\"-\")","v":"-"},{"$f":"IF(OR(T59=\"-\",T59=\"-\"),0,Cf.SoloSub.25/T59)","v":0},{"$f":"IF(CENÁRIOS!$H$18=TRUE,IF(PM.25=\"\",\"-\",IF(OR(Sf.ig.25=\"-\",Sf.ig.25=\"\",Sf.ig.25=0,FT!Q32=\"-\"),\"-\",(TR/(FT!Q32*IF.SoloSub.Lix.AS.a.c*Sf.ig.25))*10^3)),\"-\")","v":"-"},{"$f":"IF(OR(V59=\"-\",V59=\"-\"),0,Cf.SoloSub.25/V59)","v":0},{"$f":"IF(CENÁRIOS!$I$18=TRUE,IF(PM.25=\"\",\"-\",IF(OR(Sf.ig.25=\"-\",Sf.ig.25=\"\",Sf.ig.25=0,FT!Q32=\"-\",DAF.25=\"-\"),\"-\",(TR/((FT!Q32*DAF.25)*IF.SoloSub.Lix.AS.a.c*Sf.ig.25))*10^3)),\"-\")","v":"-"},{"$f":"IF(OR(X59=\"-\",X59=\"-\"),0,Cf.SoloSub.25/X59)","v":0}]
[null,null,null,null,"NC",{"$f":"IF(CENÁRIOS!$H$11=TRUE,IF(PM.25=\"\",\"-\",IF(OR(RfD.in.cn.25=\"-\",RfD.in.cn.25=\"\",RfD.in.cn.25=0,FT!M32=\"-\"),\"-\",((THI*RfD.in.cn.25)/(FT!M32*IF.Solo.Ina.Vap.a.nc)))),\"-\")","v":"-"},{"$f":"IF(OR(F60=\"-\",F60=\"-\"),0,Cf.SoloSup.25/F60)","v":0},{"$f":"IF(CENÁRIOS!$H$12=TRUE,IF(PM.25=\"\",\"-\",IF(OR(RfD.in.cn.25=\"-\",RfD.in.cn.25=\"\",RfD.in.cn.25=0,FT!N32=\"-\"),\"-\",((THI*RfD.in.cn.25)/(FT!N32*IF.Solo.Ina.Par.a.nc)))),\"-\")","v":"-"},{"$f":"IF(OR(H60=\"-\",H60=\"-\"),0,Cf.SoloSup.25/H60)","v":0},{"$f":"IF(CENÁRIOS!$H$13=TRUE,IF(PM.25=\"\",\"-\",IF(OR(RfD.dm.cn.25=\"-\",RfD.dm.cn.25=\"\",RfD.dm.cn.25=0,ABSd.25=0,ABSd.25=\"\"),\"-\",((THI*RfD.dm.cn.25)/(ABSd.25*IF.Solo.Con.Der.a.nc)))),\"-\")","v":"-"},{"$f":"IF(OR(J60=\"-\",J60=\"-\"),0,Cf.SoloSup.25/J60)","v":0},{"$f":"IF(CENÁRIOS!$H$14=TRUE,IF(PM.25=\"\",\"-\",IF(OR(RfD.ig.cn.25=\"-\",RfD.ig.cn.25=\"\",RfD.ig.cn.25=0),\"-\",((THI*RfD.ig.cn.25)/(IF.Solo.Ing.a.nc*Biodisp.25)))),\"-\")","v":"-"},{"$f":"IF(OR(L60=\"-\",L60=\"-\"),0,Cf.SoloSup.25/L60)","v":0},{"$f":"IF(CENÁRIOS!$H$15=TRUE,IF(OR(PM.25=\"\",Tipo.25<>\"METAL\"),\"-\",IF(OR(RfD.ig.cn.25=\"-\",RfD.ig.cn.25=\"\",RfD.ig.cn.25=0,cdpx.25=\"-\",BCF.25=\"-\"),\"-\",((THI*RfD.ig.cn.25)/((IF.Solo.Ing.Veg.nc.i)*(IRL.i*((BCFF.25+cdpx.25)/frbveg)+(IRR.i*(BCF.25/frkveg))))))),\"-\")","v":"-"},{"$f":"IF(OR(N60=\"-\",N60=\"-\"),0,Cf.SoloSup.25/N60)","v":0},{"$f":"IF(CENÁRIOS!$H$15=TRUE,IF(OR(PM.25=\"\",Tipo.25=\"METAL\"),\"-\",IF(OR(RfD.ig.cn.25=\"-\",RfD.ig.cn.25=\"\",RfD.ig.cn.25=0,cdpx.25=\"-\",pw.25=\"-\",BCFR.25=\"-\",a.25=\"-\"),\"-\",((THI*RfD.ig.cn.25)/((IF.Solo.Ing.Veg.nc.i)*(IRL.i*(((ps*pw.25*tscf.25*Qveg)/(Vwveg*pplantveg*a.25*Vlveg))+cdpx.25*fdwsveg)+(IRR.i*BCFR.25)))))),\"-\")","v":"-"},{"$f":"IF(OR(P60=\"-\",P60=\"-\"),0,Cf.SoloSup.25/P60)","v":0},{"$f":"IF(CENÁRIOS!$H$16=TRUE,IF(PM.25=\"\",\"-\",IF(OR(RfD.in.cn.25=\"-\",RfD.in.cn.25=\"\",RfD.in.cn.25=0,FT!O32=\"-\"),\"-\",((THI*RfD.in.cn.25)/(FT!O32*IF.SoloSub.Ina.Abe.a.nc)))),\"-\")","v":"-"},{"$f":"IF(OR(R60=\"-\",R60=\"-\"),0,Cf.SoloSub.25/R60)","v":0},{"$f":"IF(CENÁRIOS!$H$17=TRUE,IF(PM.25=\"\",\"-\",IF(OR(RfD.in.cn.25=\"-\",RfD.in.cn.25=\"\",RfD.in.cn.25=0,FT!P32=\"-\"),\"-\",((THI*RfD.in.cn.25)/(FT!P32*IF.SoloSub.Ina.Fec.a.nc)))),\"-\")","v":"-"},{"$f":"IF(OR(T60=\"-\",T60=\"-\"),0,Cf.SoloSub.25/T60)","v":0},{"$f":"IF(CENÁRIOS!$H$18=TRUE,IF(PM.25=\"\",\"-\",IF(OR(RfD.ig.cn.25=\"-\",RfD.ig.cn.25=\"\",RfD.ig.cn.25=0,FT!Q32=\"-\"),\"-\",((THI*RfD.ig.cn.25)/(FT!Q32*IF.SoloSub.Lix.AS.a.nc))*10^3)),\"-\")","v":"-"},{"$f":"IF(OR(V60=\"-\",V60=\"-\"),0,Cf.SoloSub.25/V60)","v":0},{"$f":"IF(CENÁRIOS!$I$18=TRUE,IF(PM.25=\"\",\"-\",IF(OR(RfD.ig.cn.25=\"-\",RfD.ig.cn.25=\"\",RfD.ig.cn.25=0,FT!Q32=\"-\",DAF.25=\"-\"),\"-\",((THI*RfD.ig.cn.25)/((FT!Q32*DAF.25)*IF.SoloSub.Lix.AS.a.nc))*10^3)),\"-\")","v":"-"},{"$f":"IF(OR(X60=\"-\",X60=\"-\"),0,Cf.SoloSub.25/X60)","v":0}]
[null,26,{"$f":"SQI!D34","v":0},{"$f":"SQI!C34","v":""},"C",{"$f":"IF(CENÁRIOS!$H$11=TRUE,IF(PM.26=\"\",\"-\",IF(OR(Sf.in.26=\"-\",Sf.in.26=\"\",Sf.in.26=0,FT!M33=\"-\"),\"-\",IF(ISERROR(TR/(FT!M33*IF.Solo.Ina.Vap.a.c*Sf.in.26)),\"-\",(TR/(FT!M33*IF.Solo.Ina.Vap.a.c*Sf.in.26))))),\"-\")","v":"-"},{"$f":"IF(OR(F61=\"-\",F61=\"-\"),0,Cf.SoloSup.26/F61)","v":0},{"$f":"IF(CENÁRIOS!$H$12=TRUE,IF(PM.26=\"\",\"-\",IF(OR(Sf.in.26=\"-\",Sf.in.26=\"\",Sf.in.26=0,FT!N33=\"-\"),\"-\",(TR/(FT!N33*IF.Solo.Ina.Par.a.c*Sf.in.26)))),\"-\")","v":"-"},{"$f":"IF(OR(H61=\"-\",H61=\"-\"),0,Cf.SoloSup.26/H61)","v":0},{"$f":"IF(CENÁRIOS!$H$13=TRUE,IF(PM.26=\"\",\"-\",IF(OR(Sf.dm.26=\"-\",Sf.dm.26=\"\",Sf.dm.26=0,ABSd.26=0,ABSd.26=\"\"),\"-\",(TR/(ABSd.26*IF.Solo.Con.Der.a.c*Sf.dm.26)))),\"-\")","v":"-"},{"$f":"IF(OR(J61=\"-\",J61=\"-\"),0,Cf.SoloSup.26/J61)","v":0},{"$f":"IF(CENÁRIOS!$H$14=TRUE,IF(PM.26=\"\",\"-\",IF(OR(Sf.ig.26=\"-\",Sf.ig.26=\"\",Sf.ig.26=0),\"-\",(TR/(IF.Solo.Ing.a.c*Biodisp.26*Sf.ig.26)))),\"-\")","v":"-"},{"$f":"IF(OR(L61=\"-\",L61=\"-\"),0,Cf.SoloSup.26/L61)","v":0},{"$f":"IF(CENÁRIOS!$H$15=TRUE,IF(OR(PM.26=\"\",Tipo.26<>\"METAL\"),\"-\",IF(OR(Sf.ig.26=\"-\",Sf.ig.26=\"\",Sf.ig.26=0,cdpx.26=\"-\",BCF.26=\"-\"),\"-\",(TR/((IF.Solo.Ing.Veg.c.i*Sf.ig.26)*(IRL.i*((BCFF.26+cdpx.26)/frbveg)+(IRR.i*(BCF.26/frkveg))))))),\"-\")","v":"-"},{"$f":"IF(OR(N61=\"-\",N61=\"-\"),0,Cf.SoloSup.26/N61)","v":0},{"$f":"IF(CENÁRIOS!$H$15=TRUE,IF(OR(PM.26=\"\",Tipo.26=\"METAL\"),\"-\",IF(OR(Sf.ig.26=\"-\",Sf.ig.26=\"\",Sf.ig.26=0,cdpx.26=\"-\",pw.26=\"-\",BCFR.26=\"-\",a.26=\"-\"),\"-\",(TR/((IF.Solo.Ing.Veg.c.i*Sf.ig.26)*(IRL.i*(((ps*pw.26*tscf.26*Qveg)/(Vwveg*pplantveg*a.26*Vlveg))+cdpx.26*fdwsveg)+(IRR.i*BCFR.26)))))),\"-\")","v":"-"},{"$f":"IF(OR(P61=\"-\",P61=\"-\"),0,Cf.SoloSup.26/P61)","v":0},{"$f":"IF(CENÁRIOS!$H$16=TRUE,IF(PM.26=\"\",\"-\",IF(OR(Sf.in.26=\"-\",Sf.in.26=\"\",Sf.in.26=0,Sf.in.26=0,FT!O33=\"-\"),\"-\",IF(ISERROR(TR/(FT!O33*IF.SoloSub.Ina.Abe.a.c*Sf.in.26)),\"-\",(TR/(FT!O33*IF.SoloSub.Ina.Abe.a.c*Sf.in.26))))),\"-\")","v":"-"},{"$f":"IF(OR(R61=\"-\",R61=\"-\"),0,Cf.SoloSub.26/R61)","v":0},{"$f":"IF(CENÁRIOS!$H$17=TRUE,IF(PM.26=\"\",\"-\",IF(OR(Sf.in.26=\"-\",Sf.in.26=\"\",Sf.in.26=0,FT!P33=\"-\"),\"-\",IF(ISERROR(TR/(FT!P33*IF.SoloSub.Ina.Fec.a.c*Sf.in.26)),\"-\",(TR/(FT!P33*IF.SoloSub.Ina.Fec.a.c*Sf.in.26))))),\"-\")","v":"-"},{"$f":"IF(OR(T61=\"-\",T61=\"-\"),0,Cf.SoloSub.26/T61)","v":0},{"$f":"IF(CENÁRIOS!$H$18=TRUE,IF(PM.26=\"\",\"-\",IF(OR(Sf.ig.26=\"-\",Sf.ig.26=\"\",Sf.ig.26=0,FT!Q33=\"-\"),\"-\",(TR/(FT!Q33*IF.SoloSub.Lix.AS.a.c*Sf.ig.26))*10^3)),\"-\")","v":"-"},{"$f":"IF(OR(V61=\"-\",V61=\"-\"),0,Cf.SoloSub.26/V61)","v":0},{"$f":"IF(CENÁRIOS!$I$18=TRUE,IF(PM.26=\"\",\"-\",IF(OR(Sf.ig.26=\"-\",Sf.ig.26=\"\",Sf.ig.26=0,FT!Q33=\"-\",DAF.26=\"-\"),\"-\",(TR/((FT!Q33*DAF.26)*IF.SoloSub.Lix.AS.a.c*Sf.ig.26))*10^3)),\"-\")","v":"-"},{"$f":"IF(OR(X61=\"-\",X61=\"-\"),0,Cf.SoloSub.26/X61)","v":0}]
[null,null,null,null,"NC",{"$f":"IF(CENÁRIOS!$H$11=TRUE,IF(PM.26=\"\",\"-\",IF(OR(RfD.in.cn.26=\"-\",RfD.in.cn.26=\"\",RfD.in.cn.26=0,FT!M33=\"-\"),\"-\",((THI*RfD.in.cn.26)/(FT!M33*IF.Solo.Ina.Vap.a.nc)))),\"-\")","v":"-"},{"$f":"IF(OR(F62=\"-\",F62=\"-\"),0,Cf.SoloSup.26/F62)","v":0},{"$f":"IF(CENÁRIOS!$H$12=TRUE,IF(PM.26=\"\",\"-\",IF(OR(RfD.in.cn.26=\"-\",RfD.in.cn.26=\"\",RfD.in.cn.26=0,FT!N33=\"-\"),\"-\",((THI*RfD.in.cn.26)/(FT!N33*IF.Solo.Ina.Par.a.nc)))),\"-\")","v":"-"},{"$f":"IF(OR(H62=\"-\",H62=\"-\"),0,Cf.SoloSup.26/H62)","v":0},{"$f":"IF(CENÁRIOS!$H$13=TRUE,IF(PM.26=\"\",\"-\",IF(OR(RfD.dm.cn.26=\"-\",RfD.dm.cn.26=\"\",RfD.dm.cn.26=0,ABSd.26=0,ABSd.26=\"\"),\"-\",((THI*RfD.dm.cn.26)/(ABSd.26*IF.Solo.Con.Der.a.nc)))),\"-\")","v":"-"},{"$f":"IF(OR(J62=\"-\",J62=\"-\"),0,Cf.SoloSup.26/J62)","v":0},{"$f":"IF(CENÁRIOS!$H$14=TRUE,IF(PM.26=\"\",\"-\",IF(OR(RfD.ig.cn.26=\"-\",RfD.ig.cn.26=\"\",RfD.ig.cn.26=0),\"-\",((THI*RfD.ig.cn.26)/(IF.Solo.Ing.a.nc*Biodisp.26)))),\"-\")","v":"-"},{"$f":"IF(OR(L62=\"-\",L62=\"-\"),0,Cf.SoloSup.26/L62)","v":0},{"$f":"IF(CENÁRIOS!$H$15=TRUE,IF(OR(PM.26=\"\",Tipo.26<>\"METAL\"),\"-\",IF(OR(RfD.ig.cn.26=\"-\",RfD.ig.cn.26=\"\",RfD.ig.cn.26=0,cdpx.26=\"-\",BCF.26=\"-\"),\"-\",((THI*RfD.ig.cn.26)/((IF.Solo.Ing.Veg.nc.i)*(IRL.i*((BCFF.26+cdpx.26)/frbveg)+(IRR.i*(BCF.26/frkveg))))))),\"-\")","v":"-"},{"$f":"IF(OR(N62=\"-\",N62=\"-\"),0,Cf.SoloSup.26/N62)","v":0},{"$f":"IF(CENÁRIOS!$H$15=TRUE,IF(OR(PM.26=\"\",Tipo.26=\"METAL\"),\"-\",IF(OR(RfD.ig.cn.26=\"-\",RfD.ig.cn.26=\"\",RfD.ig.cn.26=0,cdpx.26=\"-\",pw.26=\"-\",BCFR.26=\"-\",a.26=\"-\"),\"-\",((THI*RfD.ig.cn.26)/((IF.Solo.Ing.Veg.nc.i)*(IRL.i*(((ps*pw.26*tscf.26*Qveg)/(Vwveg*pplantveg*a.26*Vlveg))+cdpx.26*fdwsveg)+(IRR.i*BCFR.26)))))),\"-\")","v":"-"},{"$f":"IF(OR(P62=\"-\",P62=\"-\"),0,Cf.SoloSup.26/P62)","v":0},{"$f":"IF(CENÁRIOS!$H$16=TRUE,IF(PM.26=\"\",\"-\",IF(OR(RfD.in.cn.26=\"-\",RfD.in.cn.26=\"\",RfD.in.cn.26=0,FT!O33=\"-\"),\"-\",((THI*RfD.in.cn.26)/(FT!O33*IF.SoloSub.Ina.Abe.a.nc)))),\"-\")","v":"-"},{"$f":"IF(OR(R62=\"-\",R62=\"-\"),0,Cf.SoloSub.26/R62)","v":0},{"$f":"IF(CENÁRIOS!$H$17=TRUE,IF(PM.26=\"\",\"-\",IF(OR(RfD.in.cn.26=\"-\",RfD.in.cn.26=\"\",RfD.in.cn.26=0,FT!P33=\"-\"),\"-\",((THI*RfD.in.cn.26)/(FT!P33*IF.SoloSub.Ina.Fec.a.nc)))),\"-\")","v":"-"},{"$f":"IF(OR(T62=\"-\",T62=\"-\"),0,Cf.SoloSub.26/T62)","v":0},{"$f":"IF(CENÁRIOS!$H$18=TRUE,IF(PM.26=\"\",\"-\",IF(OR(RfD.ig.cn.26=\"-\",RfD.ig.cn.26=\"\",RfD.ig.cn.26=0,FT!Q33=\"-\"),\"-\",((THI*RfD.ig.cn.26)/(FT!Q33*IF.SoloSub.Lix.AS.a.nc))*10^3)),\"-\")","v":"-"},{"$f":"IF(OR(V62=\"-\",V62=\"-\"),0,Cf.SoloSub.26/V62)","v":0},{"$f":"IF(CENÁRIOS!$I$18=TRUE,IF(PM.26=\"\",\"-\",IF(OR(RfD.ig.cn.26=\"-\",RfD.ig.cn.26=\"\",RfD.ig.cn.26=0,FT!Q33=\"-\",DAF.26=\"-\"),\"-\",((THI*RfD.ig.cn.26)/((FT!Q33*DAF.26)*IF.SoloSub.Lix.AS.a.nc))*10^3)),\"-\")","v":"-"},{"$f":"IF(OR(X62=\"-\",X62=\"-\"),0,Cf.SoloSub.26/X62)","v":0}]
[null,27,{"$f":"SQI!D35","v":0},{"$f":"SQI!C35","v":""},"C",{"$f":"IF(CENÁRIOS!$H$11=TRUE,IF(PM.27=\"\",\"-\",IF(OR(Sf.in.27=\"-\",Sf.in.27=\"\",Sf.in.27=0,FT!M34=\"-\"),\"-\",IF(ISERROR(TR/(FT!M34*IF.Solo.Ina.Vap.a.c*Sf.in.27)),\"-\",(TR/(FT!M34*IF.Solo.Ina.Vap.a.c*Sf.in.27))))),\"-\")","v":"-"},{"$f":"IF(OR(F63=\"-\",F63=\"-\"),0,Cf.SoloSup.27/F63)","v":0},{"$f":"IF(CENÁRIOS!$H$12=TRUE,IF(PM.27=\"\",\"-\",IF(OR(Sf.in.27=\"-\",Sf.in.27=\"\",Sf.in.27=0,FT!N34=\"-\"),\"-\",(TR/(FT!N34*IF.Solo.Ina.Par.a.c*Sf.in.27)))),\"-\")","v":"-"},{"$f":"IF(OR(H63=\"-\",H63=\"-\"),0,Cf.SoloSup.27/H63)","v":0},{"$f":"IF(CENÁRIOS!$H$13=TRUE,IF(PM.27=\"\",\"-\",IF(OR(Sf.dm.27=\"-\",Sf.dm.27=\"\",Sf.dm.27=0,ABSd.27=0,ABSd.27=\"\"),\"-\",(TR/(ABSd.27*IF.Solo.Con.Der.a.c*Sf.dm.27)))),\"-\")","v":"-"},{"$f":"IF(OR(J63=\"-\",J63=\"-\"),0,Cf.SoloSup.27/J63)","v":0},{"$f":"IF(CENÁRIOS!$H$14=TRUE,IF(PM.27=\"\",\"-\",IF(OR(Sf.ig.27=\"-\",Sf.ig.27=\"\",Sf.ig.27=0),\"-\",(TR/(IF.Solo.Ing.a.c*Biodisp.27*Sf.ig.27)))),\"-\")","v":"-"},{"$f":"IF(OR(L63=\"-\",L63=\"-\"),0,Cf.SoloSup.27/L63)","v":0},{"$f":"IF(CENÁRIOS!$H$15=TRUE,IF(OR(PM.27=\"\",Tipo.27<>\"METAL\"),\"-\",IF(OR(Sf.ig.27=\"-\",Sf.ig.27=\"\",Sf.ig.27=0,cdpx.27=\"-\",BCF.27=\"-\"),\"-\",(TR/((IF.Solo.Ing.Veg.c.i*Sf.ig.27)*(IRL.i*((BCFF.27+cdpx.27)/frbveg)+(IRR.i*(BCF.27/frkveg))))))),\"-\")","v":"-"},{"$f":"IF(OR(N63=\"-\",N63=\"-\"),0,Cf.SoloSup.27/N63)","v":0},{"$f":"IF(CENÁRIOS!$H$15=TRUE,IF(OR(PM.27=\"\",Tipo.27=\"METAL\"),\"-\",IF(OR(Sf.ig.27=\"-\",Sf.ig.27=\"\",Sf.ig.27=0,cdpx.27=\"-\",pw.27=\"-\",BCFR.27=\"-\",a.27=\"-\"),\"-\",(TR/((IF.Solo.Ing.Veg.c.i*Sf.ig.27)*(IRL.i*(((ps*pw.27*tscf.27*Qveg)/(Vwveg*pplantveg*a.27*Vlveg))+cdpx.27*fdwsveg)+(IRR.i*BCFR.27)))))),\"-\")","v":"-"},{"$f":"IF(OR(P63=\"-\",P63=\"-\"),0,Cf.SoloSup.27/P63)","v":0},{"$f":"IF(CENÁRIOS!$H$16=TRUE,IF(PM.27=\"\",\"-\",IF(OR(Sf.in.27=\"-\",Sf.in.27=\"\",Sf.in.27=0,Sf.in.27=0,FT!O34=\"-\"),\"-\",IF(ISERROR(TR/(FT!O34*IF.SoloSub.Ina.Abe.a.c*Sf.in.27)),\"-\",(TR/(FT!O34*IF.SoloSub.Ina.Abe.a.c*Sf.in.27))))),\"-\")","v":"-"},{"$f":"IF(OR(R63=\"-\",R63=\"-\"),0,Cf.SoloSub.27/R63)","v":0},{"$f":"IF(CENÁRIOS!$H$17=TRUE,IF(PM.27=\"\",\"-\",IF(OR(Sf.in.27=\"-\",Sf.in.27=\"\",Sf.in.27=0,FT!P34=\"-\"),\"-\",IF(ISERROR(TR/(FT!P34*IF.SoloSub.Ina.Fec.a.c*Sf.in.27)),\"-\",(TR/(FT!P34*IF.SoloSub.Ina.Fec.a.c*Sf.in.27))))),\"-\")","v":"-"},{"$f":"IF(OR(T63=\"-\",T63=\"-\"),0,Cf.SoloSub.27/T63)","v":0},{"$f":"IF(CENÁRIOS!$H$18=TRUE,IF(PM.27=\"\",\"-\",IF(OR(Sf.ig.27=\"-\",Sf.ig.27=\"\",Sf.ig.27=0,FT!Q34=\"-\"),\"-\",(TR/(FT!Q34*IF.SoloSub.Lix.AS.a.c*Sf.ig.27))*10^3)),\"-\")","v":"-"},{"$f":"IF(OR(V63=\"-\",V63=\"-\"),0,Cf.SoloSub.27/V63)","v":0},{"$f":"IF(CENÁRIOS!$I$18=TRUE,IF(PM.27=\"\",\"-\",IF(OR(Sf.ig.27=\"-\",Sf.ig.27=\"\",Sf.ig.27=0,FT!Q34=\"-\",DAF.27=\"-\"),\"-\",(TR/((FT!Q34*DAF.27)*IF.SoloSub.Lix.AS.a.c*Sf.ig.27))*10^3)),\"-\")","v":"-"},{"$f":"IF(OR(X63=\"-\",X63=\"-\"),0,Cf.SoloSub.27/X63)","v":0}]
[null,null,null,null,"NC",{"$f":"IF(CENÁRIOS!$H$11=TRUE,IF(PM.27=\"\",\"-\",IF(OR(RfD.in.cn.27=\"-\",RfD.in.cn.27=\"\",RfD.in.cn.27=0,FT!M34=\"-\"),\"-\",((THI*RfD.in.cn.27)/(FT!M34*IF.Solo.Ina.Vap.a.nc)))),\"-\")","v":"-"},{"$f":"IF(OR(F64=\"-\",F64=\"-\"),0,Cf.SoloSup.27/F64)","v":0},{"$f":"IF(CENÁRIOS!$H$12=TRUE,IF(PM.27=\"\",\"-\",IF(OR(RfD.in.cn.27=\"-\",RfD.in.cn.27=\"\",RfD.in.cn.27=0,FT!N34=\"-\"),\"-\",((THI*RfD.in.cn.27)/(FT!N34*IF.Solo.Ina.Par.a.nc)))),\"-\")","v":"-"},{"$f":"IF(OR(H64=\"-\",H64=\"-\"),0,Cf.SoloSup.27/H64)","v":0},{"$f":"IF(CENÁRIOS!$H$13=TRUE,IF(PM.27=\"\",\"-\",IF(OR(RfD.dm.cn.27=\"-\",RfD.dm.cn.27=\"\",RfD.dm.cn.27=0,ABSd.27=0,ABSd.27=\"\"),\"-\",((THI*RfD.dm.cn.27)/(ABSd.27*IF.Solo.Con.Der.a.nc)))),\"-\")","v":"-"},{"$f":"IF(OR(J64=\"-\",J64=\"-\"),0,Cf.SoloSup.27/J64)","v":0},{"$f":"IF(CENÁRIOS!$H$14=TRUE,IF(PM.27=\"\",\"-\",IF(OR(RfD.ig.cn.27=\"-\",RfD.ig.cn.27=\"\",RfD.ig.cn.27=0),\"-\",((THI*RfD.ig.cn.27)/(IF.Solo.Ing.a.nc*Biodisp.27)))),\"-\")","v":"-"},{"$f":"IF(OR(L64=\"-\",L64=\"-\"),0,Cf.SoloSup.27/L64)","v":0},{"$f":"IF(CENÁRIOS!$H$15=TRUE,IF(OR(PM.27=\"\",Tipo.27<>\"METAL\"),\"-\",IF(OR(RfD.ig.cn.27=\"-\",RfD.ig.cn.27=\"\",RfD.ig.cn.27=0,cdpx.27=\"-\",BCF.27=\"-\"),\"-\",((THI*RfD.ig.cn.27)/((IF.Solo.Ing.Veg.nc.i)*(IRL.i*((BCFF.27+cdpx.27)/frbveg)+(IRR.i*(BCF.27/frkveg))))))),\"-\")","v":"-"},{"$f":"IF(OR(N64=\"-\",N64=\"-\"),0,Cf.SoloSup.27/N64)","v":0},{"$f":"IF(CENÁRIOS!$H$15=TRUE,IF(OR(PM.27=\"\",Tipo.27=\"METAL\"),\"-\",IF(OR(RfD.ig.cn.27=\"-\",RfD.ig.cn.27=\"\",RfD.ig.cn.27=0,cdpx.27=\"-\",pw.27=\"-\",BCFR.27=\"-\",a.27=\"-\"),\"-\",((THI*RfD.ig.cn.27)/((IF.Solo.Ing.Veg.nc.i)*(IRL.i*(((ps*pw.27*tscf.27*Qveg)/(Vwveg*pplantveg*a.27*Vlveg))+cdpx.27*fdwsveg)+(IRR.i*BCFR.27)))))),\"-\")","v":"-"},{"$f":"IF(OR(P64=\"-\",P64=\"-\"),0,Cf.SoloSup.27/P64)","v":0},{"$f":"IF(CENÁRIOS!$H$16=TRUE,IF(PM.27=\"\",\"-\",IF(OR(RfD.in.cn.27=\"-\",RfD.in.cn.27=\"\",RfD.in.cn.27=0,FT!O34=\"-\"),\"-\",((THI*RfD.in.cn.27)/(FT!O34*IF.SoloSub.Ina.Abe.a.nc)))),\"-\")","v":"-"},{"$f":"IF(OR(R64=\"-\",R64=\"-\"),0,Cf.SoloSub.27/R64)","v":0},{"$f":"IF(CENÁRIOS!$H$17=TRUE,IF(PM.27=\"\",\"-\",IF(OR(RfD.in.cn.27=\"-\",RfD.in.cn.27=\"\",RfD.in.cn.27=0,FT!P34=\"-\"),\"-\",((THI*RfD.in.cn.27)/(FT!P34*IF.SoloSub.Ina.Fec.a.nc)))),\"-\")","v":"-"},{"$f":"IF(OR(T64=\"-\",T64=\"-\"),0,Cf.SoloSub.27/T64)","v":0},{"$f":"IF(CENÁRIOS!$H$18=TRUE,IF(PM.27=\"\",\"-\",IF(OR(RfD.ig.cn.27=\"-\",RfD.ig.cn.27=\"\",RfD.ig.cn.27=0,FT!Q34=\"-\"),\"-\",((THI*RfD.ig.cn.27)/(FT!Q34*IF.SoloSub.Lix.AS.a.nc))*10^3)),\"-\")","v":"-"},{"$f":"IF(OR(V64=\"-\",V64=\"-\"),0,Cf.SoloSub.27/V64)","v":0},{"$f":"IF(CENÁRIOS!$I$18=TRUE,IF(PM.27=\"\",\"-\",IF(OR(RfD.ig.cn.27=\"-\",RfD.ig.cn.27=\"\",RfD.ig.cn.27=0,FT!Q34=\"-\",DAF.27=\"-\"),\"-\",((THI*RfD.ig.cn.27)/((FT!Q34*DAF.27)*IF.SoloSub.Lix.AS.a.nc))*10^3)),\"-\")","v":"-"},{"$f":"IF(OR(X64=\"-\",X64=\"-\"),0,Cf.SoloSub.27/X64)","v":0}]
[null,28,{"$f":"SQI!D36","v":0},{"$f":"SQI!C36","v":""},"C",{"$f":"IF(CENÁRIOS!$H$11=TRUE,IF(PM.28=\"\",\"-\",IF(OR(Sf.in.28=\"-\",Sf.in.28=\"\",Sf.in.28=0,FT!M35=\"-\"),\"-\",IF(ISERROR(TR/(FT!M35*IF.Solo.Ina.Vap.a.c*Sf.in.28)),\"-\",(TR/(FT!M35*IF.Solo.Ina.Vap.a.c*Sf.in.28))))),\"-\")","v":"-"},{"$f":"IF(OR(F65=\"-\",F65=\"-\"),0,Cf.SoloSup.28/F65)","v":0},{"$f":"IF(CENÁRIOS!$H$12=TRUE,IF(PM.28=\"\",\"-\",IF(OR(Sf.in.28=\"-\",Sf.in.28=\"\",Sf.in.28=0,FT!N35=\"-\"),\"-\",(TR/(FT!N35*IF.Solo.Ina.Par.a.c*Sf.in.28)))),\"-\")","v":"-"},{"$f":"IF(OR(H65=\"-\",H65=\"-\"),0,Cf.SoloSup.28/H65)","v":0},{"$f":"IF(CENÁRIOS!$H$13=TRUE,IF(PM.28=\"\",\"-\",IF(OR(Sf.dm.28=\"-\",Sf.dm.28=\"\",Sf.dm.28=0,ABSd.28=0,ABSd.28=\"\"),\"-\",(TR/(ABSd.28*IF.Solo.Con.Der.a.c*Sf.dm.28)))),\"-\")","v":"-"},{"$f":"IF(OR(J65=\"-\",J65=\"-\"),0,Cf.SoloSup.28/J65)","v":0},{"$f":"IF(CENÁRIOS!$H$14=TRUE,IF(PM.28=\"\",\"-\",IF(OR(Sf.ig.28=\"-\",Sf.ig.28=\"\",Sf.ig.28=0),\"-\",(TR/(IF.Solo.Ing.a.c*Biodisp.28*Sf.ig.28)))),\"-\")","v":"-"},{"$f":"IF(OR(L65=\"-\",L65=\"-\"),0,Cf.SoloSup.28/L65)","v":0},{"$f":"IF(CENÁRIOS!$H$15=TRUE,IF(OR(PM.28=\"\",Tipo.28<>\"METAL\"),\"-\",IF(OR(Sf.ig.28=\"-\",Sf.ig.28=\"\",Sf.ig.28=0,cdpx.28=\"-\",BCF.28=\"-\"),\"-\",(TR/((IF.Solo.Ing.Veg.c.i*Sf.ig.28)*(IRL.i*((BCFF.28+cdpx.28)/frbveg)+(IRR.i*(BCF.28/frkveg))))))),\"-\")","v":"-"},{"$f":"IF(OR(N65=\"-\",N65=\"-\"),0,Cf.SoloSup.28/N65)","v":0},{"$f":"IF(CENÁRIOS!$H$15=TRUE,IF(OR(PM.28=\"\",Tipo.28=\"METAL\"),\"-\",IF(OR(Sf.ig.28=\"-\",Sf.ig.28=\"\",Sf.ig.28=0,cdpx.28=\"-\",pw.28=\"-\",BCFR.28=\"-\",a.28=\"-\"),\"-\",(TR/((IF.Solo.Ing.Veg.c.i*Sf.ig.28)*(IRL.i*(((ps*pw.28*tscf.28*Qveg)/(Vwveg*pplantveg*a.28*Vlveg))+cdpx.28*fdwsveg)+(IRR.i*BCFR.28)))))),\"-\")","v":"-"},{"$f":"IF(OR(P65=\"-\",P65=\"-\"),0,Cf.SoloSup.28/P65)","v":0},{"$f":"IF(CENÁRIOS!$H$16=TRUE,IF(PM.28=\"\",\"-\",IF(OR(Sf.in.28=\"-\",Sf.in.28=\"\",Sf.in.28=0,Sf.in.28=0,FT!O35=\"-\"),\"-\",IF(ISERROR(TR/(FT!O35*IF.SoloSub.Ina.Abe.a.c*Sf.in.28)),\"-\",(TR/(FT!O35*IF.SoloSub.Ina.Abe.a.c*Sf.in.28))))),\"-\")","v":"-"},{"$f":"IF(OR(R65=\"-\",R65=\"-\"),0,Cf.SoloSub.28/R65)","v":0},{"$f":"IF(CENÁRIOS!$H$17=TRUE,IF(PM.28=\"\",\"-\",IF(OR(Sf.in.28=\"-\",Sf.in.28=\"\",Sf.in.28=0,FT!P35=\"-\"),\"-\",IF(ISERROR(TR/(FT!P35*IF.SoloSub.Ina.Fec.a.c*Sf.in.28)),\"-\",(TR/(FT!P35*IF.SoloSub.Ina.Fec.a.c*Sf.in.28))))),\"-\")","v":"-"},{"$f":"IF(OR(T65=\"-\",T65=\"-\"),0,Cf.SoloSub.28/T65)","v":0},{"$f":"IF(CENÁRIOS!$H$18=TRUE,IF(PM.28=\"\",\"-\",IF(OR(Sf.ig.28=\"-\",Sf.ig.28=\"\",Sf.ig.28=0,FT!Q35=\"-\"),\"-\",(TR/(FT!Q35*IF.SoloSub.Lix.AS.a.c*Sf.ig.28))*10^3)),\"-\")","v":"-"},{"$f":"IF(OR(V65=\"-\",V65=\"-\"),0,Cf.SoloSub.28/V65)","v":0},{"$f":"IF(CENÁRIOS!$I$18=TRUE,IF(PM.28=\"\",\"-\",IF(OR(Sf.ig.28=\"-\",Sf.ig.28=\"\",Sf.ig.28=0,FT!Q35=\"-\",DAF.28=\"-\"),\"-\",(TR/((FT!Q35*DAF.28)*IF.SoloSub.Lix.AS.a.c*Sf.ig.28))*10^3)),\"-\")","v":"-"},{"$f":"IF(OR(X65=\"-\",X65=\"-\"),0,Cf.SoloSub.28/X65)","v":0}]
[null,null,null,null,"NC",{"$f":"IF(CENÁRIOS!$H$11=TRUE,IF(PM.28=\"\",\"-\",IF(OR(RfD.in.cn.28=\"-\",RfD.in.cn.28=\"\",RfD.in.cn.28=0,FT!M35=\"-\"),\"-\",((THI*RfD.in.cn.28)/(FT!M35*IF.Solo.Ina.Vap.a.nc)))),\"-\")","v":"-"},{"$f":"IF(OR(F66=\"-\",F66=\"-\"),0,Cf.SoloSup.28/F66)","v":0},{"$f":"IF(CENÁRIOS!$H$12=TRUE,IF(PM.28=\"\",\"-\",IF(OR(RfD.in.cn.28=\"-\",RfD.in.cn.28=\"\",RfD.in.cn.28=0,FT!N35=\"-\"),\"-\",((THI*RfD.in.cn.28)/(FT!N35*IF.Solo.Ina.Par.a.nc)))),\"-\")","v":"-"},{"$f":"IF(OR(H66=\"-\",H66=\"-\"),0,Cf.SoloSup.28/H66)","v":0},{"$f":"IF(CENÁRIOS!$H$13=TRUE,IF(PM.28=\"\",\"-\",IF(OR(RfD.dm.cn.28=\"-\",RfD.dm.cn.28=\"\",RfD.dm.cn.28=0,ABSd.28=0,ABSd.28=\"\"),\"-\",((THI*RfD.dm.cn.28)/(ABSd.28*IF.Solo.Con.Der.a.nc)))),\"-\")","v":"-"},{"$f":"IF(OR(J66=\"-\",J66=\"-\"),0,Cf.SoloSup.28/J66)","v":0},{"$f":"IF(CENÁRIOS!$H$14=TRUE,IF(PM.28=\"\",\"-\",IF(OR(RfD.ig.cn.28=\"-\",RfD.ig.cn.28=\"\",RfD.ig.cn.28=0),\"-\",((THI*RfD.ig.cn.28)/(IF.Solo.Ing.a.nc*Biodisp.28)))),\"-\")","v":"-"},{"$f":"IF(OR(L66=\"-\",L66=\"-\"),0,Cf.SoloSup.28/L66)","v":0},{"$f":"IF(CENÁRIOS!$H$15=TRUE,IF(OR(PM.28=\"\",Tipo.28<>\"METAL\"),\"-\",IF(OR(RfD.ig.cn.28=\"-\",RfD.ig.cn.28=\"\",RfD.ig.cn.28=0,cdpx.28=\"-\",BCF.28=\"-\"),\"-\",((THI*RfD.ig.cn.28)/((IF.Solo.Ing.Veg.nc.i)*(IRL.i*((BCFF.28+cdpx.28)/frbveg)+(IRR.i*(BCF.28/frkveg))))))),\"-\")","v":"-"},{"$f":"IF(OR(N66=\"-\",N66=\"-\"),0,Cf.SoloSup.28/N66)","v":0},{"$f":"IF(CENÁRIOS!$H$15=TRUE,IF(OR(PM.28=\"\",Tipo.28=\"METAL\"),\"-\",IF(OR(RfD.ig.cn.28=\"-\",RfD.ig.cn.28=\"\",RfD.ig.cn.28=0,cdpx.28=\"-\",pw.28=\"-\",BCFR.28=\"-\",a.28=\"-\"),\"-\",((THI*RfD.ig.cn.28)/((IF.Solo.Ing.Veg.nc.i)*(IRL.i*(((ps*pw.28*tscf.28*Qveg)/(Vwveg*pplantveg*a.28*Vlveg))+cdpx.28*fdwsveg)+(IRR.i*BCFR.28)))))),\"-\")","v":"-"},{"$f":"IF(OR(P66=\"-\",P66=\"-\"),0,Cf.SoloSup.28/P66)","v":0},{"$f":"IF(CENÁRIOS!$H$16=TRUE,IF(PM.28=\"\",\"-\",IF(OR(RfD.in.cn.28=\"-\",RfD.in.cn.28=\"\",RfD.in.cn.28=0,FT!O35=\"-\"),\"-\",((THI*RfD.in.cn.28)/(FT!O35*IF.SoloSub.Ina.Abe.a.nc)))),\"-\")","v":"-"},{"$f":"IF(OR(R66=\"-\",R66=\"-\"),0,Cf.SoloSub.28/R66)","v":0},{"$f":"IF(CENÁRIOS!$H$17=TRUE,IF(PM.28=\"\",\"-\",IF(OR(RfD.in.cn.28=\"-\",RfD.in.cn.28=\"\",RfD.in.cn.28=0,FT!P35=\"-\"),\"-\",((THI*RfD.in.cn.28)/(FT!P35*IF.SoloSub.Ina.Fec.a.nc)))),\"-\")","v":"-"},{"$f":"IF(OR(T66=\"-\",T66=\"-\"),0,Cf.SoloSub.28/T66)","v":0},{"$f":"IF(CENÁRIOS!$H$18=TRUE,IF(PM.28=\"\",\"-\",IF(OR(RfD.ig.cn.28=\"-\",RfD.ig.cn.28=\"\",RfD.ig.cn.28=0,FT!Q35=\"-\"),\"-\",((THI*RfD.ig.cn.28)/(FT!Q35*IF.SoloSub.Lix.AS.a.nc))*10^3)),\"-\")","v":"-"},{"$f":"IF(OR(V66=\"-\",V66=\"-\"),0,Cf.SoloSub.28/V66)","v":0},{"$f":"IF(CENÁRIOS!$I$18=TRUE,IF(PM.28=\"\",\"-\",IF(OR(RfD.ig.cn.28=\"-\",RfD.ig.cn.28=\"\",RfD.ig.cn.28=0,FT!Q35=\"-\",DAF.28=\"-\"),\"-\",((THI*RfD.ig.cn.28)/((FT!Q35*DAF.28)*IF.SoloSub.Lix.AS.a.nc))*10^3)),\"-\")","v":"-"},{"$f":"IF(OR(X66=\"-\",X66=\"-\"),0,Cf.SoloSub.28/X66)","v":0}]
[null,29,{"$f":"SQI!D37","v":0},{"$f":"SQI!C37","v":""},"C",{"$f":"IF(CENÁRIOS!$H$11=TRUE,IF(PM.29=\"\",\"-\",IF(OR(Sf.in.29=\"-\",Sf.in.29=\"\",Sf.in.29=0,FT!M36=\"-\"),\"-\",IF(ISERROR(TR/(FT!M36*IF.Solo.Ina.Vap.a.c*Sf.in.29)),\"-\",(TR/(FT!M36*IF.Solo.Ina.Vap.a.c*Sf.in.29))))),\"-\")","v":"-"},{"$f":"IF(OR(F67=\"-\",F67=\"-\"),0,Cf.SoloSup.29/F67)","v":0},{"$f":"IF(CENÁRIOS!$H$12=TRUE,IF(PM.29=\"\",\"-\",IF(OR(Sf.in.29=\"-\",Sf.in.29=\"\",Sf.in.29=0,FT!N36=\"-\"),\"-\",(TR/(FT!N36*IF.Solo.Ina.Par.a.c*Sf.in.29)))),\"-\")","v":"-"},{"$f":"IF(OR(H67=\"-\",H67=\"-\"),0,Cf.SoloSup.29/H67)","v":0},{"$f":"IF(CENÁRIOS!$H$13=TRUE,IF(PM.29=\"\",\"-\",IF(OR(Sf.dm.29=\"-\",Sf.dm.29=\"\",Sf.dm.29=0,ABSd.29=0,ABSd.29=\"\"),\"-\",(TR/(ABSd.29*IF.Solo.Con.Der.a.c*Sf.dm.29)))),\"-\")","v":"-"},{"$f":"IF(OR(J67=\"-\",J67=\"-\"),0,Cf.SoloSup.29/J67)","v":0},{"$f":"IF(CENÁRIOS!$H$14=TRUE,IF(PM.29=\"\",\"-\",IF(OR(Sf.ig.29=\"-\",Sf.ig.29=\"\",Sf.ig.29=0),\"-\",(TR/(IF.Solo.Ing.a.c*Biodisp.29*Sf.ig.29)))),\"-\")","v":"-"},{"$f":"IF(OR(L67=\"-\",L67=\"-\"),0,Cf.SoloSup.29/L67)","v":0},{"$f":"IF(CENÁRIOS!$H$15=TRUE,IF(OR(PM.29=\"\",Tipo.29<>\"METAL\"),\"-\",IF(OR(Sf.ig.29=\"-\",Sf.ig.29=\"\",Sf.ig.29=0,cdpx.29=\"-\",BCF.29=\"-\"),\"-\",(TR/((IF.Solo.Ing.Veg.c.i*Sf.ig.29)*(IRL.i*((BCFF.29+cdpx.29)/frbveg)+(IRR.i*(BCF.29/frkveg))))))),\"-\")","v":"-"},{"$f":"IF(OR(N67=\"-\",N67=\"-\"),0,Cf.SoloSup.29/N67)","v":0},{"$f":"IF(CENÁRIOS!$H$15=TRUE,IF(OR(PM.29=\"\",Tipo.29=\"METAL\"),\"-\",IF(OR(Sf.ig.29=\"-\",Sf.ig.29=\"\",Sf.ig.29=0,cdpx.29=\"-\",pw.29=\"-\",BCFR.29=\"-\",a.29=\"-\"),\"-\",(TR/((IF.Solo.Ing.Veg.c.i*Sf.ig.29)*(IRL.i*(((ps*pw.29*tscf.29*Qveg)/(Vwveg*pplantveg*a.29*Vlveg))+cdpx.29*fdwsveg)+(IRR.i*BCFR.29)))))),\"-\")","v":"-"},{"$f":"IF(OR(P67=\"-\",P67=\"-\"),0,Cf.SoloSup.29/P67)","v":0},{"$f":"IF(CENÁRIOS!$H$16=TRUE,IF(PM.29=\"\",\"-\",IF(OR(Sf.in.29=\"-\",Sf.in.29=\"\",Sf.in.29=0,Sf.in.29=0,FT!O36=\"-\"),\"-\",IF(ISERROR(TR/(FT!O36*IF.SoloSub.Ina.Abe.a.c*Sf.in.29)),\"-\",(TR/(FT!O36*IF.SoloSub.Ina.Abe.a.c*Sf.in.29))))),\"-\")","v":"-"},{"$f":"IF(OR(R67=\"-\",R67=\"-\"),0,Cf.SoloSub.29/R67)","v":0},{"$f":"IF(CENÁRIOS!$H$17=TRUE,IF(PM.29=\"\",\"-\",IF(OR(Sf.in.29=\"-\",Sf.in.29=\"\",Sf.in.29=0,FT!P36=\"-\"),\"-\",IF(ISERROR(TR/(FT!P36*IF.SoloSub.Ina.Fec.a.c*Sf.in.29)),\"-\",(TR/(FT!P36*IF.SoloSub.Ina.Fec.a.c*Sf.in.29))))),\"-\")","v":"-"},{"$f":"IF(OR(T67=\"-\",T67=\"-\"),0,Cf.SoloSub.29/T67)","v":0},{"$f":"IF(CENÁRIOS!$H$18=TRUE,IF(PM.29=\"\",\"-\",IF(OR(Sf.ig.29=\"-\",Sf.ig.29=\"\",Sf.ig.29=0,FT!Q36=\"-\"),\"-\",(TR/(FT!Q36*IF.SoloSub.Lix.AS.a.c*Sf.ig.29))*10^3)),\"-\")","v":"-"},{"$f":"IF(OR(V67=\"-\",V67=\"-\"),0,Cf.SoloSub.29/V67)","v":0},{"$f":"IF(CENÁRIOS!$I$18=TRUE,IF(PM.29=\"\",\"-\",IF(OR(Sf.ig.29=\"-\",Sf.ig.29=\"\",Sf.ig.29=0,FT!Q36=\"-\",DAF.29=\"-\"),\"-\",(TR/((FT!Q36*DAF.29)*IF.SoloSub.Lix.AS.a.c*Sf.ig.29))*10^3)),\"-\")","v":"-"},{"$f":"IF(OR(X67=\"-\",X67=\"-\"),0,Cf.SoloSub.29/X67)","v":0}]
[null,null,null,null,"NC",{"$f":"IF(CENÁRIOS!$H$11=TRUE,IF(PM.29=\"\",\"-\",IF(OR(RfD.in.cn.29=\"-\",RfD.in.cn.29=\"\",RfD.in.cn.29=0,FT!M36=\"-\"),\"-\",((THI*RfD.in.cn.29)/(FT!M36*IF.Solo.Ina.Vap.a.nc)))),\"-\")","v":"-"},{"$f":"IF(OR(F68=\"-\",F68=\"-\"),0,Cf.SoloSup.29/F68)","v":0},{"$f":"IF(CENÁRIOS!$H$12=TRUE,IF(PM.29=\"\",\"-\",IF(OR(RfD.in.cn.29=\"-\",RfD.in.cn.29=\"\",RfD.in.cn.29=0,FT!N36=\"-\"),\"-\",((THI*RfD.in.cn.29)/(FT!N36*IF.Solo.Ina.Par.a.nc)))),\"-\")","v":"-"},{"$f":"IF(OR(H68=\"-\",H68=\"-\"),0,Cf.SoloSup.29/H68)","v":0},{"$f":"IF(CENÁRIOS!$H$13=TRUE,IF(PM.29=\"\",\"-\",IF(OR(RfD.dm.cn.29=\"-\",RfD.dm.cn.29=\"\",RfD.dm.cn.29=0,ABSd.29=0,ABSd.29=\"\"),\"-\",((THI*RfD.dm.cn.29)/(ABSd.29*IF.Solo.Con.Der.a.nc)))),\"-\")","v":"-"},{"$f":"IF(OR(J68=\"-\",J68=\"-\"),0,Cf.SoloSup.29/J68)","v":0},{"$f":"IF(CENÁRIOS!$H$14=TRUE,IF(PM.29=\"\",\"-\",IF(OR(RfD.ig.cn.29=\"-\",RfD.ig.cn.29=\"\",RfD.ig.cn.29=0),\"-\",((THI*RfD.ig.cn.29)/(IF.Solo.Ing.a.nc*Biodisp.29)))),\"-\")","v":"-"},{"$f":"IF(OR(L68=\"-\",L68=\"-\"),0,Cf.SoloSup.29/L68)","v":0},{"$f":"IF(CENÁRIOS!$H$15=TRUE,IF(OR(PM.29=\"\",Tipo.29<>\"METAL\"),\"-\",IF(OR(RfD.ig.cn.29=\"-\",RfD.ig.cn.29=\"\",RfD.ig.cn.29=0,cdpx.29=\"-\",BCF.29=\"-\"),\"-\",((THI*RfD.ig.cn.29)/((IF.Solo.Ing.Veg.nc.i)*(IRL.i*((BCFF.29+cdpx.29)/frbveg)+(IRR.i*(BCF.29/frkveg))))))),\"-\")","v":"-"},{"$f":"IF(OR(N68=\"-\",N68=\"-\"),0,Cf.SoloSup.29/N68)","v":0},{"$f":"IF(CENÁRIOS!$H$15=TRUE,IF(OR(PM.29=\"\",Tipo.29=\"METAL\"),\"-\",IF(OR(RfD.ig.cn.29=\"-\",RfD.ig.cn.29=\"\",RfD.ig.cn.29=0,cdpx.29=\"-\",pw.29=\"-\",BCFR.29=\"-\",a.29=\"-\"),\"-\",((THI*RfD.ig.cn.29)/((IF.Solo.Ing.Veg.nc.i)*(IRL.i*(((ps*pw.29*tscf.29*Qveg)/(Vwveg*pplantveg*a.29*Vlveg))+cdpx.29*fdwsveg)+(IRR.i*BCFR.29)))))),\"-\")","v":"-"},{"$f":"IF(OR(P68=\"-\",P68=\"-\"),0,Cf.SoloSup.29/P68)","v":0},{"$f":"IF(CENÁRIOS!$H$16=TRUE,IF(PM.29=\"\",\"-\",IF(OR(RfD.in.cn.29=\"-\",RfD.in.cn.29=\"\",RfD.in.cn.29=0,FT!O36=\"-\"),\"-\",((THI*RfD.in.cn.29)/(FT!O36*IF.SoloSub.Ina.Abe.a.nc)))),\"-\")","v":"-"},{"$f":"IF(OR(R68=\"-\",R68=\"-\"),0,Cf.SoloSub.29/R68)","v":0},{"$f":"IF(CENÁRIOS!$H$17=TRUE,IF(PM.29=\"\",\"-\",IF(OR(RfD.in.cn.29=\"-\",RfD.in.cn.29=\"\",RfD.in.cn.29=0,FT!P36=\"-\"),\"-\",((THI*RfD.in.cn.29)/(FT!P36*IF.SoloSub.Ina.Fec.a.nc)))),\"-\")","v":"-"},{"$f":"IF(OR(T68=\"-\",T68=\"-\"),0,Cf.SoloSub.29/T68)","v":0},{"$f":"IF(CENÁRIOS!$H$18=TRUE,IF(PM.29=\"\",\"-\",IF(OR(RfD.ig.cn.29=\"-\",RfD.ig.cn.29=\"\",RfD.ig.cn.29=0,FT!Q36=\"-\"),\"-\",((THI*RfD.ig.cn.29)/(FT!Q36*IF.SoloSub.Lix.AS.a.nc))*10^3)),\"-\")","v":"-"},{"$f":"IF(OR(V68=\"-\",V68=\"-\"),0,Cf.SoloSub.29/V68)","v":0},{"$f":"IF(CENÁRIOS!$I$18=TRUE,IF(PM.29=\"\",\"-\",IF(OR(RfD.ig.cn.29=\"-\",RfD.ig.cn.29=\"\",RfD.ig.cn.29=0,FT!Q36=\"-\",DAF.29=\"-\"),\"-\",((THI*RfD.ig.cn.29)/((FT!Q36*DAF.29)*IF.SoloSub.Lix.AS.a.nc))*10^3)),\"-\")","v":"-"},{"$f":"IF(OR(X68=\"-\",X68=\"-\"),0,Cf.SoloSub.29/X68)","v":0}]
[null,30,{"$f":"SQI!D38","v":0},{"$f":"SQI!C38","v":""},"C",{"$f":"IF(CENÁRIOS!$H$11=TRUE,IF(PM.30=\"\",\"-\",IF(OR(Sf.in.30=\"-\",Sf.in.30=\"\",Sf.in.30=0,FT!M37=\"-\"),\"-\",IF(ISERROR(TR/(FT!M37*IF.Solo.Ina.Vap.a.c*Sf.in.30)),\"-\",(TR/(FT!M37*IF.Solo.Ina.Vap.a.c*Sf.in.30))))),\"-\")","v":"-"},{"$f":"IF(OR(F69=\"-\",F69=\"-\"),0,Cf.SoloSup.30/F69)","v":0},{"$f":"IF(CENÁRIOS!$H$12=TRUE,IF(PM.30=\"\",\"-\",IF(OR(Sf.in.30=\"-\",Sf.in.30=\"\",Sf.in.30=0,FT!N37=\"-\"),\"-\",(TR/(FT!N37*IF.Solo.Ina.Par.a.c*Sf.in.30)))),\"-\")","v":"-"},{"$f":"IF(OR(H69=\"-\",H69=\"-\"),0,Cf.SoloSup.30/H69)","v":0},{"$f":"IF(CENÁRIOS!$H$13=TRUE,IF(PM.30=\"\",\"-\",IF(OR(Sf.dm.30=\"-\",Sf.dm.30=\"\",Sf.dm.30=0,ABSd.30=0,ABSd.30=\"\"),\"-\",(TR/(ABSd.30*IF.Solo.Con.Der.a.c*Sf.dm.30)))),\"-\")","v":"-"},{"$f":"IF(OR(J69=\"-\",J69=\"-\"),0,Cf.SoloSup.30/J69)","v":0},{"$f":"IF(CENÁRIOS!$H$14=TRUE,IF(PM.30=\"\",\"-\",IF(OR(Sf.ig.30=\"-\",Sf.ig.30=\"\",Sf.ig.30=0),\"-\",(TR/(IF.Solo.Ing.a.c*Biodisp.30*Sf.ig.30)))),\"-\")","v":"-"},{"$f":"IF(OR(L69=\"-\",L69=\"-\"),0,Cf.SoloSup.30/L69)","v":0},{"$f":"IF(CENÁRIOS!$H$15=TRUE,IF(OR(PM.30=\"\",Tipo.30<>\"METAL\"),\"-\",IF(OR(Sf.ig.30=\"-\",Sf.ig.30=\"\",Sf.ig.30=0,cdpx.30=\"-\",BCF.30=\"-\"),\"-\",(TR/((IF.Solo.Ing.Veg.c.i*Sf.ig.30)*(IRL.i*((BCFF.30+cdpx.30)/frbveg)+(IRR.i*(BCF.30/frkveg))))))),\"-\")","v":"-"},{"$f":"IF(OR(N69=\"-\",N69=\"-\"),0,Cf.SoloSup.30/N69)","v":0},{"$f":"IF(CENÁRIOS!$H$15=TRUE,IF(OR(PM.30=\"\",Tipo.30=\"METAL\"),\"-\",IF(OR(Sf.ig.30=\"-\",Sf.ig.30=\"\",Sf.ig.30=0,cdpx.30=\"-\",pw.30=\"-\",BCFR.30=\"-\",a.30=\"-\"),\"-\",(TR/((IF.Solo.Ing.Veg.c.i*Sf.ig.30)*(IRL.i*(((ps*pw.30*tscf.30*Qveg)/(Vwveg*pplantveg*a.30*Vlveg))+cdpx.30*fdwsveg)+(IRR.i*BCFR.30)))))),\"-\")","v":"-"},{"$f":"IF(OR(P69=\"-\",P69=\"-\"),0,Cf.SoloSup.30/P69)","v":0},{"$f":"IF(CENÁRIOS!$H$16=TRUE,IF(PM.30=\"\",\"-\",IF(OR(Sf.in.30=\"-\",Sf.in.30=\"\",Sf.in.30=0,Sf.in.30=0,FT!O37=\"-\"),\"-\",IF(ISERROR(TR/(FT!O37*IF.SoloSub.Ina.Abe.a.c*Sf.in.30)),\"-\",(TR/(FT!O37*IF.SoloSub.Ina.Abe.a.c*Sf.in.30))))),\"-\")","v":"-"},{"$f":"IF(OR(R69=\"-\",R69=\"-\"),0,Cf.SoloSub.30/R69)","v":0},{"$f":"IF(CENÁRIOS!$H$17=TRUE,IF(PM.30=\"\",\"-\",IF(OR(Sf.in.30=\"-\",Sf.in.30=\"\",Sf.in.30=0,FT!P37=\"-\"),\"-\",IF(ISERROR(TR/(FT!P37*IF.SoloSub.Ina.Fec.a.c*Sf.in.30)),\"-\",(TR/(FT!P37*IF.SoloSub.Ina.Fec.a.c*Sf.in.30))))),\"-\")","v":"-"},{"$f":"IF(OR(T69=\"-\",T69=\"-\"),0,Cf.SoloSub.30/T69)","v":0},{"$f":"IF(CENÁRIOS!$H$18=TRUE,IF(PM.30=\"\",\"-\",IF(OR(Sf.ig.30=\"-\",Sf.ig.30=\"\",Sf.ig.30=0,FT!Q37=\"-\"),\"-\",(TR/(FT!Q37*IF.SoloSub.Lix.AS.a.c*Sf.ig.30))*10^3)),\"-\")","v":"-"},{"$f":"IF(OR(V69=\"-\",V69=\"-\"),0,Cf.SoloSub.30/V69)","v":0},{"$f":"IF(CENÁRIOS!$I$18=TRUE,IF(PM.30=\"\",\"-\",IF(OR(Sf.ig.30=\"-\",Sf.ig.30=\"\",Sf.ig.30=0,FT!Q37=\"-\",DAF.30=\"-\"),\"-\",(TR/((FT!Q37*DAF.30)*IF.SoloSub.Lix.AS.a.c*Sf.ig.30))*10^3)),\"-\")","v":"-"},{"$f":"IF(OR(X69=\"-\",X69=\"-\"),0,Cf.SoloSub.30/X69)","v":0}]
[null,null,null,null,"NC",{"$f":"IF(CENÁRIOS!$H$11=TRUE,IF(PM.30=\"\",\"-\",IF(OR(RfD.in.cn.30=\"-\",RfD.in.cn.30=\"\",RfD.in.cn.30=0,FT!M37=\"-\"),\"-\",((THI*RfD.in.cn.30)/(FT!M37*IF.Solo.Ina.Vap.a.nc)))),\"-\")","v":"-"},{"$f":"IF(OR(F70=\"-\",F70=\"-\"),0,Cf.SoloSup.30/F70)","v":0},{"$f":"IF(CENÁRIOS!$H$12=TRUE,IF(PM.30=\"\",\"-\",IF(OR(RfD.in.cn.30=\"-\",RfD.in.cn.30=\"\",RfD.in.cn.30=0,FT!N37=\"-\"),\"-\",((THI*RfD.in.cn.30)/(FT!N37*IF.Solo.Ina.Par.a.nc)))),\"-\")","v":"-"},{"$f":"IF(OR(H70=\"-\",H70=\"-\"),0,Cf.SoloSup.30/H70)","v":0},{"$f":"IF(CENÁRIOS!$H$13=TRUE,IF(PM.30=\"\",\"-\",IF(OR(RfD.dm.cn.30=\"-\",RfD.dm.cn.30=\"\",RfD.dm.cn.30=0,ABSd.30=0,ABSd.30=\"\"),\"-\",((THI*RfD.dm.cn.30)/(ABSd.30*IF.Solo.Con.Der.a.nc)))),\"-\")","v":"-"},{"$f":"IF(OR(J70=\"-\",J70=\"-\"),0,Cf.SoloSup.30/J70)","v":0},{"$f":"IF(CENÁRIOS!$H$14=TRUE,IF(PM.30=\"\",\"-\",IF(OR(RfD.ig.cn.30=\"-\",RfD.ig.cn.30=\"\",RfD.ig.cn.30=0),\"-\",((THI*RfD.ig.cn.30)/(IF.Solo.Ing.a.nc*Biodisp.30)))),\"-\")","v":"-"},{"$f":"IF(OR(L70=\"-\",L70=\"-\"),0,Cf.SoloSup.30/L70)","v":0},{"$f":"IF(CENÁRIOS!$H$15=TRUE,IF(OR(PM.30=\"\",Tipo.30<>\"METAL\"),\"-\",IF(OR(RfD.ig.cn.30=\"-\",RfD.ig.cn.30=\"\",RfD.ig.cn.30=0,cdpx.30=\"-\",BCF.30=\"-\"),\"-\",((THI*RfD.ig.cn.30)/((IF.Solo.Ing.Veg.nc.i)*(IRL.i*((BCFF.30+cdpx.30)/frbveg)+(IRR.i*(BCF.30/frkveg))))))),\"-\")","v":"-"},{"$f":"IF(OR(N70=\"-\",N70=\"-\"),0,Cf.SoloSup.30/N70)","v":0},{"$f":"IF(CENÁRIOS!$H$15=TRUE,IF(OR(PM.30=\"\",Tipo.30=\"METAL\"),\"-\",IF(OR(RfD.ig.cn.30=\"-\",RfD.ig.cn.30=\"\",RfD.ig.cn.30=0,cdpx.30=\"-\",pw.30=\"-\",BCFR.30=\"-\",a.30=\"-\"),\"-\",((THI*RfD.ig.cn.30)/((IF.Solo.Ing.Veg.nc.i)*(IRL.i*(((ps*pw.30*tscf.30*Qveg)/(Vwveg*pplantveg*a.30*Vlveg))+cdpx.30*fdwsveg)+(IRR.i*BCFR.30)))))),\"-\")","v":"-"},{"$f":"IF(OR(P70=\"-\",P70=\"-\"),0,Cf.SoloSup.30/P70)","v":0},{"$f":"IF(CENÁRIOS!$H$16=TRUE,IF(PM.30=\"\",\"-\",IF(OR(RfD.in.cn.30=\"-\",RfD.in.cn.30=\"\",RfD.in.cn.30=0,FT!O37=\"-\"),\"-\",((THI*RfD.in.cn.30)/(FT!O37*IF.SoloSub.Ina.Abe.a.nc)))),\"-\")","v":"-"},{"$f":"IF(OR(R70=\"-\",R70=\"-\"),0,Cf.SoloSub.30/R70)","v":0},{"$f":"IF(CENÁRIOS!$H$17=TRUE,IF(PM.30=\"\",\"-\",IF(OR(RfD.in.cn.30=\"-\",RfD.in.cn.30=\"\",RfD.in.cn.30=0,FT!P37=\"-\"),\"-\",((THI*RfD.in.cn.30)/(FT!P37*IF.SoloSub.Ina.Fec.a.nc)))),\"-\")","v":"-"},{"$f":"IF(OR(T70=\"-\",T70=\"-\"),0,Cf.SoloSub.30/T70)","v":0},{"$f":"IF(CENÁRIOS!$H$18=TRUE,IF(PM.30=\"\",\"-\",IF(OR(RfD.ig.cn.30=\"-\",RfD.ig.cn.30=\"\",RfD.ig.cn.30=0,FT!Q37=\"-\"),\"-\",((THI*RfD.ig.cn.30)/(FT!Q37*IF.SoloSub.Lix.AS.a.nc))*10^3)),\"-\")","v":"-"},{"$f":"IF(OR(V70=\"-\",V70=\"-\"),0,Cf.SoloSub.30/V70)","v":0},{"$f":"IF(CENÁRIOS!$I$18=TRUE,IF(PM.30=\"\",\"-\",IF(OR(RfD.ig.cn.30=\"-\",RfD.ig.cn.30=\"\",RfD.ig.cn.30=0,FT!Q37=\"-\",DAF.30=\"-\"),\"-\",((THI*RfD.ig.cn.30)/((FT!Q37*DAF.30)*IF.SoloSub.Lix.AS.a.nc))*10^3)),\"-\")","v":"-"},{"$f":"IF(OR(X70=\"-\",X70=\"-\"),0,Cf.SoloSub.30/X70)","v":0}]
[]
[null,"Risco Máximo Aceitável para Substâncias Carcinogênicas",null,null,null,{"$f":"TR","v":1.0000000000000001E-5}]
[null,"Quociente de Perigo Máximo Aceitável para Substâncias não Carcinogênicas",null,null,null,{"$f":"THI","v":1}]

{"sheet":"CMA AS","index":9,"n_rows":72,"n_cols":21,"rows_kept":72,"cut":false,"hidden":false,"merged":[[67,1,68,1],[67,2,68,2],[67,3,68,3],[61,1,62,1],[61,2,62,2],[61,3,62,3],[63,1,64,1],[63,2,64,2],[63,3,64,3],[65,1,66,1],[65,2,66,2],[65,3,66,3],[55,1,56,1],[55,2,56,2],[55,3,56,3],[57,1,58,1],[57,2,58,2],[57,3,58,3],[59,1,60,1],[59,2,60,2],[59,3,60,3],[49,1,50,1],[49,2,50,2],[49,3,50,3],[51,1,52,1],[51,2,52,2],[51,3,52,3],[53,1,54,1],[53,2,54,2],[53,3,54,3],[43,1,44,1],[43,2,44,2],[43,3,44,3],[45,1,46,1],[45,2,46,2],[45,3,46,3],[47,1,48,1],[47,2,48,2],[47,3,48,3],[37,1,38,1],[37,2,38,2],[37,3,38,3],[39,1,40,1],[39,2,40,2],[39,3,40,3],[41,1,42,1],[41,2,42,2],[41,3,42,3],[31,1,32,1],[31,2,32,2],[31,3,32,3],[33,1,34,1],[33,2,34,2],[33,3,34,3],[35,1,36,1],[35,2,36,2],[35,3,36,3],[25,1,26,1],[25,2,26,2],[25,3,26,3],[27,1,28,1],[27,2,28,2],[27,3,28,3],[29,1,30,1],[29,2,30,2],[29,3,30,3],[19,1,20,1],[19,2,20,2],[19,3,20,3],[21,1,22,1],[21,2,22,2],[21,3,22,3],[23,1,24,1],[23,2,24,2],[23,3,24,3],[13,1,14,1],[13,2,14,2],[13,3,14,3],[15,1,16,1],[15,2,16,2],[15,3,16,3],[17,1,18,1],[17,2,18,2],[17,3,18,3],[11,1,12,1],[11,2,12,2],[11,3,12,3],[2,3,8,3],[7,1,8,2],[2,1,6,2],[2,4,8,4],[2,5,2,20],[4,13,4,20],[4,5,4,12],[7,5,7,6],[8,11,8,12],[7,13,7,14],[8,13,8,14],[8,5,8,6],[8,17,8,18],[8,19,8,20],[7,19,7,20],[7,17,7,18],[5,17,5,20],[6,17,6,20],[5,13,6,16],[1,3,1,4],[1,5,1,8],[1,9,1,20],[5,5,6,8],[9,1,10,1],[9,2,10,2],[9,3,10,3],[5,9,5,12],[6,9,6,12],[8,9,8,10],[7,15,7,16],[7,9,7,10],[8,15,8,16],[7,11,7,12],[7,7,7,8],[8,7,8,8],[3,5,3,20]]}
[]
[null,"DATA:",null,{"$f":"CENÁRIOS!C3","v":0},null,"IDENTIFICAÇÃO DA ÁREA:",null,null,null,{"$f":"CENÁRIOS!G3","v":0}]
[null,null,null,"CONTAMINANTE","EFEITO","CONCENTRAÇÕES MÁXIMAS ACEITÁVEIS PARA ÁGUA SUBTERRÂNEA"]
[null,null,null,null,null,{"$f":"CENÁRIOS!H5","v":"TRABALHADOR EM OBRAS CIVIS E DE ESCAVAÇÃO"}]
[null,null,null,null,null,"NO PONTO DE EXPOSIÇÃO",null,null,null,null,null,null,null,"NA FONTE DE CONTAMINAÇÃO \nA UMA DISTANCIA DO PONTO DE EXPOSIÇÃO"]
[null,null,null,null,null,"INALAÇÃO",null,null,null,"USO IRRESTRITO",null,null,null,"INALAÇÃO",null,null,null,"USO IRRESTRITO"]
[null,null,null,null,null,null,null,null,null,"CONTATO DIRETO",null,null,null,null,null,null,null,"CONTATO DIRETO"]
[null,"CAS N°",null,null,null,"AMBIENTES ABERTOS",null,"AMBIENTES FECHADOS",null,"CONTATO DÉRMICO",null,"INGESTÃO",null,"AMBIENTES ABERTOS",null,"AMBIENTES FECHADOS",null,"CONTATO DÉRMICO",null,"INGESTÃO"]
[null,null,null,null,null,"mg/L",null,"mg/L",null,"mg/L",null,"mg/L",null,"mg/L",null,"mg/L",null,"mg/L",null,"mg/L"]
[null,1,{"$f":"SQI!D9","v":0},{"$f":"SQI!C9","v":""},"C",{"$f":"IF(CENÁRIOS!$H$19=TRUE,IF(PM.1=\"\",\"-\",IF(OR(Sf.in.1=\"-\",Sf.in.1=\"\",Sf.in.1=0,FT!$R$8=\"-\"),\"-\",IF(ISERROR(TR/(FT!$R$8*IF.ASub.Ina.Abe.a.c*Sf.in.1)),\"-\",(TR/(FT!$R$8*IF.ASub.Ina.Abe.a.c*Sf.in.1))))),\"-\")","v":"-"},{"$f":"IF(OR(F10=\"-\",F10=\"-\"),0,Cf.AguaSub.1/F10)","v":0},{"$f":"IF(CENÁRIOS!$H$20=TRUE,IF(PM.1=\"\",\"-\",IF(OR(Sf.in.1=\"-\",Sf.in.1=\"\",Sf.in.1=0,FT!$S$8=\"-\"),\"-\",IF(ISERROR(TR/(FT!$S$8*IF.ASub.Ina.Fec.a.c*Sf.in.1)),\"-\",(TR/(FT!$S$8*IF.ASub.Ina.Fec.a.c*Sf.in.1))))),\"-\")","v":"-"},{"$f":"IF(OR(H10=\"-\",H10=\"-\"),0,Cf.AguaSub.1/H10)","v":0},{"$f":"IF(CENÁRIOS!$H$21=TRUE,IF(PM.1=\"\",\"-\",IF(OR(Sf.dm.1=\"-\",Sf.dm.1=\"\",Sf.dm.1=0,PC.1=\"\"),\"-\",(TR/(PC.1*IF.ASub.Con.Der.a.c*Sf.dm.1)))),\"-\")","v":"-"},{"$f":"IF(OR(J10=\"-\",J10=\"-\"),0,Cf.AguaSub.1/J10)","v":0},{"$f":"IF(CENÁRIOS!$H$22=TRUE,IF(PM.1=\"\",\"-\",IF(OR(Sf.ig.1=\"-\",Sf.ig.1=\"\",Sf.ig.1=0),\"-\",(TR/(IF.ASub.Ing.a.c*Sf.ig.1)))),\"-\")","v":"-"},{"$f":"IF(OR(L10=\"-\",L10=\"-\"),0,Cf.AguaSub.1/L10)","v":0},{"$f":"IF(CENÁRIOS!$I$19=TRUE,IF(PM.1=\"\",\"-\",IF(OR(Sf.in.1=\"-\",Sf.in.1=\"\",Sf.in.1=0,FT!$R$8=\"-\"),\"-\",IF(ISERROR(TR/((FT!$R$8*DAF.1)*IF.ASub.Ina.Abe.a.c*Sf.in.1)),\"-\",(TR/((FT!$R$8*DAF.1)*IF.ASub.Ina.Abe.a.c*Sf.in.1))))),\"-\")","v":"-"},{"$f":"IF(OR(N10=\"-\",N10=\"-\"),0,Cf.AguaSub.1/N10)","v":0},{"$f":"IF(CENÁRIOS!$I$20=TRUE,IF(PM.1=\"\",\"-\",IF(OR(Sf.in.1=\"-\",Sf.in.1=\"\",Sf.in.1=0,FT!$S$8=\"-\"),\"-\",IF(ISERROR(TR/((FT!$S$8*DAF.1)*IF.ASub.Ina.Fec.a.c*Sf.in.1)),\"-\",(TR/((FT!$S$8*DAF.1)*IF.ASub.Ina.Fec.a.c*Sf.in.1))))),\"-\")","v":"-"},{"$f":"IF(OR(P10=\"-\",P10=\"-\"),0,Cf.AguaSub.1/P10)","v":0},{"$f":"IF(CENÁRIOS!$I$21=TRUE,IF(PM.1=\"\",\"-\",IF(OR(Sf.dm.1=\"-\",Sf.dm.1=\"\",Sf.dm.1=0,PC.1=\"\",DAF.1=\"-\"),\"-\",(TR/(DAF.1*PC.1*IF.ASub.Con.Der.a.c*Sf.dm.1)))),\"-\")","v":"-"},{"$f":"IF(OR(R10=\"-\",R10=\"-\"),0,Cf.AguaSub.1/R10)","v":0},{"$f":"IF(CENÁRIOS!$I$22=TRUE,IF(PM.1=\"\",\"-\",IF(OR(Sf.ig.1=\"-\",Sf.ig.1=\"\",Sf.ig.1=0,DAF.1=\"-\"),\"-\",(TR/(DAF.1*IF.ASub.Ing.a.c*Sf.ig.1)))),\"-\")","v":"-"},{"$f":"IF(OR(T10=\"-\",T10=\"-\"),0,Cf.AguaSub.1/T10)","v":0}]
[null,null,null,null,"NC",{"$f":"IF(CENÁRIOS!$H$19=TRUE,IF(PM.1=\"\",\"-\",IF(OR(RfD.in.cn.1=\"-\",RfD.in.cn.1=\"\",RfD.in.cn.1=0,FT!$R$8=\"-\"),\"-\",((THI*RfD.in.cn.1)/(FT!$R$8*IF.ASub.Ina.Abe.a.nc)))),\"-\")","v":"-"},{"$f":"IF(OR(F11=\"-\",F11=\"-\"),0,Cf.AguaSub.1/F11)","v":0},{"$f":"IF(CENÁRIOS!$H$20=TRUE,IF(PM.1=\"\",\"-\",IF(OR(RfD.in.cn.1=\"-\",RfD.in.cn.1=\"\",RfD.in.cn.1=0,FT!$S$8=\"-\"),\"-\",((THI*RfD.in.cn.1)/(FT!$S$8*IF.ASub.Ina.Fec.a.nc)))),\"-\")","v":"-"},{"$f":"IF(OR(H11=\"-\",H11=\"-\"),0,Cf.AguaSub.1/H11)","v":0},{"$f":"IF(CENÁRIOS!$H$21=TRUE,IF(PM.1=\"\",\"-\",IF(OR(RfD.dm.cn.1=\"-\",RfD.dm.cn.1=\"\",RfD.dm.cn.1=0,PC.1=\"\"),\"-\",((THI*RfD.dm.cn.1)/(PC.1*IF.ASub.Con.Der.a.nc)))),\"-\")","v":"-"},{"$f":"IF(OR(J11=\"-\",J11=\"-\"),0,Cf.AguaSub.1/J11)","v":0},{"$f":"IF(CENÁRIOS!$H$22=TRUE,IF(PM.1=\"\",\"-\",IF(OR(RfD.ig.cn.1=\"-\",RfD.ig.cn.1=\"\",RfD.ig.cn.1=0),\"-\",((THI*RfD.ig.cn.1)/(IF.ASub.Ing.a.nc)))),\"-\")","v":"-"},{"$f":"IF(OR(L11=\"-\",L11=\"-\"),0,Cf.AguaSub.1/L11)","v":0},{"$f":"IF(CENÁRIOS!$I$19=TRUE,IF(PM.1=\"\",\"-\",IF(OR(RfD.in.cn.1=\"-\",RfD.in.cn.1=\"\",RfD.in.cn.1=0,FT!$R$8=\"-\",DAF.1=\"-\"),\"-\",((THI*RfD.in.cn.1)/((FT!$R$8*DAF.1)*IF.ASub.Ina.Abe.a.nc)))),\"-\")","v":"-"},{"$f":"IF(OR(N11=\"-\",N11=\"-\"),0,Cf.AguaSub.1/N11)","v":0},{"$f":"IF(CENÁRIOS!$I$20=TRUE,IF(PM.1=\"\",\"-\",IF(OR(RfD.in.cn.1=\"-\",RfD.in.cn.1=\"\",RfD.in.cn.1=0,FT!$S$8=\"-\",DAF.1=\"-\"),\"-\",((THI*RfD.in.cn.1)/((FT!$S$8*DAF.1)*IF.ASub.Ina.Fec.a.nc)))),\"-\")","v":"-"},{"$f":"IF(OR(P11=\"-\",P11=\"-\"),0,Cf.AguaSub.1/P11)","v":0},{"$f":"IF(CENÁRIOS!$I$21=TRUE,IF(PM.1=\"\",\"-\",IF(OR(RfD.dm.cn.1=\"-\",RfD.dm.cn.1=\"\",RfD.dm.cn.1=0,PC.1=\"\",DAF.1=\"-\"),\"-\",((THI*RfD.dm.cn.1)/(DAF.1*PC.1*IF.ASub.Con.Der.a.nc)))),\"-\")","v":"-"},{"$f":"IF(OR(R11=\"-\",R11=\"-\"),0,Cf.AguaSub.1/R11)","v":0},{"$f":"IF(CENÁRIOS!$I$22=TRUE,IF(PM.1=\"\",\"-\",IF(OR(RfD.ig.cn.1=\"-\",RfD.ig.cn.1=\"\",RfD.ig.cn.1=0,DAF.1=\"-\"),\"-\",((THI*RfD.ig.cn.1)/(DAF.1*IF.ASub.Ing.a.nc)))),\"-\")","v":"-"},{"$f":"IF(OR(T11=\"-\",T11=\"-\"),0,Cf.AguaSub.1/T11)","v":0}]
[null,2,{"$f":"SQI!D10","v":0},{"$f":"SQI!C10","v":""},"C",{"$f":"IF(CENÁRIOS!$H$19=TRUE,IF(PM.2=\"\",\"-\",IF(OR(Sf.in.2=\"-\",Sf.in.2=\"\",Sf.in.2=0,FT!$R$9=\"-\"),\"-\",IF(ISERROR(TR/(FT!$R$9*IF.ASub.Ina.Abe.a.c*Sf.in.2)),\"-\",(TR/(FT!$R$9*IF.ASub.Ina.Abe.a.c*Sf.in.2))))),\"-\")","v":"-"},{"$f":"IF(OR(F12=\"-\",F12=\"-\"),0,Cf.AguaSub.2/F12)","v":0},{"$f":"IF(CENÁRIOS!$H$20=TRUE,IF(PM.2=\"\",\"-\",IF(OR(Sf.in.2=\"-\",Sf.in.2=\"\",Sf.in.2=0,FT!$S$9=\"-\"),\"-\",IF(ISERROR(TR/(FT!$S$9*IF.ASub.Ina.Fec.a.c*Sf.in.2)),\"-\",(TR/(FT!$S$9*IF.ASub.Ina.Fec.a.c*Sf.in.2))))),\"-\")","v":"-"},{"$f":"IF(OR(H12=\"-\",H12=\"-\"),0,Cf.AguaSub.2/H12)","v":0},{"$f":"IF(CENÁRIOS!$H$21=TRUE,IF(PM.2=\"\",\"-\",IF(OR(Sf.dm.2=\"-\",Sf.dm.2=\"\",Sf.dm.2=0,PC.2=\"\"),\"-\",(TR/(PC.2*IF.ASub.Con.Der.a.c*Sf.dm.2)))),\"-\")","v":"-"},{"$f":"IF(OR(J12=\"-\",J12=\"-\"),0,Cf.AguaSub.2/J12)","v":0},{"$f":"IF(CENÁRIOS!$H$22=TRUE,IF(PM.2=\"\",\"-\",IF(OR(Sf.ig.2=\"-\",Sf.ig.2=\"\",Sf.ig.2=0),\"-\",(TR/(IF.ASub.Ing.a.c*Sf.ig.2)))),\"-\")","v":"-"},{"$f":"IF(OR(L12=\"-\",L12=\"-\"),0,Cf.AguaSub.2/L12)","v":0},{"$f":"IF(CENÁRIOS!$I$19=TRUE,IF(PM.2=\"\",\"-\",IF(OR(Sf.in.2=\"-\",Sf.in.2=\"\",Sf.in.2=0,FT!$R$9=\"-\"),\"-\",IF(ISERROR(TR/((FT!$R$9*DAF.2)*IF.ASub.Ina.Abe.a.c*Sf.in.2)),\"-\",(TR/((FT!$R$9*DAF.2)*IF.ASub.Ina.Abe.a.c*Sf.in.2))))),\"-\")","v":"-"},{"$f":"IF(OR(N12=\"-\",N12=\"-\"),0,Cf.AguaSub.2/N12)","v":0},{"$f":"IF(CENÁRIOS!$I$20=TRUE,IF(PM.2=\"\",\"-\",IF(OR(Sf.in.2=\"-\",Sf.in.2=\"\",Sf.in.2=0,FT!$S$9=\"-\"),\"-\",IF(ISERROR(TR/((FT!$S$9*DAF.2)*IF.ASub.Ina.Fec.a.c*Sf.in.2)),\"-\",(TR/((FT!$S$9*DAF.2)*IF.ASub.Ina.Fec.a.c*Sf.in.2))))),\"-\")","v":"-"},{"$f":"IF(OR(P12=\"-\",P12=\"-\"),0,Cf.AguaSub.2/P12)","v":0},{"$f":"IF(CENÁRIOS!$I$21=TRUE,IF(PM.2=\"\",\"-\",IF(OR(Sf.dm.2=\"-\",Sf.dm.2=\"\",Sf.dm.2=0,PC.2=\"\",DAF.2=\"-\"),\"-\",(TR/(DAF.2*PC.2*IF.ASub.Con.Der.a.c*Sf.dm.2)))),\"-\")","v":"-"},{"$f":"IF(OR(R12=\"-\",R12=\"-\"),0,Cf.AguaSub.2/R12)","v":0},{"$f":"IF(CENÁRIOS!$I$22=TRUE,IF(PM.2=\"\",\"-\",IF(OR(Sf.ig.2=\"-\",Sf.ig.2=\"\",Sf.ig.2=0,DAF.2=\"-\"),\"-\",(TR/(DAF.2*IF.ASub.Ing.a.c*Sf.ig.2)))),\"-\")","v":"-"},{"$f":"IF(OR(T12=\"-\",T12=\"-\"),0,Cf.AguaSub.2/T12)","v":0}]
[null,null,null,null,"NC",{"$f":"IF(CENÁRIOS!$H$19=TRUE,IF(PM.2=\"\",\"-\",IF(OR(RfD.in.cn.2=\"-\",RfD.in.cn.2=\"\",RfD.in.cn.2=0,FT!$R$9=\"-\"),\"-\",((THI*RfD.in.cn.2)/(FT!$R$9*IF.ASub.Ina.Abe.a.nc)))),\"-\")","v":"-"},{"$f":"IF(OR(F13=\"-\",F13=\"-\"),0,Cf.AguaSub.2/F13)","v":0},{"$f":"IF(CENÁRIOS!$H$20=TRUE,IF(PM.2=\"\",\"-\",IF(OR(RfD.in.cn.2=\"-\",RfD.in.cn.2=\"\",RfD.in.cn.2=0,FT!$S$9=\"-\"),\"-\",((THI*RfD.in.cn.2)/(FT!$S$9*IF.ASub.Ina.Fec.a.nc)))),\"-\")","v":"-"},{"$f":"IF(OR(H13=\"-\",H13=\"-\"),0,Cf.AguaSub.2/H13)","v":0},{"$f":"IF(CENÁRIOS!$H$21=TRUE,IF(PM.2=\"\",\"-\",IF(OR(RfD.dm.cn.2=\"-\",RfD.dm.cn.2=\"\",RfD.dm.cn.2=0,PC.2=\"\"),\"-\",((THI*RfD.dm.cn.2)/(PC.2*IF.ASub.Con.Der.a.nc)))),\"-\")","v":"-"},{"$f":"IF(OR(J13=\"-\",J13=\"-\"),0,Cf.AguaSub.2/J13)","v":0},{"$f":"IF(CENÁRIOS!$H$22=TRUE,IF(PM.2=\"\",\"-\",IF(OR(RfD.ig.cn.2=\"-\",RfD.ig.cn.2=\"\",RfD.ig.cn.2=0),\"-\",((THI*RfD.ig.cn.2)/(IF.ASub.Ing.a.nc)))),\"-\")","v":"-"},{"$f":"IF(OR(L13=\"-\",L13=\"-\"),0,Cf.AguaSub.2/L13)","v":0},{"$f":"IF(CENÁRIOS!$I$19=TRUE,IF(PM.2=\"\",\"-\",IF(OR(RfD.in.cn.2=\"-\",RfD.in.cn.2=\"\",RfD.in.cn.2=0,FT!$R$9=\"-\",DAF.2=\"-\"),\"-\",((THI*RfD.in.cn.2)/((FT!$R$9*DAF.2)*IF.ASub.Ina.Abe.a.nc)))),\"-\")","v":"-"},{"$f":"IF(OR(N13=\"-\",N13=\"-\"),0,Cf.AguaSub.2/N13)","v":0},{"$f":"IF(CENÁRIOS!$I$20=TRUE,IF(PM.2=\"\",\"-\",IF(OR(RfD.in.cn.2=\"-\",RfD.in.cn.2=\"\",RfD.in.cn.2=0,FT!$S$9=\"-\",DAF.2=\"-\"),\"-\",((THI*RfD.in.cn.2)/((FT!$S$9*DAF.2)*IF.ASub.Ina.Fec.a.nc)))),\"-\")","v":"-"},{"$f":"IF(OR(P13=\"-\",P13=\"-\"),0,Cf.AguaSub.2/P13)","v":0},{"$f":"IF(CENÁRIOS!$I$21=TRUE,IF(PM.2=\"\",\"-\",IF(OR(RfD.dm.cn.2=\"-\",RfD.dm.cn.2=\"\",RfD.dm.cn.2=0,PC.2=\"\",DAF.2=\"-\"),\"-\",((THI*RfD.dm.cn.2)/(DAF.2*PC.2*IF.ASub.Con.Der.a.nc)))),\"-\")","v":"-"},{"$f":"IF(OR(R13=\"-\",R13=\"-\"),0,Cf.AguaSub.2/R13)","v":0},{"$f":"IF(CENÁRIOS!$I$22=TRUE,IF(PM.2=\"\",\"-\",IF(OR(RfD.ig.cn.2=\"-\",RfD.ig.cn.2=\"\",RfD.ig.cn.2=0,DAF.2=\"-\"),\"-\",((THI*RfD.ig.cn.2)/(DAF.2*IF.ASub.Ing.a.nc)))),\"-\")","v":"-"},{"$f":"IF(OR(T13=\"-\",T13=\"-\"),0,Cf.AguaSub.2/T13)","v":0}]
[null,3,{"$f":"SQI!D11","v":0},{"$f":"SQI!C11","v":""},"C",{"$f":"IF(CENÁRIOS!$H$19=TRUE,IF(PM.3=\"\",\"-\",IF(OR(Sf.in.3=\"-\",Sf.in.3=\"\",Sf.in.3=0,FT!$R$10=\"-\"),\"-\",IF(ISERROR(TR/(FT!$R$10*IF.ASub.Ina.Abe.a.c*Sf.in.3)),\"-\",(TR/(FT!$R$10*IF.ASub.Ina.Abe.a.c*Sf.in.3))))),\"-\")","v":"-"},{"$f":"IF(OR(F14=\"-\",F14=\"-\"),0,Cf.AguaSub.3/F14)","v":0},{"$f":"IF(CENÁRIOS!$H$20=TRUE,IF(PM.3=\"\",\"-\",IF(OR(Sf.in.3=\"-\",Sf.in.3=\"\",Sf.in.3=0,FT!$S$10=\"-\"),\"-\",IF(ISERROR(TR/(FT!$S$10*IF.ASub.Ina.Fec.a.c*Sf.in.3)),\"-\",(TR/(FT!$S$10*IF.ASub.Ina.Fec.a.c*Sf.in.3))))),\"-\")","v":"-"},{"$f":"IF(OR(H14=\"-\",H14=\"-\"),0,Cf.AguaSub.3/H14)","v":0},{"$f":"IF(CENÁRIOS!$H$21=TRUE,IF(PM.3=\"\",\"-\",IF(OR(Sf.dm.3=\"-\",Sf.dm.3=\"\",Sf.dm.3=0,PC.3=\"\"),\"-\",(TR/(PC.3*IF.ASub.Con.Der.a.c*Sf.dm.3)))),\"-\")","v":"-"},{"$f":"IF(OR(J14=\"-\",J14=\"-\"),0,Cf.AguaSub.3/J14)","v":0},{"$f":"IF(CENÁRIOS!$H$22=TRUE,IF(PM.3=\"\",\"-\",IF(OR(Sf.ig.3=\"-\",Sf.ig.3=\"\",Sf.ig.3=0),\"-\",(TR/(IF.ASub.Ing.a.c*Sf.ig.3)))),\"-\")","v":"-"},{"$f":"IF(OR(L14=\"-\",L14=\"-\"),0,Cf.AguaSub.3/L14)","v":0},{"$f":"IF(CENÁRIOS!$I$19=TRUE,IF(PM.3=\"\",\"-\",IF(OR(Sf.in.3=\"-\",Sf.in.3=\"\",Sf.in.3=0,FT!$R$10=\"-\"),\"-\",IF(ISERROR(TR/((FT!$R$10*DAF.3)*IF.ASub.Ina.Abe.a.c*Sf.in.3)),\"-\",(TR/((FT!$R$10*DAF.3)*IF.ASub.Ina.Abe.a.c*Sf.in.3))))),\"-\")","v":"-"},{"$f":"IF(OR(N14=\"-\",N14=\"-\"),0,Cf.AguaSub.3/N14)","v":0},{"$f":"IF(CENÁRIOS!$I$20=TRUE,IF(PM.3=\"\",\"-\",IF(OR(Sf.in.3=\"-\",Sf.in.3=\"\",Sf.in.3=0,FT!$S$10=\"-\"),\"-\",IF(ISERROR(TR/((FT!$S$10*DAF.3)*IF.ASub.Ina.Fec.a.c*Sf.in.3)),\"-\",(TR/((FT!$S$10*DAF.3)*IF.ASub.Ina.Fec.a.c*Sf.in.3))))),\"-\")","v":"-"},{"$f":"IF(OR(P14=\"-\",P14=\"-\"),0,Cf.AguaSub.3/P14)","v":0},{"$f":"IF(CENÁRIOS!$I$21=TRUE,IF(PM.3=\"\",\"-\",IF(OR(Sf.dm.3=\"-\",Sf.dm.3=\"\",Sf.dm.3=0,PC.3=\"\",DAF.3=\"-\"),\"-\",(TR/(DAF.3*PC.3*IF.ASub.Con.Der.a.c*Sf.dm.3)))),\"-\")","v":"-"},{"$f":"IF(OR(R14=\"-\",R14=\"-\"),0,Cf.AguaSub.3/R14)","v":0},{"$f":"IF(CENÁRIOS!$I$22=TRUE,IF(PM.3=\"\",\"-\",IF(OR(Sf.ig.3=\"-\",Sf.ig.3=\"\",Sf.ig.3=0,DAF.3=\"-\"),\"-\",(TR/(DAF.3*IF.ASub.Ing.a.c*Sf.ig.3)))),\"-\")","v":"-"},{"$f":"IF(OR(T14=\"-\",T14=\"-\"),0,Cf.AguaSub.3/T14)","v":0}]
[null,null,null,null,"NC",{"$f":"IF(CENÁRIOS!$H$19=TRUE,IF(PM.3=\"\",\"-\",IF(OR(RfD.in.cn.3=\"-\",RfD.in.cn.3=\"\",RfD.in.cn.3=0,FT!$R$10=\"-\"),\"-\",((THI*RfD.in.cn.3)/(FT!$R$10*IF.ASub.Ina.Abe.a.nc)))),\"-\")","v":"-"},{"$f":"IF(OR(F15=\"-\",F15=\"-\"),0,Cf.AguaSub.3/F15)","v":0},{"$f":"IF(CENÁRIOS!$H$20=TRUE,IF(PM.3=\"\",\"-\",IF(OR(RfD.in.cn.3=\"-\",RfD.in.cn.3=\"\",RfD.in.cn.3=0,FT!$S$10=\"-\"),\"-\",((THI*RfD.in.cn.3)/(FT!$S$10*IF.ASub.Ina.Fec.a.nc)))),\"-\")","v":"-"},{"$f":"IF(OR(H15=\"-\",H15=\"-\"),0,Cf.AguaSub.3/H15)","v":0},{"$f":"IF(CENÁRIOS!$H$21=TRUE,IF(PM.3=\"\",\"-\",IF(OR(RfD.dm.cn.3=\"-\",RfD.dm.cn.3=\"\",RfD.dm.cn.3=0,PC.3=\"\"),\"-\",((THI*RfD.dm.cn.3)/(PC.3*IF.ASub.Con.Der.a.nc)))),\"-\")","v":"-"},{"$f":"IF(OR(J15=\"-\",J15=\"-\"),0,Cf.AguaSub.3/J15)","v":0},{"$f":"IF(CENÁRIOS!$H$22=TRUE,IF(PM.3=\"\",\"-\",IF(OR(RfD.ig.cn.3=\"-\",RfD.ig.cn.3=\"\",RfD.ig.cn.3=0),\"-\",((THI*RfD.ig.cn.3)/(IF.ASub.Ing.a.nc)))),\"-\")","v":"-"},{"$f":"IF(OR(L15=\"-\",L15=\"-\"),0,Cf.AguaSub.3/L15)","v":0},{"$f":"IF(CENÁRIOS!$I$19=TRUE,IF(PM.3=\"\",\"-\",IF(OR(RfD.in.cn.3=\"-\",RfD.in.cn.3=\"\",RfD.in.cn.3=0,FT!$R$10=\"-\",DAF.3=\"-\"),\"-\",((THI*RfD.in.cn.3)/((FT!$R$10*DAF.3)*IF.ASub.Ina.Abe.a.nc)))),\"-\")","v":"-"},{"$f":"IF(OR(N15=\"-\",N15=\"-\"),0,Cf.AguaSub.3/N15)","v":0},{"$f":"IF(CENÁRIOS!$I$20=TRUE,IF(PM.3=\"\",\"-\",IF(OR(RfD.in.cn.3=\"-\",RfD.in.cn.3=\"\",RfD.in.cn.3=0,FT!$S$10=\"-\",DAF.3=\"-\"),\"-\",((THI*RfD.in.cn.3)/((FT!$S$10*DAF.3)*IF.ASub.Ina.Fec.a.nc)))),\"-\")","v":"-"},{"$f":"IF(OR(P15=\"-\",P15=\"-\"),0,Cf.AguaSub.3/P15)","v":0},{"$f":"IF(CENÁRIOS!$I$21=TRUE,IF(PM.3=\"\",\"-\",IF(OR(RfD.dm.cn.3=\"-\",RfD.dm.cn.3=\"\",RfD.dm.cn.3=0,PC.3=\"\",DAF.3=\"-\"),\"-\",((THI*RfD.dm.cn.3)/(DAF.3*PC.3*IF.ASub.Con.Der.a.nc)))),\"-\")","v":"-"},{"$f":"IF(OR(R15=\"-\",R15=\"-\"),0,Cf.AguaSub.3/R15)","v":0},{"$f":"IF(CENÁRIOS!$I$22=TRUE,IF(PM.3=\"\",\"-\",IF(OR(RfD.ig.cn.3=\"-\",RfD.ig.cn.3=\"\",RfD.ig.cn.3=0,DAF.3=\"-\"),\"-\",((THI*RfD.ig.cn.3)/(DAF.3*IF.ASub.Ing.a.nc)))),\"-\")","v":"-"},{"$f":"IF(OR(T15=\"-\",T15=\"-\"),0,Cf.AguaSub.3/T15)","v":0}]
[null,4,{"$f":"SQI!D12","v":0},{"$f":"SQI!C12","v":""},"C",{"$f":"IF(CENÁRIOS!$H$19=TRUE,IF(PM.4=\"\",\"-\",IF(OR(Sf.in.4=\"-\",Sf.in.4=\"\",Sf.in.4=0,FT!$R$11=\"-\"),\"-\",IF(ISERROR(TR/(FT!$R$11*IF.ASub.Ina.Abe.a.c*Sf.in.4)),\"-\",(TR/(FT!$R$11*IF.ASub.Ina.Abe.a.c*Sf.in.4))))),\"-\")","v":"-"},{"$f":"IF(OR(F16=\"-\",F16=\"-\"),0,Cf.AguaSub.4/F16)","v":0},{"$f":"IF(CENÁRIOS!$H$20=TRUE,IF(PM.4=\"\",\"-\",IF(OR(Sf.in.4=\"-\",Sf.in.4=\"\",Sf.in.4=0,FT!$S$11=\"-\"),\"-\",IF(ISERROR(TR/(FT!$S$11*IF.ASub.Ina.Fec.a.c*Sf.in.4)),\"-\",(TR/(FT!$S$11*IF.ASub.Ina.Fec.a.c*Sf.in.4))))),\"-\")","v":"-"},{"$f":"IF(OR(H16=\"-\",H16=\"-\"),0,Cf.AguaSub.4/H16)","v":0},{"$f":"IF(CENÁRIOS!$H$21=TRUE,IF(PM.4=\"\",\"-\",IF(OR(Sf.dm.4=\"-\",Sf.dm.4=\"\",Sf.dm.4=0,PC.4=\"\"),\"-\",(TR/(PC.4*IF.ASub.Con.Der.a.c*Sf.dm.4)))),\"-\")","v":"-"},{"$f":"IF(OR(J16=\"-\",J16=\"-\"),0,Cf.AguaSub.4/J16)","v":0},{"$f":"IF(CENÁRIOS!$H$22=TRUE,IF(PM.4=\"\",\"-\",IF(OR(Sf.ig.4=\"-\",Sf.ig.4=\"\",Sf.ig.4=0),\"-\",(TR/(IF.ASub.Ing.a.c*Sf.ig.4)))),\"-\")","v":"-"},{"$f":"IF(OR(L16=\"-\",L16=\"-\"),0,Cf.AguaSub.4/L16)","v":0},{"$f":"IF(CENÁRIOS!$I$19=TRUE,IF(PM.4=\"\",\"-\",IF(OR(Sf.in.4=\"-\",Sf.in.4=\"\",Sf.in.4=0,FT!$R$11=\"-\"),\"-\",IF(ISERROR(TR/((FT!$R$11*DAF.4)*IF.ASub.Ina.Abe.a.c*Sf.in.4)),\"-\",(TR/((FT!$R$11*DAF.4)*IF.ASub.Ina.Abe.a.c*Sf.in.4))))),\"-\")","v":"-"},{"$f":"IF(OR(N16=\"-\",N16=\"-\"),0,Cf.AguaSub.4/N16)","v":0},{"$f":"IF(CENÁRIOS!$I$20=TRUE,IF(PM.4=\"\",\"-\",IF(OR(Sf.in.4=\"-\",Sf.in.4=\"\",Sf.in.4=0,FT!$S$11=\"-\"),\"-\",IF(ISERROR(TR/((FT!$S$11*DAF.4)*IF.ASub.Ina.Fec.a.c*Sf.in.4)),\"-\",(TR/((FT!$S$11*DAF.4)*IF.ASub.Ina.Fec.a.c*Sf.in.4))))),\"-\")","v":"-"},{"$f":"IF(OR(P16=\"-\",P16=\"-\"),0,Cf.AguaSub.4/P16)","v":0},{"$f":"IF(CENÁRIOS!$I$21=TRUE,IF(PM.4=\"\",\"-\",IF(OR(Sf.dm.4=\"-\",Sf.dm.4=\"\",Sf.dm.4=0,PC.4=\"\",DAF.4=\"-\"),\"-\",(TR/(DAF.4*PC.4*IF.ASub.Con.Der.a.c*Sf.dm.4)))),\"-\")","v":"-"},{"$f":"IF(OR(R16=\"-\",R16=\"-\"),0,Cf.AguaSub.4/R16)","v":0},{"$f":"IF(CENÁRIOS!$I$22=TRUE,IF(PM.4=\"\",\"-\",IF(OR(Sf.ig.4=\"-\",Sf.ig.4=\"\",Sf.ig.4=0,DAF.4=\"-\"),\"-\",(TR/(DAF.4*IF.ASub.Ing.a.c*Sf.ig.4)))),\"-\")","v":"-"},{"$f":"IF(OR(T16=\"-\",T16=\"-\"),0,Cf.AguaSub.4/T16)","v":0}]
[null,null,null,null,"NC",{"$f":"IF(CENÁRIOS!$H$19=TRUE,IF(PM.4=\"\",\"-\",IF(OR(RfD.in.cn.4=\"-\",RfD.in.cn.4=\"\",RfD.in.cn.4=0,FT!$R$11=\"-\"),\"-\",((THI*RfD.in.cn.4)/(FT!$R$11*IF.ASub.Ina.Abe.a.nc)))),\"-\")","v":"-"},{"$f":"IF(OR(F17=\"-\",F17=\"-\"),0,Cf.AguaSub.4/F17)","v":0},{"$f":"IF(CENÁRIOS!$H$20=TRUE,IF(PM.4=\"\",\"-\",IF(OR(RfD.in.cn.4=\"-\",RfD.in.cn.4=\"\",RfD.in.cn.4=0,FT!$S$11=\"-\"),\"-\",((THI*RfD.in.cn.4)/(FT!$S$11*IF.ASub.Ina.Fec.a.nc)))),\"-\")","v":"-"},{"$f":"IF(OR(H17=\"-\",H17=\"-\"),0,Cf.AguaSub.4/H17)","v":0},{"$f":"IF(CENÁRIOS!$H$21=TRUE,IF(PM.4=\"\",\"-\",IF(OR(RfD.dm.cn.4=\"-\",RfD.dm.cn.4=\"\",RfD.dm.cn.4=0,PC.4=\"\"),\"-\",((THI*RfD.dm.cn.4)/(PC.4*IF.ASub.Con.Der.a.nc)))),\"-\")","v":"-"},{"$f":"IF(OR(J17=\"-\",J17=\"-\"),0,Cf.AguaSub.4/J17)","v":0},{"$f":"IF(CENÁRIOS!$H$22=TRUE,IF(PM.4=\"\",\"-\",IF(OR(RfD.ig.cn.4=\"-\",RfD.ig.cn.4=\"\",RfD.ig.cn.4=0),\"-\",((THI*RfD.ig.cn.4)/(IF.ASub.Ing.a.nc)))),\"-\")","v":"-"},{"$f":"IF(OR(L17=\"-\",L17=\"-\"),0,Cf.AguaSub.4/L17)","v":0},{"$f":"IF(CENÁRIOS!$I$19=TRUE,IF(PM.4=\"\",\"-\",IF(OR(RfD.in.cn.4=\"-\",RfD.in.cn.4=\"\",RfD.in.cn.4=0,FT!$R$11=\"-\",DAF.4=\"-\"),\"-\",((THI*RfD.in.cn.4)/((FT!$R$11*DAF.4)*IF.ASub.Ina.Abe.a.nc)))),\"-\")","v":"-"},{"$f":"IF(OR(N17=\"-\",N17=\"-\"),0,Cf.AguaSub.4/N17)","v":0},{"$f":"IF(CENÁRIOS!$I$20=TRUE,IF(PM.4=\"\",\"-\",IF(OR(RfD.in.cn.4=\"-\",RfD.in.cn.4=\"\",RfD.in.cn.4=0,FT!$S$11=\"-\",DAF.4=\"-\"),\"-\",((THI*RfD.in.cn.4)/((FT!$S$11*DAF.4)*IF.ASub.Ina.Fec.a.nc)))),\"-\")","v":"-"},{"$f":"IF(OR(P17=\"-\",P17=\"-\"),0,Cf.AguaSub.4/P17)","v":0},{"$f":"IF(CENÁRIOS!$I$21=TRUE,IF(PM.4=\"\",\"-\",IF(OR(RfD.dm.cn.4=\"-\",RfD.dm.cn.4=\"\",RfD.dm.cn.4=0,PC.4=\"\",DAF.4=\"-\"),\"-\",((THI*RfD.dm.cn.4)/(DAF.4*PC.4*IF.ASub.Con.Der.a.nc)))),\"-\")","v":"-"},{"$f":"IF(OR(R17=\"-\",R17=\"-\"),0,Cf.AguaSub.4/R17)","v":0},{"$f":"IF(CENÁRIOS!$I$22=TRUE,IF(PM.4=\"\",\"-\",IF(OR(RfD.ig.cn.4=\"-\",RfD.ig.cn.4=\"\",RfD.ig.cn.4=0,DAF.4=\"-\"),\"-\",((THI*RfD.ig.cn.4)/(DAF.4*IF.ASub.Ing.a.nc)))),\"-\")","v":"-"},{"$f":"IF(OR(T17=\"-\",T17=\"-\"),0,Cf.AguaSub.4/T17)","v":0}]
[null,5,{"$f":"SQI!D13","v":0},{"$f":"SQI!C13","v":""},"C",{"$f":"IF(CENÁRIOS!$H$19=TRUE,IF(PM.5=\"\",\"-\",IF(OR(Sf.in.5=\"-\",Sf.in.5=\"\",Sf.in.5=0,FT!$R$12=\"-\"),\"-\",IF(ISERROR(TR/(FT!$R$12*IF.ASub.Ina.Abe.a.c*Sf.in.5)),\"-\",(TR/(FT!$R$12*IF.ASub.Ina.Abe.a.c*Sf.in.5))))),\"-\")","v":"-"},{"$f":"IF(OR(F18=\"-\",F18=\"-\"),0,Cf.AguaSub.5/F18)","v":0},{"$f":"IF(CENÁRIOS!$H$20=TRUE,IF(PM.5=\"\",\"-\",IF(OR(Sf.in.5=\"-\",Sf.in.5=\"\",Sf.in.5=0,FT!$S$12=\"-\"),\"-\",IF(ISERROR(TR/(FT!$S$12*IF.ASub.Ina.Fec.a.c*Sf.in.5)),\"-\",(TR/(FT!$S$12*IF.ASub.Ina.Fec.a.c*Sf.in.5))))),\"-\")","v":"-"},{"$f":"IF(OR(H18=\"-\",H18=\"-\"),0,Cf.AguaSub.5/H18)","v":0},{"$f":"IF(CENÁRIOS!$H$21=TRUE,IF(PM.5=\"\",\"-\",IF(OR(Sf.dm.5=\"-\",Sf.dm.5=\"\",Sf.dm.5=0,PC.5=\"\"),\"-\",(TR/(PC.5*IF.ASub.Con.Der.a.c*Sf.dm.5)))),\"-\")","v":"-"},{"$f":"IF(OR(J18=\"-\",J18=\"-\"),0,Cf.AguaSub.5/J18)","v":0},{"$f":"IF(CENÁRIOS!$H$22=TRUE,IF(PM.5=\"\",\"-\",IF(OR(Sf.ig.5=\"-\",Sf.ig.5=\"\",Sf.ig.5=0),\"-\",(TR/(IF.ASub.Ing.a.c*Sf.ig.5)))),\"-\")","v":"-"},{"$f":"IF(OR(L18=\"-\",L18=\"-\"),0,Cf.AguaSub.5/L18)","v":0},{"$f":"IF(CENÁRIOS!$I$19=TRUE,IF(PM.5=\"\",\"-\",IF(OR(Sf.in.5=\"-\",Sf.in.5=\"\",Sf.in.5=0,FT!$R$12=\"-\"),\"-\",IF(ISERROR(TR/((FT!$R$12*DAF.5)*IF.ASub.Ina.Abe.a.c*Sf.in.5)),\"-\",(TR/((FT!$R$12*DAF.5)*IF.ASub.Ina.Abe.a.c*Sf.in.5))))),\"-\")","v":"-"},{"$f":"IF(OR(N18=\"-\",N18=\"-\"),0,Cf.AguaSub.5/N18)","v":0},{"$f":"IF(CENÁRIOS!$I$20=TRUE,IF(PM.5=\"\",\"-\",IF(OR(Sf.in.5=\"-\",Sf.in.5=\"\",Sf.in.5=0,FT!$S$12=\"-\"),\"-\",IF(ISERROR(TR/((FT!$S$12*DAF.5)*IF.ASub.Ina.Fec.a.c*Sf.in.5)),\"-\",(TR/((FT!$S$12*DAF.5)*IF.ASub.Ina.Fec.a.c*Sf.in.5))))),\"-\")","v":"-"},{"$f":"IF(OR(P18=\"-\",P18=\"-\"),0,Cf.AguaSub.5/P18)","v":0},{"$f":"IF(CENÁRIOS!$I$21=TRUE,IF(PM.5=\"\",\"-\",IF(OR(Sf.dm.5=\"-\",Sf.dm.5=\"\",Sf.dm.5=0,PC.5=\"\",DAF.5=\"-\"),\"-\",(TR/(DAF.5*PC.5*IF.ASub.Con.Der.a.c*Sf.dm.5)))),\"-\")","v":"-"},{"$f":"IF(OR(R18=\"-\",R18=\"-\"),0,Cf.AguaSub.5/R18)","v":0},{"$f":"IF(CENÁRIOS!$I$22=TRUE,IF(PM.5=\"\",\"-\",IF(OR(Sf.ig.5=\"-\",Sf.ig.5=\"\",Sf.ig.5=0,DAF.5=\"-\"),\"-\",(TR/(DAF.5*IF.ASub.Ing.a.c*Sf.ig.5)))),\"-\")","v":"-"},{"$f":"IF(OR(T18=\"-\",T18=\"-\"),0,Cf.AguaSub.5/T18)","v":0}]
[null,null,null,null,"NC",{"$f":"IF(CENÁRIOS!$H$19=TRUE,IF(PM.5=\"\",\"-\",IF(OR(RfD.in.cn.5=\"-\",RfD.in.cn.5=\"\",RfD.in.cn.5=0,FT!$R$12=\"-\"),\"-\",((THI*RfD.in.cn.5)/(FT!$R$12*IF.ASub.Ina.Abe.a.nc)))),\"-\")","v":"-"},{"$f":"IF(OR(F19=\"-\",F19=\"-\"),0,Cf.AguaSub.5/F19)","v":0},{"$f":"IF(CENÁRIOS!$H$20=TRUE,IF(PM.5=\"\",\"-\",IF(OR(RfD.in.cn.5=\"-\",RfD.in.cn.5=\"\",RfD.in.cn.5=0,FT!$S$12=\"-\"),\"-\",((THI*RfD.in.cn.5)/(FT!$S$12*IF.ASub.Ina.Fec.a.nc)))),\"-\")","v":"-"},{"$f":"IF(OR(H19=\"-\",H19=\"-\"),0,Cf.AguaSub.5/H19)","v":0},{"$f":"IF(CENÁRIOS!$H$21=TRUE,IF(PM.5=\"\",\"-\",IF(OR(RfD.dm.cn.5=\"-\",RfD.dm.cn.5=\"\",RfD.dm.cn.5=0,PC.5=\"\"),\"-\",((THI*RfD.dm.cn.5)/(PC.5*IF.ASub.Con.Der.a.nc)))),\"-\")","v":"-"},{"$f":"IF(OR(J19=\"-\",J19=\"-\"),0,Cf.AguaSub.5/J19)","v":0},{"$f":"IF(CENÁRIOS!$H$22=TRUE,IF(PM.5=\"\",\"-\",IF(OR(RfD.ig.cn.5=\"-\",RfD.ig.cn.5=\"\",RfD.ig.cn.5=0),\"-\",((THI*RfD.ig.cn.5)/(IF.ASub.Ing.a.nc)))),\"-\")","v":"-"},{"$f":"IF(OR(L19=\"-\",L19=\"-\"),0,Cf.AguaSub.5/L19)","v":0},{"$f":"IF(CENÁRIOS!$I$19=TRUE,IF(PM.5=\"\",\"-\",IF(OR(RfD.in.cn.5=\"-\",RfD.in.cn.5=\"\",RfD.in.cn.5=0,FT!$R$12=\"-\",DAF.5=\"-\"),\"-\",((THI*RfD.in.cn.5)/((FT!$R$12*DAF.5)*IF.ASub.Ina.Abe.a.nc)))),\"-\")","v":"-"},{"$f":"IF(OR(N19=\"-\",N19=\"-\"),0,Cf.AguaSub.5/N19)","v":0},{"$f":"IF(CENÁRIOS!$I$20=TRUE,IF(PM.5=\"\",\"-\",IF(OR(RfD.in.cn.5=\"-\",RfD.in.cn.5=\"\",RfD.in.cn.5=0,FT!$S$12=\"-\",DAF.5=\"-\"),\"-\",((THI*RfD.in.cn.5)/((FT!$S$12*DAF.5)*IF.ASub.Ina.Fec.a.nc)))),\"-\")","v":"-"},{"$f":"IF(OR(P19=\"-\",P19=\"-\"),0,Cf.AguaSub.5/P19)","v":0},{"$f":"IF(CENÁRIOS!$I$21=TRUE,IF(PM.5=\"\",\"-\",IF(OR(RfD.dm.cn.5=\"-\",RfD.dm.cn.5=\"\",RfD.dm.cn.5=0,PC.5=\"\",DAF.5=\"-\"),\"-\",((THI*RfD.dm.cn.5)/(DAF.5*PC.5*IF.ASub.Con.Der.a.nc)))),\"-\")","v":"-"},{"$f":"IF(OR(R19=\"-\",R19=\"-\"),0,Cf.AguaSub.5/R19)","v":0},{"$f":"IF(CENÁRIOS!$I$22=TRUE,IF(PM.5=\"\",\"-\",IF(OR(RfD.ig.cn.5=\"-\",RfD.ig.cn.5=\"\",RfD.ig.cn.5=0,DAF.5=\"-\"),\"-\",((THI*RfD.ig.cn.5)/(DAF.5*IF.ASub.Ing.a.nc)))),\"-\")","v":"-"},{"$f":"IF(OR(T19=\"-\",T19=\"-\"),0,Cf.AguaSub.5/T19)","v":0}]
[null,6,{"$f":"SQI!D14","v":0},{"$f":"SQI!C14","v":""},"C",{"$f":"IF(CENÁRIOS!$H$19=TRUE,IF(PM.6=\"\",\"-\",IF(OR(Sf.in.6=\"-\",Sf.in.6=\"\",Sf.in.6=0,FT!$R$13=\"-\"),\"-\",IF(ISERROR(TR/(FT!$R$13*IF.ASub.Ina.Abe.a.c*Sf.in.6)),\"-\",(TR/(FT!$R$13*IF.ASub.Ina.Abe.a.c*Sf.in.6))))),\"-\")","v":"-"},{"$f":"IF(OR(F20=\"-\",F20=\"-\"),0,Cf.AguaSub.6/F20)","v":0},{"$f":"IF(CENÁRIOS!$H$20=TRUE,IF(PM.6=\"\",\"-\",IF(OR(Sf.in.6=\"-\",Sf.in.6=\"\",Sf.in.6=0,FT!$S$13=\"-\"),\"-\",IF(ISERROR(TR/(FT!$S$13*IF.ASub.Ina.Fec.a.c*Sf.in.6)),\"-\",(TR/(FT!$S$13*IF.ASub.Ina.Fec.a.c*Sf.in.6))))),\"-\")","v":"-"},{"$f":"IF(OR(H20=\"-\",H20=\"-\"),0,Cf.AguaSub.6/H20)","v":0},{"$f":"IF(CENÁRIOS!$H$21=TRUE,IF(PM.6=\"\",\"-\",IF(OR(Sf.dm.6=\"-\",Sf.dm.6=\"\",Sf.dm.6=0,PC.6=\"\"),\"-\",(TR/(PC.6*IF.ASub.Con.Der.a.c*Sf.dm.6)))),\"-\")","v":"-"},{"$f":"IF(OR(J20=\"-\",J20=\"-\"),0,Cf.AguaSub.6/J20)","v":0},{"$f":"IF(CENÁRIOS!$H$22=TRUE,IF(PM.6=\"\",\"-\",IF(OR(Sf.ig.6=\"-\",Sf.ig.6=\"\",Sf.ig.6=0),\"-\",(TR/(IF.ASub.Ing.a.c*Sf.ig.6)))),\"-\")","v":"-"},{"$f":"IF(OR(L20=\"-\",L20=\"-\"),0,Cf.AguaSub.6/L20)","v":0},{"$f":"IF(CENÁRIOS!$I$19=TRUE,IF(PM.6=\"\",\"-\",IF(OR(Sf.in.6=\"-\",Sf.in.6=\"\",Sf.in.6=0,FT!$R$13=\"-\"),\"-\",IF(ISERROR(TR/((FT!$R$13*DAF.6)*IF.ASub.Ina.Abe.a.c*Sf.in.6)),\"-\",(TR/((FT!$R$13*DAF.6)*IF.ASub.Ina.Abe.a.c*Sf.in.6))))),\"-\")","v":"-"},{"$f":"IF(OR(N20=\"-\",N20=\"-\"),0,Cf.AguaSub.6/N20)","v":0},{"$f":"IF(CENÁRIOS!$I$20=TRUE,IF(PM.6=\"\",\"-\",IF(OR(Sf.in.6=\"-\",Sf.in.6=\"\",Sf.in.6=0,FT!$S$13=\"-\"),\"-\",IF(ISERROR(TR/((FT!$S$13*DAF.6)*IF.ASub.Ina.Fec.a.c*Sf.in.6)),\"-\",(TR/((FT!$S$13*DAF.6)*IF.ASub.Ina.Fec.a.c*Sf.in.6))))),\"-\")","v":"-"},{"$f":"IF(OR(P20=\"-\",P20=\"-\"),0,Cf.AguaSub.6/P20)","v":0},{"$f":"IF(CENÁRIOS!$I$21=TRUE,IF(PM.6=\"\",\"-\",IF(OR(Sf.dm.6=\"-\",Sf.dm.6=\"\",Sf.dm.6=0,PC.6=\"\",DAF.6=\"-\"),\"-\",(TR/(DAF.6*PC.6*IF.ASub.Con.Der.a.c*Sf.dm.6)))),\"-\")","v":"-"},{"$f":"IF(OR(R20=\"-\",R20=\"-\"),0,Cf.AguaSub.6/R20)","v":0},{"$f":"IF(CENÁRIOS!$I$22=TRUE,IF(PM.6=\"\",\"-\",IF(OR(Sf.ig.6=\"-\",Sf.ig.6=\"\",Sf.ig.6=0,DAF.6=\"-\"),\"-\",(TR/(DAF.6*IF.ASub.Ing.a.c*Sf.ig.6)))),\"-\")","v":"-"},{"$f":"IF(OR(T20=\"-\",T20=\"-\"),0,Cf.AguaSub.6/T20)","v":0}]
[null,null,null,null,"NC",{"$f":"IF(CENÁRIOS!$H$19=TRUE,IF(PM.6=\"\",\"-\",IF(OR(RfD.in.cn.6=\"-\",RfD.in.cn.6=\"\",RfD.in.cn.6=0,FT!$R$13=\"-\"),\"-\",((THI*RfD.in.cn.6)/(FT!$R$13*IF.ASub.Ina.Abe.a.nc)))),\"-\")","v":"-"},{"$f":"IF(OR(F21=\"-\",F21=\"-\"),0,Cf.AguaSub.6/F21)","v":0},{"$f":"IF(CENÁRIOS!$H$20=TRUE,IF(PM.6=\"\",\"-\",IF(OR(RfD.in.cn.6=\"-\",RfD.in.cn.6=\"\",RfD.in.cn.6=0,FT!$S$13=\"-\"),\"-\",((THI*RfD.in.cn.6)/(FT!$S$13*IF.ASub.Ina.Fec.a.nc)))),\"-\")","v":"-"},{"$f":"IF(OR(H21=\"-\",H21=\"-\"),0,Cf.AguaSub.6/H21)","v":0},{"$f":"IF(CENÁRIOS!$H$21=TRUE,IF(PM.6=\"\",\"-\",IF(OR(RfD.dm.cn.6=\"-\",RfD.dm.cn.6=\"\",RfD.dm.cn.6=0,PC.6=\"\"),\"-\",((THI*RfD.dm.cn.6)/(PC.6*IF.ASub.Con.Der.a.nc)))),\"-\")","v":"-"},{"$f":"IF(OR(J21=\"-\",J21=\"-\"),0,Cf.AguaSub.6/J21)","v":0},{"$f":"IF(CENÁRIOS!$H$22=TRUE,IF(PM.6=\"\",\"-\",IF(OR(RfD.ig.cn.6=\"-\",RfD.ig.cn.6=\"\",RfD.ig.cn.6=0),\"-\",((THI*RfD.ig.cn.6)/(IF.ASub.Ing.a.nc)))),\"-\")","v":"-"},{"$f":"IF(OR(L21=\"-\",L21=\"-\"),0,Cf.AguaSub.6/L21)","v":0},{"$f":"IF(CENÁRIOS!$I$19=TRUE,IF(PM.6=\"\",\"-\",IF(OR(RfD.in.cn.6=\"-\",RfD.in.cn.6=\"\",RfD.in.cn.6=0,FT!$R$13=\"-\",DAF.6=\"-\"),\"-\",((THI*RfD.in.cn.6)/((FT!$R$13*DAF.6)*IF.ASub.Ina.Abe.a.nc)))),\"-\")","v":"-"},{"$f":"IF(OR(N21=\"-\",N21=\"-\"),0,Cf.AguaSub.6/N21)","v":0},{"$f":"IF(CENÁRIOS!$I$20=TRUE,IF(PM.6=\"\",\"-\",IF(OR(RfD.in.cn.6=\"-\",RfD.in.cn.6=\"\",RfD.in.cn.6=0,FT!$S$13=\"-\",DAF.6=\"-\"),\"-\",((THI*RfD.in.cn.6)/((FT!$S$13*DAF.6)*IF.ASub.Ina.Fec.a.nc)))),\"-\")","v":"-"},{"$f":"IF(OR(P21=\"-\",P21=\"-\"),0,Cf.AguaSub.6/P21)","v":0},{"$f":"IF(CENÁRIOS!$I$21=TRUE,IF(PM.6=\"\",\"-\",IF(OR(RfD.dm.cn.6=\"-\",RfD.dm.cn.6=\"\",RfD.dm.cn.6=0,PC.6=\"\",DAF.6=\"-\"),\"-\",((THI*RfD.dm.cn.6)/(DAF.6*PC.6*IF.ASub.Con.Der.a.nc)))),\"-\")","v":"-"},{"$f":"IF(OR(R21=\"-\",R21=\"-\"),0,Cf.AguaSub.6/R21)","v":0},{"$f":"IF(CENÁRIOS!$I$22=TRUE,IF(PM.6=\"\",\"-\",IF(OR(RfD.ig.cn.6=\"-\",RfD.ig.cn.6=\"\",RfD.ig.cn.6=0,DAF.6=\"-\"),\"-\",((THI*RfD.ig.cn.6)/(DAF.6*IF.ASub.Ing.a.nc)))),\"-\")","v":"-"},{"$f":"IF(OR(T21=\"-\",T21=\"-\"),0,Cf.AguaSub.6/T21)","v":0}]
[null,7,{"$f":"SQI!D15","v":0},{"$f":"SQI!C15","v":""},"C",{"$f":"IF(CENÁRIOS!$H$19=TRUE,IF(PM.7=\"\",\"-\",IF(OR(Sf.in.7=\"-\",Sf.in.7=\"\",Sf.in.7=0,FT!$R$14=\"-\"),\"-\",IF(ISERROR(TR/(FT!$R$14*IF.ASub.Ina.Abe.a.c*Sf.in.7)),\"-\",(TR/(FT!$R$14*IF.ASub.Ina.Abe.a.c*Sf.in.7))))),\"-\")","v":"-"},{"$f":"IF(OR(F22=\"-\",F22=\"-\"),0,Cf.AguaSub.7/F22)","v":0},{"$f":"IF(CENÁRIOS!$H$20=TRUE,IF(PM.7=\"\",\"-\",IF(OR(Sf.in.7=\"-\",Sf.in.7=\"\",Sf.in.7=0,FT!$S$14=\"-\"),\"-\",IF(ISERROR(TR/(FT!$S$14*IF.ASub.Ina.Fec.a.c*Sf.in.7)),\"-\",(TR/(FT!$S$14*IF.ASub.Ina.Fec.a.c*Sf.in.7))))),\"-\")","v":"-"},{"$f":"IF(OR(H22=\"-\",H22=\"-\"),0,Cf.AguaSub.7/H22)","v":0},{"$f":"IF(CENÁRIOS!$H$21=TRUE,IF(PM.7=\"\",\"-\",IF(OR(Sf.dm.7=\"-\",Sf.dm.7=\"\",Sf.dm.7=0,PC.7=\"\"),\"-\",(TR/(PC.7*IF.ASub.Con.Der.a.c*Sf.dm.7)))),\"-\")","v":"-"},{"$f":"IF(OR(J22=\"-\",J22=\"-\"),0,Cf.AguaSub.7/J22)","v":0},{"$f":"IF(CENÁRIOS!$H$22=TRUE,IF(PM.7=\"\",\"-\",IF(OR(Sf.ig.7=\"-\",Sf.ig.7=\"\",Sf.ig.7=0),\"-\",(TR/(IF.ASub.Ing.a.c*Sf.ig.7)))),\"-\")","v":"-"},{"$f":"IF(OR(L22=\"-\",L22=\"-\"),0,Cf.AguaSub.7/L22)","v":0},{"$f":"IF(CENÁRIOS!$I$19=TRUE,IF(PM.7=\"\",\"-\",IF(OR(Sf.in.7=\"-\",Sf.in.7=\"\",Sf.in.7=0,FT!$R$14=\"-\"),\"-\",IF(ISERROR(TR/((FT!$R$14*DAF.7)*IF.ASub.Ina.Abe.a.c*Sf.in.7)),\"-\",(TR/((FT!$R$14*DAF.7)*IF.ASub.Ina.Abe.a.c*Sf.in.7))))),\"-\")","v":"-"},{"$f":"IF(OR(N22=\"-\",N22=\"-\"),0,Cf.AguaSub.7/N22)","v":0},{"$f":"IF(CENÁRIOS!$I$20=TRUE,IF(PM.7=\"\",\"-\",IF(OR(Sf.in.7=\"-\",Sf.in.7=\"\",Sf.in.7=0,FT!$S$14=\"-\"),\"-\",IF(ISERROR(TR/((FT!$S$14*DAF.7)*IF.ASub.Ina.Fec.a.c*Sf.in.7)),\"-\",(TR/((FT!$S$14*DAF.7)*IF.ASub.Ina.Fec.a.c*Sf.in.7))))),\"-\")","v":"-"},{"$f":"IF(OR(P22=\"-\",P22=\"-\"),0,Cf.AguaSub.7/P22)","v":0},{"$f":"IF(CENÁRIOS!$I$21=TRUE,IF(PM.7=\"\",\"-\",IF(OR(Sf.dm.7=\"-\",Sf.dm.7=\"\",Sf.dm.7=0,PC.7=\"\",DAF.7=\"-\"),\"-\",(TR/(DAF.7*PC.7*IF.ASub.Con.Der.a.c*Sf.dm.7)))),\"-\")","v":"-"},{"$f":"IF(OR(R22=\"-\",R22=\"-\"),0,Cf.AguaSub.7/R22)","v":0},{"$f":"IF(CENÁRIOS!$I$22=TRUE,IF(PM.7=\"\",\"-\",IF(OR(Sf.ig.7=\"-\",Sf.ig.7=\"\",Sf.ig.7=0,DAF.7=\"-\"),\"-\",(TR/(DAF.7*IF.ASub.Ing.a.c*Sf.ig.7)))),\"-\")","v":"-"},{"$f":"IF(OR(T22=\"-\",T22=\"-\"),0,Cf.AguaSub.7/T22)","v":0}]
[null,null,null,null,"NC",{"$f":"IF(CENÁRIOS!$H$19=TRUE,IF(PM.7=\"\",\"-\",IF(OR(RfD.in.cn.7=\"-\",RfD.in.cn.7=\"\",RfD.in.cn.7=0,FT!$R$14=\"-\"),\"-\",((THI*RfD.in.cn.7)/(FT!$R$14*IF.ASub.Ina.Abe.a.nc)))),\"-\")","v":"-"},{"$f":"IF(OR(F23=\"-\",F23=\"-\"),0,Cf.AguaSub.7/F23)","v":0},{"$f":"IF(CENÁRIOS!$H$20=TRUE,IF(PM.7=\"\",\"-\",IF(OR(RfD.in.cn.7=\"-\",RfD.in.cn.7=\"\",RfD.in.cn.7=0,FT!$S$14=\"-\"),\"-\",((THI*RfD.in.cn.7)/(FT!$S$14*IF.ASub.Ina.Fec.a.nc)))),\"-\")","v":"-"},{"$f":"IF(OR(H23=\"-\",H23=\"-\"),0,Cf.AguaSub.7/H23)","v":0},{"$f":"IF(CENÁRIOS!$H$21=TRUE,IF(PM.7=\"\",\"-\",IF(OR(RfD.dm.cn.7=\"-\",RfD.dm.cn.7=\"\",RfD.dm.cn.7=0,PC.7=\"\"),\"-\",((THI*RfD.dm.cn.7)/(PC.7*IF.ASub.Con.Der.a.nc)))),\"-\")","v":"-"},{"$f":"IF(OR(J23=\"-\",J23=\"-\"),0,Cf.AguaSub.7/J23)","v":0},{"$f":"IF(CENÁRIOS!$H$22=TRUE,IF(PM.7=\"\",\"-\",IF(OR(RfD.ig.cn.7=\"-\",RfD.ig.cn.7=\"\",RfD.ig.cn.7=0),\"-\",((THI*RfD.ig.cn.7)/(IF.ASub.Ing.a.nc)))),\"-\")","v":"-"},{"$f":"IF(OR(L23=\"-\",L23=\"-\"),0,Cf.AguaSub.7/L23)","v":0},{"$f":"IF(CENÁRIOS!$I$19=TRUE,IF(PM.7=\"\",\"-\",IF(OR(RfD.in.cn.7=\"-\",RfD.in.cn.7=\"\",RfD.in.cn.7=0,FT!$R$14=\"-\",DAF.7=\"-\"),\"-\",((THI*RfD.in.cn.7)/((FT!$R$14*DAF.7)*IF.ASub.Ina.Abe.a.nc)))),\"-\")","v":"-"},{"$f":"IF(OR(N23=\"-\",N23=\"-\"),0,Cf.AguaSub.7/N23)","v":0},{"$f":"IF(CENÁRIOS!$I$20=TRUE,IF(PM.7=\"\",\"-\",IF(OR(RfD.in.cn.7=\"-\",RfD.in.cn.7=\"\",RfD.in.cn.7=0,FT!$S$14=\"-\",DAF.7=\"-\"),\"-\",((THI*RfD.in.cn.7)/((FT!$S$14*DAF.7)*IF.ASub.Ina.Fec.a.nc)))),\"-\")","v":"-"},{"$f":"IF(OR(P23=\"-\",P23=\"-\"),0,Cf.AguaSub.7/P23)","v":0},{"$f":"IF(CENÁRIOS!$I$21=TRUE,IF(PM.7=\"\",\"-\",IF(OR(RfD.dm.cn.7=\"-\",RfD.dm.cn.7=\"\",RfD.dm.cn.7=0,PC.7=\"\",DAF.7=\"-\"),\"-\",((THI*RfD.dm.cn.7)/(DAF.7*PC.7*IF.ASub.Con.Der.a.nc)))),\"-\")","v":"-"},{"$f":"IF(OR(R23=\"-\",R23=\"-\"),0,Cf.AguaSub.7/R23)","v":0},{"$f":"IF(CENÁRIOS!$I$22=TRUE,IF(PM.7=\"\",\"-\",IF(OR(RfD.ig.cn.7=\"-\",RfD.ig.cn.7=\"\",RfD.ig.cn.7=0,DAF.7=\"-\"),\"-\",((THI*RfD.ig.cn.7)/(DAF.7*IF.ASub.Ing.a.nc)))),\"-\")","v":"-"},{"$f":"IF(OR(T23=\"-\",T23=\"-\"),0,Cf.AguaSub.7/T23)","v":0}]
[null,8,{"$f":"SQI!D16","v":0},{"$f":"SQI!C16","v":""},"C",{"$f":"IF(CENÁRIOS!$H$19=TRUE,IF(PM.8=\"\",\"-\",IF(OR(Sf.in.8=\"-\",Sf.in.8=\"\",Sf.in.8=0,FT!$R$15=\"-\"),\"-\",IF(ISERROR(TR/(FT!$R$15*IF.ASub.Ina.Abe.a.c*Sf.in.8)),\"-\",(TR/(FT!$R$15*IF.ASub.Ina.Abe.a.c*Sf.in.8))))),\"-\")","v":"-"},{"$f":"IF(OR(F24=\"-\",F24=\"-\"),0,Cf.AguaSub.8/F24)","v":0},{"$f":"IF(CENÁRIOS!$H$20=TRUE,IF(PM.8=\"\",\"-\",IF(OR(Sf.in.8=\"-\",Sf.in.8=\"\",Sf.in.8=0,FT!$S$15=\"-\"),\"-\",IF(ISERROR(TR/(FT!$S$15*IF.ASub.Ina.Fec.a.c*Sf.in.8)),\"-\",(TR/(FT!$S$15*IF.ASub.Ina.Fec.a.c*Sf.in.8))))),\"-\")","v":"-"},{"$f":"IF(OR(H24=\"-\",H24=\"-\"),0,Cf.AguaSub.8/H24)","v":0},{"$f":"IF(CENÁRIOS!$H$21=TRUE,IF(PM.8=\"\",\"-\",IF(OR(Sf.dm.8=\"-\",Sf.dm.8=\"\",Sf.dm.8=0,PC.8=\"\"),\"-\",(TR/(PC.8*IF.ASub.Con.Der.a.c*Sf.dm.8)))),\"-\")","v":"-"},{"$f":"IF(OR(J24=\"-\",J24=\"-\"),0,Cf.AguaSub.8/J24)","v":0},{"$f":"IF(CENÁRIOS!$H$22=TRUE,IF(PM.8=\"\",\"-\",IF(OR(Sf.ig.8=\"-\",Sf.ig.8=\"\",Sf.ig.8=0),\"-\",(TR/(IF.ASub.Ing.a.c*Sf.ig.8)))),\"-\")","v":"-"},{"$f":"IF(OR(L24=\"-\",L24=\"-\"),0,Cf.AguaSub.8/L24)","v":0},{"$f":"IF(CENÁRIOS!$I$19=TRUE,IF(PM.8=\"\",\"-\",IF(OR(Sf.in.8=\"-\",Sf.in.8=\"\",Sf.in.8=0,FT!$R$15=\"-\"),\"-\",IF(ISERROR(TR/((FT!$R$15*DAF.8)*IF.ASub.Ina.Abe.a.c*Sf.in.8)),\"-\",(TR/((FT!$R$15*DAF.8)*IF.ASub.Ina.Abe.a.c*Sf.in.8))))),\"-\")","v":"-"},{"$f":"IF(OR(N24=\"-\",N24=\"-\"),0,Cf.AguaSub.8/N24)","v":0},{"$f":"IF(CENÁRIOS!$I$20=TRUE,IF(PM.8=\"\",\"-\",IF(OR(Sf.in.8=\"-\",Sf.in.8=\"\",Sf.in.8=0,FT!$S$15=\"-\"),\"-\",IF(ISERROR(TR/((FT!$S$15*DAF.8)*IF.ASub.Ina.Fec.a.c*Sf.in.8)),\"-\",(TR/((FT!$S$15*DAF.8)*IF.ASub.Ina.Fec.a.c*Sf.in.8))))),\"-\")","v":"-"},{"$f":"IF(OR(P24=\"-\",P24=\"-\"),0,Cf.AguaSub.8/P24)","v":0},{"$f":"IF(CENÁRIOS!$I$21=TRUE,IF(PM.8=\"\",\"-\",IF(OR(Sf.dm.8=\"-\",Sf.dm.8=\"\",Sf.dm.8=0,PC.8=\"\",DAF.8=\"-\"),\"-\",(TR/(DAF.8*PC.8*IF.ASub.Con.Der.a.c*Sf.dm.8)))),\"-\")","v":"-"},{"$f":"IF(OR(R24=\"-\",R24=\"-\"),0,Cf.AguaSub.8/R24)","v":0},{"$f":"IF(CENÁRIOS!$I$22=TRUE,IF(PM.8=\"\",\"-\",IF(OR(Sf.ig.8=\"-\",Sf.ig.8=\"\",Sf.ig.8=0,DAF.8=\"-\"),\"-\",(TR/(DAF.8*IF.ASub.Ing.a.c*Sf.ig.8)))),\"-\")","v":"-"},{"$f":"IF(OR(T24=\"-\",T24=\"-\"),0,Cf.AguaSub.8/T24)","v":0}]
[null,null,null,null,"NC",{"$f":"IF(CENÁRIOS!$H$19=TRUE,IF(PM.8=\"\",\"-\",IF(OR(RfD.in.cn.8=\"-\",RfD.in.cn.8=\"\",RfD.in.cn.8=0,FT!$R$15=\"-\"),\"-\",((THI*RfD.in.cn.8)/(FT!$R$15*IF.ASub.Ina.Abe.a.nc)))),\"-\")","v":"-"},{"$f":"IF(OR(F25=\"-\",F25=\"-\"),0,Cf.AguaSub.8/F25)","v":0},{"$f":"IF(CENÁRIOS!$H$20=TRUE,IF(PM.8=\"\",\"-\",IF(OR(RfD.in.cn.8=\"-\",RfD.in.cn.8=\"\",RfD.in.cn.8=0,FT!$S$15=\"-\"),\"-\",((THI*RfD.in.cn.8)/(FT!$S$15*IF.ASub.Ina.Fec.a.nc)))),\"-\")","v":"-"},{"$f":"IF(OR(H25=\"-\",H25=\"-\"),0,Cf.AguaSub.8/H25)","v":0},{"$f":"IF(CENÁRIOS!$H$21=TRUE,IF(PM.8=\"\",\"-\",IF(OR(RfD.dm.cn.8=\"-\",RfD.dm.cn.8=\"\",RfD.dm.cn.8=0,PC.8=\"\"),\"-\",((THI*RfD.dm.cn.8)/(PC.8*IF.ASub.Con.Der.a.nc)))),\"-\")","v":"-"},{"$f":"IF(OR(J25=\"-\",J25=\"-\"),0,Cf.AguaSub.8/J25)","v":0},{"$f":"IF(CENÁRIOS!$H$22=TRUE,IF(PM.8=\"\",\"-\",IF(OR(RfD.ig.cn.8=\"-\",RfD.ig.cn.8=\"\",RfD.ig.cn.8=0),\"-\",((THI*RfD.ig.cn.8)/(IF.ASub.Ing.a.nc)))),\"-\")","v":"-"},{"$f":"IF(OR(L25=\"-\",L25=\"-\"),0,Cf.AguaSub.8/L25)","v":0},{"$f":"IF(CENÁRIOS!$I$19=TRUE,IF(PM.8=\"\",\"-\",IF(OR(RfD.in.cn.8=\"-\",RfD.in.cn.8=\"\",RfD.in.cn.8=0,FT!$R$15=\"-\",DAF.8=\"-\"),\"-\",((THI*RfD.in.cn.8)/((FT!$R$15*DAF.8)*IF.ASub.Ina.Abe.a.nc)))),\"-\")","v":"-"},{"$f":"IF(OR(N25=\"-\",N25=\"-\"),0,Cf.AguaSub.8/N25)","v":0},{"$f":"IF(CENÁRIOS!$I$20=TRUE,IF(PM.8=\"\",\"-\",IF(OR(RfD.in.cn.8=\"-\",RfD.in.cn.8=\"\",RfD.in.cn.8=0,FT!$S$15=\"-\",DAF.8=\"-\"),\"-\",((THI*RfD.in.cn.8)/((FT!$S$15*DAF.8)*IF.ASub.Ina.Fec.a.nc)))),\"-\")","v":"-"},{"$f":"IF(OR(P25=\"-\",P25=\"-\"),0,Cf.AguaSub.8/P25)","v":0},{"$f":"IF(CENÁRIOS!$I$21=TRUE,IF(PM.8=\"\",\"-\",IF(OR(RfD.dm.cn.8=\"-\",RfD.dm.cn.8=\"\",RfD.dm.cn.8=0,PC.8=\"\",DAF.8=\"-\"),\"-\",((THI*RfD.dm.cn.8)/(DAF.8*PC.8*IF.ASub.Con.Der.a.nc)))),\"-\")","v":"-"},{"$f":"IF(OR(R25=\"-\",R25=\"-\"),0,Cf.AguaSub.8/R25)","v":0},{"$f":"IF(CENÁRIOS!$I$22=TRUE,IF(PM.8=\"\",\"-\",IF(OR(RfD.ig.cn.8=\"-\",RfD.ig.cn.8=\"\",RfD.ig.cn.8=0,DAF.8=\"-\"),\"-\",((THI*RfD.ig.cn.8)/(DAF.8*IF.ASub.Ing.a.nc)))),\"-\")","v":"-"},{"$f":"IF(OR(T25=\"-\",T25=\"-\"),0,Cf.AguaSub.8/T25)","v":0}]
[null,9,{"$f":"SQI!D17","v":0},{"$f":"SQI!C17","v":""},"C",{"$f":"IF(CENÁRIOS!$H$19=TRUE,IF(PM.9=\"\",\"-\",IF(OR(Sf.in.9=\"-\",Sf.in.9=\"\",Sf.in.9=0,FT!$R$16=\"-\"),\"-\",IF(ISERROR(TR/(FT!$R$16*IF.ASub.Ina.Abe.a.c*Sf.in.9)),\"-\",(TR/(FT!$R$16*IF.ASub.Ina.Abe.a.c*Sf.in.9))))),\"-\")","v":"-"},{"$f":"IF(OR(F26=\"-\",F26=\"-\"),0,Cf.AguaSub.9/F26)","v":0},{"$f":"IF(CENÁRIOS!$H$20=TRUE,IF(PM.9=\"\",\"-\",IF(OR(Sf.in.9=\"-\",Sf.in.9=\"\",Sf.in.9=0,FT!$S$16=\"-\"),\"-\",IF(ISERROR(TR/(FT!$S$16*IF.ASub.Ina.Fec.a.c*Sf.in.9)),\"-\",(TR/(FT!$S$16*IF.ASub.Ina.Fec.a.c*Sf.in.9))))),\"-\")","v":"-"},{"$f":"IF(OR(H26=\"-\",H26=\"-\"),0,Cf.AguaSub.9/H26)","v":0},{"$f":"IF(CENÁRIOS!$H$21=TRUE,IF(PM.9=\"\",\"-\",IF(OR(Sf.dm.9=\"-\",Sf.dm.9=\"\",Sf.dm.9=0,PC.9=\"\"),\"-\",(TR/(PC.9*IF.ASub.Con.Der.a.c*Sf.dm.9)))),\"-\")","v":"-"},{"$f":"IF(OR(J26=\"-\",J26=\"-\"),0,Cf.AguaSub.9/J26)","v":0},{"$f":"IF(CENÁRIOS!$H$22=TRUE,IF(PM.9=\"\",\"-\",IF(OR(Sf.ig.9=\"-\",Sf.ig.9=\"\",Sf.ig.9=0),\"-\",(TR/(IF.ASub.Ing.a.c*Sf.ig.9)))),\"-\")","v":"-"},{"$f":"IF(OR(L26=\"-\",L26=\"-\"),0,Cf.AguaSub.9/L26)","v":0},{"$f":"IF(CENÁRIOS!$I$19=TRUE,IF(PM.9=\"\",\"-\",IF(OR(Sf.in.9=\"-\",Sf.in.9=\"\",Sf.in.9=0,FT!$R$16=\"-\"),\"-\",IF(ISERROR(TR/((FT!$R$16*DAF.9)*IF.ASub.Ina.Abe.a.c*Sf.in.9)),\"-\",(TR/((FT!$R$16*DAF.9)*IF.ASub.Ina.Abe.a.c*Sf.in.9))))),\"-\")","v":"-"},{"$f":"IF(OR(N26=\"-\",N26=\"-\"),0,Cf.AguaSub.9/N26)","v":0},{"$f":"IF(CENÁRIOS!$I$20=TRUE,IF(PM.9=\"\",\"-\",IF(OR(Sf.in.9=\"-\",Sf.in.9=\"\",Sf.in.9=0,FT!$S$16=\"-\"),\"-\",IF(ISERROR(TR/((FT!$S$16*DAF.9)*IF.ASub.Ina.Fec.a.c*Sf.in.9)),\"-\",(TR/((FT!$S$16*DAF.9)*IF.ASub.Ina.Fec.a.c*Sf.in.9))))),\"-\")","v":"-"},{"$f":"IF(OR(P26=\"-\",P26=\"-\"),0,Cf.AguaSub.9/P26)","v":0},{"$f":"IF(CENÁRIOS!$I$21=TRUE,IF(PM.9=\"\",\"-\",IF(OR(Sf.dm.9=\"-\",Sf.dm.9=\"\",Sf.dm.9=0,PC.9=\"\",DAF.9=\"-\"),\"-\",(TR/(DAF.9*PC.9*IF.ASub.Con.Der.a.c*Sf.dm.9)))),\"-\")","v":"-"},{"$f":"IF(OR(R26=\"-\",R26=\"-\"),0,Cf.AguaSub.9/R26)","v":0},{"$f":"IF(CENÁRIOS!$I$22=TRUE,IF(PM.9=\"\",\"-\",IF(OR(Sf.ig.9=\"-\",Sf.ig.9=\"\",Sf.ig.9=0,DAF.9=\"-\"),\"-\",(TR/(DAF.9*IF.ASub.Ing.a.c*Sf.ig.9)))),\"-\")","v":"-"},{"$f":"IF(OR(T26=\"-\",T26=\"-\"),0,Cf.AguaSub.9/T26)","v":0}]
[null,null,null,null,"NC",{"$f":"IF(CENÁRIOS!$H$19=TRUE,IF(PM.9=\"\",\"-\",IF(OR(RfD.in.cn.9=\"-\",RfD.in.cn.9=\"\",RfD.in.cn.9=0,FT!$R$16=\"-\"),\"-\",((THI*RfD.in.cn.9)/(FT!$R$16*IF.ASub.Ina.Abe.a.nc)))),\"-\")","v":"-"},{"$f":"IF(OR(F27=\"-\",F27=\"-\"),0,Cf.AguaSub.9/F27)","v":0},{"$f":"IF(CENÁRIOS!$H$20=TRUE,IF(PM.9=\"\",\"-\",IF(OR(RfD.in.cn.9=\"-\",RfD.in.cn.9=\"\",RfD.in.cn.9=0,FT!$S$16=\"-\"),\"-\",((THI*RfD.in.cn.9)/(FT!$S$16*IF.ASub.Ina.Fec.a.nc)))),\"-\")","v":"-"},{"$f":"IF(OR(H27=\"-\",H27=\"-\"),0,Cf.AguaSub.9/H27)","v":0},{"$f":"IF(CENÁRIOS!$H$21=TRUE,IF(PM.9=\"\",\"-\",IF(OR(RfD.dm.cn.9=\"-\",RfD.dm.cn.9=\"\",RfD.dm.cn.9=0,PC.9=\"\"),\"-\",((THI*RfD.dm.cn.9)/(PC.9*IF.ASub.Con.Der.a.nc)))),\"-\")","v":"-"},{"$f":"IF(OR(J27=\"-\",J27=\"-\"),0,Cf.AguaSub.9/J27)","v":0},{"$f":"IF(CENÁRIOS!$H$22=TRUE,IF(PM.9=\"\",\"-\",IF(OR(RfD.ig.cn.9=\"-\",RfD.ig.cn.9=\"\",RfD.ig.cn.9=0),\"-\",((THI*RfD.ig.cn.9)/(IF.ASub.Ing.a.nc)))),\"-\")","v":"-"},{"$f":"IF(OR(L27=\"-\",L27=\"-\"),0,Cf.AguaSub.9/L27)","v":0},{"$f":"IF(CENÁRIOS!$I$19=TRUE,IF(PM.9=\"\",\"-\",IF(OR(RfD.in.cn.9=\"-\",RfD.in.cn.9=\"\",RfD.in.cn.9=0,FT!$R$16=\"-\",DAF.9=\"-\"),\"-\",((THI*RfD.in.cn.9)/((FT!$R$16*DAF.9)*IF.ASub.Ina.Abe.a.nc)))),\"-\")","v":"-"},{"$f":"IF(OR(N27=\"-\",N27=\"-\"),0,Cf.AguaSub.9/N27)","v":0},{"$f":"IF(CENÁRIOS!$I$20=TRUE,IF(PM.9=\"\",\"-\",IF(OR(RfD.in.cn.9=\"-\",RfD.in.cn.9=\"\",RfD.in.cn.9=0,FT!$S$16=\"-\",DAF.9=\"-\"),\"-\",((THI*RfD.in.cn.9)/((FT!$S$16*DAF.9)*IF.ASub.Ina.Fec.a.nc)))),\"-\")","v":"-"},{"$f":"IF(OR(P27=\"-\",P27=\"-\"),0,Cf.AguaSub.9/P27)","v":0},{"$f":"IF(CENÁRIOS!$I$21=TRUE,IF(PM.9=\"\",\"-\",IF(OR(RfD.dm.cn.9=\"-\",RfD.dm.cn.9=\"\",RfD.dm.cn.9=0,PC.9=\"\",DAF.9=\"-\"),\"-\",((THI*RfD.dm.cn.9)/(DAF.9*PC.9*IF.ASub.Con.Der.a.nc)))),\"-\")","v":"-"},{"$f":"IF(OR(R27=\"-\",R27=\"-\"),0,Cf.AguaSub.9/R27)","v":0},{"$f":"IF(CENÁRIOS!$I$22=TRUE,IF(PM.9=\"\",\"-\",IF(OR(RfD.ig.cn.9=\"-\",RfD.ig.cn.9=\"\",RfD.ig.cn.9=0,DAF.9=\"-\"),\"-\",((THI*RfD.ig.cn.9)/(DAF.9*IF.ASub.Ing.a.nc)))),\"-\")","v":"-"},{"$f":"IF(OR(T27=\"-\",T27=\"-\"),0,Cf.AguaSub.9/T27)","v":0}]
[null,10,{"$f":"SQI!D18","v":0},{"$f":"SQI!C18","v":""},"C",{"$f":"IF(CENÁRIOS!$H$19=TRUE,IF(PM.10=\"\",\"-\",IF(OR(Sf.in.10=\"-\",Sf.in.10=\"\",Sf.in.10=0,FT!$R$17=\"-\"),\"-\",IF(ISERROR(TR/(FT!$R$17*IF.ASub.Ina.Abe.a.c*Sf.in.10)),\"-\",(TR/(FT!$R$17*IF.ASub.Ina.Abe.a.c*Sf.in.10))))),\"-\")","v":"-"},{"$f":"IF(OR(F28=\"-\",F28=\"-\"),0,Cf.AguaSub.10/F28)","v":0},{"$f":"IF(CENÁRIOS!$H$20=TRUE,IF(PM.10=\"\",\"-\",IF(OR(Sf.in.10=\"-\",Sf.in.10=\"\",Sf.in.10=0,FT!$S$17=\"-\"),\"-\",IF(ISERROR(TR/(FT!$S$17*IF.ASub.Ina.Fec.a.c*Sf.in.10)),\"-\",(TR/(FT!$S$17*IF.ASub.Ina.Fec.a.c*Sf.in.10))))),\"-\")","v":"-"},{"$f":"IF(OR(H28=\"-\",H28=\"-\"),0,Cf.AguaSub.10/H28)","v":0},{"$f":"IF(CENÁRIOS!$H$21=TRUE,IF(PM.10=\"\",\"-\",IF(OR(Sf.dm.10=\"-\",Sf.dm.10=\"\",Sf.dm.10=0,PC.10=\"\"),\"-\",(TR/(PC.10*IF.ASub.Con.Der.a.c*Sf.dm.10)))),\"-\")","v":"-"},{"$f":"IF(OR(J28=\"-\",J28=\"-\"),0,Cf.AguaSub.10/J28)","v":0},{"$f":"IF(CENÁRIOS!$H$22=TRUE,IF(PM.10=\"\",\"-\",IF(OR(Sf.ig.10=\"-\",Sf.ig.10=\"\",Sf.ig.10=0),\"-\",(TR/(IF.ASub.Ing.a.c*Sf.ig.10)))),\"-\")","v":"-"},{"$f":"IF(OR(L28=\"-\",L28=\"-\"),0,Cf.AguaSub.10/L28)","v":0},{"$f":"IF(CENÁRIOS!$I$19=TRUE,IF(PM.10=\"\",\"-\",IF(OR(Sf.in.10=\"-\",Sf.in.10=\"\",Sf.in.10=0,FT!$R$17=\"-\"),\"-\",IF(ISERROR(TR/((FT!$R$17*DAF.10)*IF.ASub.Ina.Abe.a.c*Sf.in.10)),\"-\",(TR/((FT!$R$17*DAF.10)*IF.ASub.Ina.Abe.a.c*Sf.in.10))))),\"-\")","v":"-"},{"$f":"IF(OR(N28=\"-\",N28=\"-\"),0,Cf.AguaSub.10/N28)","v":0},{"$f":"IF(CENÁRIOS!$I$20=TRUE,IF(PM.10=\"\",\"-\",IF(OR(Sf.in.10=\"-\",Sf.in.10=\"\",Sf.in.10=0,FT!$S$17=\"-\"),\"-\",IF(ISERROR(TR/((FT!$S$17*DAF.10)*IF.ASub.Ina.Fec.a.c*Sf.in.10)),\"-\",(TR/((FT!$S$17*DAF.10)*IF.ASub.Ina.Fec.a.c*Sf.in.10))))),\"-\")","v":"-"},{"$f":"IF(OR(P28=\"-\",P28=\"-\"),0,Cf.AguaSub.10/P28)","v":0},{"$f":"IF(CENÁRIOS!$I$21=TRUE,IF(PM.10=\"\",\"-\",IF(OR(Sf.dm.10=\"-\",Sf.dm.10=\"\",Sf.dm.10=0,PC.10=\"\",DAF.10=\"-\"),\"-\",(TR/(DAF.10*PC.10*IF.ASub.Con.Der.a.c*Sf.dm.10)))),\"-\")","v":"-"},{"$f":"IF(OR(R28=\"-\",R28=\"-\"),0,Cf.AguaSub.10/R28)","v":0},{"$f":"IF(CENÁRIOS!$I$22=TRUE,IF(PM.10=\"\",\"-\",IF(OR(Sf.ig.10=\"-\",Sf.ig.10=\"\",Sf.ig.10=0,DAF.10=\"-\"),\"-\",(TR/(DAF.10*IF.ASub.Ing.a.c*Sf.ig.10)))),\"-\")","v":"-"},{"$f":"IF(OR(T28=\"-\",T28=\"-\"),0,Cf.AguaSub.10/T28)","v":0}]
[null,null,null,null,"NC",{"$f":"IF(CENÁRIOS!$H$19=TRUE,IF(PM.10=\"\",\"-\",IF(OR(RfD.in.cn.10=\"-\",RfD.in.cn.10=\"\",RfD.in.cn.10=0,FT!$R$17=\"-\"),\"-\",((THI*RfD.in.cn.10)/(FT!$R$17*IF.ASub.Ina.Abe.a.nc)))),\"-\")","v":"-"},{"$f":"IF(OR(F29=\"-\",F29=\"-\"),0,Cf.AguaSub.10/F29)","v":0},{"$f":"IF(CENÁRIOS!$H$20=TRUE,IF(PM.10=\"\",\"-\",IF(OR(RfD.in.cn.10=\"-\",RfD.in.cn.10=\"\",RfD.in.cn.10=0,FT!$S$17=\"-\"),\"-\",((THI*RfD.in.cn.10)/(FT!$S$17*IF.ASub.Ina.Fec.a.nc)))),\"-\")","v":"-"},{"$f":"IF(OR(H29=\"-\",H29=\"-\"),0,Cf.AguaSub.10/H29)","v":0},{"$f":"IF(CENÁRIOS!$H$21=TRUE,IF(PM.10=\"\",\"-\",IF(OR(RfD.dm.cn.10=\"-\",RfD.dm.cn.10=\"\",RfD.dm.cn.10=0,PC.10=\"\"),\"-\",((THI*RfD.dm.cn.10)/(PC.10*IF.ASub.Con.Der.a.nc)))),\"-\")","v":"-"},{"$f":"IF(OR(J29=\"-\",J29=\"-\"),0,Cf.AguaSub.10/J29)","v":0},{"$f":"IF(CENÁRIOS!$H$22=TRUE,IF(PM.10=\"\",\"-\",IF(OR(RfD.ig.cn.10=\"-\",RfD.ig.cn.10=\"\",RfD.ig.cn.10=0),\"-\",((THI*RfD.ig.cn.10)/(IF.ASub.Ing.a.nc)))),\"-\")","v":"-"},{"$f":"IF(OR(L29=\"-\",L29=\"-\"),0,Cf.AguaSub.10/L29)","v":0},{"$f":"IF(CENÁRIOS!$I$19=TRUE,IF(PM.10=\"\",\"-\",IF(OR(RfD.in.cn.10=\"-\",RfD.in.cn.10=\"\",RfD.in.cn.10=0,FT!$R$17=\"-\",DAF.10=\"-\"),\"-\",((THI*RfD.in.cn.10)/((FT!$R$17*DAF.10)*IF.ASub.Ina.Abe.a.nc)))),\"-\")","v":"-"},{"$f":"IF(OR(N29=\"-\",N29=\"-\"),0,Cf.AguaSub.10/N29)","v":0},{"$f":"IF(CENÁRIOS!$I$20=TRUE,IF(PM.10=\"\",\"-\",IF(OR(RfD.in.cn.10=\"-\",RfD.in.cn.10=\"\",RfD.in.cn.10=0,FT!$S$17=\"-\",DAF.10=\"-\"),\"-\",((THI*RfD.in.cn.10)/((FT!$S$17*DAF.10)*IF.ASub.Ina.Fec.a.nc)))),\"-\")","v":"-"},{"$f":"IF(OR(P29=\"-\",P29=\"-\"),0,Cf.AguaSub.10/P29)","v":0},{"$f":"IF(CENÁRIOS!$I$21=TRUE,IF(PM.10=\"\",\"-\",IF(OR(RfD.dm.cn.10=\"-\",RfD.dm.cn.10=\"\",RfD.dm.cn.10=0,PC.10=\"\",DAF.10=\"-\"),\"-\",((THI*RfD.dm.cn.10)/(DAF.10*PC.10*IF.ASub.Con.Der.a.nc)))),\"-\")","v":"-"},{"$f":"IF(OR(R29=\"-\",R29=\"-\"),0,Cf.AguaSub.10/R29)","v":0},{"$f":"IF(CENÁRIOS!$I$22=TRUE,IF(PM.10=\"\",\"-\",IF(OR(RfD.ig.cn.10=\"-\",RfD.ig.cn.10=\"\",RfD.ig.cn.10=0,DAF.10=\"-\"),\"-\",((THI*RfD.ig.cn.10)/(DAF.10*IF.ASub.Ing.a.nc)))),\"-\")","v":"-"},{"$f":"IF(OR(T29=\"-\",T29=\"-\"),0,Cf.AguaSub.10/T29)","v":0}]
[null,11,{"$f":"SQI!D19","v":0},{"$f":"SQI!C19","v":""},"C",{"$f":"IF(CENÁRIOS!$H$19=TRUE,IF(PM.11=\"\",\"-\",IF(OR(Sf.in.11=\"-\",Sf.in.11=\"\",Sf.in.11=0,FT!$R$18=\"-\"),\"-\",IF(ISERROR(TR/(FT!$R$18*IF.ASub.Ina.Abe.a.c*Sf.in.11)),\"-\",(TR/(FT!$R$18*IF.ASub.Ina.Abe.a.c*Sf.in.11))))),\"-\")","v":"-"},{"$f":"IF(OR(F30=\"-\",F30=\"-\"),0,Cf.AguaSub.11/F30)","v":0},{"$f":"IF(CENÁRIOS!$H$20=TRUE,IF(PM.11=\"\",\"-\",IF(OR(Sf.in.11=\"-\",Sf.in.11=\"\",Sf.in.11=0,FT!$S$18=\"-\"),\"-\",IF(ISERROR(TR/(FT!$S$18*IF.ASub.Ina.Fec.a.c*Sf.in.11)),\"-\",(TR/(FT!$S$18*IF.ASub.Ina.Fec.a.c*Sf.in.11))))),\"-\")","v":"-"},{"$f":"IF(OR(H30=\"-\",H30=\"-\"),0,Cf.AguaSub.11/H30)","v":0},{"$f":"IF(CENÁRIOS!$H$21=TRUE,IF(PM.11=\"\",\"-\",IF(OR(Sf.dm.11=\"-\",Sf.dm.11=\"\",Sf.dm.11=0,PC.11=\"\"),\"-\",(TR/(PC.11*IF.ASub.Con.Der.a.c*Sf.dm.11)))),\"-\")","v":"-"},{"$f":"IF(OR(J30=\"-\",J30=\"-\"),0,Cf.AguaSub.11/J30)","v":0},{"$f":"IF(CENÁRIOS!$H$22=TRUE,IF(PM.11=\"\",\"-\",IF(OR(Sf.ig.11=\"-\",Sf.ig.11=\"\",Sf.ig.11=0),\"-\",(TR/(IF.ASub.Ing.a.c*Sf.ig.11)))),\"-\")","v":"-"},{"$f":"IF(OR(L30=\"-\",L30=\"-\"),0,Cf.AguaSub.11/L30)","v":0},{"$f":"IF(CENÁRIOS!$I$19=TRUE,IF(PM.11=\"\",\"-\",IF(OR(Sf.in.11=\"-\",Sf.in.11=\"\",Sf.in.11=0,FT!$R$18=\"-\"),\"-\",IF(ISERROR(TR/((FT!$R$18*DAF.11)*IF.ASub.Ina.Abe.a.c*Sf.in.11)),\"-\",(TR/((FT!$R$18*DAF.11)*IF.ASub.Ina.Abe.a.c*Sf.in.11))))),\"-\")","v":"-"},{"$f":"IF(OR(N30=\"-\",N30=\"-\"),0,Cf.AguaSub.11/N30)","v":0},{"$f":"IF(CENÁRIOS!$I$20=TRUE,IF(PM.11=\"\",\"-\",IF(OR(Sf.in.11=\"-\",Sf.in.11=\"\",Sf.in.11=0,FT!$S$18=\"-\"),\"-\",IF(ISERROR(TR/((FT!$S$18*DAF.11)*IF.ASub.Ina.Fec.a.c*Sf.in.11)),\"-\",(TR/((FT!$S$18*DAF.11)*IF.ASub.Ina.Fec.a.c*Sf.in.11))))),\"-\")","v":"-"},{"$f":"IF(OR(P30=\"-\",P30=\"-\"),0,Cf.AguaSub.11/P30)","v":0},{"$f":"IF(CENÁRIOS!$I$21=TRUE,IF(PM.11=\"\",\"-\",IF(OR(Sf.dm.11=\"-\",Sf.dm.11=\"\",Sf.dm.11=0,PC.11=\"\",DAF.11=\"-\"),\"-\",(TR/(DAF.11*PC.11*IF.ASub.Con.Der.a.c*Sf.dm.11)))),\"-\")","v":"-"},{"$f":"IF(OR(R30=\"-\",R30=\"-\"),0,Cf.AguaSub.11/R30)","v":0},{"$f":"IF(CENÁRIOS!$I$22=TRUE,IF(PM.11=\"\",\"-\",IF(OR(Sf.ig.11=\"-\",Sf.ig.11=\"\",Sf.ig.11=0,DAF.11=\"-\"),\"-\",(TR/(DAF.11*IF.ASub.Ing.a.c*Sf.ig.11)))),\"-\")","v":"-"},{"$f":"IF(OR(T30=\"-\",T30=\"-\"),0,Cf.AguaSub.11/T30)","v":0}]
[null,null,null,null,"NC",{"$f":"IF(CENÁRIOS!$H$19=TRUE,IF(PM.11=\"\",\"-\",IF(OR(RfD.in.cn.11=\"-\",RfD.in.cn.11=\"\",RfD.in.cn.11=0,FT!$R$18=\"-\"),\"-\",((THI*RfD.in.cn.11)/(FT!$R$18*IF.ASub.Ina.Abe.a.nc)))),\"-\")","v":"-"},{"$f":"IF(OR(F31=\"-\",F31=\"-\"),0,Cf.AguaSub.11/F31)","v":0},{"$f":"IF(CENÁRIOS!$H$20=TRUE,IF(PM.11=\"\",\"-\",IF(OR(RfD.in.cn.11=\"-\",RfD.in.cn.11=\"\",RfD.in.cn.11=0,FT!$S$18=\"-\"),\"-\",((THI*RfD.in.cn.11)/(FT!$S$18*IF.ASub.Ina.Fec.a.nc)))),\"-\")","v":"-"},{"$f":"IF(OR(H31=\"-\",H31=\"-\"),0,Cf.AguaSub.11/H31)","v":0},{"$f":"IF(CENÁRIOS!$H$21=TRUE,IF(PM.11=\"\",\"-\",IF(OR(RfD.dm.cn.11=\"-\",RfD.dm.cn.11=\"\",RfD.dm.cn.11=0,PC.11=\"\"),\"-\",((THI*RfD.dm.cn.11)/(PC.11*IF.ASub.Con.Der.a.nc)))),\"-\")","v":"-"},{"$f":"IF(OR(J31=\"-\",J31=\"-\"),0,Cf.AguaSub.11/J31)","v":0},{"$f":"IF(CENÁRIOS!$H$22=TRUE,IF(PM.11=\"\",\"-\",IF(OR(RfD.ig.cn.11=\"-\",RfD.ig.cn.11=\"\",RfD.ig.cn.11=0),\"-\",((THI*RfD.ig.cn.11)/(IF.ASub.Ing.a.nc)))),\"-\")","v":"-"},{"$f":"IF(OR(L31=\"-\",L31=\"-\"),0,Cf.AguaSub.11/L31)","v":0},{"$f":"IF(CENÁRIOS!$I$19=TRUE,IF(PM.11=\"\",\"-\",IF(OR(RfD.in.cn.11=\"-\",RfD.in.cn.11=\"\",RfD.in.cn.11=0,FT!$R$18=\"-\",DAF.11=\"-\"),\"-\",((THI*RfD.in.cn.11)/((FT!$R$18*DAF.11)*IF.ASub.Ina.Abe.a.nc)))),\"-\")","v":"-"},{"$f":"IF(OR(N31=\"-\",N31=\"-\"),0,Cf.AguaSub.11/N31)","v":0},{"$f":"IF(CENÁRIOS!$I$20=TRUE,IF(PM.11=\"\",\"-\",IF(OR(RfD.in.cn.11=\"-\",RfD.in.cn.11=\"\",RfD.in.cn.11=0,FT!$S$18=\"-\",DAF.11=\"-\"),\"-\",((THI*RfD.in.cn.11)/((FT!$S$18*DAF.11)*IF.ASub.Ina.Fec.a.nc)))),\"-\")","v":"-"},{"$f":"IF(OR(P31=\"-\",P31=\"-\"),0,Cf.AguaSub.11/P31)","v":0},{"$f":"IF(CENÁRIOS!$I$21=TRUE,IF(PM.11=\"\",\"-\",IF(OR(RfD.dm.cn.11=\"-\",RfD.dm.cn.11=\"\",RfD.dm.cn.11=0,PC.11=\"\",DAF.11=\"-\"),\"-\",((THI*RfD.dm.cn.11)/(DAF.11*PC.11*IF.ASub.Con.Der.a.nc)))),\"-\")","v":"-"},{"$f":"IF(OR(R31=\"-\",R31=\"-\"),0,Cf.AguaSub.11/R31)","v":0},{"$f":"IF(CENÁRIOS!$I$22=TRUE,IF(PM.11=\"\",\"-\",IF(OR(RfD.ig.cn.11=\"-\",RfD.ig.cn.11=\"\",RfD.ig.cn.11=0,DAF.11=\"-\"),\"-\",((THI*RfD.ig.cn.11)/(DAF.11*IF.ASub.Ing.a.nc)))),\"-\")","v":"-"},{"$f":"IF(OR(T31=\"-\",T31=\"-\"),0,Cf.AguaSub.11/T31)","v":0}]
[null,12,{"$f":"SQI!D20","v":0},{"$f":"SQI!C20","v":""},"C",{"$f":"IF(CENÁRIOS!$H$19=TRUE,IF(PM.12=\"\",\"-\",IF(OR(Sf.in.12=\"-\",Sf.in.12=\"\",Sf.in.12=0,FT!$R$19=\"-\"),\"-\",IF(ISERROR(TR/(FT!$R$19*IF.ASub.Ina.Abe.a.c*Sf.in.12)),\"-\",(TR/(FT!$R$19*IF.ASub.Ina.Abe.a.c*Sf.in.12))))),\"-\")","v":"-"},{"$f":"IF(OR(F32=\"-\",F32=\"-\"),0,Cf.AguaSub.12/F32)","v":0},{"$f":"IF(CENÁRIOS!$H$20=TRUE,IF(PM.12=\"\",\"-\",IF(OR(Sf.in.12=\"-\",Sf.in.12=\"\",Sf.in.12=0,FT!$S$19=\"-\"),\"-\",IF(ISERROR(TR/(FT!$S$19*IF.ASub.Ina.Fec.a.c*Sf.in.12)),\"-\",(TR/(FT!$S$19*IF.ASub.Ina.Fec.a.c*Sf.in.12))))),\"-\")","v":"-"},{"$f":"IF(OR(H32=\"-\",H32=\"-\"),0,Cf.AguaSub.12/H32)","v":0},{"$f":"IF(CENÁRIOS!$H$21=TRUE,IF(PM.12=\"\",\"-\",IF(OR(Sf.dm.12=\"-\",Sf.dm.12=\"\",Sf.dm.12=0,PC.12=\"\"),\"-\",(TR/(PC.12*IF.ASub.Con.Der.a.c*Sf.dm.12)))),\"-\")","v":"-"},{"$f":"IF(OR(J32=\"-\",J32=\"-\"),0,Cf.AguaSub.12/J32)","v":0},{"$f":"IF(CENÁRIOS!$H$22=TRUE,IF(PM.12=\"\",\"-\",IF(OR(Sf.ig.12=\"-\",Sf.ig.12=\"\",Sf.ig.12=0),\"-\",(TR/(IF.ASub.Ing.a.c*Sf.ig.12)))),\"-\")","v":"-"},{"$f":"IF(OR(L32=\"-\",L32=\"-\"),0,Cf.AguaSub.12/L32)","v":0},{"$f":"IF(CENÁRIOS!$I$19=TRUE,IF(PM.12=\"\",\"-\",IF(OR(Sf.in.12=\"-\",Sf.in.12=\"\",Sf.in.12=0,FT!$R$19=\"-\"),\"-\",IF(ISERROR(TR/((FT!$R$19*DAF.12)*IF.ASub.Ina.Abe.a.c*Sf.in.12)),\"-\",(TR/((FT!$R$19*DAF.12)*IF.ASub.Ina.Abe.a.c*Sf.in.12))))),\"-\")","v":"-"},{"$f":"IF(OR(N32=\"-\",N32=\"-\"),0,Cf.AguaSub.12/N32)","v":0},{"$f":"IF(CENÁRIOS!$I$20=TRUE,IF(PM.12=\"\",\"-\",IF(OR(Sf.in.12=\"-\",Sf.in.12=\"\",Sf.in.12=0,FT!$S$19=\"-\"),\"-\",IF(ISERROR(TR/((FT!$S$19*DAF.12)*IF.ASub.Ina.Fec.a.c*Sf.in.12)),\"-\",(TR/((FT!$S$19*DAF.12)*IF.ASub.Ina.Fec.a.c*Sf.in.12))))),\"-\")","v":"-"},{"$f":"IF(OR(P32=\"-\",P32=\"-\"),0,Cf.AguaSub.12/P32)","v":0},{"$f":"IF(CENÁRIOS!$I$21=TRUE,IF(PM.12=\"\",\"-\",IF(OR(Sf.dm.12=\"-\",Sf.dm.12=\"\",Sf.dm.12=0,PC.12=\"\",DAF.12=\"-\"),\"-\",(TR/(DAF.12*PC.12*IF.ASub.Con.Der.a.c*Sf.dm.12)))),\"-\")","v":"-"},{"$f":"IF(OR(R32=\"-\",R32=\"-\"),0,Cf.AguaSub.12/R32)","v":0},{"$f":"IF(CENÁRIOS!$I$22=TRUE,IF(PM.12=\"\",\"-\",IF(OR(Sf.ig.12=\"-\",Sf.ig.12=\"\",Sf.ig.12=0,DAF.12=\"-\"),\"-\",(TR/(DAF.12*IF.ASub.Ing.a.c*Sf.ig.12)))),\"-\")","v":"-"},{"$f":"IF(OR(T32=\"-\",T32=\"-\"),0,Cf.AguaSub.12/T32)","v":0}]
[null,null,null,null,"NC",{"$f":"IF(CENÁRIOS!$H$19=TRUE,IF(PM.12=\"\",\"-\",IF(OR(RfD.in.cn.12=\"-\",RfD.in.cn.12=\"\",RfD.in.cn.12=0,FT!$R$19=\"-\"),\"-\",((THI*RfD.in.cn.12)/(FT!$R$19*IF.ASub.Ina.Abe.a.nc)))),\"-\")","v":"-"},{"$f":"IF(OR(F33=\"-\",F33=\"-\"),0,Cf.AguaSub.12/F33)","v":0},{"$f":"IF(CENÁRIOS!$H$20=TRUE,IF(PM.12=\"\",\"-\",IF(OR(RfD.in.cn.12=\"-\",RfD.in.cn.12=\"\",RfD.in.cn.12=0,FT!$S$19=\"-\"),\"-\",((THI*RfD.in.cn.12)/(FT!$S$19*IF.ASub.Ina.Fec.a.nc)))),\"-\")","v":"-"},{"$f":"IF(OR(H33=\"-\",H33=\"-\"),0,Cf.AguaSub.12/H33)","v":0},{"$f":"IF(CENÁRIOS!$H$21=TRUE,IF(PM.12=\"\",\"-\",IF(OR(RfD.dm.cn.12=\"-\",RfD.dm.cn.12=\"\",RfD.dm.cn.12=0,PC.12=\"\"),\"-\",((THI*RfD.dm.cn.12)/(PC.12*IF.ASub.Con.Der.a.nc)))),\"-\")","v":"-"},{"$f":"IF(OR(J33=\"-\",J33=\"-\"),0,Cf.AguaSub.12/J33)","v":0},{"$f":"IF(CENÁRIOS!$H$22=TRUE,IF(PM.12=\"\",\"-\",IF(OR(RfD.ig.cn.12=\"-\",RfD.ig.cn.12=\"\",RfD.ig.cn.12=0),\"-\",((THI*RfD.ig.cn.12)/(IF.ASub.Ing.a.nc)))),\"-\")","v":"-"},{"$f":"IF(OR(L33=\"-\",L33=\"-\"),0,Cf.AguaSub.12/L33)","v":0},{"$f":"IF(CENÁRIOS!$I$19=TRUE,IF(PM.12=\"\",\"-\",IF(OR(RfD.in.cn.12=\"-\",RfD.in.cn.12=\"\",RfD.in.cn.12=0,FT!$R$19=\"-\",DAF.12=\"-\"),\"-\",((THI*RfD.in.cn.12)/((FT!$R$19*DAF.12)*IF.ASub.Ina.Abe.a.nc)))),\"-\")","v":"-"},{"$f":"IF(OR(N33=\"-\",N33=\"-\"),0,Cf.AguaSub.12/N33)","v":0},{"$f":"IF(CENÁRIOS!$I$20=TRUE,IF(PM.12=\"\",\"-\",IF(OR(RfD.in.cn.12=\"-\",RfD.in.cn.12=\"\",RfD.in.cn.12=0,FT!$S$19=\"-\",DAF.12=\"-\"),\"-\",((THI*RfD.in.cn.12)/((FT!$S$19*DAF.12)*IF.ASub.Ina.Fec.a.nc)))),\"-\")","v":"-"},{"$f":"IF(OR(P33=\"-\",P33=\"-\"),0,Cf.AguaSub.12/P33)","v":0},{"$f":"IF(CENÁRIOS!$I$21=TRUE,IF(PM.12=\"\",\"-\",IF(OR(RfD.dm.cn.12=\"-\",RfD.dm.cn.12=\"\",RfD.dm.cn.12=0,PC.12=\"\",DAF.12=\"-\"),\"-\",((THI*RfD.dm.cn.12)/(DAF.12*PC.12*IF.ASub.Con.Der.a.nc)))),\"-\")","v":"-"},{"$f":"IF(OR(R33=\"-\",R33=\"-\"),0,Cf.AguaSub.12/R33)","v":0},{"$f":"IF(CENÁRIOS!$I$22=TRUE,IF(PM.12=\"\",\"-\",IF(OR(RfD.ig.cn.12=\"-\",RfD.ig.cn.12=\"\",RfD.ig.cn.12=0,DAF.12=\"-\"),\"-\",((THI*RfD.ig.cn.12)/(DAF.12*IF.ASub.Ing.a.nc)))),\"-\")","v":"-"},{"$f":"IF(OR(T33=\"-\",T33=\"-\"),0,Cf.AguaSub.12/T33)","v":0}]
[null,13,{"$f":"SQI!D21","v":0},{"$f":"SQI!C21","v":""},"C",{"$f":"IF(CENÁRIOS!$H$19=TRUE,IF(PM.13=\"\",\"-\",IF(OR(Sf.in.13=\"-\",Sf.in.13=\"\",Sf.in.13=0,FT!$R$20=\"-\"),\"-\",IF(ISERROR(TR/(FT!$R$20*IF.ASub.Ina.Abe.a.c*Sf.in.13)),\"-\",(TR/(FT!$R$20*IF.ASub.Ina.Abe.a.c*Sf.in.13))))),\"-\")","v":"-"},{"$f":"IF(OR(F34=\"-\",F34=\"-\"),0,Cf.AguaSub.13/F34)","v":0},{"$f":"IF(CENÁRIOS!$H$20=TRUE,IF(PM.13=\"\",\"-\",IF(OR(Sf.in.13=\"-\",Sf.in.13=\"\",Sf.in.13=0,FT!$S$20=\"-\"),\"-\",IF(ISERROR(TR/(FT!$S$20*IF.ASub.Ina.Fec.a.c*Sf.in.13)),\"-\",(TR/(FT!$S$20*IF.ASub.Ina.Fec.a.c*Sf.in.13))))),\"-\")","v":"-"},{"$f":"IF(OR(H34=\"-\",H34=\"-\"),0,Cf.AguaSub.13/H34)","v":0},{"$f":"IF(CENÁRIOS!$H$21=TRUE,IF(PM.13=\"\",\"-\",IF(OR(Sf.dm.13=\"-\",Sf.dm.13=\"\",Sf.dm.13=0,PC.13=\"\"),\"-\",(TR/(PC.13*IF.ASub.Con.Der.a.c*Sf.dm.13)))),\"-\")","v":"-"},{"$f":"IF(OR(J34=\"-\",J34=\"-\"),0,Cf.AguaSub.13/J34)","v":0},{"$f":"IF(CENÁRIOS!$H$22=TRUE,IF(PM.13=\"\",\"-\",IF(OR(Sf.ig.13=\"-\",Sf.ig.13=\"\",Sf.ig.13=0),\"-\",(TR/(IF.ASub.Ing.a.c*Sf.ig.13)))),\"-\")","v":"-"},{"$f":"IF(OR(L34=\"-\",L34=\"-\"),0,Cf.AguaSub.13/L34)","v":0},{"$f":"IF(CENÁRIOS!$I$19=TRUE,IF(PM.13=\"\",\"-\",IF(OR(Sf.in.13=\"-\",Sf.in.13=\"\",Sf.in.13=0,FT!$R$20=\"-\"),\"-\",IF(ISERROR(TR/((FT!$R$20*DAF.13)*IF.ASub.Ina.Abe.a.c*Sf.in.13)),\"-\",(TR/((FT!$R$20*DAF.13)*IF.ASub.Ina.Abe.a.c*Sf.in.13))))),\"-\")","v":"-"},{"$f":"IF(OR(N34=\"-\",N34=\"-\"),0,Cf.AguaSub.13/N34)","v":0},{"$f":"IF(CENÁRIOS!$I$20=TRUE,IF(PM.13=\"\",\"-\",IF(OR(Sf.in.13=\"-\",Sf.in.13=\"\",Sf.in.13=0,FT!$S$20=\"-\"),\"-\",IF(ISERROR(TR/((FT!$S$20*DAF.13)*IF.ASub.Ina.Fec.a.c*Sf.in.13)),\"-\",(TR/((FT!$S$20*DAF.13)*IF.ASub.Ina.Fec.a.c*Sf.in.13))))),\"-\")","v":"-"},{"$f":"IF(OR(P34=\"-\",P34=\"-\"),0,Cf.AguaSub.13/P34)","v":0},{"$f":"IF(CENÁRIOS!$I$21=TRUE,IF(PM.13=\"\",\"-\",IF(OR(Sf.dm.13=\"-\",Sf.dm.13=\"\",Sf.dm.13=0,PC.13=\"\",DAF.13=\"-\"),\"-\",(TR/(DAF.13*PC.13*IF.ASub.Con.Der.a.c*Sf.dm.13)))),\"-\")","v":"-"},{"$f":"IF(OR(R34=\"-\",R34=\"-\"),0,Cf.AguaSub.13/R34)","v":0},{"$f":"IF(CENÁRIOS!$I$22=TRUE,IF(PM.13=\"\",\"-\",IF(OR(Sf.ig.13=\"-\",Sf.ig.13=\"\",Sf.ig.13=0,DAF.13=\"-\"),\"-\",(TR/(DAF.13*IF.ASub.Ing.a.c*Sf.ig.13)))),\"-\")","v":"-"},{"$f":"IF(OR(T34=\"-\",T34=\"-\"),0,Cf.AguaSub.13/T34)","v":0}]
[null,null,null,null,"NC",{"$f":"IF(CENÁRIOS!$H$19=TRUE,IF(PM.13=\"\",\"-\",IF(OR(RfD.in.cn.13=\"-\",RfD.in.cn.13=\"\",RfD.in.cn.13=0,FT!$R$20=\"-\"),\"-\",((THI*RfD.in.cn.13)/(FT!$R$20*IF.ASub.Ina.Abe.a.nc)))),\"-\")","v":"-"},{"$f":"IF(OR(F35=\"-\",F35=\"-\"),0,Cf.AguaSub.13/F35)","v":0},{"$f":"IF(CENÁRIOS!$H$20=TRUE,IF(PM.13=\"\",\"-\",IF(OR(RfD.in.cn.13=\"-\",RfD.in.cn.13=\"\",RfD.in.cn.13=0,FT!$S$20=\"-\"),\"-\",((THI*RfD.in.cn.13)/(FT!$S$20*IF.ASub.Ina.Fec.a.nc)))),\"-\")","v":"-"},{"$f":"IF(OR(H35=\"-\",H35=\"-\"),0,Cf.AguaSub.13/H35)","v":0},{"$f":"IF(CENÁRIOS!$H$21=TRUE,IF(PM.13=\"\",\"-\",IF(OR(RfD.dm.cn.13=\"-\",RfD.dm.cn.13=\"\",RfD.dm.cn.13=0,PC.13=\"\"),\"-\",((THI*RfD.dm.cn.13)/(PC.13*IF.ASub.Con.Der.a.nc)))),\"-\")","v":"-"},{"$f":"IF(OR(J35=\"-\",J35=\"-\"),0,Cf.AguaSub.13/J35)","v":0},{"$f":"IF(CENÁRIOS!$H$22=TRUE,IF(PM.13=\"\",\"-\",IF(OR(RfD.ig.cn.13=\"-\",RfD.ig.cn.13=\"\",RfD.ig.cn.13=0),\"-\",((THI*RfD.ig.cn.13)/(IF.ASub.Ing.a.nc)))),\"-\")","v":"-"},{"$f":"IF(OR(L35=\"-\",L35=\"-\"),0,Cf.AguaSub.13/L35)","v":0},{"$f":"IF(CENÁRIOS!$I$19=TRUE,IF(PM.13=\"\",\"-\",IF(OR(RfD.in.cn.13=\"-\",RfD.in.cn.13=\"\",RfD.in.cn.13=0,FT!$R$20=\"-\",DAF.13=\"-\"),\"-\",((THI*RfD.in.cn.13)/((FT!$R$20*DAF.13)*IF.ASub.Ina.Abe.a.nc)))),\"-\")","v":"-"},{"$f":"IF(OR(N35=\"-\",N35=\"-\"),0,Cf.AguaSub.13/N35)","v":0},{"$f":"IF(CENÁRIOS!$I$20=TRUE,IF(PM.13=\"\",\"-\",IF(OR(RfD.in.cn.13=\"-\",RfD.in.cn.13=\"\",RfD.in.cn.13=0,FT!$S$20=\"-\",DAF.13=\"-\"),\"-\",((THI*RfD.in.cn.13)/((FT!$S$20*DAF.13)*IF.ASub.Ina.Fec.a.nc)))),\"-\")","v":"-"},{"$f":"IF(OR(P35=\"-\",P35=\"-\"),0,Cf.AguaSub.13/P35)","v":0},{"$f":"IF(CENÁRIOS!$I$21=TRUE,IF(PM.13=\"\",\"-\",IF(OR(RfD.dm.cn.13=\"-\",RfD.dm.cn.13=\"\",RfD.dm.cn.13=0,PC.13=\"\",DAF.13=\"-\"),\"-\",((THI*RfD.dm.cn.13)/(DAF.13*PC.13*IF.ASub.Con.Der.a.nc)))),\"-\")","v":"-"},{"$f":"IF(OR(R35=\"-\",R35=\"-\"),0,Cf.AguaSub.13/R35)","v":0},{"$f":"IF(CENÁRIOS!$I$22=TRUE,IF(PM.13=\"\",\"-\",IF(OR(RfD.ig.cn.13=\"-\",RfD.ig.cn.13=\"\",RfD.ig.cn.13=0,DAF.13=\"-\"),\"-\",((THI*RfD.ig.cn.13)/(DAF.13*IF.ASub.Ing.a.nc)))),\"-\")","v":"-"},{"$f":"IF(OR(T35=\"-\",T35=\"-\"),0,Cf.AguaSub.13/T35)","v":0}]
[null,14,{"$f":"SQI!D22","v":0},{"$f":"SQI!C22","v":""},"C",{"$f":"IF(CENÁRIOS!$H$19=TRUE,IF(PM.14=\"\",\"-\",IF(OR(Sf.in.14=\"-\",Sf.in.14=\"\",Sf.in.14=0,FT!$R$21=\"-\"),\"-\",IF(ISERROR(TR/(FT!$R$21*IF.ASub.Ina.Abe.a.c*Sf.in.14)),\"-\",(TR/(FT!$R$21*IF.ASub.Ina.Abe.a.c*Sf.in.14))))),\"-\")","v":"-"},{"$f":"IF(OR(F36=\"-\",F36=\"-\"),0,Cf.AguaSub.14/F36)","v":0},{"$f":"IF(CENÁRIOS!$H$20=TRUE,IF(PM.14=\"\",\"-\",IF(OR(Sf.in.14=\"-\",Sf.in.14=\"\",Sf.in.14=0,FT!$S$21=\"-\"),\"-\",IF(ISERROR(TR/(FT!$S$21*IF.ASub.Ina.Fec.a.c*Sf.in.14)),\"-\",(TR/(FT!$S$21*IF.ASub.Ina.Fec.a.c*Sf.in.14))))),\"-\")","v":"-"},{"$f":"IF(OR(H36=\"-\",H36=\"-\"),0,Cf.AguaSub.14/H36)","v":0},{"$f":"IF(CENÁRIOS!$H$21=TRUE,IF(PM.14=\"\",\"-\",IF(OR(Sf.dm.14=\"-\",Sf.dm.14=\"\",Sf.dm.14=0,PC.14=\"\"),\"-\",(TR/(PC.14*IF.ASub.Con.Der.a.c*Sf.dm.14)))),\"-\")","v":"-"},{"$f":"IF(OR(J36=\"-\",J36=\"-\"),0,Cf.AguaSub.14/J36)","v":0},{"$f":"IF(CENÁRIOS!$H$22=TRUE,IF(PM.14=\"\",\"-\",IF(OR(Sf.ig.14=\"-\",Sf.ig.14=\"\",Sf.ig.14=0),\"-\",(TR/(IF.ASub.Ing.a.c*Sf.ig.14)))),\"-\")","v":"-"},{"$f":"IF(OR(L36=\"-\",L36=\"-\"),0,Cf.AguaSub.14/L36)","v":0},{"$f":"IF(CENÁRIOS!$I$19=TRUE,IF(PM.14=\"\",\"-\",IF(OR(Sf.in.14=\"-\",Sf.in.14=\"\",Sf.in.14=0,FT!$R$21=\"-\"),\"-\",IF(ISERROR(TR/((FT!$R$21*DAF.14)*IF.ASub.Ina.Abe.a.c*Sf.in.14)),\"-\",(TR/((FT!$R$21*DAF.14)*IF.ASub.Ina.Abe.a.c*Sf.in.14))))),\"-\")","v":"-"},{"$f":"IF(OR(N36=\"-\",N36=\"-\"),0,Cf.AguaSub.14/N36)","v":0},{"$f":"IF(CENÁRIOS!$I$20=TRUE,IF(PM.14=\"\",\"-\",IF(OR(Sf.in.14=\"-\",Sf.in.14=\"\",Sf.in.14=0,FT!$S$21=\"-\"),\"-\",IF(ISERROR(TR/((FT!$S$21*DAF.14)*IF.ASub.Ina.Fec.a.c*Sf.in.14)),\"-\",(TR/((FT!$S$21*DAF.14)*IF.ASub.Ina.Fec.a.c*Sf.in.14))))),\"-\")","v":"-"},{"$f":"IF(OR(P36=\"-\",P36=\"-\"),0,Cf.AguaSub.14/P36)","v":0},{"$f":"IF(CENÁRIOS!$I$21=TRUE,IF(PM.14=\"\",\"-\",IF(OR(Sf.dm.14=\"-\",Sf.dm.14=\"\",Sf.dm.14=0,PC.14=\"\",DAF.14=\"-\"),\"-\",(TR/(DAF.14*PC.14*IF.ASub.Con.Der.a.c*Sf.dm.14)))),\"-\")","v":"-"},{"$f":"IF(OR(R36=\"-\",R36=\"-\"),0,Cf.AguaSub.14/R36)","v":0},{"$f":"IF(CENÁRIOS!$I$22=TRUE,IF(PM.14=\"\",\"-\",IF(OR(Sf.ig.14=\"-\",Sf.ig.14=\"\",Sf.ig.14=0,DAF.14=\"-\"),\"-\",(TR/(DAF.14*IF.ASub.Ing.a.c*Sf.ig.14)))),\"-\")","v":"-"},{"$f":"IF(OR(T36=\"-\",T36=\"-\"),0,Cf.AguaSub.14/T36)","v":0}]
[null,null,null,null,"NC",{"$f":"IF(CENÁRIOS!$H$19=TRUE,IF(PM.14=\"\",\"-\",IF(OR(RfD.in.cn.14=\"-\",RfD.in.cn.14=\"\",RfD.in.cn.14=0,FT!$R$21=\"-\"),\"-\",((THI*RfD.in.cn.14)/(FT!$R$21*IF.ASub.Ina.Abe.a.nc)))),\"-\")","v":"-"},{"$f":"IF(OR(F37=\"-\",F37=\"-\"),0,Cf.AguaSub.14/F37)","v":0},{"$f":"IF(CENÁRIOS!$H$20=TRUE,IF(PM.14=\"\",\"-\",IF(OR(RfD.in.cn.14=\"-\",RfD.in.cn.14=\"\",RfD.in.cn.14=0,FT!$S$21=\"-\"),\"-\",((THI*RfD.in.cn.14)/(FT!$S$21*IF.ASub.Ina.Fec.a.nc)))),\"-\")","v":"-"},{"$f":"IF(OR(H37=\"-\",H37=\"-\"),0,Cf.AguaSub.14/H37)","v":0},{"$f":"IF(CENÁRIOS!$H$21=TRUE,IF(PM.14=\"\",\"-\",IF(OR(RfD.dm.cn.14=\"-\",RfD.dm.cn.14=\"\",RfD.dm.cn.14=0,PC.14=\"\"),\"-\",((THI*RfD.dm.cn.14)/(PC.14*IF.ASub.Con.Der.a.nc)))),\"-\")","v":"-"},{"$f":"IF(OR(J37=\"-\",J37=\"-\"),0,Cf.AguaSub.14/J37)","v":0},{"$f":"IF(CENÁRIOS!$H$22=TRUE,IF(PM.14=\"\",\"-\",IF(OR(RfD.ig.cn.14=\"-\",RfD.ig.cn.14=\"\",RfD.ig.cn.14=0),\"-\",((THI*RfD.ig.cn.14)/(IF.ASub.Ing.a.nc)))),\"-\")","v":"-"},{"$f":"IF(OR(L37=\"-\",L37=\"-\"),0,Cf.AguaSub.14/L37)","v":0},{"$f":"IF(CENÁRIOS!$I$19=TRUE,IF(PM.14=\"\",\"-\",IF(OR(RfD.in.cn.14=\"-\",RfD.in.cn.14=\"\",RfD.in.cn.14=0,FT!$R$21=\"-\",DAF.14=\"-\"),\"-\",((THI*RfD.in.cn.14)/((FT!$R$21*DAF.14)*IF.ASub.Ina.Abe.a.nc)))),\"-\")","v":"-"},{"$f":"IF(OR(N37=\"-\",N37=\"-\"),0,Cf.AguaSub.14/N37)","v":0},{"$f":"IF(CENÁRIOS!$I$20=TRUE,IF(PM.14=\"\",\"-\",IF(OR(RfD.in.cn.14=\"-\",RfD.in.cn.14=\"\",RfD.in.cn.14=0,FT!$S$21=\"-\",DAF.14=\"-\"),\"-\",((THI*RfD.in.cn.14)/((FT!$S$21*DAF.14)*IF.ASub.Ina.Fec.a.nc)))),\"-\")","v":"-"},{"$f":"IF(OR(P37=\"-\",P37=\"-\"),0,Cf.AguaSub.14/P37)","v":0},{"$f":"IF(CENÁRIOS!$I$21=TRUE,IF(PM.14=\"\",\"-\",IF(OR(RfD.dm.cn.14=\"-\",RfD.dm.cn.14=\"\",RfD.dm.cn.14=0,PC.14=\"\",DAF.14=\"-\"),\"-\",((THI*RfD.dm.cn.14)/(DAF.14*PC.14*IF.ASub.Con.Der.a.nc)))),\"-\")","v":"-"},{"$f":"IF(OR(R37=\"-\",R37=\"-\"),0,Cf.AguaSub.14/R37)","v":0},{"$f":"IF(CENÁRIOS!$I$22=TRUE,IF(PM.14=\"\",\"-\",IF(OR(RfD.ig.cn.14=\"-\",RfD.ig.cn.14=\"\",RfD.ig.cn.14=0,DAF.14=\"-\"),\"-\",((THI*RfD.ig.cn.14)/(DAF.14*IF.ASub.Ing.a.nc)))),\"-\")","v":"-"},{"$f":"IF(OR(T37=\"-\",T37=\"-\"),0,Cf.AguaSub.14/T37)","v":0}]
[null,15,{"$f":"SQI!D23","v":0},{"$f":"SQI!C23","v":""},"C",{"$f":"IF(CENÁRIOS!$H$19=TRUE,IF(PM.15=\"\",\"-\",IF(OR(Sf.in.15=\"-\",Sf.in.15=\"\",Sf.in.15=0,FT!$R$22=\"-\"),\"-\",IF(ISERROR(TR/(FT!$R$22*IF.ASub.Ina.Abe.a.c*Sf.in.15)),\"-\",(TR/(FT!$R$22*IF.ASub.Ina.Abe.a.c*Sf.in.15))))),\"-\")","v":"-"},{"$f":"IF(OR(F38=\"-\",F38=\"-\"),0,Cf.AguaSub.15/F38)","v":0},{"$f":"IF(CENÁRIOS!$H$20=TRUE,IF(PM.15=\"\",\"-\",IF(OR(Sf.in.15=\"-\",Sf.in.15=\"\",Sf.in.15=0,FT!$S$22=\"-\"),\"-\",IF(ISERROR(TR/(FT!$S$22*IF.ASub.Ina.Fec.a.c*Sf.in.15)),\"-\",(TR/(FT!$S$22*IF.ASub.Ina.Fec.a.c*Sf.in.15))))),\"-\")","v":"-"},{"$f":"IF(OR(H38=\"-\",H38=\"-\"),0,Cf.AguaSub.15/H38)","v":0},{"$f":"IF(CENÁRIOS!$H$21=TRUE,IF(PM.15=\"\",\"-\",IF(OR(Sf.dm.15=\"-\",Sf.dm.15=\"\",Sf.dm.15=0,PC.15=\"\"),\"-\",(TR/(PC.15*IF.ASub.Con.Der.a.c*Sf.dm.15)))),\"-\")","v":"-"},{"$f":"IF(OR(J38=\"-\",J38=\"-\"),0,Cf.AguaSub.15/J38)","v":0},{"$f":"IF(CENÁRIOS!$H$22=TRUE,IF(PM.15=\"\",\"-\",IF(OR(Sf.ig.15=\"-\",Sf.ig.15=\"\",Sf.ig.15=0),\"-\",(TR/(IF.ASub.Ing.a.c*Sf.ig.15)))),\"-\")","v":"-"},{"$f":"IF(OR(L38=\"-\",L38=\"-\"),0,Cf.AguaSub.15/L38)","v":0},{"$f":"IF(CENÁRIOS!$I$19=TRUE,IF(PM.15=\"\",\"-\",IF(OR(Sf.in.15=\"-\",Sf.in.15=\"\",Sf.in.15=0,FT!$R$22=\"-\"),\"-\",IF(ISERROR(TR/((FT!$R$22*DAF.15)*IF.ASub.Ina.Abe.a.c*Sf.in.15)),\"-\",(TR/((FT!$R$22*DAF.15)*IF.ASub.Ina.Abe.a.c*Sf.in.15))))),\"-\")","v":"-"},{"$f":"IF(OR(N38=\"-\",N38=\"-\"),0,Cf.AguaSub.15/N38)","v":0},{"$f":"IF(CENÁRIOS!$I$20=TRUE,IF(PM.15=\"\",\"-\",IF(OR(Sf.in.15=\"-\",Sf.in.15=\"\",Sf.in.15=0,FT!$S$22=\"-\"),\"-\",IF(ISERROR(TR/((FT!$S$22*DAF.15)*IF.ASub.Ina.Fec.a.c*Sf.in.15)),\"-\",(TR/((FT!$S$22*DAF.15)*IF.ASub.Ina.Fec.a.c*Sf.in.15))))),\"-\")","v":"-"},{"$f":"IF(OR(P38=\"-\",P38=\"-\"),0,Cf.AguaSub.15/P38)","v":0},{"$f":"IF(CENÁRIOS!$I$21=TRUE,IF(PM.15=\"\",\"-\",IF(OR(Sf.dm.15=\"-\",Sf.dm.15=\"\",Sf.dm.15=0,PC.15=\"\",DAF.15=\"-\"),\"-\",(TR/(DAF.15*PC.15*IF.ASub.Con.Der.a.c*Sf.dm.15)))),\"-\")","v":"-"},{"$f":"IF(OR(R38=\"-\",R38=\"-\"),0,Cf.AguaSub.15/R38)","v":0},{"$f":"IF(CENÁRIOS!$I$22=TRUE,IF(PM.15=\"\",\"-\",IF(OR(Sf.ig.15=\"-\",Sf.ig.15=\"\",Sf.ig.15=0,DAF.15=\"-\"),\"-\",(TR/(DAF.15*IF.ASub.Ing.a.c*Sf.ig.15)))),\"-\")","v":"-"},{"$f":"IF(OR(T38=\"-\",T38=\"-\"),0,Cf.AguaSub.15/T38)","v":0}]
[null,null,null,null,"NC",{"$f":"IF(CENÁRIOS!$H$19=TRUE,IF(PM.15=\"\",\"-\",IF(OR(RfD.in.cn.15=\"-\",RfD.in.cn.15=\"\",RfD.in.cn.15=0,FT!$R$22=\"-\"),\"-\",((THI*RfD.in.cn.15)/(FT!$R$22*IF.ASub.Ina.Abe.a.nc)))),\"-\")","v":"-"},{"$f":"IF(OR(F39=\"-\",F39=\"-\"),0,Cf.AguaSub.15/F39)","v":0},{"$f":"IF(CENÁRIOS!$H$20=TRUE,IF(PM.15=\"\",\"-\",IF(OR(RfD.in.cn.15=\"-\",RfD.in.cn.15=\"\",RfD.in.cn.15=0,FT!$S$22=\"-\"),\"-\",((THI*RfD.in.cn.15)/(FT!$S$22*IF.ASub.Ina.Fec.a.nc)))),\"-\")","v":"-"},{"$f":"IF(OR(H39=\"-\",H39=\"-\"),0,Cf.AguaSub.15/H39)","v":0},{"$f":"IF(CENÁRIOS!$H$21=TRUE,IF(PM.15=\"\",\"-\",IF(OR(RfD.dm.cn.15=\"-\",RfD.dm.cn.15=\"\",RfD.dm.cn.15=0,PC.15=\"\"),\"-\",((THI*RfD.dm.cn.15)/(PC.15*IF.ASub.Con.Der.a.nc)))),\"-\")","v":"-"},{"$f":"IF(OR(J39=\"-\",J39=\"-\"),0,Cf.AguaSub.15/J39)","v":0},{"$f":"IF(CENÁRIOS!$H$22=TRUE,IF(PM.15=\"\",\"-\",IF(OR(RfD.ig.cn.15=\"-\",RfD.ig.cn.15=\"\",RfD.ig.cn.15=0),\"-\",((THI*RfD.ig.cn.15)/(IF.ASub.Ing.a.nc)))),\"-\")","v":"-"},{"$f":"IF(OR(L39=\"-\",L39=\"-\"),0,Cf.AguaSub.15/L39)","v":0},{"$f":"IF(CENÁRIOS!$I$19=TRUE,IF(PM.15=\"\",\"-\",IF(OR(RfD.in.cn.15=\"-\",RfD.in.cn.15=\"\",RfD.in.cn.15=0,FT!$R$22=\"-\",DAF.15=\"-\"),\"-\",((THI*RfD.in.cn.15)/((FT!$R$22*DAF.15)*IF.ASub.Ina.Abe.a.nc)))),\"-\")","v":"-"},{"$f":"IF(OR(N39=\"-\",N39=\"-\"),0,Cf.AguaSub.15/N39)","v":0},{"$f":"IF(CENÁRIOS!$I$20=TRUE,IF(PM.15=\"\",\"-\",IF(OR(RfD.in.cn.15=\"-\",RfD.in.cn.15=\"\",RfD.in.cn.15=0,FT!$S$22=\"-\",DAF.15=\"-\"),\"-\",((THI*RfD.in.cn.15)/((FT!$S$22*DAF.15)*IF.ASub.Ina.Fec.a.nc)))),\"-\")","v":"-"},{"$f":"IF(OR(P39=\"-\",P39=\"-\"),0,Cf.AguaSub.15/P39)","v":0},{"$f":"IF(CENÁRIOS!$I$21=TRUE,IF(PM.15=\"\",\"-\",IF(OR(RfD.dm.cn.15=\"-\",RfD.dm.cn.15=\"\",RfD.dm.cn.15=0,PC.15=\"\",DAF.15=\"-\"),\"-\",((THI*RfD.dm.cn.15)/(DAF.15*PC.15*IF.ASub.Con.Der.a.nc)))),\"-\")","v":"-"},{"$f":"IF(OR(R39=\"-\",R39=\"-\"),0,Cf.AguaSub.15/R39)","v":0},{"$f":"IF(CENÁRIOS!$I$22=TRUE,IF(PM.15=\"\",\"-\",IF(OR(RfD.ig.cn.15=\"-\",RfD.ig.cn.15=\"\",RfD.ig.cn.15=0,DAF.15=\"-\"),\"-\",((THI*RfD.ig.cn.15)/(DAF.15*IF.ASub.Ing.a.nc)))),\"-\")","v":"-"},{"$f":"IF(OR(T39=\"-\",T39=\"-\"),0,Cf.AguaSub.15/T39)","v":0}]
[null,16,{"$f":"SQI!D24","v":0},{"$f":"SQI!C24","v":""},"C",{"$f":"IF(CENÁRIOS!$H$19=TRUE,IF(PM.16=\"\",\"-\",IF(OR(Sf.in.16=\"-\",Sf.in.16=\"\",Sf.in.16=0,FT!$R$23=\"-\"),\"-\",IF(ISERROR(TR/(FT!$R$23*IF.ASub.Ina.Abe.a.c*Sf.in.16)),\"-\",(TR/(FT!$R$23*IF.ASub.Ina.Abe.a.c*Sf.in.16))))),\"-\")","v":"-"},{"$f":"IF(OR(F40=\"-\",F40=\"-\"),0,Cf.AguaSub.16/F40)","v":0},{"$f":"IF(CENÁRIOS!$H$20=TRUE,IF(PM.16=\"\",\"-\",IF(OR(Sf.in.16=\"-\",Sf.in.16=\"\",Sf.in.16=0,FT!$S$23=\"-\"),\"-\",IF(ISERROR(TR/(FT!$S$23*IF.ASub.Ina.Fec.a.c*Sf.in.16)),\"-\",(TR/(FT!$S$23*IF.ASub.Ina.Fec.a.c*Sf.in.16))))),\"-\")","v":"-"},{"$f":"IF(OR(H40=\"-\",H40=\"-\"),0,Cf.AguaSub.16/H40)","v":0},{"$f":"IF(CENÁRIOS!$H$21=TRUE,IF(PM.16=\"\",\"-\",IF(OR(Sf.dm.16=\"-\",Sf.dm.16=\"\",Sf.dm.16=0,PC.16=\"\"),\"-\",(TR/(PC.16*IF.ASub.Con.Der.a.c*Sf.dm.16)))),\"-\")","v":"-"},{"$f":"IF(OR(J40=\"-\",J40=\"-\"),0,Cf.AguaSub.16/J40)","v":0},{"$f":"IF(CENÁRIOS!$H$22=TRUE,IF(PM.16=\"\",\"-\",IF(OR(Sf.ig.16=\"-\",Sf.ig.16=\"\",Sf.ig.16=0),\"-\",(TR/(IF.ASub.Ing.a.c*Sf.ig.16)))),\"-\")","v":"-"},{"$f":"IF(OR(L40=\"-\",L40=\"-\"),0,Cf.AguaSub.16/L40)","v":0},{"$f":"IF(CENÁRIOS!$I$19=TRUE,IF(PM.16=\"\",\"-\",IF(OR(Sf.in.16=\"-\",Sf.in.16=\"\",Sf.in.16=0,FT!$R$23=\"-\"),\"-\",IF(ISERROR(TR/((FT!$R$23*DAF.16)*IF.ASub.Ina.Abe.a.c*Sf.in.16)),\"-\",(TR/((FT!$R$23*DAF.16)*IF.ASub.Ina.Abe.a.c*Sf.in.16))))),\"-\")","v":"-"},{"$f":"IF(OR(N40=\"-\",N40=\"-\"),0,Cf.AguaSub.16/N40)","v":0},{"$f":"IF(CENÁRIOS!$I$20=TRUE,IF(PM.16=\"\",\"-\",IF(OR(Sf.in.16=\"-\",Sf.in.16=\"\",Sf.in.16=0,FT!$S$23=\"-\"),\"-\",IF(ISERROR(TR/((FT!$S$23*DAF.16)*IF.ASub.Ina.Fec.a.c*Sf.in.16)),\"-\",(TR/((FT!$S$23*DAF.16)*IF.ASub.Ina.Fec.a.c*Sf.in.16))))),\"-\")","v":"-"},{"$f":"IF(OR(P40=\"-\",P40=\"-\"),0,Cf.AguaSub.16/P40)","v":0},{"$f":"IF(CENÁRIOS!$I$21=TRUE,IF(PM.16=\"\",\"-\",IF(OR(Sf.dm.16=\"-\",Sf.dm.16=\"\",Sf.dm.16=0,PC.16=\"\",DAF.16=\"-\"),\"-\",(TR/(DAF.16*PC.16*IF.ASub.Con.Der.a.c*Sf.dm.16)))),\"-\")","v":"-"},{"$f":"IF(OR(R40=\"-\",R40=\"-\"),0,Cf.AguaSub.16/R40)","v":0},{"$f":"IF(CENÁRIOS!$I$22=TRUE,IF(PM.16=\"\",\"-\",IF(OR(Sf.ig.16=\"-\",Sf.ig.16=\"\",Sf.ig.16=0,DAF.16=\"-\"),\"-\",(TR/(DAF.16*IF.ASub.Ing.a.c*Sf.ig.16)))),\"-\")","v":"-"},{"$f":"IF(OR(T40=\"-\",T40=\"-\"),0,Cf.AguaSub.16/T40)","v":0}]
[null,null,null,null,"NC",{"$f":"IF(CENÁRIOS!$H$19=TRUE,IF(PM.16=\"\",\"-\",IF(OR(RfD.in.cn.16=\"-\",RfD.in.cn.16=\"\",RfD.in.cn.16=0,FT!$R$23=\"-\"),\"-\",((THI*RfD.in.cn.16)/(FT!$R$23*IF.ASub.Ina.Abe.a.nc)))),\"-\")","v":"-"},{"$f":"IF(OR(F41=\"-\",F41=\"-\"),0,Cf.AguaSub.16/F41)","v":0},{"$f":"IF(CENÁRIOS!$H$20=TRUE,IF(PM.16=\"\",\"-\",IF(OR(RfD.in.cn.16=\"-\",RfD.in.cn.16=\"\",RfD.in.cn.16=0,FT!$S$23=\"-\"),\"-\",((THI*RfD.in.cn.16)/(FT!$S$23*IF.ASub.Ina.Fec.a.nc)))),\"-\")","v":"-"},{"$f":"IF(OR(H41=\"-\",H41=\"-\"),0,Cf.AguaSub.16/H41)","v":0},{"$f":"IF(CENÁRIOS!$H$21=TRUE,IF(PM.16=\"\",\"-\",IF(OR(RfD.dm.cn.16=\"-\",RfD.dm.cn.16=\"\",RfD.dm.cn.16=0,PC.16=\"\"),\"-\",((THI*RfD.dm.cn.16)/(PC.16*IF.ASub.Con.Der.a.nc)))),\"-\")","v":"-"},{"$f":"IF(OR(J41=\"-\",J41=\"-\"),0,Cf.AguaSub.16/J41)","v":0},{"$f":"IF(CENÁRIOS!$H$22=TRUE,IF(PM.16=\"\",\"-\",IF(OR(RfD.ig.cn.16=\"-\",RfD.ig.cn.16=\"\",RfD.ig.cn.16=0),\"-\",((THI*RfD.ig.cn.16)/(IF.ASub.Ing.a.nc)))),\"-\")","v":"-"},{"$f":"IF(OR(L41=\"-\",L41=\"-\"),0,Cf.AguaSub.16/L41)","v":0},{"$f":"IF(CENÁRIOS!$I$19=TRUE,IF(PM.16=\"\",\"-\",IF(OR(RfD.in.cn.16=\"-\",RfD.in.cn.16=\"\",RfD.in.cn.16=0,FT!$R$23=\"-\",DAF.16=\"-\"),\"-\",((THI*RfD.in.cn.16)/((FT!$R$23*DAF.16)*IF.ASub.Ina.Abe.a.nc)))),\"-\")","v":"-"},{"$f":"IF(OR(N41=\"-\",N41=\"-\"),0,Cf.AguaSub.16/N41)","v":0},{"$f":"IF(CENÁRIOS!$I$20=TRUE,IF(PM.16=\"\",\"-\",IF(OR(RfD.in.cn.16=\"-\",RfD.in.cn.16=\"\",RfD.in.cn.16=0,FT!$S$23=\"-\",DAF.16=\"-\"),\"-\",((THI*RfD.in.cn.16)/((FT!$S$23*DAF.16)*IF.ASub.Ina.Fec.a.nc)))),\"-\")","v":"-"},{"$f":"IF(OR(P41=\"-\",P41=\"-\"),0,Cf.AguaSub.16/P41)","v":0},{"$f":"IF(CENÁRIOS!$I$21=TRUE,IF(PM.16=\"\",\"-\",IF(OR(RfD.dm.cn.16=\"-\",RfD.dm.cn.16=\"\",RfD.dm.cn.16=0,PC.16=\"\",DAF.16=\"-\"),\"-\",((THI*RfD.dm.cn.16)/(DAF.16*PC.16*IF.ASub.Con.Der.a.nc)))),\"-\")","v":"-"},{"$f":"IF(OR(R41=\"-\",R41=\"-\"),0,Cf.AguaSub.16/R41)","v":0},{"$f":"IF(CENÁRIOS!$I$22=TRUE,IF(PM.16=\"\",\"-\",IF(OR(RfD.ig.cn.16=\"-\",RfD.ig.cn.16=\"\",RfD.ig.cn.16=0,DAF.16=\"-\"),\"-\",((THI*RfD.ig.cn.16)/(DAF.16*IF.ASub.Ing.a.nc)))),\"-\")","v":"-"},{"$f":"IF(OR(T41=\"-\",T41=\"-\"),0,Cf.AguaSub.16/T41)","v":0}]
[null,17,{"$f":"SQI!D25","v":0},{"$f":"SQI!C25","v":""},"C",{"$f":"IF(CENÁRIOS!$H$19=TRUE,IF(PM.17=\"\",\"-\",IF(OR(Sf.in.17=\"-\",Sf.in.17=\"\",Sf.in.17=0,FT!$R$24=\"-\"),\"-\",IF(ISERROR(TR/(FT!$R$24*IF.ASub.Ina.Abe.a.c*Sf.in.17)),\"-\",(TR/(FT!$R$24*IF.ASub.Ina.Abe.a.c*Sf.in.17))))),\"-\")","v":"-"},{"$f":"IF(OR(F42=\"-\",F42=\"-\"),0,Cf.AguaSub.17/F42)","v":0},{"$f":"IF(CENÁRIOS!$H$20=TRUE,IF(PM.17=\"\",\"-\",IF(OR(Sf.in.17=\"-\",Sf.in.17=\"\",Sf.in.17=0,FT!$S$24=\"-\"),\"-\",IF(ISERROR(TR/(FT!$S$24*IF.ASub.Ina.Fec.a.c*Sf.in.17)),\"-\",(TR/(FT!$S$24*IF.ASub.Ina.Fec.a.c*Sf.in.17))))),\"-\")","v":"-"},{"$f":"IF(OR(H42=\"-\",H42=\"-\"),0,Cf.AguaSub.17/H42)","v":0},{"$f":"IF(CENÁRIOS!$H$21=TRUE,IF(PM.17=\"\",\"-\",IF(OR(Sf.dm.17=\"-\",Sf.dm.17=\"\",Sf.dm.17=0,PC.17=\"\"),\"-\",(TR/(PC.17*IF.ASub.Con.Der.a.c*Sf.dm.17)))),\"-\")","v":"-"},{"$f":"IF(OR(J42=\"-\",J42=\"-\"),0,Cf.AguaSub.17/J42)","v":0},{"$f":"IF(CENÁRIOS!$H$22=TRUE,IF(PM.17=\"\",\"-\",IF(OR(Sf.ig.17=\"-\",Sf.ig.17=\"\",Sf.ig.17=0),\"-\",(TR/(IF.ASub.Ing.a.c*Sf.ig.17)))),\"-\")","v":"-"},{"$f":"IF(OR(L42=\"-\",L42=\"-\"),0,Cf.AguaSub.17/L42)","v":0},{"$f":"IF(CENÁRIOS!$I$19=TRUE,IF(PM.17=\"\",\"-\",IF(OR(Sf.in.17=\"-\",Sf.in.17=\"\",Sf.in.17=0,FT!$R$24=\"-\"),\"-\",IF(ISERROR(TR/((FT!$R$24*DAF.17)*IF.ASub.Ina.Abe.a.c*Sf.in.17)),\"-\",(TR/((FT!$R$24*DAF.17)*IF.ASub.Ina.Abe.a.c*Sf.in.17))))),\"-\")","v":"-"},{"$f":"IF(OR(N42=\"-\",N42=\"-\"),0,Cf.AguaSub.17/N42)","v":0},{"$f":"IF(CENÁRIOS!$I$20=TRUE,IF(PM.17=\"\",\"-\",IF(OR(Sf.in.17=\"-\",Sf.in.17=\"\",Sf.in.17=0,FT!$S$24=\"-\"),\"-\",IF(ISERROR(TR/((FT!$S$24*DAF.17)*IF.ASub.Ina.Fec.a.c*Sf.in.17)),\"-\",(TR/((FT!$S$24*DAF.17)*IF.ASub.Ina.Fec.a.c*Sf.in.17))))),\"-\")","v":"-"},{"$f":"IF(OR(P42=\"-\",P42=\"-\"),0,Cf.AguaSub.17/P42)","v":0},{"$f":"IF(CENÁRIOS!$I$21=TRUE,IF(PM.17=\"\",\"-\",IF(OR(Sf.dm.17=\"-\",Sf.dm.17=\"\",Sf.dm.17=0,PC.17=\"\",DAF.17=\"-\"),\"-\",(TR/(DAF.17*PC.17*IF.ASub.Con.Der.a.c*Sf.dm.17)))),\"-\")","v":"-"},{"$f":"IF(OR(R42=\"-\",R42=\"-\"),0,Cf.AguaSub.17/R42)","v":0},{"$f":"IF(CENÁRIOS!$I$22=TRUE,IF(PM.17=\"\",\"-\",IF(OR(Sf.ig.17=\"-\",Sf.ig.17=\"\",Sf.ig.17=0,DAF.17=\"-\"),\"-\",(TR/(DAF.17*IF.ASub.Ing.a.c*Sf.ig.17)))),\"-\")","v":"-"},{"$f":"IF(OR(T42=\"-\",T42=\"-\"),0,Cf.AguaSub.17/T42)","v":0}]
[null,null,null,null,"NC",{"$f":"IF(CENÁRIOS!$H$19=TRUE,IF(PM.17=\"\",\"-\",IF(OR(RfD.in.cn.17=\"-\",RfD.in.cn.17=\"\",RfD.in.cn.17=0,FT!$R$24=\"-\"),\"-\",((THI*RfD.in.cn.17)/(FT!$R$24*IF.ASub.Ina.Abe.a.nc)))),\"-\")","v":"-"},{"$f":"IF(OR(F43=\"-\",F43=\"-\"),0,Cf.AguaSub.17/F43)","v":0},{"$f":"IF(CENÁRIOS!$H$20=TRUE,IF(PM.17=\"\",\"-\",IF(OR(RfD.in.cn.17=\"-\",RfD.in.cn.17=\"\",RfD.in.cn.17=0,FT!$S$24=\"-\"),\"-\",((THI*RfD.in.cn.17)/(FT!$S$24*IF.ASub.Ina.Fec.a.nc)))),\"-\")","v":"-"},{"$f":"IF(OR(H43=\"-\",H43=\"-\"),0,Cf.AguaSub.17/H43)","v":0},{"$f":"IF(CENÁRIOS!$H$21=TRUE,IF(PM.17=\"\",\"-\",IF(OR(RfD.dm.cn.17=\"-\",RfD.dm.cn.17=\"\",RfD.dm.cn.17=0,PC.17=\"\"),\"-\",((THI*RfD.dm.cn.17)/(PC.17*IF.ASub.Con.Der.a.nc)))),\"-\")","v":"-"},{"$f":"IF(OR(J43=\"-\",J43=\"-\"),0,Cf.AguaSub.17/J43)","v":0},{"$f":"IF(CENÁRIOS!$H$22=TRUE,IF(PM.17=\"\",\"-\",IF(OR(RfD.ig.cn.17=\"-\",RfD.ig.cn.17=\"\",RfD.ig.cn.17=0),\"-\",((THI*RfD.ig.cn.17)/(IF.ASub.Ing.a.nc)))),\"-\")","v":"-"},{"$f":"IF(OR(L43=\"-\",L43=\"-\"),0,Cf.AguaSub.17/L43)","v":0},{"$f":"IF(CENÁRIOS!$I$19=TRUE,IF(PM.17=\"\",\"-\",IF(OR(RfD.in.cn.17=\"-\",RfD.in.cn.17=\"\",RfD.in.cn.17=0,FT!$R$24=\"-\",DAF.17=\"-\"),\"-\",((THI*RfD.in.cn.17)/((FT!$R$24*DAF.17)*IF.ASub.Ina.Abe.a.nc)))),\"-\")","v":"-"},{"$f":"IF(OR(N43=\"-\",N43=\"-\"),0,Cf.AguaSub.17/N43)","v":0},{"$f":"IF(CENÁRIOS!$I$20=TRUE,IF(PM.17=\"\",\"-\",IF(OR(RfD.in.cn.17=\"-\",RfD.in.cn.17=\"\",RfD.in.cn.17=0,FT!$S$24=\"-\",DAF.17=\"-\"),\"-\",((THI*RfD.in.cn.17)/((FT!$S$24*DAF.17)*IF.ASub.Ina.Fec.a.nc)))),\"-\")","v":"-"},{"$f":"IF(OR(P43=\"-\",P43=\"-\"),0,Cf.AguaSub.17/P43)","v":0},{"$f":"IF(CENÁRIOS!$I$21=TRUE,IF(PM.17=\"\",\"-\",IF(OR(RfD.dm.cn.17=\"-\",RfD.dm.cn.17=\"\",RfD.dm.cn.17=0,PC.17=\"\",DAF.17=\"-\"),\"-\",((THI*RfD.dm.cn.17)/(DAF.17*PC.17*IF.ASub.Con.Der.a.nc)))),\"-\")","v":"-"},{"$f":"IF(OR(R43=\"-\",R43=\"-\"),0,Cf.AguaSub.17/R43)","v":0},{"$f":"IF(CENÁRIOS!$I$22=TRUE,IF(PM.17=\"\",\"-\",IF(OR(RfD.ig.cn.17=\"-\",RfD.ig.cn.17=\"\",RfD.ig.cn.17=0,DAF.17=\"-\"),\"-\",((THI*RfD.ig.cn.17)/(DAF.17*IF.ASub.Ing.a.nc)))),\"-\")","v":"-"},{"$f":"IF(OR(T43=\"-\",T43=\"-\"),0,Cf.AguaSub.17/T43)","v":0}]
[null,18,{"$f":"SQI!D26","v":0},{"$f":"SQI!C26","v":""},"C",{"$f":"IF(CENÁRIOS!$H$19=TRUE,IF(PM.18=\"\",\"-\",IF(OR(Sf.in.18=\"-\",Sf.in.18=\"\",Sf.in.18=0,FT!$R$25=\"-\"),\"-\",IF(ISERROR(TR/(FT!$R$25*IF.ASub.Ina.Abe.a.c*Sf.in.18)),\"-\",(TR/(FT!$R$25*IF.ASub.Ina.Abe.a.c*Sf.in.18))))),\"-\")","v":"-"},{"$f":"IF(OR(F44=\"-\",F44=\"-\"),0,Cf.AguaSub.18/F44)","v":0},{"$f":"IF(CENÁRIOS!$H$20=TRUE,IF(PM.18=\"\",\"-\",IF(OR(Sf.in.18=\"-\",Sf.in.18=\"\",Sf.in.18=0,FT!$S$25=\"-\"),\"-\",IF(ISERROR(TR/(FT!$S$25*IF.ASub.Ina.Fec.a.c*Sf.in.18)),\"-\",(TR/(FT!$S$25*IF.ASub.Ina.Fec.a.c*Sf.in.18))))),\"-\")","v":"-"},{"$f":"IF(OR(H44=\"-\",H44=\"-\"),0,Cf.AguaSub.18/H44)","v":0},{"$f":"IF(CENÁRIOS!$H$21=TRUE,IF(PM.18=\"\",\"-\",IF(OR(Sf.dm.18=\"-\",Sf.dm.18=\"\",Sf.dm.18=0,PC.18=\"\"),\"-\",(TR/(PC.18*IF.ASub.Con.Der.a.c*Sf.dm.18)))),\"-\")","v":"-"},{"$f":"IF(OR(J44=\"-\",J44=\"-\"),0,Cf.AguaSub.18/J44)","v":0},{"$f":"IF(CENÁRIOS!$H$22=TRUE,IF(PM.18=\"\",\"-\",IF(OR(Sf.ig.18=\"-\",Sf.ig.18=\"\",Sf.ig.18=0),\"-\",(TR/(IF.ASub.Ing.a.c*Sf.ig.18)))),\"-\")","v":"-"},{"$f":"IF(OR(L44=\"-\",L44=\"-\"),0,Cf.AguaSub.18/L44)","v":0},{"$f":"IF(CENÁRIOS!$I$19=TRUE,IF(PM.18=\"\",\"-\",IF(OR(Sf.in.18=\"-\",Sf.in.18=\"\",Sf.in.18=0,FT!$R$25=\"-\"),\"-\",IF(ISERROR(TR/((FT!$R$25*DAF.18)*IF.ASub.Ina.Abe.a.c*Sf.in.18)),\"-\",(TR/((FT!$R$25*DAF.18)*IF.ASub.Ina.Abe.a.c*Sf.in.18))))),\"-\")","v":"-"},{"$f":"IF(OR(N44=\"-\",N44=\"-\"),0,Cf.AguaSub.18/N44)","v":0},{"$f":"IF(CENÁRIOS!$I$20=TRUE,IF(PM.18=\"\",\"-\",IF(OR(Sf.in.18=\"-\",Sf.in.18=\"\",Sf.in.18=0,FT!$S$25=\"-\"),\"-\",IF(ISERROR(TR/((FT!$S$25*DAF.18)*IF.ASub.Ina.Fec.a.c*Sf.in.18)),\"-\",(TR/((FT!$S$25*DAF.18)*IF.ASub.Ina.Fec.a.c*Sf.in.18))))),\"-\")","v":"-"},{"$f":"IF(OR(P44=\"-\",P44=\"-\"),0,Cf.AguaSub.18/P44)","v":0},{"$f":"IF(CENÁRIOS!$I$21=TRUE,IF(PM.18=\"\",\"-\",IF(OR(Sf.dm.18=\"-\",Sf.dm.18=\"\",Sf.dm.18=0,PC.18=\"\",DAF.18=\"-\"),\"-\",(TR/(DAF.18*PC.18*IF.ASub.Con.Der.a.c*Sf.dm.18)))),\"-\")","v":"-"},{"$f":"IF(OR(R44=\"-\",R44=\"-\"),0,Cf.AguaSub.18/R44)","v":0},{"$f":"IF(CENÁRIOS!$I$22=TRUE,IF(PM.18=\"\",\"-\",IF(OR(Sf.ig.18=\"-\",Sf.ig.18=\"\",Sf.ig.18=0,DAF.18=\"-\"),\"-\",(TR/(DAF.18*IF.ASub.Ing.a.c*Sf.ig.18)))),\"-\")","v":"-"},{"$f":"IF(OR(T44=\"-\",T44=\"-\"),0,Cf.AguaSub.18/T44)","v":0}]
[null,null,null,null,"NC",{"$f":"IF(CENÁRIOS!$H$19=TRUE,IF(PM.18=\"\",\"-\",IF(OR(RfD.in.cn.18=\"-\",RfD.in.cn.18=\"\",RfD.in.cn.18=0,FT!$R$25=\"-\"),\"-\",((THI*RfD.in.cn.18)/(FT!$R$25*IF.ASub.Ina.Abe.a.nc)))),\"-\")","v":"-"},{"$f":"IF(OR(F45=\"-\",F45=\"-\"),0,Cf.AguaSub.18/F45)","v":0},{"$f":"IF(CENÁRIOS!$H$20=TRUE,IF(PM.18=\"\",\"-\",IF(OR(RfD.in.cn.18=\"-\",RfD.in.cn.18=\"\",RfD.in.cn.18=0,FT!$S$25=\"-\"),\"-\",((THI*RfD.in.cn.18)/(FT!$S$25*IF.ASub.Ina.Fec.a.nc)))),\"-\")","v":"-"},{"$f":"IF(OR(H45=\"-\",H45=\"-\"),0,Cf.AguaSub.18/H45)","v":0},{"$f":"IF(CENÁRIOS!$H$21=TRUE,IF(PM.18=\"\",\"-\",IF(OR(RfD.dm.cn.18=\"-\",RfD.dm.cn.18=\"\",RfD.dm.cn.18=0,PC.18=\"\"),\"-\",((THI*RfD.dm.cn.18)/(PC.18*IF.ASub.Con.Der.a.nc)))),\"-\")","v":"-"},{"$f":"IF(OR(J45=\"-\",J45=\"-\"),0,Cf.AguaSub.18/J45)","v":0},{"$f":"IF(CENÁRIOS!$H$22=TRUE,IF(PM.18=\"\",\"-\",IF(OR(RfD.ig.cn.18=\"-\",RfD.ig.cn.18=\"\",RfD.ig.cn.18=0),\"-\",((THI*RfD.ig.cn.18)/(IF.ASub.Ing.a.nc)))),\"-\")","v":"-"},{"$f":"IF(OR(L45=\"-\",L45=\"-\"),0,Cf.AguaSub.18/L45)","v":0},{"$f":"IF(CENÁRIOS!$I$19=TRUE,IF(PM.18=\"\",\"-\",IF(OR(RfD.in.cn.18=\"-\",RfD.in.cn.18=\"\",RfD.in.cn.18=0,FT!$R$25=\"-\",DAF.18=\"-\"),\"-\",((THI*RfD.in.cn.18)/((FT!$R$25*DAF.18)*IF.ASub.Ina.Abe.a.nc)))),\"-\")","v":"-"},{"$f":"IF(OR(N45=\"-\",N45=\"-\"),0,Cf.AguaSub.18/N45)","v":0},{"$f":"IF(CENÁRIOS!$I$20=TRUE,IF(PM.18=\"\",\"-\",IF(OR(RfD.in.cn.18=\"-\",RfD.in.cn.18=\"\",RfD.in.cn.18=0,FT!$S$25=\"-\",DAF.18=\"-\"),\"-\",((THI*RfD.in.cn.18)/((FT!$S$25*DAF.18)*IF.ASub.Ina.Fec.a.nc)))),\"-\")","v":"-"},{"$f":"IF(OR(P45=\"-\",P45=\"-\"),0,Cf.AguaSub.18/P45)","v":0},{"$f":"IF(CENÁRIOS!$I$21=TRUE,IF(PM.18=\"\",\"-\",IF(OR(RfD.dm.cn.18=\"-\",RfD.dm.cn.18=\"\",RfD.dm.cn.18=0,PC.18=\"\",DAF.18=\"-\"),\"-\",((THI*RfD.dm.cn.18)/(DAF.18*PC.18*IF.ASub.Con.Der.a.nc)))),\"-\")","v":"-"},{"$f":"IF(OR(R45=\"-\",R45=\"-\"),0,Cf.AguaSub.18/R45)","v":0},{"$f":"IF(CENÁRIOS!$I$22=TRUE,IF(PM.18=\"\",\"-\",IF(OR(RfD.ig.cn.18=\"-\",RfD.ig.cn.18=\"\",RfD.ig.cn.18=0,DAF.18=\"-\"),\"-\",((THI*RfD.ig.cn.18)/(DAF.18*IF.ASub.Ing.a.nc)))),\"-\")","v":"-"},{"$f":"IF(OR(T45=\"-\",T45=\"-\"),0,Cf.AguaSub.18/T45)","v":0}]
[null,19,{"$f":"SQI!D27","v":0},{"$f":"SQI!C27","v":""},"C",{"$f":"IF(CENÁRIOS!$H$19=TRUE,IF(PM.19=\"\",\"-\",IF(OR(Sf.in.19=\"-\",Sf.in.19=\"\",Sf.in.19=0,FT!$R$26=\"-\"),\"-\",IF(ISERROR(TR/(FT!$R$26*IF.ASub.Ina.Abe.a.c*Sf.in.19)),\"-\",(TR/(FT!$R$26*IF.ASub.Ina.Abe.a.c*Sf.in.19))))),\"-\")","v":"-"},{"$f":"IF(OR(F46=\"-\",F46=\"-\"),0,Cf.AguaSub.19/F46)","v":0},{"$f":"IF(CENÁRIOS!$H$20=TRUE,IF(PM.19=\"\",\"-\",IF(OR(Sf.in.19=\"-\",Sf.in.19=\"\",Sf.in.19=0,FT!$S$26=\"-\"),\"-\",IF(ISERROR(TR/(FT!$S$26*IF.ASub.Ina.Fec.a.c*Sf.in.19)),\"-\",(TR/(FT!$S$26*IF.ASub.Ina.Fec.a.c*Sf.in.19))))),\"-\")","v":"-"},{"$f":"IF(OR(H46=\"-\",H46=\"-\"),0,Cf.AguaSub.19/H46)","v":0},{"$f":"IF(CENÁRIOS!$H$21=TRUE,IF(PM.19=\"\",\"-\",IF(OR(Sf.dm.19=\"-\",Sf.dm.19=\"\",Sf.dm.19=0,PC.19=\"\"),\"-\",(TR/(PC.19*IF.ASub.Con.Der.a.c*Sf.dm.19)))),\"-\")","v":"-"},{"$f":"IF(OR(J46=\"-\",J46=\"-\"),0,Cf.AguaSub.19/J46)","v":0},{"$f":"IF(CENÁRIOS!$H$22=TRUE,IF(PM.19=\"\",\"-\",IF(OR(Sf.ig.19=\"-\",Sf.ig.19=\"\",Sf.ig.19=0),\"-\",(TR/(IF.ASub.Ing.a.c*Sf.ig.19)))),\"-\")","v":"-"},{"$f":"IF(OR(L46=\"-\",L46=\"-\"),0,Cf.AguaSub.19/L46)","v":0},{"$f":"IF(CENÁRIOS!$I$19=TRUE,IF(PM.19=\"\",\"-\",IF(OR(Sf.in.19=\"-\",Sf.in.19=\"\",Sf.in.19=0,FT!$R$26=\"-\"),\"-\",IF(ISERROR(TR/((FT!$R$26*DAF.19)*IF.ASub.Ina.Abe.a.c*Sf.in.19)),\"-\",(TR/((FT!$R$26*DAF.19)*IF.ASub.Ina.Abe.a.c*Sf.in.19))))),\"-\")","v":"-"},{"$f":"IF(OR(N46=\"-\",N46=\"-\"),0,Cf.AguaSub.19/N46)","v":0},{"$f":"IF(CENÁRIOS!$I$20=TRUE,IF(PM.19=\"\",\"-\",IF(OR(Sf.in.19=\"-\",Sf.in.19=\"\",Sf.in.19=0,FT!$S$26=\"-\"),\"-\",IF(ISERROR(TR/((FT!$S$26*DAF.19)*IF.ASub.Ina.Fec.a.c*Sf.in.19)),\"-\",(TR/((FT!$S$26*DAF.19)*IF.ASub.Ina.Fec.a.c*Sf.in.19))))),\"-\")","v":"-"},{"$f":"IF(OR(P46=\"-\",P46=\"-\"),0,Cf.AguaSub.19/P46)","v":0},{"$f":"IF(CENÁRIOS!$I$21=TRUE,IF(PM.19=\"\",\"-\",IF(OR(Sf.dm.19=\"-\",Sf.dm.19=\"\",Sf.dm.19=0,PC.19=\"\",DAF.19=\"-\"),\"-\",(TR/(DAF.19*PC.19*IF.ASub.Con.Der.a.c*Sf.dm.19)))),\"-\")","v":"-"},{"$f":"IF(OR(R46=\"-\",R46=\"-\"),0,Cf.AguaSub.19/R46)","v":0},{"$f":"IF(CENÁRIOS!$I$22=TRUE,IF(PM.19=\"\",\"-\",IF(OR(Sf.ig.19=\"-\",Sf.ig.19=\"\",Sf.ig.19=0,DAF.19=\"-\"),\"-\",(TR/(DAF.19*IF.ASub.Ing.a.c*Sf.ig.19)))),\"-\")","v":"-"},{"$f":"IF(OR(T46=\"-\",T46=\"-\"),0,Cf.AguaSub.19/T46)","v":0}]
[null,null,null,null,"NC",{"$f":"IF(CENÁRIOS!$H$19=TRUE,IF(PM.19=\"\",\"-\",IF(OR(RfD.in.cn.19=\"-\",RfD.in.cn.19=\"\",RfD.in.cn.19=0,FT!$R$26=\"-\"),\"-\",((THI*RfD.in.cn.19)/(FT!$R$26*IF.ASub.Ina.Abe.a.nc)))),\"-\")","v":"-"},{"$f":"IF(OR(F47=\"-\",F47=\"-\"),0,Cf.AguaSub.19/F47)","v":0},{"$f":"IF(CENÁRIOS!$H$20=TRUE,IF(PM.19=\"\",\"-\",IF(OR(RfD.in.cn.19=\"-\",RfD.in.cn.19=\"\",RfD.in.cn.19=0,FT!$S$26=\"-\"),\"-\",((THI*RfD.in.cn.19)/(FT!$S$26*IF.ASub.Ina.Fec.a.nc)))),\"-\")","v":"-"},{"$f":"IF(OR(H47=\"-\",H47=\"-\"),0,Cf.AguaSub.19/H47)","v":0},{"$f":"IF(CENÁRIOS!$H$21=TRUE,IF(PM.19=\"\",\"-\",IF(OR(RfD.dm.cn.19=\"-\",RfD.dm.cn.19=\"\",RfD.dm.cn.19=0,PC.19=\"\"),\"-\",((THI*RfD.dm.cn.19)/(PC.19*IF.ASub.Con.Der.a.nc)))),\"-\")","v":"-"},{"$f":"IF(OR(J47=\"-\",J47=\"-\"),0,Cf.AguaSub.19/J47)","v":0},{"$f":"IF(CENÁRIOS!$H$22=TRUE,IF(PM.19=\"\",\"-\",IF(OR(RfD.ig.cn.19=\"-\",RfD.ig.cn.19=\"\",RfD.ig.cn.19=0),\"-\",((THI*RfD.ig.cn.19)/(IF.ASub.Ing.a.nc)))),\"-\")","v":"-"},{"$f":"IF(OR(L47=\"-\",L47=\"-\"),0,Cf.AguaSub.19/L47)","v":0},{"$f":"IF(CENÁRIOS!$I$19=TRUE,IF(PM.19=\"\",\"-\",IF(OR(RfD.in.cn.19=\"-\",RfD.in.cn.19=\"\",RfD.in.cn.19=0,FT!$R$26=\"-\",DAF.19=\"-\"),\"-\",((THI*RfD.in.cn.19)/((FT!$R$26*DAF.19)*IF.ASub.Ina.Abe.a.nc)))),\"-\")","v":"-"},{"$f":"IF(OR(N47=\"-\",N47=\"-\"),0,Cf.AguaSub.19/N47)","v":0},{"$f":"IF(CENÁRIOS!$I$20=TRUE,IF(PM.19=\"\",\"-\",IF(OR(RfD.in.cn.19=\"-\",RfD.in.cn.19=\"\",RfD.in.cn.19=0,FT!$S$26=\"-\",DAF.19=\"-\"),\"-\",((THI*RfD.in.cn.19)/((FT!$S$26*DAF.19)*IF.ASub.Ina.Fec.a.nc)))),\"-\")","v":"-"},{"$f":"IF(OR(P47=\"-\",P47=\"-\"),0,Cf.AguaSub.19/P47)","v":0},{"$f":"IF(CENÁRIOS!$I$21=TRUE,IF(PM.19=\"\",\"-\",IF(OR(RfD.dm.cn.19=\"-\",RfD.dm.cn.19=\"\",RfD.dm.cn.19=0,PC.19=\"\",DAF.19=\"-\"),\"-\",((THI*RfD.dm.cn.19)/(DAF.19*PC.19*IF.ASub.Con.Der.a.nc)))),\"-\")","v":"-"},{"$f":"IF(OR(R47=\"-\",R47=\"-\"),0,Cf.AguaSub.19/R47)","v":0},{"$f":"IF(CENÁRIOS!$I$22=TRUE,IF(PM.19=\"\",\"-\",IF(OR(RfD.ig.cn.19=\"-\",RfD.ig.cn.19=\"\",RfD.ig.cn.19=0,DAF.19=\"-\"),\"-\",((THI*RfD.ig.cn.19)/(DAF.19*IF.ASub.Ing.a.nc)))),\"-\")","v":"-"},{"$f":"IF(OR(T47=\"-\",T47=\"-\"),0,Cf.AguaSub.19/T47)","v":0}]
[null,20,{"$f":"SQI!D28","v":0},{"$f":"SQI!C28","v":""},"C",{"$f":"IF(CENÁRIOS!$H$19=TRUE,IF(PM.20=\"\",\"-\",IF(OR(Sf.in.20=\"-\",Sf.in.20=\"\",Sf.in.20=0,FT!$R$27=\"-\"),\"-\",IF(ISERROR(TR/(FT!$R$27*IF.ASub.Ina.Abe.a.c*Sf.in.20)),\"-\",(TR/(FT!$R$27*IF.ASub.Ina.Abe.a.c*Sf.in.20))))),\"-\")","v":"-"},{"$f":"IF(OR(F48=\"-\",F48=\"-\"),0,Cf.AguaSub.20/F48)","v":0},{"$f":"IF(CENÁRIOS!$H$20=TRUE,IF(PM.20=\"\",\"-\",IF(OR(Sf.in.20=\"-\",Sf.in.20=\"\",Sf.in.20=0,FT!$S$27=\"-\"),\"-\",IF(ISERROR(TR/(FT!$S$27*IF.ASub.Ina.Fec.a.c*Sf.in.20)),\"-\",(TR/(FT!$S$27*IF.ASub.Ina.Fec.a.c*Sf.in.20))))),\"-\")","v":"-"},{"$f":"IF(OR(H48=\"-\",H48=\"-\"),0,Cf.AguaSub.20/H48)","v":0},{"$f":"IF(CENÁRIOS!$H$21=TRUE,IF(PM.20=\"\",\"-\",IF(OR(Sf.dm.20=\"-\",Sf.dm.20=\"\",Sf.dm.20=0,PC.20=\"\"),\"-\",(TR/(PC.20*IF.ASub.Con.Der.a.c*Sf.dm.20)))),\"-\")","v":"-"},{"$f":"IF(OR(J48=\"-\",J48=\"-\"),0,Cf.AguaSub.20/J48)","v":0},{"$f":"IF(CENÁRIOS!$H$22=TRUE,IF(PM.20=\"\",\"-\",IF(OR(Sf.ig.20=\"-\",Sf.ig.20=\"\",Sf.ig.20=0),\"-\",(TR/(IF.ASub.Ing.a.c*Sf.ig.20)))),\"-\")","v":"-"},{"$f":"IF(OR(L48=\"-\",L48=\"-\"),0,Cf.AguaSub.20/L48)","v":0},{"$f":"IF(CENÁRIOS!$I$19=TRUE,IF(PM.20=\"\",\"-\",IF(OR(Sf.in.20=\"-\",Sf.in.20=\"\",Sf.in.20=0,FT!$R$27=\"-\"),\"-\",IF(ISERROR(TR/((FT!$R$27*DAF.20)*IF.ASub.Ina.Abe.a.c*Sf.in.20)),\"-\",(TR/((FT!$R$27*DAF.20)*IF.ASub.Ina.Abe.a.c*Sf.in.20))))),\"-\")","v":"-"},{"$f":"IF(OR(N48=\"-\",N48=\"-\"),0,Cf.AguaSub.20/N48)","v":0},{"$f":"IF(CENÁRIOS!$I$20=TRUE,IF(PM.20=\"\",\"-\",IF(OR(Sf.in.20=\"-\",Sf.in.20=\"\",Sf.in.20=0,FT!$S$27=\"-\"),\"-\",IF(ISERROR(TR/((FT!$S$27*DAF.20)*IF.ASub.Ina.Fec.a.c*Sf.in.20)),\"-\",(TR/((FT!$S$27*DAF.20)*IF.ASub.Ina.Fec.a.c*Sf.in.20))))),\"-\")","v":"-"},{"$f":"IF(OR(P48=\"-\",P48=\"-\"),0,Cf.AguaSub.20/P48)","v":0},{"$f":"IF(CENÁRIOS!$I$21=TRUE,IF(PM.20=\"\",\"-\",IF(OR(Sf.dm.20=\"-\",Sf.dm.20=\"\",Sf.dm.20=0,PC.20=\"\",DAF.20=\"-\"),\"-\",(TR/(DAF.20*PC.20*IF.ASub.Con.Der.a.c*Sf.dm.20)))),\"-\")","v":"-"},{"$f":"IF(OR(R48=\"-\",R48=\"-\"),0,Cf.AguaSub.20/R48)","v":0},{"$f":"IF(CENÁRIOS!$I$22=TRUE,IF(PM.20=\"\",\"-\",IF(OR(Sf.ig.20=\"-\",Sf.ig.20=\"\",Sf.ig.20=0,DAF.20=\"-\"),\"-\",(TR/(DAF.20*IF.ASub.Ing.a.c*Sf.ig.20)))),\"-\")","v":"-"},{"$f":"IF(OR(T48=\"-\",T48=\"-\"),0,Cf.AguaSub.20/T48)","v":0}]
[null,null,null,null,"NC",{"$f":"IF(CENÁRIOS!$H$19=TRUE,IF(PM.20=\"\",\"-\",IF(OR(RfD.in.cn.20=\"-\",RfD.in.cn.20=\"\",RfD.in.cn.20=0,FT!$R$27=\"-\"),\"-\",((THI*RfD.in.cn.20)/(FT!$R$27*IF.ASub.Ina.Abe.a.nc)))),\"-\")","v":"-"},{"$f":"IF(OR(F49=\"-\",F49=\"-\"),0,Cf.AguaSub.20/F49)","v":0},{"$f":"IF(CENÁRIOS!$H$20=TRUE,IF(PM.20=\"\",\"-\",IF(OR(RfD.in.cn.20=\"-\",RfD.in.cn.20=\"\",RfD.in.cn.20=0,FT!$S$27=\"-\"),\"-\",((THI*RfD.in.cn.20)/(FT!$S$27*IF.ASub.Ina.Fec.a.nc)))),\"-\")","v":"-"},{"$f":"IF(OR(H49=\"-\",H49=\"-\"),0,Cf.AguaSub.20/H49)","v":0},{"$f":"IF(CENÁRIOS!$H$21=TRUE,IF(PM.20=\"\",\"-\",IF(OR(RfD.dm.cn.20=\"-\",RfD.dm.cn.20=\"\",RfD.dm.cn.20=0,PC.20=\"\"),\"-\",((THI*RfD.dm.cn.20)/(PC.20*IF.ASub.Con.Der.a.nc)))),\"-\")","v":"-"},{"$f":"IF(OR(J49=\"-\",J49=\"-\"),0,Cf.AguaSub.20/J49)","v":0},{"$f":"IF(CENÁRIOS!$H$22=TRUE,IF(PM.20=\"\",\"-\",IF(OR(RfD.ig.cn.20=\"-\",RfD.ig.cn.20=\"\",RfD.ig.cn.20=0),\"-\",((THI*RfD.ig.cn.20)/(IF.ASub.Ing.a.nc)))),\"-\")","v":"-"},{"$f":"IF(OR(L49=\"-\",L49=\"-\"),0,Cf.AguaSub.20/L49)","v":0},{"$f":"IF(CENÁRIOS!$I$19=TRUE,IF(PM.20=\"\",\"-\",IF(OR(RfD.in.cn.20=\"-\",RfD.in.cn.20=\"\",RfD.in.cn.20=0,FT!$R$27=\"-\",DAF.20=\"-\"),\"-\",((THI*RfD.in.cn.20)/((FT!$R$27*DAF.20)*IF.ASub.Ina.Abe.a.nc)))),\"-\")","v":"-"},{"$f":"IF(OR(N49=\"-\",N49=\"-\"),0,Cf.AguaSub.20/N49)","v":0},{"$f":"IF(CENÁRIOS!$I$20=TRUE,IF(PM.20=\"\",\"-\",IF(OR(RfD.in.cn.20=\"-\",RfD.in.cn.20=\"\",RfD.in.cn.20=0,FT!$S$27=\"-\",DAF.20=\"-\"),\"-\",((THI*RfD.in.cn.20)/((FT!$S$27*DAF.20)*IF.ASub.Ina.Fec.a.nc)))),\"-\")","v":"-"},{"$f":"IF(OR(P49=\"-\",P49=\"-\"),0,Cf.AguaSub.20/P49)","v":0},{"$f":"IF(CENÁRIOS!$I$21=TRUE,IF(PM.20=\"\",\"-\",IF(OR(RfD.dm.cn.20=\"-\",RfD.dm.cn.20=\"\",RfD.dm.cn.20=0,PC.20=\"\",DAF.20=\"-\"),\"-\",((THI*RfD.dm.cn.20)/(DAF.20*PC.20*IF.ASub.Con.Der.a.nc)))),\"-\")","v":"-"},{"$f":"IF(OR(R49=\"-\",R49=\"-\"),0,Cf.AguaSub.20/R49)","v":0},{"$f":"IF(CENÁRIOS!$I$22=TRUE,IF(PM.20=\"\",\"-\",IF(OR(RfD.ig.cn.20=\"-\",RfD.ig.cn.20=\"\",RfD.ig.cn.20=0,DAF.20=\"-\"),\"-\",((THI*RfD.ig.cn.20)/(DAF.20*IF.ASub.Ing.a.nc)))),\"-\")","v":"-"},{"$f":"IF(OR(T49=\"-\",T49=\"-\"),0,Cf.AguaSub.20/T49)","v":0}]
[null,21,{"$f":"SQI!D29","v":0},{"$f":"SQI!C29","v":""},"C",{"$f":"IF(CENÁRIOS!$H$19=TRUE,IF(PM.21=\"\",\"-\",IF(OR(Sf.in.21=\"-\",Sf.in.21=\"\",Sf.in.21=0,FT!$R$28=\"-\"),\"-\",IF(ISERROR(TR/(FT!$R$28*IF.ASub.Ina.Abe.a.c*Sf.in.21)),\"-\",(TR/(FT!$R$28*IF.ASub.Ina.Abe.a.c*Sf.in.21))))),\"-\")","v":"-"},{"$f":"IF(OR(F50=\"-\",F50=\"-\"),0,Cf.AguaSub.21/F50)","v":0},{"$f":"IF(CENÁRIOS!$H$20=TRUE,IF(PM.21=\"\",\"-\",IF(OR(Sf.in.21=\"-\",Sf.in.21=\"\",Sf.in.21=0,FT!$S$28=\"-\"),\"-\",IF(ISERROR(TR/(FT!$S$28*IF.ASub.Ina.Fec.a.c*Sf.in.21)),\"-\",(TR/(FT!$S$28*IF.ASub.Ina.Fec.a.c*Sf.in.21))))),\"-\")","v":"-"},{"$f":"IF(OR(H50=\"-\",H50=\"-\"),0,Cf.AguaSub.21/H50)","v":0},{"$f":"IF(CENÁRIOS!$H$21=TRUE,IF(PM.21=\"\",\"-\",IF(OR(Sf.dm.21=\"-\",Sf.dm.21=\"\",Sf.dm.21=0,PC.21=\"\"),\"-\",(TR/(PC.21*IF.ASub.Con.Der.a.c*Sf.dm.21)))),\"-\")","v":"-"},{"$f":"IF(OR(J50=\"-\",J50=\"-\"),0,Cf.AguaSub.21/J50)","v":0},{"$f":"IF(CENÁRIOS!$H$22=TRUE,IF(PM.21=\"\",\"-\",IF(OR(Sf.ig.21=\"-\",Sf.ig.21=\"\",Sf.ig.21=0),\"-\",(TR/(IF.ASub.Ing.a.c*Sf.ig.21)))),\"-\")","v":"-"},{"$f":"IF(OR(L50=\"-\",L50=\"-\"),0,Cf.AguaSub.21/L50)","v":0},{"$f":"IF(CENÁRIOS!$I$19=TRUE,IF(PM.21=\"\",\"-\",IF(OR(Sf.in.21=\"-\",Sf.in.21=\"\",Sf.in.21=0,FT!$R$28=\"-\"),\"-\",IF(ISERROR(TR/((FT!$R$28*DAF.21)*IF.ASub.Ina.Abe.a.c*Sf.in.21)),\"-\",(TR/((FT!$R$28*DAF.21)*IF.ASub.Ina.Abe.a.c*Sf.in.21))))),\"-\")","v":"-"},{"$f":"IF(OR(N50=\"-\",N50=\"-\"),0,Cf.AguaSub.21/N50)","v":0},{"$f":"IF(CENÁRIOS!$I$20=TRUE,IF(PM.21=\"\",\"-\",IF(OR(Sf.in.21=\"-\",Sf.in.21=\"\",Sf.in.21=0,FT!$S$28=\"-\"),\"-\",IF(ISERROR(TR/((FT!$S$28*DAF.21)*IF.ASub.Ina.Fec.a.c*Sf.in.21)),\"-\",(TR/((FT!$S$28*DAF.21)*IF.ASub.Ina.Fec.a.c*Sf.in.21))))),\"-\")","v":"-"},{"$f":"IF(OR(P50=\"-\",P50=\"-\"),0,Cf.AguaSub.21/P50)","v":0},{"$f":"IF(CENÁRIOS!$I$21=TRUE,IF(PM.21=\"\",\"-\",IF(OR(Sf.dm.21=\"-\",Sf.dm.21=\"\",Sf.dm.21=0,PC.21=\"\",DAF.21=\"-\"),\"-\",(TR/(DAF.21*PC.21*IF.ASub.Con.Der.a.c*Sf.dm.21)))),\"-\")","v":"-"},{"$f":"IF(OR(R50=\"-\",R50=\"-\"),0,Cf.AguaSub.21/R50)","v":0},{"$f":"IF(CENÁRIOS!$I$22=TRUE,IF(PM.21=\"\",\"-\",IF(OR(Sf.ig.21=\"-\",Sf.ig.21=\"\",Sf.ig.21=0,DAF.21=\"-\"),\"-\",(TR/(DAF.21*IF.ASub.Ing.a.c*Sf.ig.21)))),\"-\")","v":"-"},{"$f":"IF(OR(T50=\"-\",T50=\"-\"),0,Cf.AguaSub.21/T50)","v":0}]
[null,null,null,null,"NC",{"$f":"IF(CENÁRIOS!$H$19=TRUE,IF(PM.21=\"\",\"-\",IF(OR(RfD.in.cn.21=\"-\",RfD.in.cn.21=\"\",RfD.in.cn.21=0,FT!$R$28=\"-\"),\"-\",((THI*RfD.in.cn.21)/(FT!$R$28*IF.ASub.Ina.Abe.a.nc)))),\"-\")","v":"-"},{"$f":"IF(OR(F51=\"-\",F51=\"-\"),0,Cf.AguaSub.21/F51)","v":0},{"$f":"IF(CENÁRIOS!$H$20=TRUE,IF(PM.21=\"\",\"-\",IF(OR(RfD.in.cn.21=\"-\",RfD.in.cn.21=\"\",RfD.in.cn.21=0,FT!$S$28=\"-\"),\"-\",((THI*RfD.in.cn.21)/(FT!$S$28*IF.ASub.Ina.Fec.a.nc)))),\"-\")","v":"-"},{"$f":"IF(OR(H51=\"-\",H51=\"-\"),0,Cf.AguaSub.21/H51)","v":0},{"$f":"IF(CENÁRIOS!$H$21=TRUE,IF(PM.21=\"\",\"-\",IF(OR(RfD.dm.cn.21=\"-\",RfD.dm.cn.21=\"\",RfD.dm.cn.21=0,PC.21=\"\"),\"-\",((THI*RfD.dm.cn.21)/(PC.21*IF.ASub.Con.Der.a.nc)))),\"-\")","v":"-"},{"$f":"IF(OR(J51=\"-\",J51=\"-\"),0,Cf.AguaSub.21/J51)","v":0},{"$f":"IF(CENÁRIOS!$H$22=TRUE,IF(PM.21=\"\",\"-\",IF(OR(RfD.ig.cn.21=\"-\",RfD.ig.cn.21=\"\",RfD.ig.cn.21=0),\"-\",((THI*RfD.ig.cn.21)/(IF.ASub.Ing.a.nc)))),\"-\")","v":"-"},{"$f":"IF(OR(L51=\"-\",L51=\"-\"),0,Cf.AguaSub.21/L51)","v":0},{"$f":"IF(CENÁRIOS!$I$19=TRUE,IF(PM.21=\"\",\"-\",IF(OR(RfD.in.cn.21=\"-\",RfD.in.cn.21=\"\",RfD.in.cn.21=0,FT!$R$28=\"-\",DAF.21=\"-\"),\"-\",((THI*RfD.in.cn.21)/((FT!$R$28*DAF.21)*IF.ASub.Ina.Abe.a.nc)))),\"-\")","v":"-"},{"$f":"IF(OR(N51=\"-\",N51=\"-\"),0,Cf.AguaSub.21/N51)","v":0},{"$f":"IF(CENÁRIOS!$I$20=TRUE,IF(PM.21=\"\",\"-\",IF(OR(RfD.in.cn.21=\"-\",RfD.in.cn.21=\"\",RfD.in.cn.21=0,FT!$S$28=\"-\",DAF.21=\"-\"),\"-\",((THI*RfD.in.cn.21)/((FT!$S$28*DAF.21)*IF.ASub.Ina.Fec.a.nc)))),\"-\")","v":"-"},{"$f":"IF(OR(P51=\"-\",P51=\"-\"),0,Cf.AguaSub.21/P51)","v":0},{"$f":"IF(CENÁRIOS!$I$21=TRUE,IF(PM.21=\"\",\"-\",IF(OR(RfD.dm.cn.21=\"-\",RfD.dm.cn.21=\"\",RfD.dm.cn.21=0,PC.21=\"\",DAF.21=\"-\"),\"-\",((THI*RfD.dm.cn.21)/(DAF.21*PC.21*IF.ASub.Con.Der.a.nc)))),\"-\")","v":"-"},{"$f":"IF(OR(R51=\"-\",R51=\"-\"),0,Cf.AguaSub.21/R51)","v":0},{"$f":"IF(CENÁRIOS!$I$22=TRUE,IF(PM.21=\"\",\"-\",IF(OR(RfD.ig.cn.21=\"-\",RfD.ig.cn.21=\"\",RfD.ig.cn.21=0,DAF.21=\"-\"),\"-\",((THI*RfD.ig.cn.21)/(DAF.21*IF.ASub.Ing.a.nc)))),\"-\")","v":"-"},{"$f":"IF(OR(T51=\"-\",T51=\"-\"),0,Cf.AguaSub.21/T51)","v":0}]
[null,22,{"$f":"SQI!D30","v":0},{"$f":"SQI!C30","v":""},"C",{"$f":"IF(CENÁRIOS!$H$19=TRUE,IF(PM.22=\"\",\"-\",IF(OR(Sf.in.22=\"-\",Sf.in.22=\"\",Sf.in.22=0,FT!$R$29=\"-\"),\"-\",IF(ISERROR(TR/(FT!$R$29*IF.ASub.Ina.Abe.a.c*Sf.in.22)),\"-\",(TR/(FT!$R$29*IF.ASub.Ina.Abe.a.c*Sf.in.22))))),\"-\")","v":"-"},{"$f":"IF(OR(F52=\"-\",F52=\"-\"),0,Cf.AguaSub.22/F52)","v":0},{"$f":"IF(CENÁRIOS!$H$20=TRUE,IF(PM.22=\"\",\"-\",IF(OR(Sf.in.22=\"-\",Sf.in.22=\"\",Sf.in.22=0,FT!$S$29=\"-\"),\"-\",IF(ISERROR(TR/(FT!$S$29*IF.ASub.Ina.Fec.a.c*Sf.in.22)),\"-\",(TR/(FT!$S$29*IF.ASub.Ina.Fec.a.c*Sf.in.22))))),\"-\")","v":"-"},{"$f":"IF(OR(H52=\"-\",H52=\"-\"),0,Cf.AguaSub.22/H52)","v":0},{"$f":"IF(CENÁRIOS!$H$21=TRUE,IF(PM.22=\"\",\"-\",IF(OR(Sf.dm.22=\"-\",Sf.dm.22=\"\",Sf.dm.22=0,PC.22=\"\"),\"-\",(TR/(PC.22*IF.ASub.Con.Der.a.c*Sf.dm.22)))),\"-\")","v":"-"},{"$f":"IF(OR(J52=\"-\",J52=\"-\"),0,Cf.AguaSub.22/J52)","v":0},{"$f":"IF(CENÁRIOS!$H$22=TRUE,IF(PM.22=\"\",\"-\",IF(OR(Sf.ig.22=\"-\",Sf.ig.22=\"\",Sf.ig.22=0),\"-\",(TR/(IF.ASub.Ing.a.c*Sf.ig.22)))),\"-\")","v":"-"},{"$f":"IF(OR(L52=\"-\",L52=\"-\"),0,Cf.AguaSub.22/L52)","v":0},{"$f":"IF(CENÁRIOS!$I$19=TRUE,IF(PM.22=\"\",\"-\",IF(OR(Sf.in.22=\"-\",Sf.in.22=\"\",Sf.in.22=0,FT!$R$29=\"-\"),\"-\",IF(ISERROR(TR/((FT!$R$29*DAF.22)*IF.ASub.Ina.Abe.a.c*Sf.in.22)),\"-\",(TR/((FT!$R$29*DAF.22)*IF.ASub.Ina.Abe.a.c*Sf.in.22))))),\"-\")","v":"-"},{"$f":"IF(OR(N52=\"-\",N52=\"-\"),0,Cf.AguaSub.22/N52)","v":0},{"$f":"IF(CENÁRIOS!$I$20=TRUE,IF(PM.22=\"\",\"-\",IF(OR(Sf.in.22=\"-\",Sf.in.22=\"\",Sf.in.22=0,FT!$S$29=\"-\"),\"-\",IF(ISERROR(TR/((FT!$S$29*DAF.22)*IF.ASub.Ina.Fec.a.c*Sf.in.22)),\"-\",(TR/((FT!$S$29*DAF.22)*IF.ASub.Ina.Fec.a.c*Sf.in.22))))),\"-\")","v":"-"},{"$f":"IF(OR(P52=\"-\",P52=\"-\"),0,Cf.AguaSub.22/P52)","v":0},{"$f":"IF(CENÁRIOS!$I$21=TRUE,IF(PM.22=\"\",\"-\",IF(OR(Sf.dm.22=\"-\",Sf.dm.22=\"\",Sf.dm.22=0,PC.22=\"\",DAF.22=\"-\"),\"-\",(TR/(DAF.22*PC.22*IF.ASub.Con.Der.a.c*Sf.dm.22)))),\"-\")","v":"-"},{"$f":"IF(OR(R52=\"-\",R52=\"-\"),0,Cf.AguaSub.22/R52)","v":0},{"$f":"IF(CENÁRIOS!$I$22=TRUE,IF(PM.22=\"\",\"-\",IF(OR(Sf.ig.22=\"-\",Sf.ig.22=\"\",Sf.ig.22=0,DAF.22=\"-\"),\"-\",(TR/(DAF.22*IF.ASub.Ing.a.c*Sf.ig.22)))),\"-\")","v":"-"},{"$f":"IF(OR(T52=\"-\",T52=\"-\"),0,Cf.AguaSub.22/T52)","v":0}]
[null,null,null,null,"NC",{"$f":"IF(CENÁRIOS!$H$19=TRUE,IF(PM.22=\"\",\"-\",IF(OR(RfD.in.cn.22=\"-\",RfD.in.cn.22=\"\",RfD.in.cn.22=0,FT!$R$29=\"-\"),\"-\",((THI*RfD.in.cn.22)/(FT!$R$29*IF.ASub.Ina.Abe.a.nc)))),\"-\")","v":"-"},{"$f":"IF(OR(F53=\"-\",F53=\"-\"),0,Cf.AguaSub.22/F53)","v":0},{"$f":"IF(CENÁRIOS!$H$20=TRUE,IF(PM.22=\"\",\"-\",IF(OR(RfD.in.cn.22=\"-\",RfD.in.cn.22=\"\",RfD.in.cn.22=0,FT!$S$29=\"-\"),\"-\",((THI*RfD.in.cn.22)/(FT!$S$29*IF.ASub.Ina.Fec.a.nc)))),\"-\")","v":"-"},{"$f":"IF(OR(H53=\"-\",H53=\"-\"),0,Cf.AguaSub.22/H53)","v":0},{"$f":"IF(CENÁRIOS!$H$21=TRUE,IF(PM.22=\"\",\"-\",IF(OR(RfD.dm.cn.22=\"-\",RfD.dm.cn.22=\"\",RfD.dm.cn.22=0,PC.22=\"\"),\"-\",((THI*RfD.dm.cn.22)/(PC.22*IF.ASub.Con.Der.a.nc)))),\"-\")","v":"-"},{"$f":"IF(OR(J53=\"-\",J53=\"-\"),0,Cf.AguaSub.22/J53)","v":0},{"$f":"IF(CENÁRIOS!$H$22=TRUE,IF(PM.22=\"\",\"-\",IF(OR(RfD.ig.cn.22=\"-\",RfD.ig.cn.22=\"\",RfD.ig.cn.22=0),\"-\",((THI*RfD.ig.cn.22)/(IF.ASub.Ing.a.nc)))),\"-\")","v":"-"},{"$f":"IF(OR(L53=\"-\",L53=\"-\"),0,Cf.AguaSub.22/L53)","v":0},{"$f":"IF(CENÁRIOS!$I$19=TRUE,IF(PM.22=\"\",\"-\",IF(OR(RfD.in.cn.22=\"-\",RfD.in.cn.22=\"\",RfD.in.cn.22=0,FT!$R$29=\"-\",DAF.22=\"-\"),\"-\",((THI*RfD.in.cn.22)/((FT!$R$29*DAF.22)*IF.ASub.Ina.Abe.a.nc)))),\"-\")","v":"-"},{"$f":"IF(OR(N53=\"-\",N53=\"-\"),0,Cf.AguaSub.22/N53)","v":0},{"$f":"IF(CENÁRIOS!$I$20=TRUE,IF(PM.22=\"\",\"-\",IF(OR(RfD.in.cn.22=\"-\",RfD.in.cn.22=\"\",RfD.in.cn.22=0,FT!$S$29=\"-\",DAF.22=\"-\"),\"-\",((THI*RfD.in.cn.22)/((FT!$S$29*DAF.22)*IF.ASub.Ina.Fec.a.nc)))),\"-\")","v":"-"},{"$f":"IF(OR(P53=\"-\",P53=\"-\"),0,Cf.AguaSub.22/P53)","v":0},{"$f":"IF(CENÁRIOS!$I$21=TRUE,IF(PM.22=\"\",\"-\",IF(OR(RfD.dm.cn.22=\"-\",RfD.dm.cn.22=\"\",RfD.dm.cn.22=0,PC.22=\"\",DAF.22=\"-\"),\"-\",((THI*RfD.dm.cn.22)/(DAF.22*PC.22*IF.ASub.Con.Der.a.nc)))),\"-\")","v":"-"},{"$f":"IF(OR(R53=\"-\",R53=\"-\"),0,Cf.AguaSub.22/R53)","v":0},{"$f":"IF(CENÁRIOS!$I$22=TRUE,IF(PM.22=\"\",\"-\",IF(OR(RfD.ig.cn.22=\"-\",RfD.ig.cn.22=\"\",RfD.ig.cn.22=0,DAF.22=\"-\"),\"-\",((THI*RfD.ig.cn.22)/(DAF.22*IF.ASub.Ing.a.nc)))),\"-\")","v":"-"},{"$f":"IF(OR(T53=\"-\",T53=\"-\"),0,Cf.AguaSub.22/T53)","v":0}]
[null,23,{"$f":"SQI!D31","v":0},{"$f":"SQI!C31","v":""},"C",{"$f":"IF(CENÁRIOS!$H$19=TRUE,IF(PM.23=\"\",\"-\",IF(OR(Sf.in.23=\"-\",Sf.in.23=\"\",Sf.in.23=0,FT!$R$30=\"-\"),\"-\",IF(ISERROR(TR/(FT!$R$30*IF.ASub.Ina.Abe.a.c*Sf.in.23)),\"-\",(TR/(FT!$R$30*IF.ASub.Ina.Abe.a.c*Sf.in.23))))),\"-\")","v":"-"},{"$f":"IF(OR(F54=\"-\",F54=\"-\"),0,Cf.AguaSub.23/F54)","v":0},{"$f":"IF(CENÁRIOS!$H$20=TRUE,IF(PM.23=\"\",\"-\",IF(OR(Sf.in.23=\"-\",Sf.in.23=\"\",Sf.in.23=0,FT!$S$30=\"-\"),\"-\",IF(ISERROR(TR/(FT!$S$30*IF.ASub.Ina.Fec.a.c*Sf.in.23)),\"-\",(TR/(FT!$S$30*IF.ASub.Ina.Fec.a.c*Sf.in.23))))),\"-\")","v":"-"},{"$f":"IF(OR(H54=\"-\",H54=\"-\"),0,Cf.AguaSub.23/H54)","v":0},{"$f":"IF(CENÁRIOS!$H$21=TRUE,IF(PM.23=\"\",\"-\",IF(OR(Sf.dm.23=\"-\",Sf.dm.23=\"\",Sf.dm.23=0,PC.23=\"\"),\"-\",(TR/(PC.23*IF.ASub.Con.Der.a.c*Sf.dm.23)))),\"-\")","v":"-"},{"$f":"IF(OR(J54=\"-\",J54=\"-\"),0,Cf.AguaSub.23/J54)","v":0},{"$f":"IF(CENÁRIOS!$H$22=TRUE,IF(PM.23=\"\",\"-\",IF(OR(Sf.ig.23=\"-\",Sf.ig.23=\"\",Sf.ig.23=0),\"-\",(TR/(IF.ASub.Ing.a.c*Sf.ig.23)))),\"-\")","v":"-"},{"$f":"IF(OR(L54=\"-\",L54=\"-\"),0,Cf.AguaSub.23/L54)","v":0},{"$f":"IF(CENÁRIOS!$I$19=TRUE,IF(PM.23=\"\",\"-\",IF(OR(Sf.in.23=\"-\",Sf.in.23=\"\",Sf.in.23=0,FT!$R$30=\"-\"),\"-\",IF(ISERROR(TR/((FT!$R$30*DAF.23)*IF.ASub.Ina.Abe.a.c*Sf.in.23)),\"-\",(TR/((FT!$R$30*DAF.23)*IF.ASub.Ina.Abe.a.c*Sf.in.23))))),\"-\")","v":"-"},{"$f":"IF(OR(N54=\"-\",N54=\"-\"),0,Cf.AguaSub.23/N54)","v":0},{"$f":"IF(CENÁRIOS!$I$20=TRUE,IF(PM.23=\"\",\"-\",IF(OR(Sf.in.23=\"-\",Sf.in.23=\"\",Sf.in.23=0,FT!$S$30=\"-\"),\"-\",IF(ISERROR(TR/((FT!$S$30*DAF.23)*IF.ASub.Ina.Fec.a.c*Sf.in.23)),\"-\",(TR/((FT!$S$30*DAF.23)*IF.ASub.Ina.Fec.a.c*Sf.in.23))))),\"-\")","v":"-"},{"$f":"IF(OR(P54=\"-\",P54=\"-\"),0,Cf.AguaSub.23/P54)","v":0},{"$f":"IF(CENÁRIOS!$I$21=TRUE,IF(PM.23=\"\",\"-\",IF(OR(Sf.dm.23=\"-\",Sf.dm.23=\"\",Sf.dm.23=0,PC.23=\"\",DAF.23=\"-\"),\"-\",(TR/(DAF.23*PC.23*IF.ASub.Con.Der.a.c*Sf.dm.23)))),\"-\")","v":"-"},{"$f":"IF(OR(R54=\"-\",R54=\"-\"),0,Cf.AguaSub.23/R54)","v":0},{"$f":"IF(CENÁRIOS!$I$22=TRUE,IF(PM.23=\"\",\"-\",IF(OR(Sf.ig.23=\"-\",Sf.ig.23=\"\",Sf.ig.23=0,DAF.23=\"-\"),\"-\",(TR/(DAF.23*IF.ASub.Ing.a.c*Sf.ig.23)))),\"-\")","v":"-"},{"$f":"IF(OR(T54=\"-\",T54=\"-\"),0,Cf.AguaSub.23/T54)","v":0}]
[null,null,null,null,"NC",{"$f":"IF(CENÁRIOS!$H$19=TRUE,IF(PM.23=\"\",\"-\",IF(OR(RfD.in.cn.23=\"-\",RfD.in.cn.23=\"\",RfD.in.cn.23=0,FT!$R$30=\"-\"),\"-\",((THI*RfD.in.cn.23)/(FT!$R$30*IF.ASub.Ina.Abe.a.nc)))),\"-\")","v":"-"},{"$f":"IF(OR(F55=\"-\",F55=\"-\"),0,Cf.AguaSub.23/F55)","v":0},{"$f":"IF(CENÁRIOS!$H$20=TRUE,IF(PM.23=\"\",\"-\",IF(OR(RfD.in.cn.23=\"-\",RfD.in.cn.23=\"\",RfD.in.cn.23=0,FT!$S$30=\"-\"),\"-\",((THI*RfD.in.cn.23)/(FT!$S$30*IF.ASub.Ina.Fec.a.nc)))),\"-\")","v":"-"},{"$f":"IF(OR(H55=\"-\",H55=\"-\"),0,Cf.AguaSub.23/H55)","v":0},{"$f":"IF(CENÁRIOS!$H$21=TRUE,IF(PM.23=\"\",\"-\",IF(OR(RfD.dm.cn.23=\"-\",RfD.dm.cn.23=\"\",RfD.dm.cn.23=0,PC.23=\"\"),\"-\",((THI*RfD.dm.cn.23)/(PC.23*IF.ASub.Con.Der.a.nc)))),\"-\")","v":"-"},{"$f":"IF(OR(J55=\"-\",J55=\"-\"),0,Cf.AguaSub.23/J55)","v":0},{"$f":"IF(CENÁRIOS!$H$22=TRUE,IF(PM.23=\"\",\"-\",IF(OR(RfD.ig.cn.23=\"-\",RfD.ig.cn.23=\"\",RfD.ig.cn.23=0),\"-\",((THI*RfD.ig.cn.23)/(IF.ASub.Ing.a.nc)))),\"-\")","v":"-"},{"$f":"IF(OR(L55=\"-\",L55=\"-\"),0,Cf.AguaSub.23/L55)","v":0},{"$f":"IF(CENÁRIOS!$I$19=TRUE,IF(PM.23=\"\",\"-\",IF(OR(RfD.in.cn.23=\"-\",RfD.in.cn.23=\"\",RfD.in.cn.23=0,FT!$R$30=\"-\",DAF.23=\"-\"),\"-\",((THI*RfD.in.cn.23)/((FT!$R$30*DAF.23)*IF.ASub.Ina.Abe.a.nc)))),\"-\")","v":"-"},{"$f":"IF(OR(N55=\"-\",N55=\"-\"),0,Cf.AguaSub.23/N55)","v":0},{"$f":"IF(CENÁRIOS!$I$20=TRUE,IF(PM.23=\"\",\"-\",IF(OR(RfD.in.cn.23=\"-\",RfD.in.cn.23=\"\",RfD.in.cn.23=0,FT!$S$30=\"-\",DAF.23=\"-\"),\"-\",((THI*RfD.in.cn.23)/((FT!$S$30*DAF.23)*IF.ASub.Ina.Fec.a.nc)))),\"-\")","v":"-"},{"$f":"IF(OR(P55=\"-\",P55=\"-\"),0,Cf.AguaSub.23/P55)","v":0},{"$f":"IF(CENÁRIOS!$I$21=TRUE,IF(PM.23=\"\",\"-\",IF(OR(RfD.dm.cn.23=\"-\",RfD.dm.cn.23=\"\",RfD.dm.cn.23=0,PC.23=\"\",DAF.23=\"-\"),\"-\",((THI*RfD.dm.cn.23)/(DAF.23*PC.23*IF.ASub.Con.Der.a.nc)))),\"-\")","v":"-"},{"$f":"IF(OR(R55=\"-\",R55=\"-\"),0,Cf.AguaSub.23/R55)","v":0},{"$f":"IF(CENÁRIOS!$I$22=TRUE,IF(PM.23=\"\",\"-\",IF(OR(RfD.ig.cn.23=\"-\",RfD.ig.cn.23=\"\",RfD.ig.cn.23=0,DAF.23=\"-\"),\"-\",((THI*RfD.ig.cn.23)/(DAF.23*IF.ASub.Ing.a.nc)))),\"-\")","v":"-"},{"$f":"IF(OR(T55=\"-\",T55=\"-\"),0,Cf.AguaSub.23/T55)","v":0}]
[null,24,{"$f":"SQI!D32","v":0},{"$f":"SQI!C32","v":""},"C",{"$f":"IF(CENÁRIOS!$H$19=TRUE,IF(PM.24=\"\",\"-\",IF(OR(Sf.in.24=\"-\",Sf.in.24=\"\",Sf.in.24=0,FT!$R$31=\"-\"),\"-\",IF(ISERROR(TR/(FT!$R$31*IF.ASub.Ina.Abe.a.c*Sf.in.24)),\"-\",(TR/(FT!$R$31*IF.ASub.Ina.Abe.a.c*Sf.in.24))))),\"-\")","v":"-"},{"$f":"IF(OR(F56=\"-\",F56=\"-\"),0,Cf.AguaSub.24/F56)","v":0},{"$f":"IF(CENÁRIOS!$H$20=TRUE,IF(PM.24=\"\",\"-\",IF(OR(Sf.in.24=\"-\",Sf.in.24=\"\",Sf.in.24=0,FT!$S$31=\"-\"),\"-\",IF(ISERROR(TR/(FT!$S$31*IF.ASub.Ina.Fec.a.c*Sf.in.24)),\"-\",(TR/(FT!$S$31*IF.ASub.Ina.Fec.a.c*Sf.in.24))))),\"-\")","v":"-"},{"$f":"IF(OR(H56=\"-\",H56=\"-\"),0,Cf.AguaSub.24/H56)","v":0},{"$f":"IF(CENÁRIOS!$H$21=TRUE,IF(PM.24=\"\",\"-\",IF(OR(Sf.dm.24=\"-\",Sf.dm.24=\"\",Sf.dm.24=0,PC.24=\"\"),\"-\",(TR/(PC.24*IF.ASub.Con.Der.a.c*Sf.dm.24)))),\"-\")","v":"-"},{"$f":"IF(OR(J56=\"-\",J56=\"-\"),0,Cf.AguaSub.24/J56)","v":0},{"$f":"IF(CENÁRIOS!$H$22=TRUE,IF(PM.24=\"\",\"-\",IF(OR(Sf.ig.24=\"-\",Sf.ig.24=\"\",Sf.ig.24=0),\"-\",(TR/(IF.ASub.Ing.a.c*Sf.ig.24)))),\"-\")","v":"-"},{"$f":"IF(OR(L56=\"-\",L56=\"-\"),0,Cf.AguaSub.24/L56)","v":0},{"$f":"IF(CENÁRIOS!$I$19=TRUE,IF(PM.24=\"\",\"-\",IF(OR(Sf.in.24=\"-\",Sf.in.24=\"\",Sf.in.24=0,FT!$R$31=\"-\"),\"-\",IF(ISERROR(TR/((FT!$R$31*DAF.24)*IF.ASub.Ina.Abe.a.c*Sf.in.24)),\"-\",(TR/((FT!$R$31*DAF.24)*IF.ASub.Ina.Abe.a.c*Sf.in.24))))),\"-\")","v":"-"},{"$f":"IF(OR(N56=\"-\",N56=\"-\"),0,Cf.AguaSub.24/N56)","v":0},{"$f":"IF(CENÁRIOS!$I$20=TRUE,IF(PM.24=\"\",\"-\",IF(OR(Sf.in.24=\"-\",Sf.in.24=\"\",Sf.in.24=0,FT!$S$31=\"-\"),\"-\",IF(ISERROR(TR/((FT!$S$31*DAF.24)*IF.ASub.Ina.Fec.a.c*Sf.in.24)),\"-\",(TR/((FT!$S$31*DAF.24)*IF.ASub.Ina.Fec.a.c*Sf.in.24))))),\"-\")","v":"-"},{"$f":"IF(OR(P56=\"-\",P56=\"-\"),0,Cf.AguaSub.24/P56)","v":0},{"$f":"IF(CENÁRIOS!$I$21=TRUE,IF(PM.24=\"\",\"-\",IF(OR(Sf.dm.24=\"-\",Sf.dm.24=\"\",Sf.dm.24=0,PC.24=\"\",DAF.24=\"-\"),\"-\",(TR/(DAF.24*PC.24*IF.ASub.Con.Der.a.c*Sf.dm.24)))),\"-\")","v":"-"},{"$f":"IF(OR(R56=\"-\",R56=\"-\"),0,Cf.AguaSub.24/R56)","v":0},{"$f":"IF(CENÁRIOS!$I$22=TRUE,IF(PM.24=\"\",\"-\",IF(OR(Sf.ig.24=\"-\",Sf.ig.24=\"\",Sf.ig.24=0,DAF.24=\"-\"),\"-\",(TR/(DAF.24*IF.ASub.Ing.a.c*Sf.ig.24)))),\"-\")","v":"-"},{"$f":"IF(OR(T56=\"-\",T56=\"-\"),0,Cf.AguaSub.24/T56)","v":0}]
[null,null,null,null,"NC",{"$f":"IF(CENÁRIOS!$H$19=TRUE,IF(PM.24=\"\",\"-\",IF(OR(RfD.in.cn.24=\"-\",RfD.in.cn.24=\"\",RfD.in.cn.24=0,FT!$R$31=\"-\"),\"-\",((THI*RfD.in.cn.24)/(FT!$R$31*IF.ASub.Ina.Abe.a.nc)))),\"-\")","v":"-"},{"$f":"IF(OR(F57=\"-\",F57=\"-\"),0,Cf.AguaSub.24/F57)","v":0},{"$f":"IF(CENÁRIOS!$H$20=TRUE,IF(PM.24=\"\",\"-\",IF(OR(RfD.in.cn.24=\"-\",RfD.in.cn.24=\"\",RfD.in.cn.24=0,FT!$S$31=\"-\"),\"-\",((THI*RfD.in.cn.24)/(FT!$S$31*IF.ASub.Ina.Fec.a.nc)))),\"-\")","v":"-"},{"$f":"IF(OR(H57=\"-\",H57=\"-\"),0,Cf.AguaSub.24/H57)","v":0},{"$f":"IF(CENÁRIOS!$H$21=TRUE,IF(PM.24=\"\",\"-\",IF(OR(RfD.dm.cn.24=\"-\",RfD.dm.cn.24=\"\",RfD.dm.cn.24=0,PC.24=\"\"),\"-\",((THI*RfD.dm.cn.24)/(PC.24*IF.ASub.Con.Der.a.nc)))),\"-\")","v":"-"},{"$f":"IF(OR(J57=\"-\",J57=\"-\"),0,Cf.AguaSub.24/J57)","v":0},{"$f":"IF(CENÁRIOS!$H$22=TRUE,IF(PM.24=\"\",\"-\",IF(OR(RfD.ig.cn.24=\"-\",RfD.ig.cn.24=\"\",RfD.ig.cn.24=0),\"-\",((THI*RfD.ig.cn.24)/(IF.ASub.Ing.a.nc)))),\"-\")","v":"-"},{"$f":"IF(OR(L57=\"-\",L57=\"-\"),0,Cf.AguaSub.24/L57)","v":0},{"$f":"IF(CENÁRIOS!$I$19=TRUE,IF(PM.24=\"\",\"-\",IF(OR(RfD.in.cn.24=\"-\",RfD.in.cn.24=\"\",RfD.in.cn.24=0,FT!$R$31=\"-\",DAF.24=\"-\"),\"-\",((THI*RfD.in.cn.24)/((FT!$R$31*DAF.24)*IF.ASub.Ina.Abe.a.nc)))),\"-\")","v":"-"},{"$f":"IF(OR(N57=\"-\",N57=\"-\"),0,Cf.AguaSub.24/N57)","v":0},{"$f":"IF(CENÁRIOS!$I$20=TRUE,IF(PM.24=\"\",\"-\",IF(OR(RfD.in.cn.24=\"-\",RfD.in.cn.24=\"\",RfD.in.cn.24=0,FT!$S$31=\"-\",DAF.24=\"-\"),\"-\",((THI*RfD.in.cn.24)/((FT!$S$31*DAF.24)*IF.ASub.Ina.Fec.a.nc)))),\"-\")","v":"-"},{"$f":"IF(OR(P57=\"-\",P57=\"-\"),0,Cf.AguaSub.24/P57)","v":0},{"$f":"IF(CENÁRIOS!$I$21=TRUE,IF(PM.24=\"\",\"-\",IF(OR(RfD.dm.cn.24=\"-\",RfD.dm.cn.24=\"\",RfD.dm.cn.24=0,PC.24=\"\",DAF.24=\"-\"),\"-\",((THI*RfD.dm.cn.24)/(DAF.24*PC.24*IF.ASub.Con.Der.a.nc)))),\"-\")","v":"-"},{"$f":"IF(OR(R57=\"-\",R57=\"-\"),0,Cf.AguaSub.24/R57)","v":0},{"$f":"IF(CENÁRIOS!$I$22=TRUE,IF(PM.24=\"\",\"-\",IF(OR(RfD.ig.cn.24=\"-\",RfD.ig.cn.24=\"\",RfD.ig.cn.24=0,DAF.24=\"-\"),\"-\",((THI*RfD.ig.cn.24)/(DAF.24*IF.ASub.Ing.a.nc)))),\"-\")","v":"-"},{"$f":"IF(OR(T57=\"-\",T57=\"-\"),0,Cf.AguaSub.24/T57)","v":0}]
[null,25,{"$f":"SQI!D33","v":0},{"$f":"SQI!C33","v":""},"C",{"$f":"IF(CENÁRIOS!$H$19=TRUE,IF(PM.25=\"\",\"-\",IF(OR(Sf.in.25=\"-\",Sf.in.25=\"\",Sf.in.25=0,FT!$R$32=\"-\"),\"-\",IF(ISERROR(TR/(FT!$R$32*IF.ASub.Ina.Abe.a.c*Sf.in.25)),\"-\",(TR/(FT!$R$32*IF.ASub.Ina.Abe.a.c*Sf.in.25))))),\"-\")","v":"-"},{"$f":"IF(OR(F58=\"-\",F58=\"-\"),0,Cf.AguaSub.25/F58)","v":0},{"$f":"IF(CENÁRIOS!$H$20=TRUE,IF(PM.25=\"\",\"-\",IF(OR(Sf.in.25=\"-\",Sf.in.25=\"\",Sf.in.25=0,FT!$S$32=\"-\"),\"-\",IF(ISERROR(TR/(FT!$S$32*IF.ASub.Ina.Fec.a.c*Sf.in.25)),\"-\",(TR/(FT!$S$32*IF.ASub.Ina.Fec.a.c*Sf.in.25))))),\"-\")","v":"-"},{"$f":"IF(OR(H58=\"-\",H58=\"-\"),0,Cf.AguaSub.25/H58)","v":0},{"$f":"IF(CENÁRIOS!$H$21=TRUE,IF(PM.25=\"\",\"-\",IF(OR(Sf.dm.25=\"-\",Sf.dm.25=\"\",Sf.dm.25=0,PC.25=\"\"),\"-\",(TR/(PC.25*IF.ASub.Con.Der.a.c*Sf.dm.25)))),\"-\")","v":"-"},{"$f":"IF(OR(J58=\"-\",J58=\"-\"),0,Cf.AguaSub.25/J58)","v":0},{"$f":"IF(CENÁRIOS!$H$22=TRUE,IF(PM.25=\"\",\"-\",IF(OR(Sf.ig.25=\"-\",Sf.ig.25=\"\",Sf.ig.25=0),\"-\",(TR/(IF.ASub.Ing.a.c*Sf.ig.25)))),\"-\")","v":"-"},{"$f":"IF(OR(L58=\"-\",L58=\"-\"),0,Cf.AguaSub.25/L58)","v":0},{"$f":"IF(CENÁRIOS!$I$19=TRUE,IF(PM.25=\"\",\"-\",IF(OR(Sf.in.25=\"-\",Sf.in.25=\"\",Sf.in.25=0,FT!$R$32=\"-\"),\"-\",IF(ISERROR(TR/((FT!$R$32*DAF.25)*IF.ASub.Ina.Abe.a.c*Sf.in.25)),\"-\",(TR/((FT!$R$32*DAF.25)*IF.ASub.Ina.Abe.a.c*Sf.in.25))))),\"-\")","v":"-"},{"$f":"IF(OR(N58=\"-\",N58=\"-\"),0,Cf.AguaSub.25/N58)","v":0},{"$f":"IF(CENÁRIOS!$I$20=TRUE,IF(PM.25=\"\",\"-\",IF(OR(Sf.in.25=\"-\",Sf.in.25=\"\",Sf.in.25=0,FT!$S$32=\"-\"),\"-\",IF(ISERROR(TR/((FT!$S$32*DAF.25)*IF.ASub.Ina.Fec.a.c*Sf.in.25)),\"-\",(TR/((FT!$S$32*DAF.25)*IF.ASub.Ina.Fec.a.c*Sf.in.25))))),\"-\")","v":"-"},{"$f":"IF(OR(P58=\"-\",P58=\"-\"),0,Cf.AguaSub.25/P58)","v":0},{"$f":"IF(CENÁRIOS!$I$21=TRUE,IF(PM.25=\"\",\"-\",IF(OR(Sf.dm.25=\"-\",Sf.dm.25=\"\",Sf.dm.25=0,PC.25=\"\",DAF.25=\"-\"),\"-\",(TR/(DAF.25*PC.25*IF.ASub.Con.Der.a.c*Sf.dm.25)))),\"-\")","v":"-"},{"$f":"IF(OR(R58=\"-\",R58=\"-\"),0,Cf.AguaSub.25/R58)","v":0},{"$f":"IF(CENÁRIOS!$I$22=TRUE,IF(PM.25=\"\",\"-\",IF(OR(Sf.ig.25=\"-\",Sf.ig.25=\"\",Sf.ig.25=0,DAF.25=\"-\"),\"-\",(TR/(DAF.25*IF.ASub.Ing.a.c*Sf.ig.25)))),\"-\")","v":"-"},{"$f":"IF(OR(T58=\"-\",T58=\"-\"),0,Cf.AguaSub.25/T58)","v":0}]
[null,null,null,null,"NC",{"$f":"IF(CENÁRIOS!$H$19=TRUE,IF(PM.25=\"\",\"-\",IF(OR(RfD.in.cn.25=\"-\",RfD.in.cn.25=\"\",RfD.in.cn.25=0,FT!$R$32=\"-\"),\"-\",((THI*RfD.in.cn.25)/(FT!$R$32*IF.ASub.Ina.Abe.a.nc)))),\"-\")","v":"-"},{"$f":"IF(OR(F59=\"-\",F59=\"-\"),0,Cf.AguaSub.25/F59)","v":0},{"$f":"IF(CENÁRIOS!$H$20=TRUE,IF(PM.25=\"\",\"-\",IF(OR(RfD.in.cn.25=\"-\",RfD.in.cn.25=\"\",RfD.in.cn.25=0,FT!$S$32=\"-\"),\"-\",((THI*RfD.in.cn.25)/(FT!$S$32*IF.ASub.Ina.Fec.a.nc)))),\"-\")","v":"-"},{"$f":"IF(OR(H59=\"-\",H59=\"-\"),0,Cf.AguaSub.25/H59)","v":0},{"$f":"IF(CENÁRIOS!$H$21=TRUE,IF(PM.25=\"\",\"-\",IF(OR(RfD.dm.cn.25=\"-\",RfD.dm.cn.25=\"\",RfD.dm.cn.25=0,PC.25=\"\"),\"-\",((THI*RfD.dm.cn.25)/(PC.25*IF.ASub.Con.Der.a.nc)))),\"-\")","v":"-"},{"$f":"IF(OR(J59=\"-\",J59=\"-\"),0,Cf.AguaSub.25/J59)","v":0},{"$f":"IF(CENÁRIOS!$H$22=TRUE,IF(PM.25=\"\",\"-\",IF(OR(RfD.ig.cn.25=\"-\",RfD.ig.cn.25=\"\",RfD.ig.cn.25=0),\"-\",((THI*RfD.ig.cn.25)/(IF.ASub.Ing.a.nc)))),\"-\")","v":"-"},{"$f":"IF(OR(L59=\"-\",L59=\"-\"),0,Cf.AguaSub.25/L59)","v":0},{"$f":"IF(CENÁRIOS!$I$19=TRUE,IF(PM.25=\"\",\"-\",IF(OR(RfD.in.cn.25=\"-\",RfD.in.cn.25=\"\",RfD.in.cn.25=0,FT!$R$32=\"-\",DAF.25=\"-\"),\"-\",((THI*RfD.in.cn.25)/((FT!$R$32*DAF.25)*IF.ASub.Ina.Abe.a.nc)))),\"-\")","v":"-"},{"$f":"IF(OR(N59=\"-\",N59=\"-\"),0,Cf.AguaSub.25/N59)","v":0},{"$f":"IF(CENÁRIOS!$I$20=TRUE,IF(PM.25=\"\",\"-\",IF(OR(RfD.in.cn.25=\"-\",RfD.in.cn.25=\"\",RfD.in.cn.25=0,FT!$S$32=\"-\",DAF.25=\"-\"),\"-\",((THI*RfD.in.cn.25)/((FT!$S$32*DAF.25)*IF.ASub.Ina.Fec.a.nc)))),\"-\")","v":"-"},{"$f":"IF(OR(P59=\"-\",P59=\"-\"),0,Cf.AguaSub.25/P59)","v":0},{"$f":"IF(CENÁRIOS!$I$21=TRUE,IF(PM.25=\"\",\"-\",IF(OR(RfD.dm.cn.25=\"-\",RfD.dm.cn.25=\"\",RfD.dm.cn.25=0,PC.25=\"\",DAF.25=\"-\"),\"-\",((THI*RfD.dm.cn.25)/(DAF.25*PC.25*IF.ASub.Con.Der.a.nc)))),\"-\")","v":"-"},{"$f":"IF(OR(R59=\"-\",R59=\"-\"),0,Cf.AguaSub.25/R59)","v":0},{"$f":"IF(CENÁRIOS!$I$22=TRUE,IF(PM.25=\"\",\"-\",IF(OR(RfD.ig.cn.25=\"-\",RfD.ig.cn.25=\"\",RfD.ig.cn.25=0,DAF.25=\"-\"),\"-\",((THI*RfD.ig.cn.25)/(DAF.25*IF.ASub.Ing.a.nc)))),\"-\")","v":"-"},{"$f":"IF(OR(T59=\"-\",T59=\"-\"),0,Cf.AguaSub.25/T59)","v":0}]
[null,26,{"$f":"SQI!D34","v":0},{"$f":"SQI!C34","v":""},"C",{"$f":"IF(CENÁRIOS!$H$19=TRUE,IF(PM.26=\"\",\"-\",IF(OR(Sf.in.26=\"-\",Sf.in.26=\"\",Sf.in.26=0,FT!$R$33=\"-\"),\"-\",IF(ISERROR(TR/(FT!$R$33*IF.ASub.Ina.Abe.a.c*Sf.in.26)),\"-\",(TR/(FT!$R$33*IF.ASub.Ina.Abe.a.c*Sf.in.26))))),\"-\")","v":"-"},{"$f":"IF(OR(F60=\"-\",F60=\"-\"),0,Cf.AguaSub.26/F60)","v":0},{"$f":"IF(CENÁRIOS!$H$20=TRUE,IF(PM.26=\"\",\"-\",IF(OR(Sf.in.26=\"-\",Sf.in.26=\"\",Sf.in.26=0,FT!$S$33=\"-\"),\"-\",IF(ISERROR(TR/(FT!$S$33*IF.ASub.Ina.Fec.a.c*Sf.in.26)),\"-\",(TR/(FT!$S$33*IF.ASub.Ina.Fec.a.c*Sf.in.26))))),\"-\")","v":"-"},{"$f":"IF(OR(H60=\"-\",H60=\"-\"),0,Cf.AguaSub.26/H60)","v":0},{"$f":"IF(CENÁRIOS!$H$21=TRUE,IF(PM.26=\"\",\"-\",IF(OR(Sf.dm.26=\"-\",Sf.dm.26=\"\",Sf.dm.26=0,PC.26=\"\"),\"-\",(TR/(PC.26*IF.ASub.Con.Der.a.c*Sf.dm.26)))),\"-\")","v":"-"},{"$f":"IF(OR(J60=\"-\",J60=\"-\"),0,Cf.AguaSub.26/J60)","v":0},{"$f":"IF(CENÁRIOS!$H$22=TRUE,IF(PM.26=\"\",\"-\",IF(OR(Sf.ig.26=\"-\",Sf.ig.26=\"\",Sf.ig.26=0),\"-\",(TR/(IF.ASub.Ing.a.c*Sf.ig.26)))),\"-\")","v":"-"},{"$f":"IF(OR(L60=\"-\",L60=\"-\"),0,Cf.AguaSub.26/L60)","v":0},{"$f":"IF(CENÁRIOS!$I$19=TRUE,IF(PM.26=\"\",\"-\",IF(OR(Sf.in.26=\"-\",Sf.in.26=\"\",Sf.in.26=0,FT!$R$33=\"-\"),\"-\",IF(ISERROR(TR/((FT!$R$33*DAF.26)*IF.ASub.Ina.Abe.a.c*Sf.in.26)),\"-\",(TR/((FT!$R$33*DAF.26)*IF.ASub.Ina.Abe.a.c*Sf.in.26))))),\"-\")","v":"-"},{"$f":"IF(OR(N60=\"-\",N60=\"-\"),0,Cf.AguaSub.26/N60)","v":0},{"$f":"IF(CENÁRIOS!$I$20=TRUE,IF(PM.26=\"\",\"-\",IF(OR(Sf.in.26=\"-\",Sf.in.26=\"\",Sf.in.26=0,FT!$S$33=\"-\"),\"-\",IF(ISERROR(TR/((FT!$S$33*DAF.26)*IF.ASub.Ina.Fec.a.c*Sf.in.26)),\"-\",(TR/((FT!$S$33*DAF.26)*IF.ASub.Ina.Fec.a.c*Sf.in.26))))),\"-\")","v":"-"},{"$f":"IF(OR(P60=\"-\",P60=\"-\"),0,Cf.AguaSub.26/P60)","v":0},{"$f":"IF(CENÁRIOS!$I$21=TRUE,IF(PM.26=\"\",\"-\",IF(OR(Sf.dm.26=\"-\",Sf.dm.26=\"\",Sf.dm.26=0,PC.26=\"\",DAF.26=\"-\"),\"-\",(TR/(DAF.26*PC.26*IF.ASub.Con.Der.a.c*Sf.dm.26)))),\"-\")","v":"-"},{"$f":"IF(OR(R60=\"-\",R60=\"-\"),0,Cf.AguaSub.26/R60)","v":0},{"$f":"IF(CENÁRIOS!$I$22=TRUE,IF(PM.26=\"\",\"-\",IF(OR(Sf.ig.26=\"-\",Sf.ig.26=\"\",Sf.ig.26=0,DAF.26=\"-\"),\"-\",(TR/(DAF.26*IF.ASub.Ing.a.c*Sf.ig.26)))),\"-\")","v":"-"},{"$f":"IF(OR(T60=\"-\",T60=\"-\"),0,Cf.AguaSub.26/T60)","v":0}]
[null,null,null,null,"NC",{"$f":"IF(CENÁRIOS!$H$19=TRUE,IF(PM.26=\"\",\"-\",IF(OR(RfD.in.cn.26=\"-\",RfD.in.cn.26=\"\",RfD.in.cn.26=0,FT!$R$33=\"-\"),\"-\",((THI*RfD.in.cn.26)/(FT!$R$33*IF.ASub.Ina.Abe.a.nc)))),\"-\")","v":"-"},{"$f":"IF(OR(F61=\"-\",F61=\"-\"),0,Cf.AguaSub.26/F61)","v":0},{"$f":"IF(CENÁRIOS!$H$20=TRUE,IF(PM.26=\"\",\"-\",IF(OR(RfD.in.cn.26=\"-\",RfD.in.cn.26=\"\",RfD.in.cn.26=0,FT!$S$33=\"-\"),\"-\",((THI*RfD.in.cn.26)/(FT!$S$33*IF.ASub.Ina.Fec.a.nc)))),\"-\")","v":"-"},{"$f":"IF(OR(H61=\"-\",H61=\"-\"),0,Cf.AguaSub.26/H61)","v":0},{"$f":"IF(CENÁRIOS!$H$21=TRUE,IF(PM.26=\"\",\"-\",IF(OR(RfD.dm.cn.26=\"-\",RfD.dm.cn.26=\"\",RfD.dm.cn.26=0,PC.26=\"\"),\"-\",((THI*RfD.dm.cn.26)/(PC.26*IF.ASub.Con.Der.a.nc)))),\"-\")","v":"-"},{"$f":"IF(OR(J61=\"-\",J61=\"-\"),0,Cf.AguaSub.26/J61)","v":0},{"$f":"IF(CENÁRIOS!$H$22=TRUE,IF(PM.26=\"\",\"-\",IF(OR(RfD.ig.cn.26=\"-\",RfD.ig.cn.26=\"\",RfD.ig.cn.26=0),\"-\",((THI*RfD.ig.cn.26)/(IF.ASub.Ing.a.nc)))),\"-\")","v":"-"},{"$f":"IF(OR(L61=\"-\",L61=\"-\"),0,Cf.AguaSub.26/L61)","v":0},{"$f":"IF(CENÁRIOS!$I$19=TRUE,IF(PM.26=\"\",\"-\",IF(OR(RfD.in.cn.26=\"-\",RfD.in.cn.26=\"\",RfD.in.cn.26=0,FT!$R$33=\"-\",DAF.26=\"-\"),\"-\",((THI*RfD.in.cn.26)/((FT!$R$33*DAF.26)*IF.ASub.Ina.Abe.a.nc)))),\"-\")","v":"-"},{"$f":"IF(OR(N61=\"-\",N61=\"-\"),0,Cf.AguaSub.26/N61)","v":0},{"$f":"IF(CENÁRIOS!$I$20=TRUE,IF(PM.26=\"\",\"-\",IF(OR(RfD.in.cn.26=\"-\",RfD.in.cn.26=\"\",RfD.in.cn.26=0,FT!$S$33=\"-\",DAF.26=\"-\"),\"-\",((THI*RfD.in.cn.26)/((FT!$S$33*DAF.26)*IF.ASub.Ina.Fec.a.nc)))),\"-\")","v":"-"},{"$f":"IF(OR(P61=\"-\",P61=\"-\"),0,Cf.AguaSub.26/P61)","v":0},{"$f":"IF(CENÁRIOS!$I$21=TRUE,IF(PM.26=\"\",\"-\",IF(OR(RfD.dm.cn.26=\"-\",RfD.dm.cn.26=\"\",RfD.dm.cn.26=0,PC.26=\"\",DAF.26=\"-\"),\"-\",((THI*RfD.dm.cn.26)/(DAF.26*PC.26*IF.ASub.Con.Der.a.nc)))),\"-\")","v":"-"},{"$f":"IF(OR(R61=\"-\",R61=\"-\"),0,Cf.AguaSub.26/R61)","v":0},{"$f":"IF(CENÁRIOS!$I$22=TRUE,IF(PM.26=\"\",\"-\",IF(OR(RfD.ig.cn.26=\"-\",RfD.ig.cn.26=\"\",RfD.ig.cn.26=0,DAF.26=\"-\"),\"-\",((THI*RfD.ig.cn.26)/(DAF.26*IF.ASub.Ing.a.nc)))),\"-\")","v":"-"},{"$f":"IF(OR(T61=\"-\",T61=\"-\"),0,Cf.AguaSub.26/T61)","v":0}]
[null,27,{"$f":"SQI!D35","v":0},{"$f":"SQI!C35","v":""},"C",{"$f":"IF(CENÁRIOS!$H$19=TRUE,IF(PM.27=\"\",\"-\",IF(OR(Sf.in.27=\"-\",Sf.in.27=\"\",Sf.in.27=0,FT!$R$34=\"-\"),\"-\",IF(ISERROR(TR/(FT!$R$34*IF.ASub.Ina.Abe.a.c*Sf.in.27)),\"-\",(TR/(FT!$R$34*IF.ASub.Ina.Abe.a.c*Sf.in.27))))),\"-\")","v":"-"},{"$f":"IF(OR(F62=\"-\",F62=\"-\"),0,Cf.AguaSub.27/F62)","v":0},{"$f":"IF(CENÁRIOS!$H$20=TRUE,IF(PM.27=\"\",\"-\",IF(OR(Sf.in.27=\"-\",Sf.in.27=\"\",Sf.in.27=0,FT!$S$34=\"-\"),\"-\",IF(ISERROR(TR/(FT!$S$34*IF.ASub.Ina.Fec.a.c*Sf.in.27)),\"-\",(TR/(FT!$S$34*IF.ASub.Ina.Fec.a.c*Sf.in.27))))),\"-\")","v":"-"},{"$f":"IF(OR(H62=\"-\",H62=\"-\"),0,Cf.AguaSub.27/H62)","v":0},{"$f":"IF(CENÁRIOS!$H$21=TRUE,IF(PM.27=\"\",\"-\",IF(OR(Sf.dm.27=\"-\",Sf.dm.27=\"\",Sf.dm.27=0,PC.27=\"\"),\"-\",(TR/(PC.27*IF.ASub.Con.Der.a.c*Sf.dm.27)))),\"-\")","v":"-"},{"$f":"IF(OR(J62=\"-\",J62=\"-\"),0,Cf.AguaSub.27/J62)","v":0},{"$f":"IF(CENÁRIOS!$H$22=TRUE,IF(PM.27=\"\",\"-\",IF(OR(Sf.ig.27=\"-\",Sf.ig.27=\"\",Sf.ig.27=0),\"-\",(TR/(IF.ASub.Ing.a.c*Sf.ig.27)))),\"-\")","v":"-"},{"$f":"IF(OR(L62=\"-\",L62=\"-\"),0,Cf.AguaSub.27/L62)","v":0},{"$f":"IF(CENÁRIOS!$I$19=TRUE,IF(PM.27=\"\",\"-\",IF(OR(Sf.in.27=\"-\",Sf.in.27=\"\",Sf.in.27=0,FT!$R$34=\"-\"),\"-\",IF(ISERROR(TR/((FT!$R$34*DAF.27)*IF.ASub.Ina.Abe.a.c*Sf.in.27)),\"-\",(TR/((FT!$R$34*DAF.27)*IF.ASub.Ina.Abe.a.c*Sf.in.27))))),\"-\")","v":"-"},{"$f":"IF(OR(N62=\"-\",N62=\"-\"),0,Cf.AguaSub.27/N62)","v":0},{"$f":"IF(CENÁRIOS!$I$20=TRUE,IF(PM.27=\"\",\"-\",IF(OR(Sf.in.27=\"-\",Sf.in.27=\"\",Sf.in.27=0,FT!$S$34=\"-\"),\"-\",IF(ISERROR(TR/((FT!$S$34*DAF.27)*IF.ASub.Ina.Fec.a.c*Sf.in.27)),\"-\",(TR/((FT!$S$34*DAF.27)*IF.ASub.Ina.Fec.a.c*Sf.in.27))))),\"-\")","v":"-"},{"$f":"IF(OR(P62=\"-\",P62=\"-\"),0,Cf.AguaSub.27/P62)","v":0},{"$f":"IF(CENÁRIOS!$I$21=TRUE,IF(PM.27=\"\",\"-\",IF(OR(Sf.dm.27=\"-\",Sf.dm.27=\"\",Sf.dm.27=0,PC.27=\"\",DAF.27=\"-\"),\"-\",(TR/(DAF.27*PC.27*IF.ASub.Con.Der.a.c*Sf.dm.27)))),\"-\")","v":"-"},{"$f":"IF(OR(R62=\"-\",R62=\"-\"),0,Cf.AguaSub.27/R62)","v":0},{"$f":"IF(CENÁRIOS!$I$22=TRUE,IF(PM.27=\"\",\"-\",IF(OR(Sf.ig.27=\"-\",Sf.ig.27=\"\",Sf.ig.27=0,DAF.27=\"-\"),\"-\",(TR/(DAF.27*IF.ASub.Ing.a.c*Sf.ig.27)))),\"-\")","v":"-"},{"$f":"IF(OR(T62=\"-\",T62=\"-\"),0,Cf.AguaSub.27/T62)","v":0}]
[null,null,null,null,"NC",{"$f":"IF(CENÁRIOS!$H$19=TRUE,IF(PM.27=\"\",\"-\",IF(OR(RfD.in.cn.27=\"-\",RfD.in.cn.27=\"\",RfD.in.cn.27=0,FT!$R$34=\"-\"),\"-\",((THI*RfD.in.cn.27)/(FT!$R$34*IF.ASub.Ina.Abe.a.nc)))),\"-\")","v":"-"},{"$f":"IF(OR(F63=\"-\",F63=\"-\"),0,Cf.AguaSub.27/F63)","v":0},{"$f":"IF(CENÁRIOS!$H$20=TRUE,IF(PM.27=\"\",\"-\",IF(OR(RfD.in.cn.27=\"-\",RfD.in.cn.27=\"\",RfD.in.cn.27=0,FT!$S$34=\"-\"),\"-\",((THI*RfD.in.cn.27)/(FT!$S$34*IF.ASub.Ina.Fec.a.nc)))),\"-\")","v":"-"},{"$f":"IF(OR(H63=\"-\",H63=\"-\"),0,Cf.AguaSub.27/H63)","v":0},{"$f":"IF(CENÁRIOS!$H$21=TRUE,IF(PM.27=\"\",\"-\",IF(OR(RfD.dm.cn.27=\"-\",RfD.dm.cn.27=\"\",RfD.dm.cn.27=0,PC.27=\"\"),\"-\",((THI*RfD.dm.cn.27)/(PC.27*IF.ASub.Con.Der.a.nc)))),\"-\")","v":"-"},{"$f":"IF(OR(J63=\"-\",J63=\"-\"),0,Cf.AguaSub.27/J63)","v":0},{"$f":"IF(CENÁRIOS!$H$22=TRUE,IF(PM.27=\"\",\"-\",IF(OR(RfD.ig.cn.27=\"-\",RfD.ig.cn.27=\"\",RfD.ig.cn.27=0),\"-\",((THI*RfD.ig.cn.27)/(IF.ASub.Ing.a.nc)))),\"-\")","v":"-"},{"$f":"IF(OR(L63=\"-\",L63=\"-\"),0,Cf.AguaSub.27/L63)","v":0},{"$f":"IF(CENÁRIOS!$I$19=TRUE,IF(PM.27=\"\",\"-\",IF(OR(RfD.in.cn.27=\"-\",RfD.in.cn.27=\"\",RfD.in.cn.27=0,FT!$R$34=\"-\",DAF.27=\"-\"),\"-\",((THI*RfD.in.cn.27)/((FT!$R$34*DAF.27)*IF.ASub.Ina.Abe.a.nc)))),\"-\")","v":"-"},{"$f":"IF(OR(N63=\"-\",N63=\"-\"),0,Cf.AguaSub.27/N63)","v":0},{"$f":"IF(CENÁRIOS!$I$20=TRUE,IF(PM.27=\"\",\"-\",IF(OR(RfD.in.cn.27=\"-\",RfD.in.cn.27=\"\",RfD.in.cn.27=0,FT!$S$34=\"-\",DAF.27=\"-\"),\"-\",((THI*RfD.in.cn.27)/((FT!$S$34*DAF.27)*IF.ASub.Ina.Fec.a.nc)))),\"-\")","v":"-"},{"$f":"IF(OR(P63=\"-\",P63=\"-\"),0,Cf.AguaSub.27/P63)","v":0},{"$f":"IF(CENÁRIOS!$I$21=TRUE,IF(PM.27=\"\",\"-\",IF(OR(RfD.dm.cn.27=\"-\",RfD.dm.cn.27=\"\",RfD.dm.cn.27=0,PC.27=\"\",DAF.27=\"-\"),\"-\",((THI*RfD.dm.cn.27)/(DAF.27*PC.27*IF.ASub.Con.Der.a.nc)))),\"-\")","v":"-"},{"$f":"IF(OR(R63=\"-\",R63=\"-\"),0,Cf.AguaSub.27/R63)","v":0},{"$f":"IF(CENÁRIOS!$I$22=TRUE,IF(PM.27=\"\",\"-\",IF(OR(RfD.ig.cn.27=\"-\",RfD.ig.cn.27=\"\",RfD.ig.cn.27=0,DAF.27=\"-\"),\"-\",((THI*RfD.ig.cn.27)/(DAF.27*IF.ASub.Ing.a.nc)))),\"-\")","v":"-"},{"$f":"IF(OR(T63=\"-\",T63=\"-\"),0,Cf.AguaSub.27/T63)","v":0}]
[null,28,{"$f":"SQI!D36","v":0},{"$f":"SQI!C36","v":""},"C",{"$f":"IF(CENÁRIOS!$H$19=TRUE,IF(PM.28=\"\",\"-\",IF(OR(Sf.in.28=\"-\",Sf.in.28=\"\",Sf.in.28=0,FT!$R$35=\"-\"),\"-\",IF(ISERROR(TR/(FT!$R$35*IF.ASub.Ina.Abe.a.c*Sf.in.28)),\"-\",(TR/(FT!$R$35*IF.ASub.Ina.Abe.a.c*Sf.in.28))))),\"-\")","v":"-"},{"$f":"IF(OR(F64=\"-\",F64=\"-\"),0,Cf.AguaSub.28/F64)","v":0},{"$f":"IF(CENÁRIOS!$H$20=TRUE,IF(PM.28=\"\",\"-\",IF(OR(Sf.in.28=\"-\",Sf.in.28=\"\",Sf.in.28=0,FT!$S$35=\"-\"),\"-\",IF(ISERROR(TR/(FT!$S$35*IF.ASub.Ina.Fec.a.c*Sf.in.28)),\"-\",(TR/(FT!$S$35*IF.ASub.Ina.Fec.a.c*Sf.in.28))))),\"-\")","v":"-"},{"$f":"IF(OR(H64=\"-\",H64=\"-\"),0,Cf.AguaSub.28/H64)","v":0},{"$f":"IF(CENÁRIOS!$H$21=TRUE,IF(PM.28=\"\",\"-\",IF(OR(Sf.dm.28=\"-\",Sf.dm.28=\"\",Sf.dm.28=0,PC.28=\"\"),\"-\",(TR/(PC.28*IF.ASub.Con.Der.a.c*Sf.dm.28)))),\"-\")","v":"-"},{"$f":"IF(OR(J64=\"-\",J64=\"-\"),0,Cf.AguaSub.28/J64)","v":0},{"$f":"IF(CENÁRIOS!$H$22=TRUE,IF(PM.28=\"\",\"-\",IF(OR(Sf.ig.28=\"-\",Sf.ig.28=\"\",Sf.ig.28=0),\"-\",(TR/(IF.ASub.Ing.a.c*Sf.ig.28)))),\"-\")","v":"-"},{"$f":"IF(OR(L64=\"-\",L64=\"-\"),0,Cf.AguaSub.28/L64)","v":0},{"$f":"IF(CENÁRIOS!$I$19=TRUE,IF(PM.28=\"\",\"-\",IF(OR(Sf.in.28=\"-\",Sf.in.28=\"\",Sf.in.28=0,FT!$R$35=\"-\"),\"-\",IF(ISERROR(TR/((FT!$R$35*DAF.28)*IF.ASub.Ina.Abe.a.c*Sf.in.28)),\"-\",(TR/((FT!$R$35*DAF.28)*IF.ASub.Ina.Abe.a.c*Sf.in.28))))),\"-\")","v":"-"},{"$f":"IF(OR(N64=\"-\",N64=\"-\"),0,Cf.AguaSub.28/N64)","v":0},{"$f":"IF(CENÁRIOS!$I$20=TRUE,IF(PM.28=\"\",\"-\",IF(OR(Sf.in.28=\"-\",Sf.in.28=\"\",Sf.in.28=0,FT!$S$35=\"-\"),\"-\",IF(ISERROR(TR/((FT!$S$35*DAF.28)*IF.ASub.Ina.Fec.a.c*Sf.in.28)),\"-\",(TR/((FT!$S$35*DAF.28)*IF.ASub.Ina.Fec.a.c*Sf.in.28))))),\"-\")","v":"-"},{"$f":"IF(OR(P64=\"-\",P64=\"-\"),0,Cf.AguaSub.28/P64)","v":0},{"$f":"IF(CENÁRIOS!$I$21=TRUE,IF(PM.28=\"\",\"-\",IF(OR(Sf.dm.28=\"-\",Sf.dm.28=\"\",Sf.dm.28=0,PC.28=\"\",DAF.28=\"-\"),\"-\",(TR/(DAF.28*PC.28*IF.ASub.Con.Der.a.c*Sf.dm.28)))),\"-\")","v":"-"},{"$f":"IF(OR(R64=\"-\",R64=\"-\"),0,Cf.AguaSub.28/R64)","v":0},{"$f":"IF(CENÁRIOS!$I$22=TRUE,IF(PM.28=\"\",\"-\",IF(OR(Sf.ig.28=\"-\",Sf.ig.28=\"\",Sf.ig.28=0,DAF.28=\"-\"),\"-\",(TR/(DAF.28*IF.ASub.Ing.a.c*Sf.ig.28)))),\"-\")","v":"-"},{"$f":"IF(OR(T64=\"-\",T64=\"-\"),0,Cf.AguaSub.28/T64)","v":0}]
[null,null,null,null,"NC",{"$f":"IF(CENÁRIOS!$H$19=TRUE,IF(PM.28=\"\",\"-\",IF(OR(RfD.in.cn.28=\"-\",RfD.in.cn.28=\"\",RfD.in.cn.28=0,FT!$R$35=\"-\"),\"-\",((THI*RfD.in.cn.28)/(FT!$R$35*IF.ASub.Ina.Abe.a.nc)))),\"-\")","v":"-"},{"$f":"IF(OR(F65=\"-\",F65=\"-\"),0,Cf.AguaSub.28/F65)","v":0},{"$f":"IF(CENÁRIOS!$H$20=TRUE,IF(PM.28=\"\",\"-\",IF(OR(RfD.in.cn.28=\"-\",RfD.in.cn.28=\"\",RfD.in.cn.28=0,FT!$S$35=\"-\"),\"-\",((THI*RfD.in.cn.28)/(FT!$S$35*IF.ASub.Ina.Fec.a.nc)))),\"-\")","v":"-"},{"$f":"IF(OR(H65=\"-\",H65=\"-\"),0,Cf.AguaSub.28/H65)","v":0},{"$f":"IF(CENÁRIOS!$H$21=TRUE,IF(PM.28=\"\",\"-\",IF(OR(RfD.dm.cn.28=\"-\",RfD.dm.cn.28=\"\",RfD.dm.cn.28=0,PC.28=\"\"),\"-\",((THI*RfD.dm.cn.28)/(PC.28*IF.ASub.Con.Der.a.nc)))),\"-\")","v":"-"},{"$f":"IF(OR(J65=\"-\",J65=\"-\"),0,Cf.AguaSub.28/J65)","v":0},{"$f":"IF(CENÁRIOS!$H$22=TRUE,IF(PM.28=\"\",\"-\",IF(OR(RfD.ig.cn.28=\"-\",RfD.ig.cn.28=\"\",RfD.ig.cn.28=0),\"-\",((THI*RfD.ig.cn.28)/(IF.ASub.Ing.a.nc)))),\"-\")","v":"-"},{"$f":"IF(OR(L65=\"-\",L65=\"-\"),0,Cf.AguaSub.28/L65)","v":0},{"$f":"IF(CENÁRIOS!$I$19=TRUE,IF(PM.28=\"\",\"-\",IF(OR(RfD.in.cn.28=\"-\",RfD.in.cn.28=\"\",RfD.in.cn.28=0,FT!$R$35=\"-\",DAF.28=\"-\"),\"-\",((THI*RfD.in.cn.28)/((FT!$R$35*DAF.28)*IF.ASub.Ina.Abe.a.nc)))),\"-\")","v":"-"},{"$f":"IF(OR(N65=\"-\",N65=\"-\"),0,Cf.AguaSub.28/N65)","v":0},{"$f":"IF(CENÁRIOS!$I$20=TRUE,IF(PM.28=\"\",\"-\",IF(OR(RfD.in.cn.28=\"-\",RfD.in.cn.28=\"\",RfD.in.cn.28=0,FT!$S$35=\"-\",DAF.28=\"-\"),\"-\",((THI*RfD.in.cn.28)/((FT!$S$35*DAF.28)*IF.ASub.Ina.Fec.a.nc)))),\"-\")","v":"-"},{"$f":"IF(OR(P65=\"-\",P65=\"-\"),0,Cf.AguaSub.28/P65)","v":0},{"$f":"IF(CENÁRIOS!$I$21=TRUE,IF(PM.28=\"\",\"-\",IF(OR(RfD.dm.cn.28=\"-\",RfD.dm.cn.28=\"\",RfD.dm.cn.28=0,PC.28=\"\",DAF.28=\"-\"),\"-\",((THI*RfD.dm.cn.28)/(DAF.28*PC.28*IF.ASub.Con.Der.a.nc)))),\"-\")","v":"-"},{"$f":"IF(OR(R65=\"-\",R65=\"-\"),0,Cf.AguaSub.28/R65)","v":0},{"$f":"IF(CENÁRIOS!$I$22=TRUE,IF(PM.28=\"\",\"-\",IF(OR(RfD.ig.cn.28=\"-\",RfD.ig.cn.28=\"\",RfD.ig.cn.28=0,DAF.28=\"-\"),\"-\",((THI*RfD.ig.cn.28)/(DAF.28*IF.ASub.Ing.a.nc)))),\"-\")","v":"-"},{"$f":"IF(OR(T65=\"-\",T65=\"-\"),0,Cf.AguaSub.28/T65)","v":0}]
[null,29,{"$f":"SQI!D37","v":0},{"$f":"SQI!C37","v":""},"C",{"$f":"IF(CENÁRIOS!$H$19=TRUE,IF(PM.29=\"\",\"-\",IF(OR(Sf.in.29=\"-\",Sf.in.29=\"\",Sf.in.29=0,FT!$R$36=\"-\"),\"-\",IF(ISERROR(TR/(FT!$R$36*IF.ASub.Ina.Abe.a.c*Sf.in.29)),\"-\",(TR/(FT!$R$36*IF.ASub.Ina.Abe.a.c*Sf.in.29))))),\"-\")","v":"-"},{"$f":"IF(OR(F66=\"-\",F66=\"-\"),0,Cf.AguaSub.29/F66)","v":0},{"$f":"IF(CENÁRIOS!$H$20=TRUE,IF(PM.29=\"\",\"-\",IF(OR(Sf.in.29=\"-\",Sf.in.29=\"\",Sf.in.29=0,FT!$S$36=\"-\"),\"-\",IF(ISERROR(TR/(FT!$S$36*IF.ASub.Ina.Fec.a.c*Sf.in.29)),\"-\",(TR/(FT!$S$36*IF.ASub.Ina.Fec.a.c*Sf.in.29))))),\"-\")","v":"-"},{"$f":"IF(OR(H66=\"-\",H66=\"-\"),0,Cf.AguaSub.29/H66)","v":0},{"$f":"IF(CENÁRIOS!$H$21=TRUE,IF(PM.29=\"\",\"-\",IF(OR(Sf.dm.29=\"-\",Sf.dm.29=\"\",Sf.dm.29=0,PC.29=\"\"),\"-\",(TR/(PC.29*IF.ASub.Con.Der.a.c*Sf.dm.29)))),\"-\")","v":"-"},{"$f":"IF(OR(J66=\"-\",J66=\"-\"),0,Cf.AguaSub.29/J66)","v":0},{"$f":"IF(CENÁRIOS!$H$22=TRUE,IF(PM.29=\"\",\"-\",IF(OR(Sf.ig.29=\"-\",Sf.ig.29=\"\",Sf.ig.29=0),\"-\",(TR/(IF.ASub.Ing.a.c*Sf.ig.29)))),\"-\")","v":"-"},{"$f":"IF(OR(L66=\"-\",L66=\"-\"),0,Cf.AguaSub.29/L66)","v":0},{"$f":"IF(CENÁRIOS!$I$19=TRUE,IF(PM.29=\"\",\"-\",IF(OR(Sf.in.29=\"-\",Sf.in.29=\"\",Sf.in.29=0,FT!$R$36=\"-\"),\"-\",IF(ISERROR(TR/((FT!$R$36*DAF.29)*IF.ASub.Ina.Abe.a.c*Sf.in.29)),\"-\",(TR/((FT!$R$36*DAF.29)*IF.ASub.Ina.Abe.a.c*Sf.in.29))))),\"-\")","v":"-"},{"$f":"IF(OR(N66=\"-\",N66=\"-\"),0,Cf.AguaSub.29/N66)","v":0},{"$f":"IF(CENÁRIOS!$I$20=TRUE,IF(PM.29=\"\",\"-\",IF(OR(Sf.in.29=\"-\",Sf.in.29=\"\",Sf.in.29=0,FT!$S$36=\"-\"),\"-\",IF(ISERROR(TR/((FT!$S$36*DAF.29)*IF.ASub.Ina.Fec.a.c*Sf.in.29)),\"-\",(TR/((FT!$S$36*DAF.29)*IF.ASub.Ina.Fec.a.c*Sf.in.29))))),\"-\")","v":"-"},{"$f":"IF(OR(P66=\"-\",P66=\"-\"),0,Cf.AguaSub.29/P66)","v":0},{"$f":"IF(CENÁRIOS!$I$21=TRUE,IF(PM.29=\"\",\"-\",IF(OR(Sf.dm.29=\"-\",Sf.dm.29=\"\",Sf.dm.29=0,PC.29=\"\",DAF.29=\"-\"),\"-\",(TR/(DAF.29*PC.29*IF.ASub.Con.Der.a.c*Sf.dm.29)))),\"-\")","v":"-"},{"$f":"IF(OR(R66=\"-\",R66=\"-\"),0,Cf.AguaSub.29/R66)","v":0},{"$f":"IF(CENÁRIOS!$I$22=TRUE,IF(PM.29=\"\",\"-\",IF(OR(Sf.ig.29=\"-\",Sf.ig.29=\"\",Sf.ig.29=0,DAF.29=\"-\"),\"-\",(TR/(DAF.29*IF.ASub.Ing.a.c*Sf.ig.29)))),\"-\")","v":"-"},{"$f":"IF(OR(T66=\"-\",T66=\"-\"),0,Cf.AguaSub.29/T66)","v":0}]
[null,null,null,null,"NC",{"$f":"IF(CENÁRIOS!$H$19=TRUE,IF(PM.29=\"\",\"-\",IF(OR(RfD.in.cn.29=\"-\",RfD.in.cn.29=\"\",RfD.in.cn.29=0,FT!$R$36=\"-\"),\"-\",((THI*RfD.in.cn.29)/(FT!$R$36*IF.ASub.Ina.Abe.a.nc)))),\"-\")","v":"-"},{"$f":"IF(OR(F67=\"-\",F67=\"-\"),0,Cf.AguaSub.29/F67)","v":0},{"$f":"IF(CENÁRIOS!$H$20=TRUE,IF(PM.29=\"\",\"-\",IF(OR(RfD.in.cn.29=\"-\",RfD.in.cn.29=\"\",RfD.in.cn.29=0,FT!$S$36=\"-\"),\"-\",((THI*RfD.in.cn.29)/(FT!$S$36*IF.ASub.Ina.Fec.a.nc)))),\"-\")","v":"-"},{"$f":"IF(OR(H67=\"-\",H67=\"-\"),0,Cf.AguaSub.29/H67)","v":0},{"$f":"IF(CENÁRIOS!$H$21=TRUE,IF(PM.29=\"\",\"-\",IF(OR(RfD.dm.cn.29=\"-\",RfD.dm.cn.29=\"\",RfD.dm.cn.29=0,PC.29=\"\"),\"-\",((THI*RfD.dm.cn.29)/(PC.29*IF.ASub.Con.Der.a.nc)))),\"-\")","v":"-"},{"$f":"IF(OR(J67=\"-\",J67=\"-\"),0,Cf.AguaSub.29/J67)","v":0},{"$f":"IF(CENÁRIOS!$H$22=TRUE,IF(PM.29=\"\",\"-\",IF(OR(RfD.ig.cn.29=\"-\",RfD.ig.cn.29=\"\",RfD.ig.cn.29=0),\"-\",((THI*RfD.ig.cn.29)/(IF.ASub.Ing.a.nc)))),\"-\")","v":"-"},{"$f":"IF(OR(L67=\"-\",L67=\"-\"),0,Cf.AguaSub.29/L67)","v":0},{"$f":"IF(CENÁRIOS!$I$19=TRUE,IF(PM.29=\"\",\"-\",IF(OR(RfD.in.cn.29=\"-\",RfD.in.cn.29=\"\",RfD.in.cn.29=0,FT!$R$36=\"-\",DAF.29=\"-\"),\"-\",((THI*RfD.in.cn.29)/((FT!$R$36*DAF.29)*IF.ASub.Ina.Abe.a.nc)))),\"-\")","v":"-"},{"$f":"IF(OR(N67=\"-\",N67=\"-\"),0,Cf.AguaSub.29/N67)","v":0},{"$f":"IF(CENÁRIOS!$I$20=TRUE,IF(PM.29=\"\",\"-\",IF(OR(RfD.in.cn.29=\"-\",RfD.in.cn.29=\"\",RfD.in.cn.29=0,FT!$S$36=\"-\",DAF.29=\"-\"),\"-\",((THI*RfD.in.cn.29)/((FT!$S$36*DAF.29)*IF.ASub.Ina.Fec.a.nc)))),\"-\")","v":"-"},{"$f":"IF(OR(P67=\"-\",P67=\"-\"),0,Cf.AguaSub.29/P67)","v":0},{"$f":"IF(CENÁRIOS!$I$21=TRUE,IF(PM.29=\"\",\"-\",IF(OR(RfD.dm.cn.29=\"-\",RfD.dm.cn.29=\"\",RfD.dm.cn.29=0,PC.29=\"\",DAF.29=\"-\"),\"-\",((THI*RfD.dm.cn.29)/(DAF.29*PC.29*IF.ASub.Con.Der.a.nc)))),\"-\")","v":"-"},{"$f":"IF(OR(R67=\"-\",R67=\"-\"),0,Cf.AguaSub.29/R67)","v":0},{"$f":"IF(CENÁRIOS!$I$22=TRUE,IF(PM.29=\"\",\"-\",IF(OR(RfD.ig.cn.29=\"-\",RfD.ig.cn.29=\"\",RfD.ig.cn.29=0,DAF.29=\"-\"),\"-\",((THI*RfD.ig.cn.29)/(DAF.29*IF.ASub.Ing.a.nc)))),\"-\")","v":"-"},{"$f":"IF(OR(T67=\"-\",T67=\"-\"),0,Cf.AguaSub.29/T67)","v":0}]
[null,30,{"$f":"SQI!D38","v":0},{"$f":"SQI!C38","v":""},"C",{"$f":"IF(CENÁRIOS!$H$19=TRUE,IF(PM.30=\"\",\"-\",IF(OR(Sf.in.30=\"-\",Sf.in.30=\"\",Sf.in.30=0,FT!$R$37=\"-\"),\"-\",IF(ISERROR(TR/(FT!$R$37*IF.ASub.Ina.Abe.a.c*Sf.in.30)),\"-\",(TR/(FT!$R$37*IF.ASub.Ina.Abe.a.c*Sf.in.30))))),\"-\")","v":"-"},{"$f":"IF(OR(F68=\"-\",F68=\"-\"),0,Cf.AguaSub.30/F68)","v":0},{"$f":"IF(CENÁRIOS!$H$20=TRUE,IF(PM.30=\"\",\"-\",IF(OR(Sf.in.30=\"-\",Sf.in.30=\"\",Sf.in.30=0,FT!$S$37=\"-\"),\"-\",IF(ISERROR(TR/(FT!$S$37*IF.ASub.Ina.Fec.a.c*Sf.in.30)),\"-\",(TR/(FT!$S$37*IF.ASub.Ina.Fec.a.c*Sf.in.30))))),\"-\")","v":"-"},{"$f":"IF(OR(H68=\"-\",H68=\"-\"),0,Cf.AguaSub.30/H68)","v":0},{"$f":"IF(CENÁRIOS!$H$21=TRUE,IF(PM.30=\"\",\"-\",IF(OR(Sf.dm.30=\"-\",Sf.dm.30=\"\",Sf.dm.30=0,PC.30=\"\"),\"-\",(TR/(PC.30*IF.ASub.Con.Der.a.c*Sf.dm.30)))),\"-\")","v":"-"},{"$f":"IF(OR(J68=\"-\",J68=\"-\"),0,Cf.AguaSub.30/J68)","v":0},{"$f":"IF(CENÁRIOS!$H$22=TRUE,IF(PM.30=\"\",\"-\",IF(OR(Sf.ig.30=\"-\",Sf.ig.30=\"\",Sf.ig.30=0),\"-\",(TR/(IF.ASub.Ing.a.c*Sf.ig.30)))),\"-\")","v":"-"},{"$f":"IF(OR(L68=\"-\",L68=\"-\"),0,Cf.AguaSub.30/L68)","v":0},{"$f":"IF(CENÁRIOS!$I$19=TRUE,IF(PM.30=\"\",\"-\",IF(OR(Sf.in.30=\"-\",Sf.in.30=\"\",Sf.in.30=0,FT!$R$37=\"-\"),\"-\",IF(ISERROR(TR/((FT!$R$37*DAF.30)*IF.ASub.Ina.Abe.a.c*Sf.in.30)),\"-\",(TR/((FT!$R$37*DAF.30)*IF.ASub.Ina.Abe.a.c*Sf.in.30))))),\"-\")","v":"-"},{"$f":"IF(OR(N68=\"-\",N68=\"-\"),0,Cf.AguaSub.30/N68)","v":0},{"$f":"IF(CENÁRIOS!$I$20=TRUE,IF(PM.30=\"\",\"-\",IF(OR(Sf.in.30=\"-\",Sf.in.30=\"\",Sf.in.30=0,FT!$S$37=\"-\"),\"-\",IF(ISERROR(TR/((FT!$S$37*DAF.30)*IF.ASub.Ina.Fec.a.c*Sf.in.30)),\"-\",(TR/((FT!$S$37*DAF.30)*IF.ASub.Ina.Fec.a.c*Sf.in.30))))),\"-\")","v":"-"},{"$f":"IF(OR(P68=\"-\",P68=\"-\"),0,Cf.AguaSub.30/P68)","v":0},{"$f":"IF(CENÁRIOS!$I$21=TRUE,IF(PM.30=\"\",\"-\",IF(OR(Sf.dm.30=\"-\",Sf.dm.30=\"\",Sf.dm.30=0,PC.30=\"\",DAF.30=\"-\"),\"-\",(TR/(DAF.30*PC.30*IF.ASub.Con.Der.a.c*Sf.dm.30)))),\"-\")","v":"-"},{"$f":"IF(OR(R68=\"-\",R68=\"-\"),0,Cf.AguaSub.30/R68)","v":0},{"$f":"IF(CENÁRIOS!$I$22=TRUE,IF(PM.30=\"\",\"-\",IF(OR(Sf.ig.30=\"-\",Sf.ig.30=\"\",Sf.ig.30=0,DAF.30=\"-\"),\"-\",(TR/(DAF.30*IF.ASub.Ing.a.c*Sf.ig.30)))),\"-\")","v":"-"},{"$f":"IF(OR(T68=\"-\",T68=\"-\"),0,Cf.AguaSub.30/T68)","v":0}]
[null,null,null,null,"NC",{"$f":"IF(CENÁRIOS!$H$19=TRUE,IF(PM.30=\"\",\"-\",IF(OR(RfD.in.cn.30=\"-\",RfD.in.cn.30=\"\",RfD.in.cn.30=0,FT!$R$37=\"-\"),\"-\",((THI*RfD.in.cn.30)/(FT!$R$37*IF.ASub.Ina.Abe.a.nc)))),\"-\")","v":"-"},{"$f":"IF(OR(F69=\"-\",F69=\"-\"),0,Cf.AguaSub.30/F69)","v":0},{"$f":"IF(CENÁRIOS!$H$20=TRUE,IF(PM.30=\"\",\"-\",IF(OR(RfD.in.cn.30=\"-\",RfD.in.cn.30=\"\",RfD.in.cn.30=0,FT!$S$37=\"-\"),\"-\",((THI*RfD.in.cn.30)/(FT!$S$37*IF.ASub.Ina.Fec.a.nc)))),\"-\")","v":"-"},{"$f":"IF(OR(H69=\"-\",H69=\"-\"),0,Cf.AguaSub.30/H69)","v":0},{"$f":"IF(CENÁRIOS!$H$21=TRUE,IF(PM.30=\"\",\"-\",IF(OR(RfD.dm.cn.30=\"-\",RfD.dm.cn.30=\"\",RfD.dm.cn.30=0,PC.30=\"\"),\"-\",((THI*RfD.dm.cn.30)/(PC.30*IF.ASub.Con.Der.a.nc)))),\"-\")","v":"-"},{"$f":"IF(OR(J69=\"-\",J69=\"-\"),0,Cf.AguaSub.30/J69)","v":0},{"$f":"IF(CENÁRIOS!$H$22=TRUE,IF(PM.30=\"\",\"-\",IF(OR(RfD.ig.cn.30=\"-\",RfD.ig.cn.30=\"\",RfD.ig.cn.30=0),\"-\",((THI*RfD.ig.cn.30)/(IF.ASub.Ing.a.nc)))),\"-\")","v":"-"},{"$f":"IF(OR(L69=\"-\",L69=\"-\"),0,Cf.AguaSub.30/L69)","v":0},{"$f":"IF(CENÁRIOS!$I$19=TRUE,IF(PM.30=\"\",\"-\",IF(OR(RfD.in.cn.30=\"-\",RfD.in.cn.30=\"\",RfD.in.cn.30=0,FT!$R$37=\"-\",DAF.30=\"-\"),\"-\",((THI*RfD.in.cn.30)/((FT!$R$37*DAF.30)*IF.ASub.Ina.Abe.a.nc)))),\"-\")","v":"-"},{"$f":"IF(OR(N69=\"-\",N69=\"-\"),0,Cf.AguaSub.30/N69)","v":0},{"$f":"IF(CENÁRIOS!$I$20=TRUE,IF(PM.30=\"\",\"-\",IF(OR(RfD.in.cn.30=\"-\",RfD.in.cn.30=\"\",RfD.in.cn.30=0,FT!$S$37=\"-\",DAF.30=\"-\"),\"-\",((THI*RfD.in.cn.30)/((FT!$S$37*DAF.30)*IF.ASub.Ina.Fec.a.nc)))),\"-\")","v":"-"},{"$f":"IF(OR(P69=\"-\",P69=\"-\"),0,Cf.AguaSub.30/P69)","v":0},{"$f":"IF(CENÁRIOS!$I$21=TRUE,IF(PM.30=\"\",\"-\",IF(OR(RfD.dm.cn.30=\"-\",RfD.dm.cn.30=\"\",RfD.dm.cn.30=0,PC.30=\"\",DAF.30=\"-\"),\"-\",((THI*RfD.dm.cn.30)/(DAF.30*PC.30*IF.ASub.Con.Der.a.nc)))),\"-\")","v":"-"},{"$f":"IF(OR(R69=\"-\",R69=\"-\"),0,Cf.AguaSub.30/R69)","v":0},{"$f":"IF(CENÁRIOS!$I$22=TRUE,IF(PM.30=\"\",\"-\",IF(OR(RfD.ig.cn.30=\"-\",RfD.ig.cn.30=\"\",RfD.ig.cn.30=0,DAF.30=\"-\"),\"-\",((THI*RfD.ig.cn.30)/(DAF.30*IF.ASub.Ing.a.nc)))),\"-\")","v":"-"},{"$f":"IF(OR(T69=\"-\",T69=\"-\"),0,Cf.AguaSub.30/T69)","v":0}]
[]
[null,"Risco Máximo Aceitável para Substâncias Carcinogênicas",null,null,null,{"$f":"TR","v":1.0000000000000001E-5}]
[null,"Quociente de Perigo Máximo Aceitável para Substâncias não Carcinogênicas",null,null,null,{"$f":"THI","v":1}]

{"sheet":"CMA AR","index":10,"n_rows":69,"n_cols":13,"rows_kept":69,"cut":false,"hidden":false,"merged":[[67,12,68,12],[45,12,46,12],[47,12,48,12],[49,12,50,12],[51,12,52,12],[53,12,54,12],[55,12,56,12],[57,12,58,12],[59,12,60,12],[61,12,62,12],[55,8,56,8],[57,8,58,8],[59,8,60,8],[61,8,62,8],[63,8,64,8],[65,8,66,8],[67,8,68,8],[1,4,1,12],[2,5,2,12],[3,5,3,12],[4,5,4,12],[8,11,8,12],[9,12,10,12],[11,12,12,12],[13,12,14,12],[15,12,16,12],[17,12,18,12],[19,12,20,12],[21,12,22,12],[23,12,24,12],[25,12,26,12],[27,12,28,12],[29,12,30,12],[31,12,32,12],[37,8,38,8],[39,8,40,8],[41,8,42,8],[43,8,44,8],[45,8,46,8],[47,8,48,8],[49,8,50,8],[51,8,52,8],[53,8,54,8],[19,8,20,8],[21,8,22,8],[23,8,24,8],[25,8,26,8],[27,8,28,8],[29,8,30,8],[31,8,32,8],[33,8,34,8],[35,8,36,8],[17,7,18,7],[11,11,12,11],[9,7,10,7],[9,11,10,11],[13,11,14,11],[15,11,16,11],[8,5,8,6],[8,9,8,10],[8,7,8,8],[15,7,16,7],[15,8,16,8],[17,8,18,8],[9,8,10,8],[11,8,12,8],[13,8,14,8],[2,3,8,3],[2,4,8,4],[8,1,8,2],[13,1,14,1],[13,2,14,2],[13,3,14,3],[11,7,12,7],[13,7,14,7],[2,1,7,2],[5,5,7,8],[15,1,16,1],[15,2,16,2],[15,3,16,3],[9,1,10,1],[9,2,10,2],[9,3,10,3],[11,1,12,1],[11,2,12,2],[11,3,12,3],[21,1,22,1],[21,2,22,2],[21,3,22,3],[23,1,24,1],[23,2,24,2],[23,3,24,3],[17,1,18,1],[17,2,18,2],[17,3,18,3],[19,1,20,1],[19,2,20,2],[19,3,20,3],[29,1,30,1],[29,2,30,2],[29,3,30,3],[31,1,32,1],[31,2,32,2],[31,3,32,3],[25,1,26,1],[25,2,26,2],[25,3,26,3],[27,1,28,1],[27,2,28,2],[27,3,28,3],[37,1,38,1],[37,2,38,2],[37,3,38,3],[39,1,40,1],[39,2,40,2],[39,3,40,3],[33,1,34,1],[33,2,34,2],[33,3,34,3],[35,1,36,1],[35,2,36,2],[35,3,36,3],[45,1,46,1],[45,2,46,2],[45,3,46,3],[47,1,48,1],[47,2,48,2],[47,3,48,3],[41,1,42,1],[41,2,42,2],[41,3,42,3],[43,1,44,1],[43,2,44,2],[43,3,44,3],[49,1,50,1],[49,2,50,2],[49,3,50,3],[51,1,52,1],[51,2,52,2],[51,3,52,3],[65,1,66,1],[65,2,66,2],[65,3,66,3],[59,3,60,3],[53,1,54,1],[53,2,54,2],[53,3,54,3],[55,1,56,1],[55,2,56,2],[55,3,56,3],[57,1,58,1],[57,2,58,2],[57,3,58,3],[59,1,60,1],[59,2,60,2],[67,1,68,1],[67,2,68,2],[67,3,68,3],[61,1,62,1],[61,2,62,2],[61,3,62,3],[63,1,64,1],[63,2,64,2],[63,3,64,3],[19,7,20,7],[21,7,22,7],[23,7,24,7],[25,7,26,7],[27,7,28,7],[29,7,30,7],[31,7,32,7],[33,7,34,7],[35,7,36,7],[37,7,38,7],[39,7,40,7],[41,7,42,7],[43,7,44,7],[45,7,46,7],[47,7,48,7],[49,7,50,7],[51,7,52,7],[53,7,54,7],[67,11,68,11],[55,7,56,7],[57,7,58,7],[59,7,60,7],[61,7,62,7],[63,7,64,7],[65,7,66,7],[67,7,68,7],[17,11,18,11],[19,11,20,11],[21,11,22,11],[23,11,24,11],[25,11,26,11],[27,11,28,11],[29,11,30,11],[31,11,32,11],[33,11,34,11],[35,11,36,11],[37,11,38,11],[39,11,40,11],[41,11,42,11],[43,11,44,11],[45,11,46,11],[47,11,48,11],[5,9,7,12],[51,11,52,11],[53,11,54,11],[55,11,56,11],[57,11,58,11],[59,11,60,11],[61,11,62,11],[63,11,64,11],[65,11,66,11],[49,11,50,11],[33,12,34,12],[35,12,36,12],[37,12,38,12],[39,12,40,12],[41,12,42,12],[43,12,44,12],[63,12,64,12],[65,12,66,12]]}
[]
[null,"DATA:",{"$f":"CENÁRIOS!Data","v":0},"IDENTIFICAÇÃO DA ÁREA:",{"$f":"CENÁRIOS!G3","v":0}]
[null,null,null,"CONTAMINANTE","EFEITO","CONCENTRAÇÕES MÁXIMAS ACEITÁVEIS PARA AR AMBIENTE E AR DO SOLO"]
[null,null,null,null,null,{"$f":"CENÁRIOS!H5","v":"TRABALHADOR EM OBRAS CIVIS E DE ESCAVAÇÃO"}]
[null,null,null,null,null,"RECEPTOR NA FONTE DE CONTAMINAÇÃO"]
[null,null,null,null,null,"AR AMBIENTE",null,null,null,"AR DO SOLO"]
[]
[]
[null,"CAS N°",null,null,null,"µg/m3",null,"CMA MAIS RESTRITA C/NC",null,"µg/m3",null,"CMA MAIS RESTRITA C/NC"]
[null,1,{"$f":"SQI!D9","v":0},{"$f":"SQI!C9","v":""},"C",{"$f":"IF(CENÁRIOS!$H$27=TRUE,IF(PM.1=\"\",\"-\",IF(OR(IUR.1=\"-\",IUR.1=\"\",IUR.1=0),\"-\",((TR*ATc.a*24)/(EF.a*ED.a*ETaf.a*IUR.1)))),\"-\")","v":"-"},{"$f":"IF(OR(F10=\"ND\",F10=\"-\"),0,Cf.ArAmb.1/F10)","v":0},{"$f":"IF(MIN(F10,F11)=0,\"-\",MIN(F10,F11))","v":"-"},{"$f":"IF(OR(H10=\"ND\",H10=\"-\"),0,Cf.ArAmb.1/H10)","v":0},{"$f":"(IF(OR(Vol.1<>\"V\",F10=\"-\",F10=\"\"),\"-\",F10/alfa))","v":"-"},{"$f":"IF(OR(J10=\"ND\",J10=\"-\"),0,Cf.GasSolo.1/J10)","v":0},{"$f":"IF(MIN(J10,J11)=0,\"-\",MIN(J10,J11))","v":"-"},{"$f":"IF(OR(L10=\"ND\",L10=\"-\"),0,Cf.GasSolo.1/L10)","v":0}]
[null,null,null,null,"NC",{"$f":"IF(CENÁRIOS!$H$27=TRUE,IF(PM.1=\"\",\"-\",IF(OR(RFC.1=\"\",RFC.1=\"-\",RFC.1=0),\"-\",(THI*ATn.a*1000*24*RFC.1)/(EF.a*ED.a*ETaf.a))),\"-\")","v":"-"},{"$f":"IF(OR(F11=\"ND\",F11=\"-\"),0,Cf.ArAmb.1/F11)","v":0},null,null,{"$f":"(IF(OR(Vol.1<>\"V\",F11=\"-\",F11=\"\"),\"-\",F11/alfa))","v":"-"},{"$f":"IF(OR(J11=\"ND\",J11=\"-\"),0,Cf.GasSolo.1/J11)","v":0}]
[null,2,{"$f":"SQI!D10","v":0},{"$f":"SQI!C10","v":""},"C",{"$f":"IF(CENÁRIOS!$H$27=TRUE,IF(PM.2=\"\",\"-\",IF(OR(IUR.2=\"-\",IUR.2=\"\",IUR.2=0),\"-\",((TR*ATc.a*24)/(EF.a*ED.a*ETaf.a*IUR.2)))),\"-\")","v":"-"},{"$f":"IF(OR(F12=\"ND\",F12=\"-\"),0,Cf.ArAmb.2/F12)","v":0},{"$f":"IF(MIN(F12,F13)=0,\"-\",MIN(F12,F13))","v":"-"},{"$f":"IF(OR(H12=\"ND\",H12=\"-\"),0,Cf.ArAmb.2/H12)","v":0},{"$f":"(IF(OR(vol.2<>\"V\",F12=\"-\",F12=\"\"),\"-\",F12/alfa))","v":"-"},{"$f":"IF(OR(J12=\"ND\",J12=\"-\"),0,Cf.ArAmb.2/J12)","v":0},{"$f":"IF(MIN(J12,J13)=0,\"-\",MIN(J12,J13))","v":"-"},{"$f":"IF(OR(L12=\"ND\",L12=\"-\"),0,Cf.GasSolo.2/L12)","v":0}]
[null,null,null,null,"NC",{"$f":"IF(CENÁRIOS!$H$27=TRUE,IF(PM.2=\"\",\"-\",IF(OR(RFC.2=\"\",RFC.2=\"-\",RFC.2=0),\"-\",(THI*ATn.a*1000*24*RFC.2)/(EF.a*ED.a*ETaf.a))),\"-\")","v":"-"},{"$f":"IF(OR(F13=\"ND\",F13=\"-\"),0,Cf.ArAmb.2/F13)","v":0},null,null,{"$f":"(IF(OR(vol.2<>\"V\",F13=\"-\",F13=\"\"),\"-\",F13/alfa))","v":"-"},{"$f":"IF(OR(J13=\"ND\",J13=\"-\"),0,Cf.ArAmb.2/J13)","v":0}]
[null,3,{"$f":"SQI!D11","v":0},{"$f":"SQI!C11","v":""},"C",{"$f":"IF(CENÁRIOS!$H$27=TRUE,IF(PM.3=\"\",\"-\",IF(OR(IUR.3=\"-\",IUR.3=\"\",IUR.3=0),\"-\",((TR*ATc.a*24)/(EF.a*ED.a*ETaf.a*IUR.3)))),\"-\")","v":"-"},{"$f":"IF(OR(F14=\"ND\",F14=\"-\"),0,Cf.ArAmb.3/F14)","v":0},{"$f":"IF(MIN(F14,F15)=0,\"-\",MIN(F14,F15))","v":"-"},{"$f":"IF(OR(H14=\"ND\",H14=\"-\"),0,Cf.ArAmb.3/H14)","v":0},{"$f":"(IF(OR(vol.3<>\"V\",F14=\"-\",F14=\"\"),\"-\",F14/alfa))","v":"-"},{"$f":"IF(OR(J14=\"ND\",J14=\"-\"),0,Cf.ArAmb.3/J14)","v":0},{"$f":"IF(MIN(J14,J15)=0,\"-\",MIN(J14,J15))","v":"-"},{"$f":"IF(OR(L14=\"ND\",L14=\"-\"),0,Cf.GasSolo.3/L14)","v":0}]
[null,null,null,null,"NC",{"$f":"IF(CENÁRIOS!$H$27=TRUE,IF(PM.3=\"\",\"-\",IF(OR(RFC.3=\"\",RFC.3=\"-\",RFC.3=0),\"-\",(THI*ATn.a*1000*24*RFC.3)/(EF.a*ED.a*ETaf.a))),\"-\")","v":"-"},{"$f":"IF(OR(F15=\"ND\",F15=\"-\"),0,Cf.ArAmb.3/F15)","v":0},null,null,{"$f":"(IF(OR(vol.3<>\"V\",F15=\"-\",F15=\"\"),\"-\",F15/alfa))","v":"-"},{"$f":"IF(OR(J15=\"ND\",J15=\"-\"),0,Cf.ArAmb.3/J15)","v":0}]
[null,4,{"$f":"SQI!D12","v":0},{"$f":"SQI!C12","v":""},"C",{"$f":"IF(CENÁRIOS!$H$27=TRUE,IF(PM.4=\"\",\"-\",IF(OR(IUR.4=\"-\",IUR.4=\"\",IUR.4=0),\"-\",((TR*ATc.a*24)/(EF.a*ED.a*ETaf.a*IUR.4)))),\"-\")","v":"-"},{"$f":"IF(OR(F16=\"ND\",F16=\"-\"),0,Cf.ArAmb.4/F16)","v":0},{"$f":"IF(MIN(F16,F17)=0,\"-\",MIN(F16,F17))","v":"-"},{"$f":"IF(OR(H16=\"ND\",H16=\"-\"),0,Cf.ArAmb.4/H16)","v":0},{"$f":"(IF(OR(vol.4<>\"V\",F16=\"-\",F16=\"\"),\"-\",F16/alfa))","v":"-"},{"$f":"IF(OR(J16=\"ND\",J16=\"-\"),0,Cf.ArAmb.4/J16)","v":0},{"$f":"IF(MIN(J16,J17)=0,\"-\",MIN(J16,J17))","v":"-"},{"$f":"IF(OR(L16=\"ND\",L16=\"-\"),0,Cf.GasSolo.14/L16)","v":0}]
[null,null,null,null,"NC",{"$f":"IF(CENÁRIOS!$H$27=TRUE,IF(PM.4=\"\",\"-\",IF(OR(RFC.4=\"\",RFC.4=\"-\",RFC.4=0),\"-\",(THI*ATn.a*1000*24*RFC.4)/(EF.a*ED.a*ETaf.a))),\"-\")","v":"-"},{"$f":"IF(OR(F17=\"ND\",F17=\"-\"),0,Cf.ArAmb.4/F17)","v":0},null,null,{"$f":"(IF(OR(vol.4<>\"V\",F17=\"-\",F17=\"\"),\"-\",F17/alfa))","v":"-"},{"$f":"IF(OR(J17=\"ND\",J17=\"-\"),0,Cf.ArAmb.4/J17)","v":0}]
[null,5,{"$f":"SQI!D13","v":0},{"$f":"SQI!C13","v":""},"C",{"$f":"IF(CENÁRIOS!$H$27=TRUE,IF(PM.5=\"\",\"-\",IF(OR(IUR.5=\"-\",IUR.5=\"\",IUR.5=0),\"-\",((TR*ATc.a*24)/(EF.a*ED.a*ETaf.a*IUR.5)))),\"-\")","v":"-"},{"$f":"IF(OR(F18=\"ND\",F18=\"-\"),0,Cf.ArAmb.5/F18)","v":0},{"$f":"IF(MIN(F18,F19)=0,\"-\",MIN(F18,F19))","v":"-"},{"$f":"IF(OR(H18=\"ND\",H18=\"-\"),0,Cf.ArAmb.5/H18)","v":0},{"$f":"(IF(OR(vol.5<>\"V\",F18=\"-\",F18=\"\"),\"-\",F18/alfa))","v":"-"},{"$f":"IF(OR(J18=\"ND\",J18=\"-\"),0,Cf.ArAmb.5/J18)","v":0},{"$f":"IF(MIN(J18,J19)=0,\"-\",MIN(J18,J19))","v":"-"},{"$f":"IF(OR(L18=\"ND\",L18=\"-\"),0,Cf.GasSolo.5/L18)","v":0}]
[null,null,null,null,"NC",{"$f":"IF(CENÁRIOS!$H$27=TRUE,IF(PM.5=\"\",\"-\",IF(OR(RFC.5=\"\",RFC.5=\"-\",RFC.5=0),\"-\",(THI*ATn.a*1000*24*RFC.5)/(EF.a*ED.a*ETaf.a))),\"-\")","v":"-"},{"$f":"IF(OR(F19=\"ND\",F19=\"-\"),0,Cf.ArAmb.5/F19)","v":0},null,null,{"$f":"(IF(OR(vol.5<>\"V\",F19=\"-\",F19=\"\"),\"-\",F19/alfa))","v":"-"},{"$f":"IF(OR(J19=\"ND\",J19=\"-\"),0,Cf.ArAmb.5/J19)","v":0}]
[null,6,{"$f":"SQI!D14","v":0},{"$f":"SQI!C14","v":""},"C",{"$f":"IF(CENÁRIOS!$H$27=TRUE,IF(PM.6=\"\",\"-\",IF(OR(IUR.6=\"-\",IUR.6=\"\",IUR.6=0),\"-\",((TR*ATc.a*24)/(EF.a*ED.a*ETaf.a*IUR.6)))),\"-\")","v":"-"},{"$f":"IF(OR(F20=\"ND\",F20=\"-\"),0,Cf.ArAmb.6/F20)","v":0},{"$f":"IF(MIN(F20,F21)=0,\"-\",MIN(F20,F21))","v":"-"},{"$f":"IF(OR(H20=\"ND\",H20=\"-\"),0,Cf.ArAmb.6/H20)","v":0},{"$f":"(IF(OR(vol.6<>\"V\",F20=\"-\",F20=\"\"),\"-\",F20/alfa))","v":"-"},{"$f":"IF(OR(J20=\"ND\",J20=\"-\"),0,Cf.ArAmb.6/J20)","v":0},{"$f":"IF(MIN(J20,J21)=0,\"-\",MIN(J20,J21))","v":"-"},{"$f":"IF(OR(L20=\"ND\",L20=\"-\"),0,Cf.GasSolo.6/L20)","v":0}]
[null,null,null,null,"NC",{"$f":"IF(CENÁRIOS!$H$27=TRUE,IF(PM.6=\"\",\"-\",IF(OR(RFC.6=\"\",RFC.6=\"-\",RFC.6=0),\"-\",(THI*ATn.a*1000*24*RFC.6)/(EF.a*ED.a*ETaf.a))),\"-\")","v":"-"},{"$f":"IF(OR(F21=\"ND\",F21=\"-\"),0,Cf.ArAmb.6/F21)","v":0},null,null,{"$f":"(IF(OR(vol.6<>\"V\",F21=\"-\",F21=\"\"),\"-\",F21/alfa))","v":"-"},{"$f":"IF(OR(J21=\"ND\",J21=\"-\"),0,Cf.ArAmb.6/J21)","v":0}]
[null,7,{"$f":"SQI!D15","v":0},{"$f":"SQI!C15","v":""},"C",{"$f":"IF(CENÁRIOS!$H$27=TRUE,IF(PM.7=\"\",\"-\",IF(OR(IUR.7=\"-\",IUR.7=\"\",IUR.7=0),\"-\",((TR*ATc.a*24)/(EF.a*ED.a*ETaf.a*IUR.7)))),\"-\")","v":"-"},{"$f":"IF(OR(F22=\"ND\",F22=\"-\"),0,Cf.ArAmb.7/F22)","v":0},{"$f":"IF(MIN(F22,F23)=0,\"-\",MIN(F22,F23))","v":"-"},{"$f":"IF(OR(H22=\"ND\",H22=\"-\"),0,Cf.ArAmb.7/H22)","v":0},{"$f":"(IF(OR(vol.7<>\"V\",F22=\"-\",F22=\"\"),\"-\",F22/alfa))","v":"-"},{"$f":"IF(OR(J22=\"ND\",J22=\"-\"),0,Cf.ArAmb.7/J22)","v":0},{"$f":"IF(MIN(J22,J23)=0,\"-\",MIN(J22,J23))","v":"-"},{"$f":"IF(OR(L22=\"ND\",L22=\"-\"),0,Cf.GasSolo.7/L22)","v":0}]
[null,null,null,null,"NC",{"$f":"IF(CENÁRIOS!$H$27=TRUE,IF(PM.7=\"\",\"-\",IF(OR(RFC.7=\"\",RFC.7=\"-\",RFC.7=0),\"-\",(THI*ATn.a*1000*24*RFC.7)/(EF.a*ED.a*ETaf.a))),\"-\")","v":"-"},{"$f":"IF(OR(F23=\"ND\",F23=\"-\"),0,Cf.ArAmb.7/F23)","v":0},null,null,{"$f":"(IF(OR(vol.7<>\"V\",F23=\"-\",F23=\"\"),\"-\",F23/alfa))","v":"-"},{"$f":"IF(OR(J23=\"ND\",J23=\"-\"),0,Cf.ArAmb.7/J23)","v":0}]
[null,8,{"$f":"SQI!D16","v":0},{"$f":"SQI!C16","v":""},"C",{"$f":"IF(CENÁRIOS!$H$27=TRUE,IF(PM.8=\"\",\"-\",IF(OR(IUR.8=\"-\",IUR.8=\"\",IUR.8=0),\"-\",((TR*ATc.a*24)/(EF.a*ED.a*ETaf.a*IUR.8)))),\"-\")","v":"-"},{"$f":"IF(OR(F24=\"ND\",F24=\"-\"),0,Cf.ArAmb.8/F24)","v":0},{"$f":"IF(MIN(F24,F25)=0,\"-\",MIN(F24,F25))","v":"-"},{"$f":"IF(OR(H24=\"ND\",H24=\"-\"),0,Cf.ArAmb.8/H24)","v":0},{"$f":"(IF(OR(vol.8<>\"V\",F24=\"-\",F24=\"\"),\"-\",F24/alfa))","v":"-"},{"$f":"IF(OR(J24=\"ND\",J24=\"-\"),0,Cf.ArAmb.8/J24)","v":0},{"$f":"IF(MIN(J24,J25)=0,\"-\",MIN(J24,J25))","v":"-"},{"$f":"IF(OR(L24=\"ND\",L24=\"-\"),0,Cf.GasSolo.8/L24)","v":0}]
[null,null,null,null,"NC",{"$f":"IF(CENÁRIOS!$H$27=TRUE,IF(PM.8=\"\",\"-\",IF(OR(RFC.8=\"\",RFC.8=\"-\",RFC.8=0),\"-\",(THI*ATn.a*1000*24*RFC.8)/(EF.a*ED.a*ETaf.a))),\"-\")","v":"-"},{"$f":"IF(OR(F25=\"ND\",F25=\"-\"),0,Cf.ArAmb.8/F25)","v":0},null,null,{"$f":"(IF(OR(vol.8<>\"V\",F25=\"-\",F25=\"\"),\"-\",F25/alfa))","v":"-"},{"$f":"IF(OR(J25=\"ND\",J25=\"-\"),0,Cf.ArAmb.8/J25)","v":0}]
[null,9,{"$f":"SQI!D17","v":0},{"$f":"SQI!C17","v":""},"C",{"$f":"IF(CENÁRIOS!$H$27=TRUE,IF(PM.9=\"\",\"-\",IF(OR(IUR.9=\"-\",IUR.9=\"\",IUR.9=0),\"-\",((TR*ATc.a*24)/(EF.a*ED.a*ETaf.a*IUR.9)))),\"-\")","v":"-"},{"$f":"IF(OR(F26=\"ND\",F26=\"-\"),0,Cf.ArAmb.9/F26)","v":0},{"$f":"IF(MIN(F26,F27)=0,\"-\",MIN(F26,F27))","v":"-"},{"$f":"IF(OR(H26=\"ND\",H26=\"-\"),0,Cf.ArAmb.9/H26)","v":0},{"$f":"(IF(OR(vol.9<>\"V\",F26=\"-\",F26=\"\"),\"-\",F26/alfa))","v":"-"},{"$f":"IF(OR(J26=\"ND\",J26=\"-\"),0,Cf.ArAmb.9/J26)","v":0},{"$f":"IF(MIN(J26,J27)=0,\"-\",MIN(J26,J27))","v":"-"},{"$f":"IF(OR(L26=\"ND\",L26=\"-\"),0,Cf.GasSolo.9/L26)","v":0}]
[null,null,null,null,"NC",{"$f":"IF(CENÁRIOS!$H$27=TRUE,IF(PM.9=\"\",\"-\",IF(OR(RFC.9=\"\",RFC.9=\"-\",RFC.9=0),\"-\",(THI*ATn.a*1000*24*RFC.9)/(EF.a*ED.a*ETaf.a))),\"-\")","v":"-"},{"$f":"IF(OR(F27=\"ND\",F27=\"-\"),0,Cf.ArAmb.9/F27)","v":0},null,null,{"$f":"(IF(OR(vol.9<>\"V\",F27=\"-\",F27=\"\"),\"-\",F27/alfa))","v":"-"},{"$f":"IF(OR(J27=\"ND\",J27=\"-\"),0,Cf.ArAmb.9/J27)","v":0}]
[null,10,{"$f":"SQI!D18","v":0},{"$f":"SQI!C18","v":""},"C",{"$f":"IF(CENÁRIOS!$H$27=TRUE,IF(PM.10=\"\",\"-\",IF(OR(IUR.10=\"-\",IUR.10=\"\",IUR.10=0),\"-\",((TR*ATc.a*24)/(EF.a*ED.a*ETaf.a*IUR.10)))),\"-\")","v":"-"},{"$f":"IF(OR(F28=\"ND\",F28=\"-\"),0,Cf.ArAmb.10/F28)","v":0},{"$f":"IF(MIN(F28,F29)=0,\"-\",MIN(F28,F29))","v":"-"},{"$f":"IF(OR(H28=\"ND\",H28=\"-\"),0,Cf.ArAmb.10/H28)","v":0},{"$f":"(IF(OR(vol.10<>\"V\",F28=\"-\",F28=\"\"),\"-\",F28/alfa))","v":"-"},{"$f":"IF(OR(J28=\"ND\",J28=\"-\"),0,Cf.ArAmb.10/J28)","v":0},{"$f":"IF(MIN(J28,J29)=0,\"-\",MIN(J28,J29))","v":"-"},{"$f":"IF(OR(L28=\"ND\",L28=\"-\"),0,Cf.GasSolo.10/L28)","v":0}]
[null,null,null,null,"NC",{"$f":"IF(CENÁRIOS!$H$27=TRUE,IF(PM.10=\"\",\"-\",IF(OR(RFC.10=\"\",RFC.10=\"-\",RFC.10=0),\"-\",(THI*ATn.a*1000*24*RFC.10)/(EF.a*ED.a*ETaf.a))),\"-\")","v":"-"},{"$f":"IF(OR(F29=\"ND\",F29=\"-\"),0,Cf.ArAmb.10/F29)","v":0},null,null,{"$f":"(IF(OR(vol.10<>\"V\",F29=\"-\",F29=\"\"),\"-\",F29/alfa))","v":"-"},{"$f":"IF(OR(J29=\"ND\",J29=\"-\"),0,Cf.ArAmb.10/J29)","v":0}]
[null,11,{"$f":"SQI!D19","v":0},{"$f":"SQI!C19","v":""},"C",{"$f":"IF(CENÁRIOS!$H$27=TRUE,IF(PM.11=\"\",\"-\",IF(OR(IUR.11=\"-\",IUR.11=\"\",IUR.11=0),\"-\",((TR*ATc.a*24)/(EF.a*ED.a*ETaf.a*IUR.11)))),\"-\")","v":"-"},{"$f":"IF(OR(F30=\"ND\",F30=\"-\"),0,Cf.ArAmb.11/F30)","v":0},{"$f":"IF(MIN(F30,F31)=0,\"-\",MIN(F30,F31))","v":"-"},{"$f":"IF(OR(H30=\"ND\",H30=\"-\"),0,Cf.ArAmb.11/H30)","v":0},{"$f":"(IF(OR(vol.11<>\"V\",F30=\"-\",F30=\"\"),\"-\",F30/alfa))","v":"-"},{"$f":"IF(OR(J30=\"ND\",J30=\"-\"),0,Cf.ArAmb.11/J30)","v":0},{"$f":"IF(MIN(J30,J31)=0,\"-\",MIN(J30,J31))","v":"-"},{"$f":"IF(OR(L30=\"ND\",L30=\"-\"),0,Cf.GasSolo.11/L30)","v":0}]
[null,null,null,null,"NC",{"$f":"IF(CENÁRIOS!$H$27=TRUE,IF(PM.11=\"\",\"-\",IF(OR(RFC.11=\"\",RFC.11=\"-\",RFC.11=0),\"-\",(THI*ATn.a*1000*24*RFC.11)/(EF.a*ED.a*ETaf.a))),\"-\")","v":"-"},{"$f":"IF(OR(F31=\"ND\",F31=\"-\"),0,Cf.ArAmb.11/F31)","v":0},null,null,{"$f":"(IF(OR(vol.11<>\"V\",F31=\"-\",F31=\"\"),\"-\",F31/alfa))","v":"-"},{"$f":"IF(OR(J31=\"ND\",J31=\"-\"),0,Cf.ArAmb.11/J31)","v":0}]
[null,12,{"$f":"SQI!D20","v":0},{"$f":"SQI!C20","v":""},"C",{"$f":"IF(CENÁRIOS!$H$27=TRUE,IF(PM.12=\"\",\"-\",IF(OR(IUR.12=\"-\",IUR.12=\"\",IUR.12=0),\"-\",((TR*ATc.a*24)/(EF.a*ED.a*ETaf.a*IUR.12)))),\"-\")","v":"-"},{"$f":"IF(OR(F32=\"ND\",F32=\"-\"),0,Cf.ArAmb.12/F32)","v":0},{"$f":"IF(MIN(F32,F33)=0,\"-\",MIN(F32,F33))","v":"-"},{"$f":"IF(OR(H32=\"ND\",H32=\"-\"),0,Cf.ArAmb.12/H32)","v":0},{"$f":"(IF(OR(vol.12<>\"V\",F32=\"-\",F32=\"\"),\"-\",F32/alfa))","v":"-"},{"$f":"IF(OR(J32=\"ND\",J32=\"-\"),0,Cf.ArAmb.12/J32)","v":0},{"$f":"IF(MIN(J32,J33)=0,\"-\",MIN(J32,J33))","v":"-"},{"$f":"IF(OR(L32=\"ND\",L32=\"-\"),0,Cf.GasSolo.12/L32)","v":0}]
[null,null,null,null,"NC",{"$f":"IF(CENÁRIOS!$H$27=TRUE,IF(PM.12=\"\",\"-\",IF(OR(RFC.12=\"\",RFC.12=\"-\",RFC.12=0),\"-\",(THI*ATn.a*1000*24*RFC.12)/(EF.a*ED.a*ETaf.a))),\"-\")","v":"-"},{"$f":"IF(OR(F33=\"ND\",F33=\"-\"),0,Cf.ArAmb.12/F33)","v":0},null,null,{"$f":"(IF(OR(vol.12<>\"V\",F33=\"-\",F33=\"\"),\"-\",F33/alfa))","v":"-"},{"$f":"IF(OR(J33=\"ND\",J33=\"-\"),0,Cf.ArAmb.12/J33)","v":0}]
[null,13,{"$f":"SQI!D21","v":0},{"$f":"SQI!C21","v":""},"C",{"$f":"IF(CENÁRIOS!$H$27=TRUE,IF(PM.13=\"\",\"-\",IF(OR(IUR.13=\"-\",IUR.13=\"\",IUR.13=0),\"-\",((TR*ATc.a*24)/(EF.a*ED.a*ETaf.a*IUR.13)))),\"-\")","v":"-"},{"$f":"IF(OR(F34=\"ND\",F34=\"-\"),0,Cf.ArAmb.13/F34)","v":0},{"$f":"IF(MIN(F34,F35)=0,\"-\",MIN(F34,F35))","v":"-"},{"$f":"IF(OR(H34=\"ND\",H34=\"-\"),0,Cf.ArAmb.13/H34)","v":0},{"$f":"(IF(OR(vol.13<>\"V\",F34=\"-\",F34=\"\"),\"-\",F34/alfa))","v":"-"},{"$f":"IF(OR(J34=\"ND\",J34=\"-\"),0,Cf.ArAmb.13/J34)","v":0},{"$f":"IF(MIN(J34,J35)=0,\"-\",MIN(J34,J35))","v":"-"},{"$f":"IF(OR(L34=\"ND\",L34=\"-\"),0,Cf.GasSolo.13/L34)","v":0}]
[null,null,null,null,"NC",{"$f":"IF(CENÁRIOS!$H$27=TRUE,IF(PM.13=\"\",\"-\",IF(OR(RFC.13=\"\",RFC.13=\"-\",RFC.13=0),\"-\",(THI*ATn.a*1000*24*RFC.13)/(EF.a*ED.a*ETaf.a))),\"-\")","v":"-"},{"$f":"IF(OR(F35=\"ND\",F35=\"-\"),0,Cf.ArAmb.13/F35)","v":0},null,null,{"$f":"(IF(OR(vol.13<>\"V\",F35=\"-\",F35=\"\"),\"-\",F35/alfa))","v":"-"},{"$f":"IF(OR(J35=\"ND\",J35=\"-\"),0,Cf.ArAmb.13/J35)","v":0}]
[null,14,{"$f":"SQI!D22","v":0},{"$f":"SQI!C22","v":""},"C",{"$f":"IF(CENÁRIOS!$H$27=TRUE,IF(PM.14=\"\",\"-\",IF(OR(IUR.14=\"-\",IUR.14=\"\",IUR.14=0),\"-\",((TR*ATc.a*24)/(EF.a*ED.a*ETaf.a*IUR.14)))),\"-\")","v":"-"},{"$f":"IF(OR(F36=\"ND\",F36=\"-\"),0,Cf.ArAmb.14/F36)","v":0},{"$f":"IF(MIN(F36,F37)=0,\"-\",MIN(F36,F37))","v":"-"},{"$f":"IF(OR(H36=\"ND\",H36=\"-\"),0,Cf.ArAmb.14/H36)","v":0},{"$f":"(IF(OR(vol.14<>\"V\",F36=\"-\",F36=\"\"),\"-\",F36/alfa))","v":"-"},{"$f":"IF(OR(J36=\"ND\",J36=\"-\"),0,Cf.ArAmb.14/J36)","v":0},{"$f":"IF(MIN(J36,J37)=0,\"-\",MIN(J36,J37))","v":"-"},{"$f":"IF(OR(L36=\"ND\",L36=\"-\"),0,Cf.GasSolo.14/L36)","v":0}]
[null,null,null,null,"NC",{"$f":"IF(CENÁRIOS!$H$27=TRUE,IF(PM.14=\"\",\"-\",IF(OR(RFC.14=\"\",RFC.14=\"-\",RFC.14=0),\"-\",(THI*ATn.a*1000*24*RFC.14)/(EF.a*ED.a*ETaf.a))),\"-\")","v":"-"},{"$f":"IF(OR(F37=\"ND\",F37=\"-\"),0,Cf.ArAmb.14/F37)","v":0},null,null,{"$f":"(IF(OR(vol.14<>\"V\",F37=\"-\",F37=\"\"),\"-\",F37/alfa))","v":"-"},{"$f":"IF(OR(J37=\"ND\",J37=\"-\"),0,Cf.ArAmb.14/J37)","v":0}]
[null,15,{"$f":"SQI!D23","v":0},{"$f":"SQI!C23","v":""},"C",{"$f":"IF(CENÁRIOS!$H$27=TRUE,IF(PM.15=\"\",\"-\",IF(OR(IUR.15=\"-\",IUR.15=\"\",IUR.15=0),\"-\",((TR*ATc.a*24)/(EF.a*ED.a*ETaf.a*IUR.15)))),\"-\")","v":"-"},{"$f":"IF(OR(F38=\"ND\",F38=\"-\"),0,Cf.ArAmb.15/F38)","v":0},{"$f":"IF(MIN(F38,F39)=0,\"-\",MIN(F38,F39))","v":"-"},{"$f":"IF(OR(H38=\"ND\",H38=\"-\"),0,Cf.ArAmb.15/H38)","v":0},{"$f":"(IF(OR(vol.15<>\"V\",F38=\"-\",F38=\"\"),\"-\",F38/alfa))","v":"-"},{"$f":"IF(OR(J38=\"ND\",J38=\"-\"),0,Cf.ArAmb.15/J38)","v":0},{"$f":"IF(MIN(J38,J39)=0,\"-\",MIN(J38,J39))","v":"-"},{"$f":"IF(OR(L38=\"ND\",L38=\"-\"),0,Cf.GasSolo.15/L38)","v":0}]
[null,null,null,null,"NC",{"$f":"IF(CENÁRIOS!$H$27=TRUE,IF(PM.15=\"\",\"-\",IF(OR(RFC.15=\"\",RFC.15=\"-\",RFC.15=0),\"-\",(THI*ATn.a*1000*24*RFC.15)/(EF.a*ED.a*ETaf.a))),\"-\")","v":"-"},{"$f":"IF(OR(F39=\"ND\",F39=\"-\"),0,Cf.ArAmb.15/F39)","v":0},null,null,{"$f":"(IF(OR(vol.15<>\"V\",F39=\"-\",F39=\"\"),\"-\",F39/alfa))","v":"-"},{"$f":"IF(OR(J39=\"ND\",J39=\"-\"),0,Cf.ArAmb.15/J39)","v":0}]
[null,16,{"$f":"SQI!D24","v":0},{"$f":"SQI!C24","v":""},"C",{"$f":"IF(CENÁRIOS!$H$27=TRUE,IF(PM.16=\"\",\"-\",IF(OR(IUR.16=\"-\",IUR.16=\"\",IUR.16=0),\"-\",((TR*ATc.a*24)/(EF.a*ED.a*ETaf.a*IUR.16)))),\"-\")","v":"-"},{"$f":"IF(OR(F40=\"ND\",F40=\"-\"),0,Cf.ArAmb.16/F40)","v":0},{"$f":"IF(MIN(F40,F41)=0,\"-\",MIN(F40,F41))","v":"-"},{"$f":"IF(OR(H40=\"ND\",H40=\"-\"),0,Cf.ArAmb.16/H40)","v":0},{"$f":"(IF(OR(vol.16<>\"V\",F40=\"-\",F40=\"\"),\"-\",F40/alfa))","v":"-"},{"$f":"IF(OR(J40=\"ND\",J40=\"-\"),0,Cf.ArAmb.16/J40)","v":0},{"$f":"IF(MIN(J40,J41)=0,\"-\",MIN(J40,J41))","v":"-"},{"$f":"IF(OR(L40=\"ND\",L40=\"-\"),0,Cf.GasSolo.16/L40)","v":0}]
[null,null,null,null,"NC",{"$f":"IF(CENÁRIOS!$H$27=TRUE,IF(PM.16=\"\",\"-\",IF(OR(RFC.16=\"\",RFC.16=\"-\",RFC.16=0),\"-\",(THI*ATn.a*1000*24*RFC.16)/(EF.a*ED.a*ETaf.a))),\"-\")","v":"-"},{"$f":"IF(OR(F41=\"ND\",F41=\"-\"),0,Cf.ArAmb.16/F41)","v":0},null,null,{"$f":"(IF(OR(vol.16<>\"V\",F41=\"-\",F41=\"\"),\"-\",F41/alfa))","v":"-"},{"$f":"IF(OR(J41=\"ND\",J41=\"-\"),0,Cf.ArAmb.16/J41)","v":0}]
[null,17,{"$f":"SQI!D25","v":0},{"$f":"SQI!C25","v":""},"C",{"$f":"IF(CENÁRIOS!$H$27=TRUE,IF(PM.17=\"\",\"-\",IF(OR(IUR.17=\"-\",IUR.17=\"\",IUR.17=0),\"-\",((TR*ATc.a*24)/(EF.a*ED.a*ETaf.a*IUR.17)))),\"-\")","v":"-"},{"$f":"IF(OR(F42=\"ND\",F42=\"-\"),0,Cf.ArAmb.17/F42)","v":0},{"$f":"IF(MIN(F42,F43)=0,\"-\",MIN(F42,F43))","v":"-"},{"$f":"IF(OR(H42=\"ND\",H42=\"-\"),0,Cf.ArAmb.17/H42)","v":0},{"$f":"(IF(OR(vol.17<>\"V\",F42=\"-\",F42=\"\"),\"-\",F42/alfa))","v":"-"},{"$f":"IF(OR(J42=\"ND\",J42=\"-\"),0,Cf.ArAmb.17/J42)","v":0},{"$f":"IF(MIN(J42,J43)=0,\"-\",MIN(J42,J43))","v":"-"},{"$f":"IF(OR(L42=\"ND\",L42=\"-\"),0,Cf.GasSolo.17/L42)","v":0}]
[null,null,null,null,"NC",{"$f":"IF(CENÁRIOS!$H$27=TRUE,IF(PM.17=\"\",\"-\",IF(OR(RFC.17=\"\",RFC.17=\"-\",RFC.17=0),\"-\",(THI*ATn.a*1000*24*RFC.17)/(EF.a*ED.a*ETaf.a))),\"-\")","v":"-"},{"$f":"IF(OR(F43=\"ND\",F43=\"-\"),0,Cf.ArAmb.17/F43)","v":0},null,null,{"$f":"(IF(OR(vol.17<>\"V\",F43=\"-\",F43=\"\"),\"-\",F43/alfa))","v":"-"},{"$f":"IF(OR(J43=\"ND\",J43=\"-\"),0,Cf.ArAmb.17/J43)","v":0}]
[null,18,{"$f":"SQI!D26","v":0},{"$f":"SQI!C26","v":""},"C",{"$f":"IF(CENÁRIOS!$H$27=TRUE,IF(PM.18=\"\",\"-\",IF(OR(IUR.18=\"-\",IUR.18=\"\",IUR.18=0),\"-\",((TR*ATc.a*24)/(EF.a*ED.a*ETaf.a*IUR.18)))),\"-\")","v":"-"},{"$f":"IF(OR(F44=\"ND\",F44=\"-\"),0,Cf.ArAmb.18/F44)","v":0},{"$f":"IF(MIN(F44,F45)=0,\"-\",MIN(F44,F45))","v":"-"},{"$f":"IF(OR(H44=\"ND\",H44=\"-\"),0,Cf.ArAmb.18/H44)","v":0},{"$f":"(IF(OR(vol.18<>\"V\",F44=\"-\",F44=\"\"),\"-\",F44/alfa))","v":"-"},{"$f":"IF(OR(J44=\"ND\",J44=\"-\"),0,Cf.ArAmb.18/J44)","v":0},{"$f":"IF(MIN(J44,J45)=0,\"-\",MIN(J44,J45))","v":"-"},{"$f":"IF(OR(L44=\"ND\",L44=\"-\"),0,Cf.GasSolo.18/L44)","v":0}]
[null,null,null,null,"NC",{"$f":"IF(CENÁRIOS!$H$27=TRUE,IF(PM.18=\"\",\"-\",IF(OR(RFC.18=\"\",RFC.18=\"-\",RFC.18=0),\"-\",(THI*ATn.a*1000*24*RFC.18)/(EF.a*ED.a*ETaf.a))),\"-\")","v":"-"},{"$f":"IF(OR(F45=\"ND\",F45=\"-\"),0,Cf.ArAmb.18/F45)","v":0},null,null,{"$f":"(IF(OR(vol.18<>\"V\",F45=\"-\",F45=\"\"),\"-\",F45/alfa))","v":"-"},{"$f":"IF(OR(J45=\"ND\",J45=\"-\"),0,Cf.ArAmb.18/J45)","v":0}]
[null,19,{"$f":"SQI!D27","v":0},{"$f":"SQI!C27","v":""},"C",{"$f":"IF(CENÁRIOS!$H$27=TRUE,IF(PM.19=\"\",\"-\",IF(OR(IUR.19=\"-\",IUR.19=\"\",IUR.19=0),\"-\",((TR*ATc.a*24)/(EF.a*ED.a*ETaf.a*IUR.19)))),\"-\")","v":"-"},{"$f":"IF(OR(F46=\"ND\",F46=\"-\"),0,Cf.ArAmb.19/F46)","v":0},{"$f":"IF(MIN(F46,F47)=0,\"-\",MIN(F46,F47))","v":"-"},{"$f":"IF(OR(H46=\"ND\",H46=\"-\"),0,Cf.ArAmb.19/H46)","v":0},{"$f":"(IF(OR(vol.19<>\"V\",F46=\"-\",F46=\"\"),\"-\",F46/alfa))","v":"-"},{"$f":"IF(OR(J46=\"ND\",J46=\"-\"),0,Cf.ArAmb.19/J46)","v":0},{"$f":"IF(MIN(J46,J47)=0,\"-\",MIN(J46,J47))","v":"-"},{"$f":"IF(OR(L46=\"ND\",L46=\"-\"),0,Cf.GasSolo.19/L46)","v":0}]
[null,null,null,null,"NC",{"$f":"IF(CENÁRIOS!$H$27=TRUE,IF(PM.19=\"\",\"-\",IF(OR(RFC.19=\"\",RFC.19=\"-\",RFC.19=0),\"-\",(THI*ATn.a*1000*24*RFC.19)/(EF.a*ED.a*ETaf.a))),\"-\")","v":"-"},{"$f":"IF(OR(F47=\"ND\",F47=\"-\"),0,Cf.ArAmb.19/F47)","v":0},null,null,{"$f":"(IF(OR(vol.19<>\"V\",F47=\"-\",F47=\"\"),\"-\",F47/alfa))","v":"-"},{"$f":"IF(OR(J47=\"ND\",J47=\"-\"),0,Cf.ArAmb.19/J47)","v":0}]
[null,20,{"$f":"SQI!D28","v":0},{"$f":"SQI!C28","v":""},"C",{"$f":"IF(CENÁRIOS!$H$27=TRUE,IF(PM.20=\"\",\"-\",IF(OR(IUR.20=\"-\",IUR.20=\"\",IUR.20=0),\"-\",((TR*ATc.a*24)/(EF.a*ED.a*ETaf.a*IUR.20)))),\"-\")","v":"-"},{"$f":"IF(OR(F48=\"ND\",F48=\"-\"),0,Cf.ArAmb.20/F48)","v":0},{"$f":"IF(MIN(F48,F49)=0,\"-\",MIN(F48,F49))","v":"-"},{"$f":"IF(OR(H48=\"ND\",H48=\"-\"),0,Cf.ArAmb.20/H48)","v":0},{"$f":"(IF(OR(vol.20<>\"V\",F48=\"-\",F48=\"\"),\"-\",F48/alfa))","v":"-"},{"$f":"IF(OR(J48=\"ND\",J48=\"-\"),0,Cf.ArAmb.20/J48)","v":0},{"$f":"IF(MIN(J48,J49)=0,\"-\",MIN(J48,J49))","v":"-"},{"$f":"IF(OR(L48=\"ND\",L48=\"-\"),0,Cf.GasSolo.20/L48)","v":0}]
[null,null,null,null,"NC",{"$f":"IF(CENÁRIOS!$H$27=TRUE,IF(PM.20=\"\",\"-\",IF(OR(RFC.20=\"\",RFC.20=\"-\",RFC.20=0),\"-\",(THI*ATn.a*1000*24*RFC.20)/(EF.a*ED.a*ETaf.a))),\"-\")","v":"-"},{"$f":"IF(OR(F49=\"ND\",F49=\"-\"),0,Cf.ArAmb.20/F49)","v":0},null,null,{"$f":"(IF(OR(vol.20<>\"V\",F49=\"-\",F49=\"\"),\"-\",F49/alfa))","v":"-"},{"$f":"IF(OR(J49=\"ND\",J49=\"-\"),0,Cf.ArAmb.20/J49)","v":0}]
[null,21,{"$f":"SQI!D29","v":0},{"$f":"SQI!C29","v":""},"C",{"$f":"IF(CENÁRIOS!$H$27=TRUE,IF(PM.21=\"\",\"-\",IF(OR(IUR.21=\"-\",IUR.21=\"\",IUR.21=0),\"-\",((TR*ATc.a*24)/(EF.a*ED.a*ETaf.a*IUR.21)))),\"-\")","v":"-"},{"$f":"IF(OR(F50=\"ND\",F50=\"-\"),0,Cf.ArAmb.21/F50)","v":0},{"$f":"IF(MIN(F50,F51)=0,\"-\",MIN(F50,F51))","v":"-"},{"$f":"IF(OR(H50=\"ND\",H50=\"-\"),0,Cf.ArAmb.21/H50)","v":0},{"$f":"(IF(OR(vol.21<>\"V\",F50=\"-\",F50=\"\"),\"-\",F50/alfa))","v":"-"},{"$f":"IF(OR(J50=\"ND\",J50=\"-\"),0,Cf.ArAmb.21/J50)","v":0},{"$f":"IF(MIN(J50,J51)=0,\"-\",MIN(J50,J51))","v":"-"},{"$f":"IF(OR(L50=\"ND\",L50=\"-\"),0,Cf.GasSolo.21/L50)","v":0}]
[null,null,null,null,"NC",{"$f":"IF(CENÁRIOS!$H$27=TRUE,IF(PM.21=\"\",\"-\",IF(OR(RFC.21=\"\",RFC.21=\"-\",RFC.21=0),\"-\",(THI*ATn.a*1000*24*RFC.21)/(EF.a*ED.a*ETaf.a))),\"-\")","v":"-"},{"$f":"IF(OR(F51=\"ND\",F51=\"-\"),0,Cf.ArAmb.21/F51)","v":0},null,null,{"$f":"(IF(OR(vol.21<>\"V\",F51=\"-\",F51=\"\"),\"-\",F51/alfa))","v":"-"},{"$f":"IF(OR(J51=\"ND\",J51=\"-\"),0,Cf.ArAmb.21/J51)","v":0}]
[null,22,{"$f":"SQI!D30","v":0},{"$f":"SQI!C30","v":""},"C",{"$f":"IF(CENÁRIOS!$H$27=TRUE,IF(PM.22=\"\",\"-\",IF(OR(IUR.22=\"-\",IUR.22=\"\",IUR.22=0),\"-\",((TR*ATc.a*24)/(EF.a*ED.a*ETaf.a*IUR.22)))),\"-\")","v":"-"},{"$f":"IF(OR(F52=\"ND\",F52=\"-\"),0,Cf.ArAmb.22/F52)","v":0},{"$f":"IF(MIN(F52,F53)=0,\"-\",MIN(F52,F53))","v":"-"},{"$f":"IF(OR(H52=\"ND\",H52=\"-\"),0,Cf.ArAmb.22/H52)","v":0},{"$f":"(IF(OR(vol.22<>\"V\",F52=\"-\",F52=\"\"),\"-\",F52/alfa))","v":"-"},{"$f":"IF(OR(J52=\"ND\",J52=\"-\"),0,Cf.ArAmb.22/J52)","v":0},{"$f":"IF(MIN(J52,J53)=0,\"-\",MIN(J52,J53))","v":"-"},{"$f":"IF(OR(L52=\"ND\",L52=\"-\"),0,Cf.GasSolo.22/L52)","v":0}]
[null,null,null,null,"NC",{"$f":"IF(CENÁRIOS!$H$27=TRUE,IF(PM.22=\"\",\"-\",IF(OR(RFC.22=\"\",RFC.22=\"-\",RFC.22=0),\"-\",(THI*ATn.a*1000*24*RFC.22)/(EF.a*ED.a*ETaf.a))),\"-\")","v":"-"},{"$f":"IF(OR(F53=\"ND\",F53=\"-\"),0,Cf.ArAmb.22/F53)","v":0},null,null,{"$f":"(IF(OR(vol.22<>\"V\",F53=\"-\",F53=\"\"),\"-\",F53/alfa))","v":"-"},{"$f":"IF(OR(J53=\"ND\",J53=\"-\"),0,Cf.ArAmb.22/J53)","v":0}]
[null,23,{"$f":"SQI!D31","v":0},{"$f":"SQI!C31","v":""},"C",{"$f":"IF(CENÁRIOS!$H$27=TRUE,IF(PM.23=\"\",\"-\",IF(OR(IUR.23=\"-\",IUR.23=\"\",IUR.23=0),\"-\",((TR*ATc.a*24)/(EF.a*ED.a*ETaf.a*IUR.23)))),\"-\")","v":"-"},{"$f":"IF(OR(F54=\"ND\",F54=\"-\"),0,Cf.ArAmb.23/F54)","v":0},{"$f":"IF(MIN(F54,F55)=0,\"-\",MIN(F54,F55))","v":"-"},{"$f":"IF(OR(H54=\"ND\",H54=\"-\"),0,Cf.ArAmb.23/H54)","v":0},{"$f":"(IF(OR(vol.23<>\"V\",F54=\"-\",F54=\"\"),\"-\",F54/alfa))","v":"-"},{"$f":"IF(OR(J54=\"ND\",J54=\"-\"),0,Cf.ArAmb.23/J54)","v":0},{"$f":"IF(MIN(J54,J55)=0,\"-\",MIN(J54,J55))","v":"-"},{"$f":"IF(OR(L54=\"ND\",L54=\"-\"),0,Cf.GasSolo.23/L54)","v":0}]
[null,null,null,null,"NC",{"$f":"IF(CENÁRIOS!$H$27=TRUE,IF(PM.23=\"\",\"-\",IF(OR(RFC.23=\"\",RFC.23=\"-\",RFC.23=0),\"-\",(THI*ATn.a*1000*24*RFC.23)/(EF.a*ED.a*ETaf.a))),\"-\")","v":"-"},{"$f":"IF(OR(F55=\"ND\",F55=\"-\"),0,Cf.ArAmb.23/F55)","v":0},null,null,{"$f":"(IF(OR(vol.23<>\"V\",F55=\"-\",F55=\"\"),\"-\",F55/alfa))","v":"-"},{"$f":"IF(OR(J55=\"ND\",J55=\"-\"),0,Cf.ArAmb.23/J55)","v":0}]
[null,24,{"$f":"SQI!D32","v":0},{"$f":"SQI!C32","v":""},"C",{"$f":"IF(CENÁRIOS!$H$27=TRUE,IF(PM.24=\"\",\"-\",IF(OR(IUR.24=\"-\",IUR.24=\"\",IUR.24=0),\"-\",((TR*ATc.a*24)/(EF.a*ED.a*ETaf.a*IUR.24)))),\"-\")","v":"-"},{"$f":"IF(OR(F56=\"ND\",F56=\"-\"),0,Cf.ArAmb.24/F56)","v":0},{"$f":"IF(MIN(F56,F57)=0,\"-\",MIN(F56,F57))","v":"-"},{"$f":"IF(OR(H56=\"ND\",H56=\"-\"),0,Cf.ArAmb.24/H56)","v":0},{"$f":"(IF(OR(vol.24<>\"V\",F56=\"-\",F56=\"\"),\"-\",F56/alfa))","v":"-"},{"$f":"IF(OR(J56=\"ND\",J56=\"-\"),0,Cf.ArAmb.24/J56)","v":0},{"$f":"IF(MIN(J56,J57)=0,\"-\",MIN(J56,J57))","v":"-"},{"$f":"IF(OR(L56=\"ND\",L56=\"-\"),0,Cf.GasSolo.24/L56)","v":0}]
[null,null,null,null,"NC",{"$f":"IF(CENÁRIOS!$H$27=TRUE,IF(PM.24=\"\",\"-\",IF(OR(RFC.24=\"\",RFC.24=\"-\",RFC.24=0),\"-\",(THI*ATn.a*1000*24*RFC.24)/(EF.a*ED.a*ETaf.a))),\"-\")","v":"-"},{"$f":"IF(OR(F57=\"ND\",F57=\"-\"),0,Cf.ArAmb.24/F57)","v":0},null,null,{"$f":"(IF(OR(vol.24<>\"V\",F57=\"-\",F57=\"\"),\"-\",F57/alfa))","v":"-"},{"$f":"IF(OR(J57=\"ND\",J57=\"-\"),0,Cf.ArAmb.24/J57)","v":0}]
[null,25,{"$f":"SQI!D33","v":0},{"$f":"SQI!C33","v":""},"C",{"$f":"IF(CENÁRIOS!$H$27=TRUE,IF(PM.25=\"\",\"-\",IF(OR(IUR.25=\"-\",IUR.25=\"\",IUR.25=0),\"-\",((TR*ATc.a*24)/(EF.a*ED.a*ETaf.a*IUR.25)))),\"-\")","v":"-"},{"$f":"IF(OR(F58=\"ND\",F58=\"-\"),0,Cf.ArAmb.25/F58)","v":0},{"$f":"IF(MIN(F58,F59)=0,\"-\",MIN(F58,F59))","v":"-"},{"$f":"IF(OR(H58=\"ND\",H58=\"-\"),0,Cf.ArAmb.25/H58)","v":0},{"$f":"(IF(OR(vol.25<>\"V\",F58=\"-\",F58=\"\"),\"-\",F58/alfa))","v":"-"},{"$f":"IF(OR(J58=\"ND\",J58=\"-\"),0,Cf.ArAmb.25/J58)","v":0},{"$f":"IF(MIN(J58,J59)=0,\"-\",MIN(J58,J59))","v":"-"},{"$f":"IF(OR(L58=\"ND\",L58=\"-\"),0,Cf.GasSolo.25/L58)","v":0}]
[null,null,null,null,"NC",{"$f":"IF(CENÁRIOS!$H$27=TRUE,IF(PM.25=\"\",\"-\",IF(OR(RFC.25=\"\",RFC.25=\"-\",RFC.25=0),\"-\",(THI*ATn.a*1000*24*RFC.25)/(EF.a*ED.a*ETaf.a))),\"-\")","v":"-"},{"$f":"IF(OR(F59=\"ND\",F59=\"-\"),0,Cf.ArAmb.25/F59)","v":0},null,null,{"$f":"(IF(OR(vol.25<>\"V\",F59=\"-\",F59=\"\"),\"-\",F59/alfa))","v":"-"},{"$f":"IF(OR(J59=\"ND\",J59=\"-\"),0,Cf.ArAmb.25/J59)","v":0}]
[null,26,{"$f":"SQI!D34","v":0},{"$f":"SQI!C34","v":""},"C",{"$f":"IF(CENÁRIOS!$H$27=TRUE,IF(PM.26=\"\",\"-\",IF(OR(IUR.26=\"-\",IUR.26=\"\",IUR.26=0),\"-\",((TR*ATc.a*24)/(EF.a*ED.a*ETaf.a*IUR.26)))),\"-\")","v":"-"},{"$f":"IF(OR(F60=\"ND\",F60=\"-\"),0,Cf.ArAmb.26/F60)","v":0},{"$f":"IF(MIN(F60,F61)=0,\"-\",MIN(F60,F61))","v":"-"},{"$f":"IF(OR(H60=\"ND\",H60=\"-\"),0,Cf.ArAmb.26/H60)","v":0},{"$f":"(IF(OR(vol.26<>\"V\",F60=\"-\",F60=\"\"),\"-\",F60/alfa))","v":"-"},{"$f":"IF(OR(J60=\"ND\",J60=\"-\"),0,Cf.ArAmb.26/J60)","v":0},{"$f":"IF(MIN(J60,J61)=0,\"-\",MIN(J60,J61))","v":"-"},{"$f":"IF(OR(L60=\"ND\",L60=\"-\"),0,Cf.GasSolo.26/L60)","v":0}]
[null,null,null,null,"NC",{"$f":"IF(CENÁRIOS!$H$27=TRUE,IF(PM.26=\"\",\"-\",IF(OR(RFC.26=\"\",RFC.26=\"-\",RFC.26=0),\"-\",(THI*ATn.a*1000*24*RFC.26)/(EF.a*ED.a*ETaf.a))),\"-\")","v":"-"},{"$f":"IF(OR(F61=\"ND\",F61=\"-\"),0,Cf.ArAmb.26/F61)","v":0},null,null,{"$f":"(IF(OR(vol.26<>\"V\",F61=\"-\",F61=\"\"),\"-\",F61/alfa))","v":"-"},{"$f":"IF(OR(J61=\"ND\",J61=\"-\"),0,Cf.ArAmb.26/J61)","v":0}]
[null,27,{"$f":"SQI!D35","v":0},{"$f":"SQI!C35","v":""},"C",{"$f":"IF(CENÁRIOS!$H$27=TRUE,IF(PM.27=\"\",\"-\",IF(OR(IUR.27=\"-\",IUR.27=\"\",IUR.27=0),\"-\",((TR*ATc.a*24)/(EF.a*ED.a*ETaf.a*IUR.27)))),\"-\")","v":"-"},{"$f":"IF(OR(F62=\"ND\",F62=\"-\"),0,Cf.ArAmb.27/F62)","v":0},{"$f":"IF(MIN(F62,F63)=0,\"-\",MIN(F62,F63))","v":"-"},{"$f":"IF(OR(H62=\"ND\",H62=\"-\"),0,Cf.ArAmb.27/H62)","v":0},{"$f":"(IF(OR(vol.27<>\"V\",F62=\"-\",F62=\"\"),\"-\",F62/alfa))","v":"-"},{"$f":"IF(OR(J62=\"ND\",J62=\"-\"),0,Cf.ArAmb.27/J62)","v":0},{"$f":"IF(MIN(J62,J63)=0,\"-\",MIN(J62,J63))","v":"-"},{"$f":"IF(OR(L62=\"ND\",L62=\"-\"),0,Cf.GasSolo.27/L62)","v":0}]
[null,null,null,null,"NC",{"$f":"IF(CENÁRIOS!$H$27=TRUE,IF(PM.27=\"\",\"-\",IF(OR(RFC.27=\"\",RFC.27=\"-\",RFC.27=0),\"-\",(THI*ATn.a*1000*24*RFC.27)/(EF.a*ED.a*ETaf.a))),\"-\")","v":"-"},{"$f":"IF(OR(F63=\"ND\",F63=\"-\"),0,Cf.ArAmb.27/F63)","v":0},null,null,{"$f":"(IF(OR(vol.27<>\"V\",F63=\"-\",F63=\"\"),\"-\",F63/alfa))","v":"-"},{"$f":"IF(OR(J63=\"ND\",J63=\"-\"),0,Cf.ArAmb.27/J63)","v":0}]
[null,28,{"$f":"SQI!D36","v":0},{"$f":"SQI!C36","v":""},"C",{"$f":"IF(CENÁRIOS!$H$27=TRUE,IF(PM.28=\"\",\"-\",IF(OR(IUR.28=\"-\",IUR.28=\"\",IUR.28=0),\"-\",((TR*ATc.a*24)/(EF.a*ED.a*ETaf.a*IUR.28)))),\"-\")","v":"-"},{"$f":"IF(OR(F64=\"ND\",F64=\"-\"),0,Cf.ArAmb.28/F64)","v":0},{"$f":"IF(MIN(F64,F65)=0,\"-\",MIN(F64,F65))","v":"-"},{"$f":"IF(OR(H64=\"ND\",H64=\"-\"),0,Cf.ArAmb.28/H64)","v":0},{"$f":"(IF(OR(vol.28<>\"V\",F64=\"-\",F64=\"\"),\"-\",F64/alfa))","v":"-"},{"$f":"IF(OR(J64=\"ND\",J64=\"-\"),0,Cf.ArAmb.28/J64)","v":0},{"$f":"IF(MIN(J64,J65)=0,\"-\",MIN(J64,J65))","v":"-"},{"$f":"IF(OR(L64=\"ND\",L64=\"-\"),0,Cf.GasSolo.28/L64)","v":0}]
[null,null,null,null,"NC",{"$f":"IF(CENÁRIOS!$H$27=TRUE,IF(PM.28=\"\",\"-\",IF(OR(RFC.28=\"\",RFC.28=\"-\",RFC.28=0),\"-\",(THI*ATn.a*1000*24*RFC.28)/(EF.a*ED.a*ETaf.a))),\"-\")","v":"-"},{"$f":"IF(OR(F65=\"ND\",F65=\"-\"),0,Cf.ArAmb.28/F65)","v":0},null,null,{"$f":"(IF(OR(vol.28<>\"V\",F65=\"-\",F65=\"\"),\"-\",F65/alfa))","v":"-"},{"$f":"IF(OR(J65=\"ND\",J65=\"-\"),0,Cf.ArAmb.28/J65)","v":0}]
[null,29,{"$f":"SQI!D37","v":0},{"$f":"SQI!C37","v":""},"C",{"$f":"IF(CENÁRIOS!$H$27=TRUE,IF(PM.29=\"\",\"-\",IF(OR(IUR.29=\"-\",IUR.29=\"\",IUR.29=0),\"-\",((TR*ATc.a*24)/(EF.a*ED.a*ETaf.a*IUR.29)))),\"-\")","v":"-"},{"$f":"IF(OR(F66=\"ND\",F66=\"-\"),0,Cf.ArAmb.29/F66)","v":0},{"$f":"IF(MIN(F66,F67)=0,\"-\",MIN(F66,F67))","v":"-"},{"$f":"IF(OR(H66=\"ND\",H66=\"-\"),0,Cf.ArAmb.29/H66)","v":0},{"$f":"(IF(OR(vol.29<>\"V\",F66=\"-\",F66=\"\"),\"-\",F66/alfa))","v":"-"},{"$f":"IF(OR(J66=\"ND\",J66=\"-\"),0,Cf.ArAmb.29/J66)","v":0},{"$f":"IF(MIN(J66,J67)=0,\"-\",MIN(J66,J67))","v":"-"},{"$f":"IF(OR(L66=\"ND\",L66=\"-\"),0,Cf.GasSolo.29/L66)","v":0}]
[null,null,null,null,"NC",{"$f":"IF(CENÁRIOS!$H$27=TRUE,IF(PM.29=\"\",\"-\",IF(OR(RFC.29=\"\",RFC.29=\"-\",RFC.29=0),\"-\",(THI*ATn.a*1000*24*RFC.29)/(EF.a*ED.a*ETaf.a))),\"-\")","v":"-"},{"$f":"IF(OR(F67=\"ND\",F67=\"-\"),0,Cf.ArAmb.29/F67)","v":0},null,null,{"$f":"(IF(OR(vol.29<>\"V\",F67=\"-\",F67=\"\"),\"-\",F67/alfa))","v":"-"},{"$f":"IF(OR(J67=\"ND\",J67=\"-\"),0,Cf.ArAmb.29/J67)","v":0}]
[null,30,{"$f":"SQI!D38","v":0},{"$f":"SQI!C38","v":""},"C",{"$f":"IF(CENÁRIOS!$H$27=TRUE,IF(PM.30=\"\",\"-\",IF(OR(IUR.30=\"-\",IUR.30=\"\",IUR.30=0),\"-\",((TR*ATc.a*24)/(EF.a*ED.a*ETaf.a*IUR.30)))),\"-\")","v":"-"},{"$f":"IF(OR(F68=\"ND\",F68=\"-\"),0,Cf.ArAmb.30/F68)","v":0},{"$f":"IF(MIN(F68,F69)=0,\"-\",MIN(F68,F69))","v":"-"},{"$f":"IF(OR(H68=\"ND\",H68=\"-\"),0,Cf.ArAmb.30/H68)","v":0},{"$f":"(IF(OR(vol.30<>\"V\",F68=\"-\",F68=\"\"),\"-\",F68/alfa))","v":"-"},{"$f":"IF(OR(J68=\"ND\",J68=\"-\"),0,Cf.ArAmb.30/J68)","v":0},{"$f":"IF(MIN(J68,J69)=0,\"-\",MIN(J68,J69))","v":"-"},{"$f":"IF(OR(L68=\"ND\",L68=\"-\"),0,Cf.GasSolo.30/L68)","v":0}]
[null,null,null,null,"NC",{"$f":"IF(CENÁRIOS!$H$27=TRUE,IF(PM.30=\"\",\"-\",IF(OR(RFC.30=\"\",RFC.30=\"-\",RFC.30=0),\"-\",(THI*ATn.a*1000*24*RFC.30)/(EF.a*ED.a*ETaf.a))),\"-\")","v":"-"},{"$f":"IF(OR(F69=\"ND\",F69=\"-\"),0,Cf.ArAmb.30/F69)","v":0},null,null,{"$f":"(IF(OR(vol.30<>\"V\",F69=\"-\",F69=\"\"),\"-\",F69/alfa))","v":"-"},{"$f":"IF(OR(J69=\"ND\",J69=\"-\"),0,Cf.ArAmb.30/J69)","v":0}]

{"sheet":"FT","index":11,"n_rows":37,"n_cols":36,"rows_kept":37,"cut":false,"hidden":false,"merged":[[5,1,6,2],[1,1,4,2],[5,21,6,21],[1,19,3,22],[2,12,2,16],[3,12,3,13],[5,22,6,22],[1,3,6,3],[2,17,3,18],[5,6,6,6],[3,14,3,16],[1,4,3,8],[1,9,3,11],[1,12,1,18],[5,19,6,19],[5,9,6,9],[5,20,6,20],[1,23,3,35],[4,35,5,35],[4,25,5,25],[4,26,5,26],[4,27,5,27],[4,28,5,28],[4,29,5,29],[4,30,5,30],[4,31,5,31],[4,23,4,24],[4,32,5,32],[4,33,5,33],[4,34,5,34]]}
[]
[null,null,null,"CONTAMINANTE","COEFICIENTE DE DIFUSÃO EFETIVA",null,null,null,null,"FATORES DE LIXIVIAÇÃO E SATURAÇÃO",null,null,"FATOR DE VOLATILIZAÇÃO e LIXIVIAÇÃO",null,null,null,null,null,null,"FATOR DE ATENUAÇÃO POR DILUIÇÃO",null,null,null,"VEGETAIS"]
[null,null,null,null,null,null,null,null,null,null,null,null,"SOLO",null,null,null,null,"ÁGUA SUBTERRÂNEA"]
[null,null,null,null,null,null,null,null,null,null,null,null,"SUPERFICIAL",null,"SUBSUPERFICIAL"]
[null,null,null,null,"SOLO","FENDAS DAS FUNDAÇÕES","Fluxo convectivo de ar através das fissuras das fundações         ξ","FRANJA CAPILAR","ÁGUA SUBTERRÃNEA SOLO","Fator de Diluição pela Lixiviação (LDF)","Fator de Partição Fase Retida-Água Intersticial do solo              (Ksw)","CONCENTRAÇÃO DE SATURAÇÃO NO SOLO","VAPORES","PARTÍCULAS","AMBIENTES ABERTOS","AMBIENTES FECHADOS","ÁGUA SUBTERRÂNEA (Fator de Lixiviação-LF)","AMBIENTES ABERTOS","AMBIENTES FECHADOS","FATOR DE RETARDAÇÃO","COEFICIENTE DE DECAIMENTO DE 1a. ORDEM","PDE","FAN","Fator de bio-concentração (BCFr/s) para SQIs metálicas",null,"Concentração de SQI em partículas depositadas nas folhas.               (Cdp)","Fator de concentração do fluxo de transpiração para SQIs orgânicas        (TSCF)","Coeficiente de partição entre as folhas e a atmosfera para SQIs Orgânicas      (KLA)","Expressão de perda para as folhas       (a)","Constante de fugacidade para o solo para SQIs orgânicas              (Zs)","Constante de fugacidade da água para SQIs orgânicas      (Zw)","Constante de fugacidade para o ar para SQIs orgânicas        (Za)","Fração da massa de água no solo para SQIs orgânicas      (Pw)","Equilíbrio da partição entre raiz e água para SQIs orgânicas            (Krw)","Fator de bio-concentração para culturas tuberosas de SQIs orgânicas          (BCFR)","Porção depositada descontando-se a concentração do solo          (Cdpx)"]
[null,"CAS N°",null,null,"cm²","cm²","-","cm²","cm²","-"," kg "," mg "," kg "," kg "," kg "," kg "," kg "," L "," L ","-","por ano","(metros)","-","raíz","folhas /              estrutura"]
[null,null,null,null,"seg","seg",null,"seg","seg",null,"L","Kg","m³","m³","m³","m³","m³","m³","m³",null,null,null,null,"-","-","(mg/kg)","-","-","(1/dia)","(mol/(m3.Pa))","mol/(m3.Pa)","mol/(m3.Pa)","-","L/kg","(mg/kg dw cultura)  /        (mg/kg solo)","-"]
[null,1,{"$f":"SQI!D9","v":0},{"$f":"SQI!C9","v":""},{"$f":"IF(PM.1=\"\",\"-\",IF(ISERROR(((Dar.1*Oas^3.33)/(OT^2))+((Dagua.1*Ows^3.33)/(H.1*OT^2))),\"-\",(((Dar.1*Oas^3.33)/(OT^2))+((Dagua.1*Ows^3.33)/(H.1*OT^2)))))","v":"-"},{"$f":"IF(PM.1=\"\",\"-\",IF(ISERROR(((Dar.1*Oacrk^3.33)/(OT^2))+((Dagua.1*Owcrk^3.33)/(H.1*OT^2))),\"-\",(((Dar.1*Oacrk^3.33)/(OT^2))+((Dagua.1*Owcrk^3.33)/(H.1*OT^2)))))","v":"-"},{"$f":"IF(PM.1=\"\",\"-\",IF(OR(F8=\"-\",F8=0),\"-\",((Qs/Ab)/((F8/Lcrk)*n))))","v":"-"},{"$f":"IF(PM.1=\"\",\"-\",IF(ISERROR(((Dar.1*Oacap^3.33)/(OT^2))+((Dagua.1*Owcap^3.33)/(H.1*OT^2))),\"-\",(((Dar.1*Oacap^3.33)/(OT^2))+((Dagua.1*Owcap^3.33)/(H.1*OT^2)))))","v":"-"},{"$f":"IF(PM.1=\"\",\"-\",IF(OR(H8=0,E8=0,H8=\"-\",E8=\"-\"),\"-\",((hcap+hv)/((hcap/H8)+(hv/E8)))))","v":"-"},{"$f":"IF(PM.1=\"\",\"-\",(1+(((Ugw*Sgw)/(SIR*Wss))*365)))","v":"-"},{"$f":"IF(OR(PM.1=\"\",PM.1=\"-\"),\"-\",IF(AND(H.1=\"\",Kd.1<>\"\"),(ps/(((Kd.1*ps)+Ows+(0*Oas)))),IF(AND(Kd.1=\"\",H.1<>\"\"),(ps/(((0*ps)+Ows+(H.1*Oas)))),IF(AND(Kd.1=\"\",H.1=\"\"),(ps/(((0*ps)+Ows+(0*Oas)))),(ps/(((Kd.1*ps)+Ows+(H.1*Oas))))))))","v":"-"},{"$f":"IF(PM.1=\"\",\"-\",IF(OR(K8=\"-\",K8=0,S.1=\"\"),\"-\",(S.1/K8)))","v":"-"},{"$f":"IF(PM.1=\"\",\"-\",IF(OR(E8=\"-\",H.1=\"\",H.1=\"-\",Kd.1=\"\",Kd.1=\"-\"),\"-\",MIN((((2*Ws*ps)/(Uar*Sar))*(SQRT((E8*H.1)/(PI()*(Ows+(Kd.1*ps)+(H.1*Oas))*tau)))*10^3),((Ws*ps*Ls)/(Uar*Sar*tau))*10^3)))","v":"-"},{"$f":"IF(PM.1=\"\",\"-\",(((Pa*Ws)/(Uar*Sar))*10^3))","v":"-"},{"$f":"IF(PM.1=\"\",\"-\",IF(OR(E8=\"-\",E8=0,Kd.1=\"\",Kd.1=\"-\"),\"-\",MIN((((H.1*ps)/(((Kd.1*ps)+Ows+(H.1*Oas))*(1+(Uar*Sar*Lss)/(E8*Wss))))*10^3),((Wss*ps*dss)/(Uar*Sar*tau))*10^3)))","v":"-"},{"$f":"IF(PM.1=\"\",\"-\",IF(OR(F8=0,F8=\"-\",E8=\"-\",Kd.1=\"\",Kd.1=\"-\"),\"-\",MIN(IF(dp>0,(((((H.1*ps)/((Kd.1*ps)+Ows+(H.1*Oas)))*((E8/Lss)/(ER*Lb))*EXP(G8))/(EXP(G8)+((E8/Lss)/(ER*Lb))+(((E8/Lss)/((F8/Lcrk)*n))*(EXP(G8)-1))))*10^3),(((((H.1*ps)/((Kd.1*ps)+Ows+(H.1*Oas)))*((E8/Lss)/(ER*Lb)))/(1+((E8/Lss)/(ER*Lb))+((E8/Lss)/((F8/Lcrk)*n))))*10^3)),((ps*dss)/(Lb*ER*tau))*10^3)))","v":"-"},{"$f":"IF(PM.1=\"\",\"-\",IF(OR(K8=\"-\",J8=\"-\",J8=0),\"-\",((K8/J8)*10^3)))","v":"-"},{"$f":"IF(PM.1=\"\",\"-\",IF(OR(I8=0,I8=\"-\"),\"-\",(((H.1)/(1+((Uar*Sar*Lgw)/(Ww*I8))))*10^3)))","v":"-"},{"$f":"IF(PM.1=\"\",\"-\",IF(OR(F8=0,F8=\"-\",I8=\"-\"),\"-\",(((H.1*((I8/Lgw)/(ER*Lb)))/(1+((I8/Lgw)/(ER*Lb))+((I8/Lgw)/((F8/Lcrk)*n))))*10^3)))","v":"-"},{"$f":"IF(PM.1=\"\",\"-\",IF(OR(Kd.1=\"-\",Kd.1=\"\"),\"-\",1+((Kd.1*ps)/Oef)))","v":"-"},{"$f":"IF(PM.1=\"\",\"-\",IF(OR(Ctek.1=0,Ctek.1=\"-\",Ctek.1=\"\"),\"-\",(0.6931/Ctek.1)))","v":"-"},{"$f":"IF(PM.1=\"\",\"-\",x.1/100)","v":"-"},{"$f":"IF(PM.1=\"\",\"-\",IF(OR(lambda.1=\"-\",R.1=\"-\"),(EXP(((x.1/100)/(2*alfa.x))*(1-SQRT(1+((4*alfa.x*0)/(vs*365/100)))))*ERF((Sw/100)/(4*SQRT(alfa.y*(x.1/100))))*ERF((Sd/100)/(2*SQRT(alfa.z*(x.1/100))))),(EXP(((x.1/100)/(2*alfa.x))*(1-SQRT(1+((4*alfa.x*lambda.1*R.1)/(vs*365/100)))))*ERF((Sw/100)/(4*SQRT(alfa.y*(x.1/100))))*ERF((Sd/100)/(2*SQRT(alfa.z*(x.1/100)))))))","v":"-"},{"$f":"IF(PM.1=\"\",\"-\",IF(OR(Kd.1=\"\",Kd.1=\"-\",Kd.1=0,Tipo.1<>\"METAL\"),\"-\",IF(FatBio.1=\"\",(EXP(2.67-1.12*LN(Kd.1))),FatBio.1)))","v":"-"},{"$f":"IF(PM.1=\"\",\"-\",IF(OR(Kd.1=\"\",Kd.1=\"-\",Kd.1=0,Tipo.1<>\"METAL\"),\"-\",IF(fbcf.1=\"\",(EXP(2.67-1.12*LN(Kd.1))),fbcf.1)))","v":"-"},{"$f":"IF(PM.1=\"\",\"-\",Cf.SoloSup.1*cdpx.1)","v":"-"},{"$f":"IF(PM.1=\"\",\"-\",IF(OR(kow.1=\"-\",kow.1=0,kow.1=\"\",Tipo.1=\"METAL\"),\"-\",(0.784*EXP((-1*((kow.1)-1.78)^2)/2.44))))","v":"-"},{"$f":"IF(PM.1=\"\",\"-\",IF(OR(kow.1=\"-\",kow.1=\"\",H.1=\"\",H.1=0,H.1=\"-\",Tipo.1=\"METAL\"),\"-\",((Wpveg+Lpveg*((10^kow.1)^bveg))/((H.1)))))","v":"-"},{"$f":"IF(PM.1=\"\",\"-\",IF(OR(kla.1=\"-\",kla.1=0),\"-\",(((Alveg*gveg)/(kla.1*Vlveg))+lambdamveg+lambdapveg+lambdagveg)))","v":"-"},{"$f":"IF(PM.1=\"\",\"-\",IF(OR(Kd.1=\"-\",Kd.1=\"\",zw.1=\"-\",Tipo.1=\"METAL\"),\"-\",((Kd.1*ps*zw.1)/Vsveg)))","v":"-"},{"$f":"IF(PM.1=\"\",\"-\",IF(OR(pv.1=\"\",S.1=\"\",pv.1=\"-\",Tipo.1=\"METAL\",PM.1=\"ND\"),\"-\",(((S.1)*(1/PM.1))/((pv.1*101325)/760))))","v":"-"},{"$f":"IF(OR(PM.1=\"\",Tipo.1=\"METAL\"),\"-\",(1/(Rveg*Tarveg)))","v":"-"},{"$f":"IF(PM.1=\"\",\"-\",IF(OR(za.1=\"-\",zw.1=\"-\",zs.1=\"-\",Tipo.1=\"METAL\"),\"-\",((zw.1*Vwveg)/(za.1*Vaveg+zw.1*Vwveg+zs.1*Vsveg))))","v":"-"},{"$f":"IF(PM.1=\"\",\"-\",IF(OR(kow.1=\"-\",kow.1=\"\",Tipo.1=\"METAL\"),\"-\",(Wtrappveg+Ltrappveg*aveg*((10^kow.1)^btrappveg))))","v":"-"},{"$f":"IF(PM.1=\"\",\"-\",IF(OR(Kd.1=0,Kd.1=\"\",krw.1=\"-\",krw.1=0,Tipo.1=\"METAL\"),\"-\",((Qveg/Kd.1)/((Qveg/krw.1)+(kveg*Vtrappveg)))))","v":"-"},0.01]
[null,2,{"$f":"SQI!D10","v":0},{"$f":"SQI!C10","v":""},{"$f":"IF(PM.2=\"\",\"-\",IF(ISERROR(((Dar.2*Oas^3.33)/(OT^2))+((Dagua.2*Ows^3.33)/(H.2*OT^2))),\"-\",(((Dar.2*Oas^3.33)/(OT^2))+((Dagua.2*Ows^3.33)/(H.2*OT^2)))))","v":"-"},{"$f":"IF(PM.2=\"\",\"-\",IF(ISERROR(((Dar.2*Oacrk^3.33)/(OT^2))+((Dagua.2*Owcrk^3.33)/(H.2*OT^2))),\"-\",(((Dar.2*Oacrk^3.33)/(OT^2))+((Dagua.2*Owcrk^3.33)/(H.2*OT^2)))))","v":"-"},{"$f":"IF(PM.2=\"\",\"-\",IF(OR(F9=\"-\",F9=0),\"-\",((Qs/Ab)/((F9/Lcrk)*n))))","v":"-"},{"$f":"IF(PM.2=\"\",\"-\",IF(ISERROR(((Dar.2*Oacap^3.33)/(OT^2))+((Dagua.2*Owcap^3.33)/(H.2*OT^2))),\"-\",(((Dar.2*Oacap^3.33)/(OT^2))+((Dagua.2*Owcap^3.33)/(H.2*OT^2)))))","v":"-"},{"$f":"IF(PM.2=\"\",\"-\",IF(OR(H9=0,E9=0,H9=\"-\",E9=\"-\"),\"-\",((hcap+hv)/((hcap/H9)+(hv/E9)))))","v":"-"},{"$f":"IF(PM.2=\"\",\"-\",((1+(((Ugw*Sgw)/(SIR*Wss))*365))))","v":"-"},{"$f":"IF(OR(PM.2=\"\",PM.2=\"-\"),\"-\",IF(AND(H.2=\"\",Kd.2<>\"\"),(ps/(((Kd.2*ps)+Ows+(0*Oas)))),IF(AND(Kd.2=\"\",H.2<>\"\"),(ps/(((0*ps)+Ows+(H.2*Oas)))),IF(AND(Kd.2=\"\",H.2=\"\"),(ps/(((0*ps)+Ows+(0*Oas)))),(ps/(((Kd.2*ps)+Ows+(H.2*Oas))))))))","v":"-"},{"$f":"IF(PM.2=\"\",\"-\",IF(OR(K9=\"-\",K9=0,S.2=\"\"),\"-\",(S.2/K9)))","v":"-"},{"$f":"IF(PM.2=\"\",\"-\",IF(OR(E9=\"-\",H.2=\"\",H.2=\"-\",Kd.2=\"\",Kd.2=\"-\"),\"-\",MIN((((2*Ws*ps)/(Uar*Sar))*(SQRT((E9*H.2)/(PI()*(Ows+(Kd.2*ps)+(H.2*Oas))*tau)))*10^3),((Ws*ps*Ls)/(Uar*Sar*tau))*10^3)))","v":"-"},{"$f":"IF(PM.2=\"\",\"-\",(((Pa*Ws)/(Uar*Sar))*10^3))","v":"-"},{"$f":"IF(PM.2=\"\",\"-\",IF(OR(E9=\"-\",E9=0,Kd.2=\"\",Kd.2=\"-\"),\"-\",MIN((((H.2*ps)/(((Kd.2*ps)+Ows+(H.2*Oas))*(1+(Uar*Sar*Lss)/(E9*Wss))))*10^3),((Wss*ps*dss)/(Uar*Sar*tau))*10^3)))","v":"-"},{"$f":"IF(PM.2=\"\",\"-\",IF(OR(F9=0,F9=\"-\",E9=\"-\",Kd.2=\"\",Kd.2=\"-\"),\"-\",MIN(IF(dp>0,(((((H.2*ps)/((Kd.2*ps)+Ows+(H.2*Oas)))*((E9/Lss)/(ER*Lb))*EXP(G9))/(EXP(G9)+((E9/Lss)/(ER*Lb))+(((E9/Lss)/((F9/Lcrk)*n))*(EXP(G9)-1))))*10^3),(((((H.2*ps)/((Kd.2*ps)+Ows+(H.2*Oas)))*((E9/Lss)/(ER*Lb)))/(1+((E9/Lss)/(ER*Lb))+((E9/Lss)/((F9/Lcrk)*n))))*10^3)),((ps*dss)/(Lb*ER*tau))*10^3)))","v":"-"},{"$f":"IF(PM.2=\"\",\"-\",IF(OR(K9=\"-\",J9=\"-\",J9=0),\"-\",((K9/J9)*10^3)))","v":"-"},{"$f":"IF(PM.2=\"\",\"-\",IF(OR(I9=0,I9=\"-\"),\"-\",(((H.2)/(1+((Uar*Sar*Lgw)/(Ww*I9))))*10^3)))","v":"-"},{"$f":"IF(PM.2=\"\",\"-\",IF(OR(F9=0,F9=\"-\",I9=\"-\"),\"-\",(((H.2*((I9/Lgw)/(ER*Lb)))/(1+((I9/Lgw)/(ER*Lb))+((I9/Lgw)/((F9/Lcrk)*n))))*10^3)))","v":"-"},{"$f":"IF(PM.2=\"\",\"-\",IF(OR(Kd.2=\"-\",Kd.2=\"\"),\"-\",1+((Kd.2*ps)/Oef)))","v":"-"},{"$f":"IF(PM.2=\"\",\"-\",IF(OR(Ctek.2=0,Ctek.2=\"-\",Ctek.2=\"\"),\"-\",(0.6931/Ctek.2)))","v":"-"},{"$f":"IF(PM.2=\"\",\"-\",x.2/100)","v":"-"},{"$f":"IF(PM.2=\"\",\"-\",IF(OR(lambda.2=\"-\",R.2=\"-\"),(EXP(((x.2/100)/(2*alfa.x))*(1-SQRT(1+((4*alfa.x*0)/(vs*365/100)))))*ERF((Sw/100)/(4*SQRT(alfa.y*(x.2/100))))*ERF((Sd/100)/(2*SQRT(alfa.z*(x.2/100))))),(EXP(((x.2/100)/(2*alfa.x))*(1-SQRT(1+((4*alfa.x*lambda.2*R.2)/(vs*365/100)))))*ERF((Sw/100)/(4*SQRT(alfa.y*(x.2/100))))*ERF((Sd/100)/(2*SQRT(alfa.z*(x.2/100)))))))","v":"-"},{"$f":"IF(PM.2=\"\",\"-\",IF(OR(Kd.2=\"\",Kd.2=\"-\",Kd.2=0,Tipo.2<>\"METAL\"),\"-\",IF(FatBio.2=\"\",(EXP(2.67-1.12*LN(Kd.2))),FatBio.2)))","v":"-"},{"$f":"IF(PM.2=\"\",\"-\",IF(OR(Kd.2=\"\",Kd.2=\"-\",Kd.2=0,Tipo.2<>\"METAL\"),\"-\",IF(fbcf.2=\"\",(EXP(2.67-1.12*LN(Kd.2))),fbcf.2)))","v":"-"},{"$f":"IF(PM.2=\"\",\"-\",Cf.SoloSup.2*cdpx.2)","v":"-"},{"$f":"IF(PM.2=\"\",\"-\",IF(OR(kow.2=\"-\",kow.2=0,kow.2=\"\",Tipo.2=\"METAL\"),\"-\",(0.784*EXP((-1*((kow.2)-1.78)^2)/2.44))))","v":"-"},{"$f":"IF(PM.2=\"\",\"-\",IF(OR(kow.2=\"-\",kow.2=\"\",H.2=\"\",H.2=0,H.2=\"-\",Tipo.2=\"METAL\"),\"-\",((Wpveg+Lpveg*((10^kow.2)^bveg))/((H.2)))))","v":"-"},{"$f":"IF(PM.2=\"\",\"-\",IF(OR(kla.2=\"-\",kla.2=0),\"-\",(((Alveg*gveg)/(kla.2*Vlveg))+lambdamveg+lambdapveg+lambdagveg)))","v":"-"},{"$f":"IF(PM.2=\"\",\"-\",IF(OR(Kd.2=\"-\",Kd.2=\"\",zw.2=\"-\",Tipo.2=\"METAL\"),\"-\",((Kd.2*ps*zw.2)/Vsveg)))","v":"-"},{"$f":"IF(PM.2=\"\",\"-\",IF(OR(pv.2=\"\",S.2=\"\",pv.2=\"-\",pv.2=0,Tipo.2=\"METAL\",PM.2=\"ND\"),\"-\",(((S.2)*(1/PM.2))/((pv.2*101325)/760))))","v":"-"},{"$f":"IF(OR(PM.2=\"\",Tipo.2=\"METAL\"),\"-\",(1/(Rveg*Tarveg)))","v":"-"},{"$f":"IF(PM.2=\"\",\"-\",IF(OR(za.2=\"-\",zw.2=\"-\",zs.2=\"-\",Tipo.2=\"METAL\"),\"-\",((zw.2*Vwveg)/(za.2*Vaveg+zw.2*Vwveg+zs.2*Vsveg))))","v":"-"},{"$f":"IF(PM.2=\"\",\"-\",IF(OR(kow.2=\"-\",kow.2=\"\",Tipo.2=\"METAL\"),\"-\",(Wtrappveg+Ltrappveg*aveg*((10^kow.2)^btrappveg))))","v":"-"},{"$f":"IF(PM.2=\"\",\"-\",IF(OR(Kd.2=0,Kd.2=\"\",krw.2=\"-\",krw.2=0,Tipo.2=\"METAL\"),\"-\",((Qveg/Kd.2)/((Qveg/krw.2)+(kveg*Vtrappveg)))))","v":"-"},0.01]
[null,3,{"$f":"SQI!D11","v":0},{"$f":"SQI!C11","v":""},{"$f":"IF(PM.3=\"\",\"-\",IF(ISERROR(((Dar.3*Oas^3.33)/(OT^2))+((Dagua.3*Ows^3.33)/(H.3*OT^2))),\"-\",(((Dar.3*Oas^3.33)/(OT^2))+((Dagua.3*Ows^3.33)/(H.3*OT^2)))))","v":"-"},{"$f":"IF(PM.3=\"\",\"-\",IF(ISERROR(((Dar.3*Oacrk^3.33)/(OT^2))+((Dagua.3*Owcrk^3.33)/(H.3*OT^2))),\"-\",(((Dar.3*Oacrk^3.33)/(OT^2))+((Dagua.3*Owcrk^3.33)/(H.3*OT^2)))))","v":"-"},{"$f":"IF(PM.3=\"\",\"-\",IF(OR(F10=\"-\",F10=0),\"-\",((Qs/Ab)/((F10/Lcrk)*n))))","v":"-"},{"$f":"IF(PM.3=\"\",\"-\",IF(ISERROR(((Dar.3*Oacap^3.33)/(OT^2))+((Dagua.3*Owcap^3.33)/(H.3*OT^2))),\"-\",(((Dar.3*Oacap^3.33)/(OT^2))+((Dagua.3*Owcap^3.33)/(H.3*OT^2)))))","v":"-"},{"$f":"IF(PM.3=\"\",\"-\",IF(OR(H10=0,E10=0,H10=\"-\",E10=\"-\"),\"-\",((hcap+hv)/((hcap/H10)+(hv/E10)))))","v":"-"},{"$f":"IF(PM.3=\"\",\"-\",((1+(((Ugw*Sgw)/(SIR*Wss))*365))))","v":"-"},{"$f":"IF(OR(PM.3=\"\",PM.3=\"-\"),\"-\",IF(AND(H.3=\"\",Kd.3<>\"\"),(ps/(((Kd.3*ps)+Ows+(0*Oas)))),IF(AND(Kd.3=\"\",H.3<>\"\"),(ps/(((0*ps)+Ows+(H.3*Oas)))),IF(AND(Kd.3=\"\",H.3=\"\"),(ps/(((0*ps)+Ows+(0*Oas)))),(ps/(((Kd.3*ps)+Ows+(H.3*Oas))))))))","v":"-"},{"$f":"IF(PM.3=\"\",\"-\",IF(OR(K10=\"-\",K10=0,S.3=\"\"),\"-\",(S.3/K10)))","v":"-"},{"$f":"IF(PM.3=\"\",\"-\",IF(OR(E10=\"-\",H.3=\"\",H.3=\"-\",Kd.3=\"\",Kd.3=\"-\"),\"-\",MIN((((2*Ws*ps)/(Uar*Sar))*(SQRT((E10*H.3)/(PI()*(Ows+(Kd.3*ps)+(H.3*Oas))*tau)))*10^3),((Ws*ps*Ls)/(Uar*Sar*tau))*10^3)))","v":"-"},{"$f":"IF(PM.3=\"\",\"-\",(((Pa*Ws)/(Uar*Sar))*10^3))","v":"-"},{"$f":"IF(PM.3=\"\",\"-\",IF(OR(E10=\"-\",E10=0,Kd.3=\"\",Kd.3=\"-\"),\"-\",MIN((((H.3*ps)/(((Kd.3*ps)+Ows+(H.3*Oas))*(1+(Uar*Sar*Lss)/(E10*Wss))))*10^3),((Wss*ps*dss)/(Uar*Sar*tau))*10^3)))","v":"-"},{"$f":"IF(PM.3=\"\",\"-\",IF(OR(F10=0,F10=\"-\",E10=\"-\",Kd.3=\"\",Kd.3=\"-\"),\"-\",MIN(IF(dp>0,(((((H.3*ps)/((Kd.3*ps)+Ows+(H.3*Oas)))*((E10/Lss)/(ER*Lb))*EXP(G10))/(EXP(G10)+((E10/Lss)/(ER*Lb))+(((E10/Lss)/((F10/Lcrk)*n))*(EXP(G10)-1))))*10^3),(((((H.3*ps)/((Kd.3*ps)+Ows+(H.3*Oas)))*((E10/Lss)/(ER*Lb)))/(1+((E10/Lss)/(ER*Lb))+((E10/Lss)/((F10/Lcrk)*n))))*10^3)),((ps*dss)/(Lb*ER*tau))*10^3)))","v":"-"},{"$f":"IF(PM.3=\"\",\"-\",IF(OR(K10=\"-\",J10=\"-\",J10=0),\"-\",((K10/J10)*10^3)))","v":"-"},{"$f":"IF(PM.3=\"\",\"-\",IF(OR(I10=0,I10=\"-\"),\"-\",(((H.3)/(1+((Uar*Sar*Lgw)/(Ww*I10))))*10^3)))","v":"-"},{"$f":"IF(PM.3=\"\",\"-\",IF(OR(F10=0,F10=\"-\",I10=\"-\"),\"-\",(((H.3*((I10/Lgw)/(ER*Lb)))/(1+((I10/Lgw)/(ER*Lb))+((I10/Lgw)/((F10/Lcrk)*n))))*10^3)))","v":"-"},{"$f":"IF(PM.3=\"\",\"-\",IF(OR(Kd.3=\"-\",Kd.3=\"\"),\"-\",1+((Kd.3*ps)/Oef)))","v":"-"},{"$f":"IF(PM.3=\"\",\"-\",IF(OR(Ctek.3=0,Ctek.3=\"-\",Ctek.3=\"\"),\"-\",(0.6931/Ctek.3)))","v":"-"},{"$f":"IF(PM.3=\"\",\"-\",x.3/100)","v":"-"},{"$f":"IF(PM.3=\"\",\"-\",IF(OR(lambda.3=\"-\",R.3=\"-\"),(EXP(((x.3/100)/(2*alfa.x))*(1-SQRT(1+((4*alfa.x*0)/(vs*365/100)))))*ERF((Sw/100)/(4*SQRT(alfa.y*(x.3/100))))*ERF((Sd/100)/(2*SQRT(alfa.z*(x.3/100))))),(EXP(((x.3/100)/(2*alfa.x))*(1-SQRT(1+((4*alfa.x*lambda.3*R.3)/(vs*365/100)))))*ERF((Sw/100)/(4*SQRT(alfa.y*(x.3/100))))*ERF((Sd/100)/(2*SQRT(alfa.z*(x.3/100)))))))","v":"-"},{"$f":"IF(PM.3=\"\",\"-\",IF(OR(Kd.3=\"\",Kd.3=\"-\",Kd.3=0,Tipo.3<>\"METAL\"),\"-\",IF(FatBio.3=\"\",(EXP(2.67-1.12*LN(Kd.3))),FatBio.3)))","v":"-"},{"$f":"IF(PM.3=\"\",\"-\",IF(OR(Kd.3=\"\",Kd.3=\"-\",Kd.3=0,Tipo.3<>\"METAL\"),\"-\",IF(fbcf.3=\"\",(EXP(2.67-1.12*LN(Kd.3))),fbcf.3)))","v":"-"},{"$f":"IF(PM.3=\"\",\"-\",Cf.SoloSup.3*cdpx.3)","v":"-"},{"$f":"IF(PM.3=\"\",\"-\",IF(OR(kow.3=\"-\",kow.3=0,kow.3=\"\",Tipo.3=\"METAL\"),\"-\",(0.784*EXP((-1*((kow.3)-1.78)^2)/2.44))))","v":"-"},{"$f":"IF(PM.3=\"\",\"-\",IF(OR(kow.3=\"-\",kow.3=\"\",H.3=\"\",H.3=0,H.3=\"-\",Tipo.3=\"METAL\"),\"-\",((Wpveg+Lpveg*((10^kow.3)^bveg))/((H.3)))))","v":"-"},{"$f":"IF(PM.3=\"\",\"-\",IF(OR(kla.3=\"-\",kla.3=0),\"-\",(((Alveg*gveg)/(kla.3*Vlveg))+lambdamveg+lambdapveg+lambdagveg)))","v":"-"},{"$f":"IF(PM.3=\"\",\"-\",IF(OR(Kd.3=\"-\",Kd.3=\"\",zw.3=\"-\",Tipo.3=\"METAL\"),\"-\",((Kd.3*ps*zw.3)/Vsveg)))","v":"-"},{"$f":"IF(PM.3=\"\",\"-\",IF(OR(pv.3=\"\",S.3=\"\",pv.3=\"-\",pv.3=0,Tipo.3=\"METAL\",PM.3=\"ND\"),\"-\",(((S.3)*(1/PM.3))/((pv.3*101325)/760))))","v":"-"},{"$f":"IF(OR(PM.3=\"\",Tipo.3=\"METAL\"),\"-\",(1/(Rveg*Tarveg)))","v":"-"},{"$f":"IF(PM.3=\"\",\"-\",IF(OR(za.3=\"-\",zw.3=\"-\",zs.3=\"-\",Tipo.3=\"METAL\"),\"-\",((zw.3*Vwveg)/(za.3*Vaveg+zw.3*Vwveg+zs.3*Vsveg))))","v":"-"},{"$f":"IF(PM.3=\"\",\"-\",IF(OR(kow.3=\"-\",kow.3=\"\",Tipo.3=\"METAL\"),\"-\",(Wtrappveg+Ltrappveg*aveg*((10^kow.3)^btrappveg))))","v":"-"},{"$f":"IF(PM.3=\"\",\"-\",IF(OR(Kd.3=0,Kd.3=\"\",krw.3=\"-\",krw.3=0,Tipo.3=\"METAL\"),\"-\",((Qveg/Kd.3)/((Qveg/krw.3)+(kveg*Vtrappveg)))))","v":"-"},0.01]
[null,4,{"$f":"SQI!D12","v":0},{"$f":"SQI!C12","v":""},{"$f":"IF(PM.4=\"\",\"-\",IF(ISERROR(((Dar.4*Oas^3.33)/(OT^2))+((Dagua.4*Ows^3.33)/(H.4*OT^2))),\"-\",(((Dar.4*Oas^3.33)/(OT^2))+((Dagua.4*Ows^3.33)/(H.4*OT^2)))))","v":"-"},{"$f":"IF(PM.4=\"\",\"-\",IF(ISERROR(((Dar.4*Oacrk^3.33)/(OT^2))+((Dagua.4*Owcrk^3.33)/(H.4*OT^2))),\"-\",(((Dar.4*Oacrk^3.33)/(OT^2))+((Dagua.4*Owcrk^3.33)/(H.4*OT^2)))))","v":"-"},{"$f":"IF(PM.4=\"\",\"-\",IF(OR(F11=\"-\",F11=0),\"-\",((Qs/Ab)/((F11/Lcrk)*n))))","v":"-"},{"$f":"IF(PM.4=\"\",\"-\",IF(ISERROR(((Dar.4*Oacap^3.33)/(OT^2))+((Dagua.4*Owcap^3.33)/(H.4*OT^2))),\"-\",(((Dar.4*Oacap^3.33)/(OT^2))+((Dagua.4*Owcap^3.33)/(H.4*OT^2)))))","v":"-"},{"$f":"IF(PM.4=\"\",\"-\",IF(OR(H11=0,E11=0,H11=\"-\",E11=\"-\"),\"-\",((hcap+hv)/((hcap/H11)+(hv/E11)))))","v":"-"},{"$f":"IF(PM.4=\"\",\"-\",((1+(((Ugw*Sgw)/(SIR*Wss))*365))))","v":"-"},{"$f":"IF(OR(PM.4=\"\",PM.4=\"-\"),\"-\",IF(AND(H.4=\"\",Kd.4<>\"\"),(ps/(((Kd.4*ps)+Ows+(0*Oas)))),IF(AND(Kd.4=\"\",H.4<>\"\"),(ps/(((0*ps)+Ows+(H.4*Oas)))),IF(AND(Kd.4=\"\",H.4=\"\"),(ps/(((0*ps)+Ows+(0*Oas)))),(ps/(((Kd.4*ps)+Ows+(H.4*Oas))))))))","v":"-"},{"$f":"IF(PM.4=\"\",\"-\",IF(OR(K11=\"-\",K11=0,S.4=\"\"),\"-\",(S.4/K11)))","v":"-"},{"$f":"IF(PM.4=\"\",\"-\",IF(OR(E11=\"-\",H.4=\"\",H.4=\"-\",Kd.4=\"\",Kd.4=\"-\"),\"-\",MIN((((2*Ws*ps)/(Uar*Sar))*(SQRT((E11*H.4)/(PI()*(Ows+(Kd.4*ps)+(H.4*Oas))*tau)))*10^3),((Ws*ps*Ls)/(Uar*Sar*tau))*10^3)))","v":"-"},{"$f":"IF(PM.4=\"\",\"-\",(((Pa*Ws)/(Uar*Sar))*10^3))","v":"-"},{"$f":"IF(PM.4=\"\",\"-\",IF(OR(E11=\"-\",E11=0,Kd.4=\"\",Kd.4=\"-\"),\"-\",MIN((((H.4*ps)/(((Kd.4*ps)+Ows+(H.4*Oas))*(1+(Uar*Sar*Lss)/(E11*Wss))))*10^3),((Wss*ps*dss)/(Uar*Sar*tau))*10^3)))","v":"-"},{"$f":"IF(PM.4=\"\",\"-\",IF(OR(F11=0,F11=\"-\",E11=\"-\",Kd.4=\"\",Kd.4=\"-\"),\"-\",MIN(IF(dp>0,(((((H.4*ps)/((Kd.4*ps)+Ows+(H.4*Oas)))*((E11/Lss)/(ER*Lb))*EXP(G11))/(EXP(G11)+((E11/Lss)/(ER*Lb))+(((E11/Lss)/((F11/Lcrk)*n))*(EXP(G11)-1))))*10^3),(((((H.4*ps)/((Kd.4*ps)+Ows+(H.4*Oas)))*((E11/Lss)/(ER*Lb)))/(1+((E11/Lss)/(ER*Lb))+((E11/Lss)/((F11/Lcrk)*n))))*10^3)),((ps*dss)/(Lb*ER*tau))*10^3)))","v":"-"},{"$f":"IF(PM.4=\"\",\"-\",IF(OR(K11=\"-\",J11=\"-\",J11=0),\"-\",((K11/J11)*10^3)))","v":"-"},{"$f":"IF(PM.4=\"\",\"-\",IF(OR(I11=0,I11=\"-\"),\"-\",(((H.4)/(1+((Uar*Sar*Lgw)/(Ww*I11))))*10^3)))","v":"-"},{"$f":"IF(PM.4=\"\",\"-\",IF(OR(F11=0,F11=\"-\",I11=\"-\"),\"-\",(((H.4*((I11/Lgw)/(ER*Lb)))/(1+((I11/Lgw)/(ER*Lb))+((I11/Lgw)/((F11/Lcrk)*n))))*10^3)))","v":"-"},{"$f":"IF(PM.4=\"\",\"-\",IF(OR(Kd.4=\"-\",Kd.4=\"\"),\"-\",1+((Kd.4*ps)/Oef)))","v":"-"},{"$f":"IF(PM.4=\"\",\"-\",IF(OR(Ctek.4=0,Ctek.4=\"-\",Ctek.4=\"\"),\"-\",(0.6931/Ctek.4)))","v":"-"},{"$f":"IF(PM.4=\"\",\"-\",x.4/100)","v":"-"},{"$f":"IF(PM.4=\"\",\"-\",IF(OR(lambda.4=\"-\",R.4=\"-\"),(EXP(((x.4/100)/(2*alfa.x))*(1-SQRT(1+((4*alfa.x*0)/(vs*365/100)))))*ERF((Sw/100)/(4*SQRT(alfa.y*(x.4/100))))*ERF((Sd/100)/(2*SQRT(alfa.z*(x.4/100))))),(EXP(((x.4/100)/(2*alfa.x))*(1-SQRT(1+((4*alfa.x*lambda.4*R.4)/(vs*365/100)))))*ERF((Sw/100)/(4*SQRT(alfa.y*(x.4/100))))*ERF((Sd/100)/(2*SQRT(alfa.z*(x.4/100)))))))","v":"-"},{"$f":"IF(PM.4=\"\",\"-\",IF(OR(Kd.4=\"\",Kd.4=\"-\",Kd.4=0,Tipo.4<>\"METAL\"),\"-\",IF(FatBio.4=\"\",(EXP(2.67-1.12*LN(Kd.4))),FatBio.4)))","v":"-"},{"$f":"IF(PM.4=\"\",\"-\",IF(OR(Kd.4=\"\",Kd.4=\"-\",Kd.4=0,Tipo.4<>\"METAL\"),\"-\",IF(fbcf.4=\"\",(EXP(2.67-1.12*LN(Kd.4))),fbcf.4)))","v":"-"},{"$f":"IF(PM.4=\"\",\"-\",Cf.SoloSup.4*cdpx.4)","v":"-"},{"$f":"IF(PM.4=\"\",\"-\",IF(OR(kow.4=\"-\",kow.4=0,kow.4=\"\",Tipo.4=\"METAL\"),\"-\",(0.784*EXP((-1*((kow.4)-1.78)^2)/2.44))))","v":"-"},{"$f":"IF(PM.4=\"\",\"-\",IF(OR(kow.4=\"-\",kow.4=\"\",H.4=\"\",H.4=0,H.4=\"-\",Tipo.4=\"METAL\"),\"-\",((Wpveg+Lpveg*((10^kow.4)^bveg))/((H.4)))))","v":"-"},{"$f":"IF(PM.4=\"\",\"-\",IF(OR(kla.4=\"-\",kla.4=0),\"-\",(((Alveg*gveg)/(kla.4*Vlveg))+lambdamveg+lambdapveg+lambdagveg)))","v":"-"},{"$f":"IF(PM.4=\"\",\"-\",IF(OR(Kd.4=\"-\",Kd.4=\"\",zw.4=\"-\",Tipo.4=\"METAL\"),\"-\",((Kd.4*ps*zw.4)/Vsveg)))","v":"-"},{"$f":"IF(PM.4=\"\",\"-\",IF(OR(pv.4=\"\",S.4=\"\",pv.4=\"-\",pv.4=0,Tipo.4=\"METAL\",PM.4=\"ND\"),\"-\",(((S.4)*(1/PM.4))/((pv.4*101325)/760))))","v":"-"},{"$f":"IF(OR(PM.4=\"\",Tipo.4=\"METAL\"),\"-\",(1/(Rveg*Tarveg)))","v":"-"},{"$f":"IF(PM.4=\"\",\"-\",IF(OR(za.4=\"-\",zw.4=\"-\",zs.4=\"-\",Tipo.4=\"METAL\"),\"-\",((zw.4*Vwveg)/(za.4*Vaveg+zw.4*Vwveg+zs.4*Vsveg))))","v":"-"},{"$f":"IF(PM.4=\"\",\"-\",IF(OR(kow.4=\"-\",kow.4=\"\",Tipo.4=\"METAL\"),\"-\",(Wtrappveg+Ltrappveg*aveg*((10^kow.4)^btrappveg))))","v":"-"},{"$f":"IF(PM.4=\"\",\"-\",IF(OR(Kd.4=0,Kd.4=\"\",krw.4=\"-\",krw.4=0,Tipo.4=\"METAL\"),\"-\",((Qveg/Kd.4)/((Qveg/krw.4)+(kveg*Vtrappveg)))))","v":"-"},0.01]
[null,5,{"$f":"SQI!D13","v":0},{"$f":"SQI!C13","v":""},{"$f":"IF(PM.5=\"\",\"-\",IF(ISERROR(((Dar.5*Oas^3.33)/(OT^2))+((Dagua.5*Ows^3.33)/(H.5*OT^2))),\"-\",(((Dar.5*Oas^3.33)/(OT^2))+((Dagua.5*Ows^3.33)/(H.5*OT^2)))))","v":"-"},{"$f":"IF(PM.5=\"\",\"-\",IF(ISERROR(((Dar.5*Oacrk^3.33)/(OT^2))+((Dagua.5*Owcrk^3.33)/(H.5*OT^2))),\"-\",(((Dar.5*Oacrk^3.33)/(OT^2))+((Dagua.5*Owcrk^3.33)/(H.5*OT^2)))))","v":"-"},{"$f":"IF(PM.5=\"\",\"-\",IF(OR(F12=\"-\",F12=0),\"-\",((Qs/Ab)/((F12/Lcrk)*n))))","v":"-"},{"$f":"IF(PM.5=\"\",\"-\",IF(ISERROR(((Dar.5*Oacap^3.33)/(OT^2))+((Dagua.5*Owcap^3.33)/(H.5*OT^2))),\"-\",(((Dar.5*Oacap^3.33)/(OT^2))+((Dagua.5*Owcap^3.33)/(H.5*OT^2)))))","v":"-"},{"$f":"IF(PM.5=\"\",\"-\",IF(OR(H12=0,E12=0,H12=\"-\",E12=\"-\"),\"-\",((hcap+hv)/((hcap/H12)+(hv/E12)))))","v":"-"},{"$f":"IF(PM.5=\"\",\"-\",((1+(((Ugw*Sgw)/(SIR*Wss))*365))))","v":"-"},{"$f":"IF(OR(PM.5=\"\",PM.5=\"-\"),\"-\",IF(AND(H.5=\"\",Kd.5<>\"\"),(ps/(((Kd.5*ps)+Ows+(0*Oas)))),IF(AND(Kd.5=\"\",H.5<>\"\"),(ps/(((0*ps)+Ows+(H.5*Oas)))),IF(AND(Kd.5=\"\",H.5=\"\"),(ps/(((0*ps)+Ows+(0*Oas)))),(ps/(((Kd.5*ps)+Ows+(H.5*Oas))))))))","v":"-"},{"$f":"IF(PM.5=\"\",\"-\",IF(OR(K12=\"-\",K12=0,S.5=\"\"),\"-\",(S.5/K12)))","v":"-"},{"$f":"IF(PM.5=\"\",\"-\",IF(OR(E12=\"-\",H.5=\"\",H.5=\"-\",Kd.5=\"\",Kd.5=\"-\"),\"-\",MIN((((2*Ws*ps)/(Uar*Sar))*(SQRT((E12*H.5)/(PI()*(Ows+(Kd.5*ps)+(H.5*Oas))*tau)))*10^3),((Ws*ps*Ls)/(Uar*Sar*tau))*10^3)))","v":"-"},{"$f":"IF(PM.5=\"\",\"-\",(((Pa*Ws)/(Uar*Sar))*10^3))","v":"-"},{"$f":"IF(PM.5=\"\",\"-\",IF(OR(E12=\"-\",E12=0,Kd.5=\"\",Kd.5=\"-\"),\"-\",MIN((((H.5*ps)/(((Kd.5*ps)+Ows+(H.5*Oas))*(1+(Uar*Sar*Lss)/(E12*Wss))))*10^3),((Wss*ps*dss)/(Uar*Sar*tau))*10^3)))","v":"-"},{"$f":"IF(PM.5=\"\",\"-\",IF(OR(F12=0,F12=\"-\",E12=\"-\",Kd.5=\"\",Kd.5=\"-\"),\"-\",MIN(IF(dp>0,(((((H.5*ps)/((Kd.5*ps)+Ows+(H.5*Oas)))*((E12/Lss)/(ER*Lb))*EXP(G12))/(EXP(G12)+((E12/Lss)/(ER*Lb))+(((E12/Lss)/((F12/Lcrk)*n))*(EXP(G12)-1))))*10^3),(((((H.5*ps)/((Kd.5*ps)+Ows+(H.5*Oas)))*((E12/Lss)/(ER*Lb)))/(1+((E12/Lss)/(ER*Lb))+((E12/Lss)/((F12/Lcrk)*n))))*10^3)),((ps*dss)/(Lb*ER*tau))*10^3)))","v":"-"},{"$f":"IF(PM.5=\"\",\"-\",IF(OR(K12=\"-\",J12=\"-\",J12=0),\"-\",((K12/J12)*10^3)))","v":"-"},{"$f":"IF(PM.5=\"\",\"-\",IF(OR(I12=0,I12=\"-\"),\"-\",(((H.5)/(1+((Uar*Sar*Lgw)/(Ww*I12))))*10^3)))","v":"-"},{"$f":"IF(PM.5=\"\",\"-\",IF(OR(F12=0,F12=\"-\",I12=\"-\"),\"-\",(((H.5*((I12/Lgw)/(ER*Lb)))/(1+((I12/Lgw)/(ER*Lb))+((I12/Lgw)/((F12/Lcrk)*n))))*10^3)))","v":"-"},{"$f":"IF(PM.5=\"\",\"-\",IF(OR(Kd.5=\"-\",Kd.5=\"\"),\"-\",1+((Kd.5*ps)/Oef)))","v":"-"},{"$f":"IF(PM.5=\"\",\"-\",IF(OR(Ctek.5=0,Ctek.5=\"-\",Ctek.5=\"\"),\"-\",(0.6931/Ctek.5)))","v":"-"},{"$f":"IF(PM.5=\"\",\"-\",x.5/100)","v":"-"},{"$f":"IF(PM.5=\"\",\"-\",IF(OR(lambda.5=\"-\",R.5=\"-\"),(EXP(((x.5/100)/(2*alfa.x))*(1-SQRT(1+((4*alfa.x*0)/(vs*365/100)))))*ERF((Sw/100)/(4*SQRT(alfa.y*(x.5/100))))*ERF((Sd/100)/(2*SQRT(alfa.z*(x.5/100))))),(EXP(((x.5/100)/(2*alfa.x))*(1-SQRT(1+((4*alfa.x*lambda.5*R.5)/(vs*365/100)))))*ERF((Sw/100)/(4*SQRT(alfa.y*(x.5/100))))*ERF((Sd/100)/(2*SQRT(alfa.z*(x.5/100)))))))","v":"-"},{"$f":"IF(PM.5=\"\",\"-\",IF(OR(Kd.5=\"\",Kd.5=\"-\",Kd.5=0,Tipo.5<>\"METAL\"),\"-\",IF(FatBio.5=\"\",(EXP(2.67-1.12*LN(Kd.5))),FatBio.5)))","v":"-"},{"$f":"IF(PM.5=\"\",\"-\",IF(OR(Kd.5=\"\",Kd.5=\"-\",Kd.5=0,Tipo.5<>\"METAL\"),\"-\",IF(fbcf.5=\"\",(EXP(2.67-1.12*LN(Kd.5))),fbcf.5)))","v":"-"},{"$f":"IF(PM.5=\"\",\"-\",Cf.SoloSup.5*cdpx.5)","v":"-"},{"$f":"IF(PM.5=\"\",\"-\",IF(OR(kow.5=\"-\",kow.5=0,kow.5=\"\",Tipo.5=\"METAL\"),\"-\",(0.784*EXP((-1*((kow.5)-1.78)^2)/2.44))))","v":"-"},{"$f":"IF(PM.5=\"\",\"-\",IF(OR(kow.5=\"-\",kow.5=\"\",H.5=\"\",H.5=0,H.5=\"-\",Tipo.5=\"METAL\"),\"-\",((Wpveg+Lpveg*((10^kow.5)^bveg))/((H.5)))))","v":"-"},{"$f":"IF(PM.5=\"\",\"-\",IF(OR(kla.5=\"-\",kla.5=0),\"-\",(((Alveg*gveg)/(kla.5*Vlveg))+lambdamveg+lambdapveg+lambdagveg)))","v":"-"},{"$f":"IF(PM.5=\"\",\"-\",IF(OR(Kd.5=\"-\",Kd.5=\"\",zw.5=\"-\",Tipo.5=\"METAL\"),\"-\",((Kd.5*ps*zw.5)/Vsveg)))","v":"-"},{"$f":"IF(PM.5=\"\",\"-\",IF(OR(pv.5=\"\",S.5=\"\",pv.5=\"-\",pv.5=0,Tipo.5=\"METAL\",PM.5=\"ND\"),\"-\",(((S.5)*(1/PM.5))/((pv.5*101325)/760))))","v":"-"},{"$f":"IF(OR(PM.5=\"\",Tipo.5=\"METAL\"),\"-\",(1/(Rveg*Tarveg)))","v":"-"},{"$f":"IF(PM.5=\"\",\"-\",IF(OR(za.5=\"-\",zw.5=\"-\",zs.5=\"-\",Tipo.5=\"METAL\"),\"-\",((zw.5*Vwveg)/(za.5*Vaveg+zw.5*Vwveg+zs.5*Vsveg))))","v":"-"},{"$f":"IF(PM.5=\"\",\"-\",IF(OR(kow.5=\"-\",kow.5=\"\",Tipo.5=\"METAL\"),\"-\",(Wtrappveg+Ltrappveg*aveg*((10^kow.5)^btrappveg))))","v":"-"},{"$f":"IF(PM.5=\"\",\"-\",IF(OR(Kd.5=0,Kd.5=\"\",krw.5=\"-\",krw.5=0,Tipo.5=\"METAL\"),\"-\",((Qveg/Kd.5)/((Qveg/krw.5)+(kveg*Vtrappveg)))))","v":"-"},0.01]
[null,6,{"$f":"SQI!D14","v":0},{"$f":"SQI!C14","v":""},{"$f":"IF(PM.6=\"\",\"-\",IF(ISERROR(((Dar.6*Oas^3.33)/(OT^2))+((Dagua.6*Ows^3.33)/(H.6*OT^2))),\"-\",(((Dar.6*Oas^3.33)/(OT^2))+((Dagua.6*Ows^3.33)/(H.6*OT^2)))))","v":"-"},{"$f":"IF(PM.6=\"\",\"-\",IF(ISERROR(((Dar.6*Oacrk^3.33)/(OT^2))+((Dagua.6*Owcrk^3.33)/(H.6*OT^2))),\"-\",(((Dar.6*Oacrk^3.33)/(OT^2))+((Dagua.6*Owcrk^3.33)/(H.6*OT^2)))))","v":"-"},{"$f":"IF(PM.6=\"\",\"-\",IF(OR(F13=\"-\",F13=0),\"-\",((Qs/Ab)/((F13/Lcrk)*n))))","v":"-"},{"$f":"IF(PM.6=\"\",\"-\",IF(ISERROR(((Dar.6*Oacap^3.33)/(OT^2))+((Dagua.6*Owcap^3.33)/(H.6*OT^2))),\"-\",(((Dar.6*Oacap^3.33)/(OT^2))+((Dagua.6*Owcap^3.33)/(H.6*OT^2)))))","v":"-"},{"$f":"IF(PM.6=\"\",\"-\",IF(OR(H13=0,E13=0,H13=\"-\",E13=\"-\"),\"-\",((hcap+hv)/((hcap/H13)+(hv/E13)))))","v":"-"},{"$f":"IF(PM.6=\"\",\"-\",((1+(((Ugw*Sgw)/(SIR*Wss))*365))))","v":"-"},{"$f":"IF(OR(PM.6=\"\",PM.6=\"-\"),\"-\",IF(AND(H.6=\"\",Kd.6<>\"\"),(ps/(((Kd.6*ps)+Ows+(0*Oas)))),IF(AND(Kd.6=\"\",H.6<>\"\"),(ps/(((0*ps)+Ows+(H.6*Oas)))),IF(AND(Kd.6=\"\",H.6=\"\"),(ps/(((0*ps)+Ows+(0*Oas)))),(ps/(((Kd.6*ps)+Ows+(H.6*Oas))))))))","v":"-"},{"$f":"IF(PM.6=\"\",\"-\",IF(OR(K13=\"-\",K13=0,S.6=\"\"),\"-\",(S.6/K13)))","v":"-"},{"$f":"IF(PM.6=\"\",\"-\",IF(OR(E13=\"-\",H.6=\"\",H.6=\"-\",Kd.6=\"\",Kd.6=\"-\"),\"-\",MIN((((2*Ws*ps)/(Uar*Sar))*(SQRT((E13*H.6)/(PI()*(Ows+(Kd.6*ps)+(H.6*Oas))*tau)))*10^3),((Ws*ps*Ls)/(Uar*Sar*tau))*10^3)))","v":"-"},{"$f":"IF(PM.6=\"\",\"-\",(((Pa*Ws)/(Uar*Sar))*10^3))","v":"-"},{"$f":"IF(PM.6=\"\",\"-\",IF(OR(E13=\"-\",E13=0,Kd.6=\"\",Kd.6=\"-\"),\"-\",MIN((((H.6*ps)/(((Kd.6*ps)+Ows+(H.6*Oas))*(1+(Uar*Sar*Lss)/(E13*Wss))))*10^3),((Wss*ps*dss)/(Uar*Sar*tau))*10^3)))","v":"-"},{"$f":"IF(PM.6=\"\",\"-\",IF(OR(F13=0,F13=\"-\",E13=\"-\",Kd.6=\"\",Kd.6=\"-\"),\"-\",MIN(IF(dp>0,(((((H.6*ps)/((Kd.6*ps)+Ows+(H.6*Oas)))*((E13/Lss)/(ER*Lb))*EXP(G13))/(EXP(G13)+((E13/Lss)/(ER*Lb))+(((E13/Lss)/((F13/Lcrk)*n))*(EXP(G13)-1))))*10^3),(((((H.6*ps)/((Kd.6*ps)+Ows+(H.6*Oas)))*((E13/Lss)/(ER*Lb)))/(1+((E13/Lss)/(ER*Lb))+((E13/Lss)/((F13/Lcrk)*n))))*10^3)),((ps*dss)/(Lb*ER*tau))*10^3)))","v":"-"},{"$f":"IF(PM.6=\"\",\"-\",IF(OR(K13=\"-\",J13=\"-\",J13=0),\"-\",((K13/J13)*10^3)))","v":"-"},{"$f":"IF(PM.6=\"\",\"-\",IF(OR(I13=0,I13=\"-\"),\"-\",(((H.6)/(1+((Uar*Sar*Lgw)/(Ww*I13))))*10^3)))","v":"-"},{"$f":"IF(PM.6=\"\",\"-\",IF(OR(F13=0,F13=\"-\",I13=\"-\"),\"-\",(((H.6*((I13/Lgw)/(ER*Lb)))/(1+((I13/Lgw)/(ER*Lb))+((I13/Lgw)/((F13/Lcrk)*n))))*10^3)))","v":"-"},{"$f":"IF(PM.6=\"\",\"-\",IF(OR(Kd.6=\"-\",Kd.6=\"\"),\"-\",1+((Kd.6*ps)/Oef)))","v":"-"},{"$f":"IF(PM.6=\"\",\"-\",IF(OR(Ctek.6=0,Ctek.6=\"-\",Ctek.6=\"\"),\"-\",(0.6931/Ctek.6)))","v":"-"},{"$f":"IF(PM.6=\"\",\"-\",x.6/100)","v":"-"},{"$f":"IF(PM.6=\"\",\"-\",IF(OR(lambda.6=\"-\",R.6=\"-\"),(EXP(((x.6/100)/(2*alfa.x))*(1-SQRT(1+((4*alfa.x*0)/(vs*365/100)))))*ERF((Sw/100)/(4*SQRT(alfa.y*(x.6/100))))*ERF((Sd/100)/(2*SQRT(alfa.z*(x.6/100))))),(EXP(((x.6/100)/(2*alfa.x))*(1-SQRT(1+((4*alfa.x*lambda.6*R.6)/(vs*365/100)))))*ERF((Sw/100)/(4*SQRT(alfa.y*(x.6/100))))*ERF((Sd/100)/(2*SQRT(alfa.z*(x.6/100)))))))","v":"-"},{"$f":"IF(PM.6=\"\",\"-\",IF(OR(Kd.6=\"\",Kd.6=\"-\",Kd.6=0,Tipo.6<>\"METAL\"),\"-\",IF(FatBio.6=\"\",(EXP(2.67-1.12*LN(Kd.6))),FatBio.6)))","v":"-"},{"$f":"IF(PM.6=\"\",\"-\",IF(OR(Kd.6=\"\",Kd.6=\"-\",Kd.6=0,Tipo.6<>\"METAL\"),\"-\",IF(fbcf.6=\"\",(EXP(2.67-1.12*LN(Kd.6))),fbcf.6)))","v":"-"},{"$f":"IF(PM.6=\"\",\"-\",Cf.SoloSup.6*cdpx.6)","v":"-"},{"$f":"IF(PM.6=\"\",\"-\",IF(OR(kow.6=\"-\",kow.6=0,kow.6=\"\",Tipo.6=\"METAL\"),\"-\",(0.784*EXP((-1*((kow.6)-1.78)^2)/2.44))))","v":"-"},{"$f":"IF(PM.6=\"\",\"-\",IF(OR(kow.6=\"-\",kow.6=\"\",H.6=\"\",H.6=0,H.6=\"-\",Tipo.6=\"METAL\"),\"-\",((Wpveg+Lpveg*((10^kow.6)^bveg))/((H.6)))))","v":"-"},{"$f":"IF(PM.6=\"\",\"-\",IF(OR(kla.6=\"-\",kla.6=0),\"-\",(((Alveg*gveg)/(kla.6*Vlveg))+lambdamveg+lambdapveg+lambdagveg)))","v":"-"},{"$f":"IF(PM.6=\"\",\"-\",IF(OR(Kd.6=\"-\",Kd.6=\"\",zw.6=\"-\",Tipo.6=\"METAL\"),\"-\",((Kd.6*ps*zw.6)/Vsveg)))","v":"-"},{"$f":"IF(PM.6=\"\",\"-\",IF(OR(pv.6=\"\",S.6=\"\",pv.6=\"-\",pv.6=0,Tipo.6=\"METAL\",PM.6=\"ND\"),\"-\",(((S.6)*(1/PM.6))/((pv.6*101325)/760))))","v":"-"},{"$f":"IF(OR(PM.6=\"\",Tipo.6=\"METAL\"),\"-\",(1/(Rveg*Tarveg)))","v":"-"},{"$f":"IF(PM.6=\"\",\"-\",IF(OR(za.6=\"-\",zw.6=\"-\",zs.6=\"-\",Tipo.6=\"METAL\"),\"-\",((zw.6*Vwveg)/(za.6*Vaveg+zw.6*Vwveg+zs.6*Vsveg))))","v":"-"},{"$f":"IF(PM.6=\"\",\"-\",IF(OR(kow.6=\"-\",kow.6=\"\",Tipo.6=\"METAL\"),\"-\",(Wtrappveg+Ltrappveg*aveg*((10^kow.6)^btrappveg))))","v":"-"},{"$f":"IF(PM.6=\"\",\"-\",IF(OR(Kd.6=0,Kd.6=\"\",krw.6=\"-\",krw.6=0,Tipo.6=\"METAL\"),\"-\",((Qveg/Kd.6)/((Qveg/krw.6)+(kveg*Vtrappveg)))))","v":"-"},0.01]
[null,7,{"$f":"SQI!D15","v":0},{"$f":"SQI!C15","v":""},{"$f":"IF(PM.7=\"\",\"-\",IF(ISERROR(((Dar.7*Oas^3.33)/(OT^2))+((Dagua.7*Ows^3.33)/(H.7*OT^2))),\"-\",(((Dar.7*Oas^3.33)/(OT^2))+((Dagua.7*Ows^3.33)/(H.7*OT^2)))))","v":"-"},{"$f":"IF(PM.7=\"\",\"-\",IF(ISERROR(((Dar.7*Oacrk^3.33)/(OT^2))+((Dagua.7*Owcrk^3.33)/(H.7*OT^2))),\"-\",(((Dar.7*Oacrk^3.33)/(OT^2))+((Dagua.7*Owcrk^3.33)/(H.7*OT^2)))))","v":"-"},{"$f":"IF(PM.7=\"\",\"-\",IF(OR(F14=\"-\",F14=0),\"-\",((Qs/Ab)/((F14/Lcrk)*n))))","v":"-"},{"$f":"IF(PM.7=\"\",\"-\",IF(ISERROR(((Dar.7*Oacap^3.33)/(OT^2))+((Dagua.7*Owcap^3.33)/(H.7*OT^2))),\"-\",(((Dar.7*Oacap^3.33)/(OT^2))+((Dagua.7*Owcap^3.33)/(H.7*OT^2)))))","v":"-"},{"$f":"IF(PM.7=\"\",\"-\",IF(OR(H14=0,E14=0,H14=\"-\",E14=\"-\"),\"-\",((hcap+hv)/((hcap/H14)+(hv/E14)))))","v":"-"},{"$f":"IF(PM.7=\"\",\"-\",((1+(((Ugw*Sgw)/(SIR*Wss))*365))))","v":"-"},{"$f":"IF(OR(PM.7=\"\",PM.7=\"-\"),\"-\",IF(AND(H.7=\"\",Kd.7<>\"\"),(ps/(((Kd.7*ps)+Ows+(0*Oas)))),IF(AND(Kd.7=\"\",H.7<>\"\"),(ps/(((0*ps)+Ows+(H.7*Oas)))),IF(AND(Kd.7=\"\",H.7=\"\"),(ps/(((0*ps)+Ows+(0*Oas)))),(ps/(((Kd.7*ps)+Ows+(H.7*Oas))))))))","v":"-"},{"$f":"IF(PM.7=\"\",\"-\",IF(OR(K14=\"-\",K14=0,S.7=\"\"),\"-\",(S.7/K14)))","v":"-"},{"$f":"IF(PM.7=\"\",\"-\",IF(OR(E14=\"-\",H.7=\"\",H.7=\"-\",Kd.7=\"\",Kd.7=\"-\"),\"-\",MIN((((2*Ws*ps)/(Uar*Sar))*(SQRT((E14*H.7)/(PI()*(Ows+(Kd.7*ps)+(H.7*Oas))*tau)))*10^3),((Ws*ps*Ls)/(Uar*Sar*tau))*10^3)))","v":"-"},{"$f":"IF(PM.7=\"\",\"-\",(((Pa*Ws)/(Uar*Sar))*10^3))","v":"-"},{"$f":"IF(PM.7=\"\",\"-\",IF(OR(E14=\"-\",E14=0,Kd.7=\"\",Kd.7=\"-\"),\"-\",MIN((((H.7*ps)/(((Kd.7*ps)+Ows+(H.7*Oas))*(1+(Uar*Sar*Lss)/(E14*Wss))))*10^3),((Wss*ps*dss)/(Uar*Sar*tau))*10^3)))","v":"-"},{"$f":"IF(PM.7=\"\",\"-\",IF(OR(F14=0,F14=\"-\",E14=\"-\",Kd.7=\"\",Kd.7=\"-\"),\"-\",MIN(IF(dp>0,(((((H.7*ps)/((Kd.7*ps)+Ows+(H.7*Oas)))*((E14/Lss)/(ER*Lb))*EXP(G14))/(EXP(G14)+((E14/Lss)/(ER*Lb))+(((E14/Lss)/((F14/Lcrk)*n))*(EXP(G14)-1))))*10^3),(((((H.7*ps)/((Kd.7*ps)+Ows+(H.7*Oas)))*((E14/Lss)/(ER*Lb)))/(1+((E14/Lss)/(ER*Lb))+((E14/Lss)/((F14/Lcrk)*n))))*10^3)),((ps*dss)/(Lb*ER*tau))*10^3)))","v":"-"},{"$f":"IF(PM.7=\"\",\"-\",IF(OR(K14=\"-\",J14=\"-\",J14=0),\"-\",((K14/J14)*10^3)))","v":"-"},{"$f":"IF(PM.7=\"\",\"-\",IF(OR(I14=0,I14=\"-\"),\"-\",(((H.7)/(1+((Uar*Sar*Lgw)/(Ww*I14))))*10^3)))","v":"-"},{"$f":"IF(PM.7=\"\",\"-\",IF(OR(F14=0,F14=\"-\",I14=\"-\"),\"-\",(((H.7*((I14/Lgw)/(ER*Lb)))/(1+((I14/Lgw)/(ER*Lb))+((I14/Lgw)/((F14/Lcrk)*n))))*10^3)))","v":"-"},{"$f":"IF(PM.7=\"\",\"-\",IF(OR(Kd.7=\"-\",Kd.7=\"\"),\"-\",1+((Kd.7*ps)/Oef)))","v":"-"},{"$f":"IF(PM.7=\"\",\"-\",IF(OR(Ctek.7=0,Ctek.7=\"-\",Ctek.7=\"\"),\"-\",(0.6931/Ctek.7)))","v":"-"},{"$f":"IF(PM.7=\"\",\"-\",x.7/100)","v":"-"},{"$f":"IF(PM.7=\"\",\"-\",IF(OR(lambda.7=\"-\",R.7=\"-\"),(EXP(((x.7/100)/(2*alfa.x))*(1-SQRT(1+((4*alfa.x*0)/(vs*365/100)))))*ERF((Sw/100)/(4*SQRT(alfa.y*(x.7/100))))*ERF((Sd/100)/(2*SQRT(alfa.z*(x.7/100))))),(EXP(((x.7/100)/(2*alfa.x))*(1-SQRT(1+((4*alfa.x*lambda.7*R.7)/(vs*365/100)))))*ERF((Sw/100)/(4*SQRT(alfa.y*(x.7/100))))*ERF((Sd/100)/(2*SQRT(alfa.z*(x.7/100)))))))","v":"-"},{"$f":"IF(PM.7=\"\",\"-\",IF(OR(Kd.7=\"\",Kd.7=\"-\",Kd.7=0,Tipo.7<>\"METAL\"),\"-\",IF(FatBio.7=\"\",(EXP(2.67-1.12*LN(Kd.7))),FatBio.7)))","v":"-"},{"$f":"IF(PM.7=\"\",\"-\",IF(OR(Kd.7=\"\",Kd.7=\"-\",Kd.7=0,Tipo.7<>\"METAL\"),\"-\",IF(fbcf.7=\"\",(EXP(2.67-1.12*LN(Kd.7))),fbcf.7)))","v":"-"},{"$f":"IF(PM.7=\"\",\"-\",Cf.SoloSup.7*cdpx.7)","v":"-"},{"$f":"IF(PM.7=\"\",\"-\",IF(OR(kow.7=\"-\",kow.7=0,kow.7=\"\",Tipo.7=\"METAL\"),\"-\",(0.784*EXP((-1*((kow.7)-1.78)^2)/2.44))))","v":"-"},{"$f":"IF(PM.7=\"\",\"-\",IF(OR(kow.7=\"-\",kow.7=\"\",H.7=\"\",H.7=0,H.7=\"-\",Tipo.7=\"METAL\"),\"-\",((Wpveg+Lpveg*((10^kow.7)^bveg))/((H.7)))))","v":"-"},{"$f":"IF(PM.7=\"\",\"-\",IF(OR(kla.7=\"-\",kla.7=0),\"-\",(((Alveg*gveg)/(kla.7*Vlveg))+lambdamveg+lambdapveg+lambdagveg)))","v":"-"},{"$f":"IF(PM.7=\"\",\"-\",IF(OR(Kd.7=\"-\",Kd.7=\"\",zw.7=\"-\",Tipo.7=\"METAL\"),\"-\",((Kd.7*ps*zw.7)/Vsveg)))","v":"-"},{"$f":"IF(PM.7=\"\",\"-\",IF(OR(pv.7=\"\",S.7=\"\",pv.7=\"-\",pv.7=0,Tipo.7=\"METAL\",PM.7=\"ND\"),\"-\",(((S.7)*(1/PM.7))/((pv.7*101325)/760))))","v":"-"},{"$f":"IF(OR(PM.7=\"\",Tipo.7=\"METAL\"),\"-\",(1/(Rveg*Tarveg)))","v":"-"},{"$f":"IF(PM.7=\"\",\"-\",IF(OR(za.7=\"-\",zw.7=\"-\",zs.7=\"-\",Tipo.7=\"METAL\"),\"-\",((zw.7*Vwveg)/(za.7*Vaveg+zw.7*Vwveg+zs.7*Vsveg))))","v":"-"},{"$f":"IF(PM.7=\"\",\"-\",IF(OR(kow.7=\"-\",kow.7=\"\",Tipo.7=\"METAL\"),\"-\",(Wtrappveg+Ltrappveg*aveg*((10^kow.7)^btrappveg))))","v":"-"},{"$f":"IF(PM.7=\"\",\"-\",IF(OR(Kd.7=0,Kd.7=\"\",krw.7=\"-\",krw.7=0,Tipo.7=\"METAL\"),\"-\",((Qveg/Kd.7)/((Qveg/krw.7)+(kveg*Vtrappveg)))))","v":"-"},0.01]
[null,8,{"$f":"SQI!D16","v":0},{"$f":"SQI!C16","v":""},{"$f":"IF(PM.8=\"\",\"-\",IF(ISERROR(((Dar.8*Oas^3.33)/(OT^2))+((Dagua.8*Ows^3.33)/(H.8*OT^2))),\"-\",(((Dar.8*Oas^3.33)/(OT^2))+((Dagua.8*Ows^3.33)/(H.8*OT^2)))))","v":"-"},{"$f":"IF(PM.8=\"\",\"-\",IF(ISERROR(((Dar.8*Oacrk^3.33)/(OT^2))+((Dagua.8*Owcrk^3.33)/(H.8*OT^2))),\"-\",(((Dar.8*Oacrk^3.33)/(OT^2))+((Dagua.8*Owcrk^3.33)/(H.8*OT^2)))))","v":"-"},{"$f":"IF(PM.8=\"\",\"-\",IF(OR(F15=\"-\",F15=0),\"-\",((Qs/Ab)/((F15/Lcrk)*n))))","v":"-"},{"$f":"IF(PM.8=\"\",\"-\",IF(ISERROR(((Dar.8*Oacap^3.33)/(OT^2))+((Dagua.8*Owcap^3.33)/(H.8*OT^2))),\"-\",(((Dar.8*Oacap^3.33)/(OT^2))+((Dagua.8*Owcap^3.33)/(H.8*OT^2)))))","v":"-"},{"$f":"IF(PM.8=\"\",\"-\",IF(OR(H15=0,E15=0,H15=\"-\",E15=\"-\"),\"-\",((hcap+hv)/((hcap/H15)+(hv/E15)))))","v":"-"},{"$f":"IF(PM.8=\"\",\"-\",((1+(((Ugw*Sgw)/(SIR*Wss))*365))))","v":"-"},{"$f":"IF(OR(PM.8=\"\",PM.8=\"-\"),\"-\",IF(AND(H.8=\"\",Kd.8<>\"\"),(ps/(((Kd.8*ps)+Ows+(0*Oas)))),IF(AND(Kd.8=\"\",H.8<>\"\"),(ps/(((0*ps)+Ows+(H.8*Oas)))),IF(AND(Kd.8=\"\",H.8=\"\"),(ps/(((0*ps)+Ows+(0*Oas)))),(ps/(((Kd.8*ps)+Ows+(H.8*Oas))))))))","v":"-"},{"$f":"IF(PM.8=\"\",\"-\",IF(OR(K15=\"-\",K15=0,S.8=\"\"),\"-\",(S.8/K15)))","v":"-"},{"$f":"IF(PM.8=\"\",\"-\",IF(OR(E15=\"-\",H.8=\"\",H.8=\"-\",Kd.8=\"\",Kd.8=\"-\"),\"-\",MIN((((2*Ws*ps)/(Uar*Sar))*(SQRT((E15*H.8)/(PI()*(Ows+(Kd.8*ps)+(H.8*Oas))*tau)))*10^3),((Ws*ps*Ls)/(Uar*Sar*tau))*10^3)))","v":"-"},{"$f":"IF(PM.8=\"\",\"-\",(((Pa*Ws)/(Uar*Sar))*10^3))","v":"-"},{"$f":"IF(PM.8=\"\",\"-\",IF(OR(E15=\"-\",E15=0,Kd.8=\"\",Kd.8=\"-\"),\"-\",MIN((((H.8*ps)/(((Kd.8*ps)+Ows+(H.8*Oas))*(1+(Uar*Sar*Lss)/(E15*Wss))))*10^3),((Wss*ps*dss)/(Uar*Sar*tau))*10^3)))","v":"-"},{"$f":"IF(PM.8=\"\",\"-\",IF(OR(F15=0,F15=\"-\",E15=\"-\",Kd.8=\"\",Kd.8=\"-\"),\"-\",MIN(IF(dp>0,(((((H.8*ps)/((Kd.8*ps)+Ows+(H.8*Oas)))*((E15/Lss)/(ER*Lb))*EXP(G15))/(EXP(G15)+((E15/Lss)/(ER*Lb))+(((E15/Lss)/((F15/Lcrk)*n))*(EXP(G15)-1))))*10^3),(((((H.8*ps)/((Kd.8*ps)+Ows+(H.8*Oas)))*((E15/Lss)/(ER*Lb)))/(1+((E15/Lss)/(ER*Lb))+((E15/Lss)/((F15/Lcrk)*n))))*10^3)),((ps*dss)/(Lb*ER*tau))*10^3)))","v":"-"},{"$f":"IF(PM.8=\"\",\"-\",IF(OR(K15=\"-\",J15=\"-\",J15=0),\"-\",((K15/J15)*10^3)))","v":"-"},{"$f":"IF(PM.8=\"\",\"-\",IF(OR(I15=0,I15=\"-\"),\"-\",(((H.8)/(1+((Uar*Sar*Lgw)/(Ww*I15))))*10^3)))","v":"-"},{"$f":"IF(PM.8=\"\",\"-\",IF(OR(F15=0,F15=\"-\",I15=\"-\"),\"-\",(((H.8*((I15/Lgw)/(ER*Lb)))/(1+((I15/Lgw)/(ER*Lb))+((I15/Lgw)/((F15/Lcrk)*n))))*10^3)))","v":"-"},{"$f":"IF(PM.8=\"\",\"-\",IF(OR(Kd.8=\"-\",Kd.8=\"\"),\"-\",1+((Kd.8*ps)/Oef)))","v":"-"},{"$f":"IF(PM.8=\"\",\"-\",IF(OR(Ctek.8=0,Ctek.8=\"-\",Ctek.8=\"\"),\"-\",(0.6931/Ctek.8)))","v":"-"},{"$f":"IF(PM.8=\"\",\"-\",x.8/100)","v":"-"},{"$f":"IF(PM.8=\"\",\"-\",IF(OR(lambda.8=\"-\",R.8=\"-\"),(EXP(((x.8/100)/(2*alfa.x))*(1-SQRT(1+((4*alfa.x*0)/(vs*365/100)))))*ERF((Sw/100)/(4*SQRT(alfa.y*(x.8/100))))*ERF((Sd/100)/(2*SQRT(alfa.z*(x.8/100))))),(EXP(((x.8/100)/(2*alfa.x))*(1-SQRT(1+((4*alfa.x*lambda.8*R.8)/(vs*365/100)))))*ERF((Sw/100)/(4*SQRT(alfa.y*(x.8/100))))*ERF((Sd/100)/(2*SQRT(alfa.z*(x.8/100)))))))","v":"-"},{"$f":"IF(PM.8=\"\",\"-\",IF(OR(Kd.8=\"\",Kd.8=\"-\",Kd.8=0,Tipo.8<>\"METAL\"),\"-\",IF(FatBio.8=\"\",(EXP(2.67-1.12*LN(Kd.8))),FatBio.8)))","v":"-"},{"$f":"IF(PM.8=\"\",\"-\",IF(OR(Kd.8=\"\",Kd.8=\"-\",Kd.8=0,Tipo.8<>\"METAL\"),\"-\",IF(fbcf.8=\"\",(EXP(2.67-1.12*LN(Kd.8))),fbcf.8)))","v":"-"},{"$f":"IF(PM.8=\"\",\"-\",Cf.SoloSup.8*cdpx.8)","v":"-"},{"$f":"IF(PM.8=\"\",\"-\",IF(OR(kow.8=\"-\",kow.8=0,kow.8=\"\",Tipo.8=\"METAL\"),\"-\",(0.784*EXP((-1*((kow.8)-1.78)^2)/2.44))))","v":"-"},{"$f":"IF(PM.8=\"\",\"-\",IF(OR(kow.8=\"-\",kow.8=\"\",H.8=\"\",H.8=0,H.8=\"-\",Tipo.8=\"METAL\"),\"-\",((Wpveg+Lpveg*((10^kow.8)^bveg))/((H.8)))))","v":"-"},{"$f":"IF(PM.8=\"\",\"-\",IF(OR(kla.8=\"-\",kla.8=0),\"-\",(((Alveg*gveg)/(kla.8*Vlveg))+lambdamveg+lambdapveg+lambdagveg)))","v":"-"},{"$f":"IF(PM.8=\"\",\"-\",IF(OR(Kd.8=\"-\",Kd.8=\"\",zw.8=\"-\",Tipo.8=\"METAL\"),\"-\",((Kd.8*ps*zw.8)/Vsveg)))","v":"-"},{"$f":"IF(PM.8=\"\",\"-\",IF(OR(pv.8=\"\",S.8=\"\",pv.8=\"-\",pv.8=0,Tipo.8=\"METAL\",PM.8=\"ND\"),\"-\",(((S.8)*(1/PM.8))/((pv.8*101325)/760))))","v":"-"},{"$f":"IF(OR(PM.8=\"\",Tipo.8=\"METAL\"),\"-\",(1/(Rveg*Tarveg)))","v":"-"},{"$f":"IF(PM.8=\"\",\"-\",IF(OR(za.8=\"-\",zw.8=\"-\",zs.8=\"-\",Tipo.8=\"METAL\"),\"-\",((zw.8*Vwveg)/(za.8*Vaveg+zw.8*Vwveg+zs.8*Vsveg))))","v":"-"},{"$f":"IF(PM.8=\"\",\"-\",IF(OR(kow.8=\"-\",kow.8=\"\",Tipo.8=\"METAL\"),\"-\",(Wtrappveg+Ltrappveg*aveg*((10^kow.8)^btrappveg))))","v":"-"},{"$f":"IF(PM.8=\"\",\"-\",IF(OR(Kd.8=0,Kd.8=\"\",krw.8=\"-\",krw.8=0,Tipo.8=\"METAL\"),\"-\",((Qveg/Kd.8)/((Qveg/krw.8)+(kveg*Vtrappveg)))))","v":"-"},0.01]
[null,9,{"$f":"SQI!D17","v":0},{"$f":"SQI!C17","v":""},{"$f":"IF(PM.9=\"\",\"-\",IF(ISERROR(((Dar.9*Oas^3.33)/(OT^2))+((Dagua.9*Ows^3.33)/(H.9*OT^2))),\"-\",(((Dar.9*Oas^3.33)/(OT^2))+((Dagua.9*Ows^3.33)/(H.9*OT^2)))))","v":"-"},{"$f":"IF(PM.9=\"\",\"-\",IF(ISERROR(((Dar.9*Oacrk^3.33)/(OT^2))+((Dagua.9*Owcrk^3.33)/(H.9*OT^2))),\"-\",(((Dar.9*Oacrk^3.33)/(OT^2))+((Dagua.9*Owcrk^3.33)/(H.9*OT^2)))))","v":"-"},{"$f":"IF(PM.9=\"\",\"-\",IF(OR(F16=\"-\",F16=0),\"-\",((Qs/Ab)/((F16/Lcrk)*n))))","v":"-"},{"$f":"IF(PM.9=\"\",\"-\",IF(ISERROR(((Dar.9*Oacap^3.33)/(OT^2))+((Dagua.9*Owcap^3.33)/(H.9*OT^2))),\"-\",(((Dar.9*Oacap^3.33)/(OT^2))+((Dagua.9*Owcap^3.33)/(H.9*OT^2)))))","v":"-"},{"$f":"IF(PM.9=\"\",\"-\",IF(OR(H16=0,E16=0,H16=\"-\",E16=\"-\"),\"-\",((hcap+hv)/((hcap/H16)+(hv/E16)))))","v":"-"},{"$f":"IF(PM.9=\"\",\"-\",((1+(((Ugw*Sgw)/(SIR*Wss))*365))))","v":"-"},{"$f":"IF(OR(PM.9=\"\",PM.9=\"-\"),\"-\",IF(AND(H.9=\"\",Kd.9<>\"\"),(ps/(((Kd.9*ps)+Ows+(0*Oas)))),IF(AND(Kd.9=\"\",H.9<>\"\"),(ps/(((0*ps)+Ows+(H.9*Oas)))),IF(AND(Kd.9=\"\",H.9=\"\"),(ps/(((0*ps)+Ows+(0*Oas)))),(ps/(((Kd.9*ps)+Ows+(H.9*Oas))))))))","v":"-"},{"$f":"IF(PM.9=\"\",\"-\",IF(OR(K16=\"-\",K16=0,S.9=\"\"),\"-\",(S.9/K16)))","v":"-"},{"$f":"IF(PM.9=\"\",\"-\",IF(OR(E16=\"-\",H.9=\"\",H.9=\"-\",Kd.9=\"\",Kd.9=\"-\"),\"-\",MIN((((2*Ws*ps)/(Uar*Sar))*(SQRT((E16*H.9)/(PI()*(Ows+(Kd.9*ps)+(H.9*Oas))*tau)))*10^3),((Ws*ps*Ls)/(Uar*Sar*tau))*10^3)))","v":"-"},{"$f":"IF(PM.9=\"\",\"-\",(((Pa*Ws)/(Uar*Sar))*10^3))","v":"-"},{"$f":"IF(PM.9=\"\",\"-\",IF(OR(E16=\"-\",E16=0,Kd.9=\"\",Kd.9=\"-\"),\"-\",MIN((((H.9*ps)/(((Kd.9*ps)+Ows+(H.9*Oas))*(1+(Uar*Sar*Lss)/(E16*Wss))))*10^3),((Wss*ps*dss)/(Uar*Sar*tau))*10^3)))","v":"-"},{"$f":"IF(PM.9=\"\",\"-\",IF(OR(F16=0,F16=\"-\",E16=\"-\",Kd.9=\"\",Kd.9=\"-\"),\"-\",MIN(IF(dp>0,(((((H.9*ps)/((Kd.9*ps)+Ows+(H.9*Oas)))*((E16/Lss)/(ER*Lb))*EXP(G16))/(EXP(G16)+((E16/Lss)/(ER*Lb))+(((E16/Lss)/((F16/Lcrk)*n))*(EXP(G16)-1))))*10^3),(((((H.9*ps)/((Kd.9*ps)+Ows+(H.9*Oas)))*((E16/Lss)/(ER*Lb)))/(1+((E16/Lss)/(ER*Lb))+((E16/Lss)/((F16/Lcrk)*n))))*10^3)),((ps*dss)/(Lb*ER*tau))*10^3)))","v":"-"},{"$f":"IF(PM.9=\"\",\"-\",IF(OR(K16=\"-\",J16=\"-\",J16=0),\"-\",((K16/J16)*10^3)))","v":"-"},{"$f":"IF(PM.9=\"\",\"-\",IF(OR(I16=0,I16=\"-\"),\"-\",(((H.9)/(1+((Uar*Sar*Lgw)/(Ww*I16))))*10^3)))","v":"-"},{"$f":"IF(PM.9=\"\",\"-\",IF(OR(F16=0,F16=\"-\",I16=\"-\"),\"-\",(((H.9*((I16/Lgw)/(ER*Lb)))/(1+((I16/Lgw)/(ER*Lb))+((I16/Lgw)/((F16/Lcrk)*n))))*10^3)))","v":"-"},{"$f":"IF(PM.9=\"\",\"-\",IF(OR(Kd.9=\"-\",Kd.9=\"\"),\"-\",1+((Kd.9*ps)/Oef)))","v":"-"},{"$f":"IF(PM.9=\"\",\"-\",IF(OR(Ctek.9=0,Ctek.9=\"-\",Ctek.9=\"\"),\"-\",(0.6931/Ctek.9)))","v":"-"},{"$f":"IF(PM.9=\"\",\"-\",x.9/100)","v":"-"},{"$f":"IF(PM.9=\"\",\"-\",IF(OR(lambda.9=\"-\",R.9=\"-\"),(EXP(((x.9/100)/(2*alfa.x))*(1-SQRT(1+((4*alfa.x*0)/(vs*365/100)))))*ERF((Sw/100)/(4*SQRT(alfa.y*(x.9/100))))*ERF((Sd/100)/(2*SQRT(alfa.z*(x.9/100))))),(EXP(((x.9/100)/(2*alfa.x))*(1-SQRT(1+((4*alfa.x*lambda.9*R.9)/(vs*365/100)))))*ERF((Sw/100)/(4*SQRT(alfa.y*(x.9/100))))*ERF((Sd/100)/(2*SQRT(alfa.z*(x.9/100)))))))","v":"-"},{"$f":"IF(PM.9=\"\",\"-\",IF(OR(Kd.9=\"\",Kd.9=\"-\",Kd.9=0,Tipo.9<>\"METAL\"),\"-\",IF(FatBio.9=\"\",(EXP(2.67-1.12*LN(Kd.9))),FatBio.9)))","v":"-"},{"$f":"IF(PM.9=\"\",\"-\",IF(OR(Kd.9=\"\",Kd.9=\"-\",Kd.9=0,Tipo.9<>\"METAL\"),\"-\",IF(fbcf.9=\"\",(EXP(2.67-1.12*LN(Kd.9))),fbcf.9)))","v":"-"},{"$f":"IF(PM.9=\"\",\"-\",Cf.SoloSup.9*cdpx.9)","v":"-"},{"$f":"IF(PM.9=\"\",\"-\",IF(OR(kow.9=\"-\",kow.9=0,kow.9=\"\",Tipo.9=\"METAL\"),\"-\",(0.784*EXP((-1*((kow.9)-1.78)^2)/2.44))))","v":"-"},{"$f":"IF(PM.9=\"\",\"-\",IF(OR(kow.9=\"-\",kow.9=\"\",H.9=\"\",H.9=0,H.9=\"-\",Tipo.9=\"METAL\"),\"-\",((Wpveg+Lpveg*((10^kow.9)^bveg))/((H.9)))))","v":"-"},{"$f":"IF(PM.9=\"\",\"-\",IF(OR(kla.9=\"-\",kla.9=0),\"-\",(((Alveg*gveg)/(kla.9*Vlveg))+lambdamveg+lambdapveg+lambdagveg)))","v":"-"},{"$f":"IF(PM.9=\"\",\"-\",IF(OR(Kd.9=\"-\",Kd.9=\"\",zw.9=\"-\",Tipo.9=\"METAL\"),\"-\",((Kd.9*ps*zw.9)/Vsveg)))","v":"-"},{"$f":"IF(PM.9=\"\",\"-\",IF(OR(pv.9=\"\",S.9=\"\",pv.9=\"-\",pv.9=0,Tipo.9=\"METAL\",PM.9=\"ND\"),\"-\",(((S.9)*(1/PM.9))/((pv.9*101325)/760))))","v":"-"},{"$f":"IF(OR(PM.9=\"\",Tipo.9=\"METAL\"),\"-\",(1/(Rveg*Tarveg)))","v":"-"},{"$f":"IF(PM.9=\"\",\"-\",IF(OR(za.9=\"-\",zw.9=\"-\",zs.9=\"-\",Tipo.9=\"METAL\"),\"-\",((zw.9*Vwveg)/(za.9*Vaveg+zw.9*Vwveg+zs.9*Vsveg))))","v":"-"},{"$f":"IF(PM.9=\"\",\"-\",IF(OR(kow.9=\"-\",kow.9=\"\",Tipo.9=\"METAL\"),\"-\",(Wtrappveg+Ltrappveg*aveg*((10^kow.9)^btrappveg))))","v":"-"},{"$f":"IF(PM.9=\"\",\"-\",IF(OR(Kd.9=0,Kd.9=\"\",krw.9=\"-\",krw.9=0,Tipo.9=\"METAL\"),\"-\",((Qveg/Kd.9)/((Qveg/krw.9)+(kveg*Vtrappveg)))))","v":"-"},0.01]
[null,10,{"$f":"SQI!D18","v":0},{"$f":"SQI!C18","v":""},{"$f":"IF(PM.10=\"\",\"-\",IF(ISERROR(((Dar.10*Oas^3.33)/(OT^2))+((Dagua.10*Ows^3.33)/(H.10*OT^2))),\"-\",(((Dar.10*Oas^3.33)/(OT^2))+((Dagua.10*Ows^3.33)/(H.10*OT^2)))))","v":"-"},{"$f":"IF(PM.10=\"\",\"-\",IF(ISERROR(((Dar.10*Oacrk^3.33)/(OT^2))+((Dagua.10*Owcrk^3.33)/(H.10*OT^2))),\"-\",(((Dar.10*Oacrk^3.33)/(OT^2))+((Dagua.10*Owcrk^3.33)/(H.10*OT^2)))))","v":"-"},{"$f":"IF(PM.10=\"\",\"-\",IF(OR(F17=\"-\",F17=0),\"-\",((Qs/Ab)/((F17/Lcrk)*n))))","v":"-"},{"$f":"IF(PM.10=\"\",\"-\",IF(ISERROR(((Dar.10*Oacap^3.33)/(OT^2))+((Dagua.10*Owcap^3.33)/(H.10*OT^2))),\"-\",(((Dar.10*Oacap^3.33)/(OT^2))+((Dagua.10*Owcap^3.33)/(H.10*OT^2)))))","v":"-"},{"$f":"IF(PM.10=\"\",\"-\",IF(OR(H17=0,E17=0,H17=\"-\",E17=\"-\"),\"-\",((hcap+hv)/((hcap/H17)+(hv/E17)))))","v":"-"},{"$f":"IF(PM.10=\"\",\"-\",((1+(((Ugw*Sgw)/(SIR*Wss))*365))))","v":"-"},{"$f":"IF(OR(PM.10=\"\",PM.10=\"-\"),\"-\",IF(AND(H.10=\"\",Kd.10<>\"\"),(ps/(((Kd.10*ps)+Ows+(0*Oas)))),IF(AND(Kd.10=\"\",H.10<>\"\"),(ps/(((0*ps)+Ows+(H.10*Oas)))),IF(AND(Kd.10=\"\",H.10=\"\"),(ps/(((0*ps)+Ows+(0*Oas)))),(ps/(((Kd.10*ps)+Ows+(H.10*Oas))))))))","v":"-"},{"$f":"IF(PM.10=\"\",\"-\",IF(OR(K17=\"-\",K17=0,S.10=\"\"),\"-\",(S.10/K17)))","v":"-"},{"$f":"IF(PM.10=\"\",\"-\",IF(OR(E17=\"-\",H.10=\"\",H.10=\"-\",Kd.10=\"\",Kd.10=\"-\"),\"-\",MIN((((2*Ws*ps)/(Uar*Sar))*(SQRT((E17*H.10)/(PI()*(Ows+(Kd.10*ps)+(H.10*Oas))*tau)))*10^3),((Ws*ps*Ls)/(Uar*Sar*tau))*10^3)))","v":"-"},{"$f":"IF(PM.10=\"\",\"-\",(((Pa*Ws)/(Uar*Sar))*10^3))","v":"-"},{"$f":"IF(PM.10=\"\",\"-\",IF(OR(E17=\"-\",E17=0,Kd.10=\"\",Kd.10=\"-\"),\"-\",MIN((((H.10*ps)/(((Kd.10*ps)+Ows+(H.10*Oas))*(1+(Uar*Sar*Lss)/(E17*Wss))))*10^3),((Wss*ps*dss)/(Uar*Sar*tau))*10^3)))","v":"-"},{"$f":"IF(PM.10=\"\",\"-\",IF(OR(F17=0,F17=\"-\",E17=\"-\",Kd.10=\"\",Kd.10=\"-\"),\"-\",MIN(IF(dp>0,(((((H.10*ps)/((Kd.10*ps)+Ows+(H.10*Oas)))*((E17/Lss)/(ER*Lb))*EXP(G17))/(EXP(G17)+((E17/Lss)/(ER*Lb))+(((E17/Lss)/((F17/Lcrk)*n))*(EXP(G17)-1))))*10^3),(((((H.10*ps)/((Kd.10*ps)+Ows+(H.10*Oas)))*((E17/Lss)/(ER*Lb)))/(1+((E17/Lss)/(ER*Lb))+((E17/Lss)/((F17/Lcrk)*n))))*10^3)),((ps*dss)/(Lb*ER*tau))*10^3)))","v":"-"},{"$f":"IF(PM.10=\"\",\"-\",IF(OR(K17=\"-\",J17=\"-\",J17=0),\"-\",((K17/J17)*10^3)))","v":"-"},{"$f":"IF(PM.10=\"\",\"-\",IF(OR(I17=0,I17=\"-\"),\"-\",(((H.10)/(1+((Uar*Sar*Lgw)/(Ww*I17))))*10^3)))","v":"-"},{"$f":"IF(PM.10=\"\",\"-\",IF(OR(F17=0,F17=\"-\",I17=\"-\"),\"-\",(((H.10*((I17/Lgw)/(ER*Lb)))/(1+((I17/Lgw)/(ER*Lb))+((I17/Lgw)/((F17/Lcrk)*n))))*10^3)))","v":"-"},{"$f":"IF(PM.10=\"\",\"-\",IF(OR(Kd.10=\"-\",Kd.10=\"\"),\"-\",1+((Kd.10*ps)/Oef)))","v":"-"},{"$f":"IF(PM.10=\"\",\"-\",IF(OR(Ctek.10=0,Ctek.10=\"-\",Ctek.10=\"\"),\"-\",(0.6931/Ctek.10)))","v":"-"},{"$f":"IF(PM.10=\"\",\"-\",x.10/100)","v":"-"},{"$f":"IF(PM.10=\"\",\"-\",IF(OR(lambda.10=\"-\",R.10=\"-\"),(EXP(((x.10/100)/(2*alfa.x))*(1-SQRT(1+((4*alfa.x*0)/(vs*365/100)))))*ERF((Sw/100)/(4*SQRT(alfa.y*(x.10/100))))*ERF((Sd/100)/(2*SQRT(alfa.z*(x.10/100))))),(EXP(((x.10/100)/(2*alfa.x))*(1-SQRT(1+((4*alfa.x*lambda.10*R.10)/(vs*365/100)))))*ERF((Sw/100)/(4*SQRT(alfa.y*(x.10/100))))*ERF((Sd/100)/(2*SQRT(alfa.z*(x.10/100)))))))","v":"-"},{"$f":"IF(PM.10=\"\",\"-\",IF(OR(Kd.10=\"\",Kd.10=\"-\",Kd.10=0,Tipo.10<>\"METAL\"),\"-\",IF(FatBio.10=\"\",(EXP(2.67-1.12*LN(Kd.10))),FatBio.10)))","v":"-"},{"$f":"IF(PM.10=\"\",\"-\",IF(OR(Kd.10=\"\",Kd.10=\"-\",Kd.10=0,Tipo.10<>\"METAL\"),\"-\",IF(fbcf.10=\"\",(EXP(2.67-1.12*LN(Kd.10))),fbcf.10)))","v":"-"},{"$f":"IF(PM.10=\"\",\"-\",Cf.SoloSup.10*cdpx.10)","v":"-"},{"$f":"IF(PM.10=\"\",\"-\",IF(OR(kow.10=\"-\",kow.10=0,kow.10=\"\",Tipo.10=\"METAL\"),\"-\",(0.784*EXP((-1*((kow.10)-1.78)^2)/2.44))))","v":"-"},{"$f":"IF(PM.10=\"\",\"-\",IF(OR(kow.10=\"-\",kow.10=\"\",H.10=\"\",H.10=0,H.10=\"-\",Tipo.10=\"METAL\"),\"-\",((Wpveg+Lpveg*((10^kow.10)^bveg))/((H.10)))))","v":"-"},{"$f":"IF(PM.10=\"\",\"-\",IF(OR(kla.10=\"-\",kla.10=0),\"-\",(((Alveg*gveg)/(kla.10*Vlveg))+lambdamveg+lambdapveg+lambdagveg)))","v":"-"},{"$f":"IF(PM.10=\"\",\"-\",IF(OR(Kd.10=\"-\",Kd.10=\"\",zw.10=\"-\",Tipo.10=\"METAL\"),\"-\",((Kd.10*ps*zw.10)/Vsveg)))","v":"-"},{"$f":"IF(PM.10=\"\",\"-\",IF(OR(pv.10=\"\",S.10=\"\",pv.10=\"-\",pv.10=0,Tipo.10=\"METAL\",PM.10=\"ND\"),\"-\",(((S.10)*(1/PM.10))/((pv.10*101325)/760))))","v":"-"},{"$f":"IF(OR(PM.10=\"\",Tipo.10=\"METAL\"),\"-\",(1/(Rveg*Tarveg)))","v":"-"},{"$f":"IF(PM.10=\"\",\"-\",IF(OR(za.10=\"-\",zw.10=\"-\",zs.10=\"-\",Tipo.10=\"METAL\"),\"-\",((zw.10*Vwveg)/(za.10*Vaveg+zw.10*Vwveg+zs.10*Vsveg))))","v":"-"},{"$f":"IF(PM.10=\"\",\"-\",IF(OR(kow.10=\"-\",kow.10=\"\",Tipo.10=\"METAL\"),\"-\",(Wtrappveg+Ltrappveg*aveg*((10^kow.10)^btrappveg))))","v":"-"},{"$f":"IF(PM.10=\"\",\"-\",IF(OR(Kd.10=0,Kd.10=\"\",krw.10=\"-\",krw.10=0,Tipo.10=\"METAL\"),\"-\",((Qveg/Kd.10)/((Qveg/krw.10)+(kveg*Vtrappveg)))))","v":"-"},0.01]
[null,11,{"$f":"SQI!D19","v":0},{"$f":"SQI!C19","v":""},{"$f":"IF(PM.11=\"\",\"-\",IF(ISERROR(((Dar.11*Oas^3.33)/(OT^2))+((Dagua.11*Ows^3.33)/(H.11*OT^2))),\"-\",(((Dar.11*Oas^3.33)/(OT^2))+((Dagua.11*Ows^3.33)/(H.11*OT^2)))))","v":"-"},{"$f":"IF(PM.11=\"\",\"-\",IF(ISERROR(((Dar.11*Oacrk^3.33)/(OT^2))+((Dagua.11*Owcrk^3.33)/(H.11*OT^2))),\"-\",(((Dar.11*Oacrk^3.33)/(OT^2))+((Dagua.11*Owcrk^3.33)/(H.11*OT^2)))))","v":"-"},{"$f":"IF(PM.11=\"\",\"-\",IF(OR(F18=\"-\",F18=0),\"-\",((Qs/Ab)/((F18/Lcrk)*n))))","v":"-"},{"$f":"IF(PM.11=\"\",\"-\",IF(ISERROR(((Dar.11*Oacap^3.33)/(OT^2))+((Dagua.11*Owcap^3.33)/(H.11*OT^2))),\"-\",(((Dar.11*Oacap^3.33)/(OT^2))+((Dagua.11*Owcap^3.33)/(H.11*OT^2)))))","v":"-"},{"$f":"IF(PM.11=\"\",\"-\",IF(OR(H18=0,E18=0,H18=\"-\",E18=\"-\"),\"-\",((hcap+hv)/((hcap/H18)+(hv/E18)))))","v":"-"},{"$f":"IF(PM.11=\"\",\"-\",((1+(((Ugw*Sgw)/(SIR*Wss))*365))))","v":"-"},{"$f":"IF(OR(PM.11=\"\",PM.11=\"-\"),\"-\",IF(AND(H.11=\"\",Kd.11<>\"\"),(ps/(((Kd.11*ps)+Ows+(0*Oas)))),IF(AND(Kd.11=\"\",H.11<>\"\"),(ps/(((0*ps)+Ows+(H.11*Oas)))),IF(AND(Kd.11=\"\",H.11=\"\"),(ps/(((0*ps)+Ows+(0*Oas)))),(ps/(((Kd.11*ps)+Ows+(H.11*Oas))))))))","v":"-"},{"$f":"IF(PM.11=\"\",\"-\",IF(OR(K18=\"-\",K18=0,S.11=\"\"),\"-\",(S.11/K18)))","v":"-"},{"$f":"IF(PM.11=\"\",\"-\",IF(OR(E18=\"-\",H.11=\"\",H.11=\"-\",Kd.11=\"\",Kd.11=\"-\"),\"-\",MIN((((2*Ws*ps)/(Uar*Sar))*(SQRT((E18*H.11)/(PI()*(Ows+(Kd.11*ps)+(H.11*Oas))*tau)))*10^3),((Ws*ps*Ls)/(Uar*Sar*tau))*10^3)))","v":"-"},{"$f":"IF(PM.11=\"\",\"-\",(((Pa*Ws)/(Uar*Sar))*10^3))","v":"-"},{"$f":"IF(PM.11=\"\",\"-\",IF(OR(E18=\"-\",E18=0,Kd.11=\"\",Kd.11=\"-\"),\"-\",MIN((((H.11*ps)/(((Kd.11*ps)+Ows+(H.11*Oas))*(1+(Uar*Sar*Lss)/(E18*Wss))))*10^3),((Wss*ps*dss)/(Uar*Sar*tau))*10^3)))","v":"-"},{"$f":"IF(PM.11=\"\",\"-\",IF(OR(F18=0,F18=\"-\",E18=\"-\",Kd.11=\"\",Kd.11=\"-\"),\"-\",MIN(IF(dp>0,(((((H.11*ps)/((Kd.11*ps)+Ows+(H.11*Oas)))*((E18/Lss)/(ER*Lb))*EXP(G18))/(EXP(G18)+((E18/Lss)/(ER*Lb))+(((E18/Lss)/((F18/Lcrk)*n))*(EXP(G18)-1))))*10^3),(((((H.11*ps)/((Kd.11*ps)+Ows+(H.11*Oas)))*((E18/Lss)/(ER*Lb)))/(1+((E18/Lss)/(ER*Lb))+((E18/Lss)/((F18/Lcrk)*n))))*10^3)),((ps*dss)/(Lb*ER*tau))*10^3)))","v":"-"},{"$f":"IF(PM.11=\"\",\"-\",IF(OR(K18=\"-\",J18=\"-\",J18=0),\"-\",((K18/J18)*10^3)))","v":"-"},{"$f":"IF(PM.11=\"\",\"-\",IF(OR(I18=0,I18=\"-\"),\"-\",(((H.11)/(1+((Uar*Sar*Lgw)/(Ww*I18))))*10^3)))","v":"-"},{"$f":"IF(PM.11=\"\",\"-\",IF(OR(F18=0,F18=\"-\",I18=\"-\"),\"-\",(((H.11*((I18/Lgw)/(ER*Lb)))/(1+((I18/Lgw)/(ER*Lb))+((I18/Lgw)/((F18/Lcrk)*n))))*10^3)))","v":"-"},{"$f":"IF(PM.11=\"\",\"-\",IF(OR(Kd.11=\"-\",Kd.11=\"\"),\"-\",1+((Kd.11*ps)/Oef)))","v":"-"},{"$f":"IF(PM.11=\"\",\"-\",IF(OR(Ctek.11=0,Ctek.11=\"-\",Ctek.11=\"\"),\"-\",(0.6931/Ctek.11)))","v":"-"},{"$f":"IF(PM.11=\"\",\"-\",x.11/100)","v":"-"},{"$f":"IF(PM.11=\"\",\"-\",IF(OR(lambda.11=\"-\",R.11=\"-\"),(EXP(((x.11/100)/(2*alfa.x))*(1-SQRT(1+((4*alfa.x*0)/(vs*365/100)))))*ERF((Sw/100)/(4*SQRT(alfa.y*(x.11/100))))*ERF((Sd/100)/(2*SQRT(alfa.z*(x.11/100))))),(EXP(((x.11/100)/(2*alfa.x))*(1-SQRT(1+((4*alfa.x*lambda.11*R.11)/(vs*365/100)))))*ERF((Sw/100)/(4*SQRT(alfa.y*(x.11/100))))*ERF((Sd/100)/(2*SQRT(alfa.z*(x.11/100)))))))","v":"-"},{"$f":"IF(PM.11=\"\",\"-\",IF(OR(Kd.11=\"\",Kd.11=\"-\",Kd.11=0,Tipo.11<>\"METAL\"),\"-\",IF(FatBio.11=\"\",(EXP(2.67-1.12*LN(Kd.11))),FatBio.11)))","v":"-"},{"$f":"IF(PM.11=\"\",\"-\",IF(OR(Kd.11=\"\",Kd.11=\"-\",Kd.11=0,Tipo.11<>\"METAL\"),\"-\",IF(fbcf.11=\"\",(EXP(2.67-1.12*LN(Kd.11))),fbcf.11)))","v":"-"},{"$f":"IF(PM.11=\"\",\"-\",Cf.SoloSup.11*cdpx.11)","v":"-"},{"$f":"IF(PM.11=\"\",\"-\",IF(OR(kow.11=\"-\",kow.11=0,kow.11=\"\",Tipo.11=\"METAL\"),\"-\",(0.784*EXP((-1*((kow.11)-1.78)^2)/2.44))))","v":"-"},{"$f":"IF(PM.11=\"\",\"-\",IF(OR(kow.11=\"-\",kow.11=\"\",H.11=\"\",H.11=0,H.11=\"-\",Tipo.11=\"METAL\"),\"-\",((Wpveg+Lpveg*((10^kow.11)^bveg))/((H.11)))))","v":"-"},{"$f":"IF(PM.11=\"\",\"-\",IF(OR(kla.11=\"-\",kla.11=0),\"-\",(((Alveg*gveg)/(kla.11*Vlveg))+lambdamveg+lambdapveg+lambdagveg)))","v":"-"},{"$f":"IF(PM.11=\"\",\"-\",IF(OR(Kd.11=\"-\",Kd.11=\"\",zw.11=\"-\",Tipo.11=\"METAL\"),\"-\",((Kd.11*ps*zw.11)/Vsveg)))","v":"-"},{"$f":"IF(PM.11=\"\",\"-\",IF(OR(pv.11=\"\",S.11=\"\",pv.11=\"-\",pv.11=0,Tipo.11=\"METAL\",PM.11=\"ND\"),\"-\",(((S.11)*(1/PM.11))/((pv.11*101325)/760))))","v":"-"},{"$f":"IF(OR(PM.11=\"\",Tipo.11=\"METAL\"),\"-\",(1/(Rveg*Tarveg)))","v":"-"},{"$f":"IF(PM.11=\"\",\"-\",IF(OR(za.11=\"-\",zw.11=\"-\",zs.11=\"-\",Tipo.11=\"METAL\"),\"-\",((zw.11*Vwveg)/(za.11*Vaveg+zw.11*Vwveg+zs.11*Vsveg))))","v":"-"},{"$f":"IF(PM.11=\"\",\"-\",IF(OR(kow.11=\"-\",kow.11=\"\",Tipo.11=\"METAL\"),\"-\",(Wtrappveg+Ltrappveg*aveg*((10^kow.11)^btrappveg))))","v":"-"},{"$f":"IF(PM.11=\"\",\"-\",IF(OR(Kd.11=0,Kd.11=\"\",krw.11=\"-\",krw.11=0,Tipo.11=\"METAL\"),\"-\",((Qveg/Kd.11)/((Qveg/krw.11)+(kveg*Vtrappveg)))))","v":"-"},0.01]
[null,12,{"$f":"SQI!D20","v":0},{"$f":"SQI!C20","v":""},{"$f":"IF(PM.12=\"\",\"-\",IF(ISERROR(((Dar.12*Oas^3.33)/(OT^2))+((Dagua.12*Ows^3.33)/(H.12*OT^2))),\"-\",(((Dar.12*Oas^3.33)/(OT^2))+((Dagua.12*Ows^3.33)/(H.12*OT^2)))))","v":"-"},{"$f":"IF(PM.12=\"\",\"-\",IF(ISERROR(((Dar.12*Oacrk^3.33)/(OT^2))+((Dagua.12*Owcrk^3.33)/(H.12*OT^2))),\"-\",(((Dar.12*Oacrk^3.33)/(OT^2))+((Dagua.12*Owcrk^3.33)/(H.12*OT^2)))))","v":"-"},{"$f":"IF(PM.12=\"\",\"-\",IF(OR(F19=\"-\",F19=0),\"-\",((Qs/Ab)/((F19/Lcrk)*n))))","v":"-"},{"$f":"IF(PM.12=\"\",\"-\",IF(ISERROR(((Dar.12*Oacap^3.33)/(OT^2))+((Dagua.12*Owcap^3.33)/(H.12*OT^2))),\"-\",(((Dar.12*Oacap^3.33)/(OT^2))+((Dagua.12*Owcap^3.33)/(H.12*OT^2)))))","v":"-"},{"$f":"IF(PM.12=\"\",\"-\",IF(OR(H19=0,E19=0,H19=\"-\",E19=\"-\"),\"-\",((hcap+hv)/((hcap/H19)+(hv/E19)))))","v":"-"},{"$f":"IF(PM.12=\"\",\"-\",((1+(((Ugw*Sgw)/(SIR*Wss))*365))))","v":"-"},{"$f":"IF(OR(PM.12=\"\",PM.12=\"-\"),\"-\",IF(AND(H.12=\"\",Kd.12<>\"\"),(ps/(((Kd.12*ps)+Ows+(0*Oas)))),IF(AND(Kd.12=\"\",H.12<>\"\"),(ps/(((0*ps)+Ows+(H.12*Oas)))),IF(AND(Kd.12=\"\",H.12=\"\"),(ps/(((0*ps)+Ows+(0*Oas)))),(ps/(((Kd.12*ps)+Ows+(H.12*Oas))))))))","v":"-"},{"$f":"IF(PM.12=\"\",\"-\",IF(OR(K19=\"-\",K19=0,S.12=\"\"),\"-\",(S.12/K19)))","v":"-"},{"$f":"IF(PM.12=\"\",\"-\",IF(OR(E19=\"-\",H.12=\"\",H.12=\"-\",Kd.12=\"\",Kd.12=\"-\"),\"-\",MIN((((2*Ws*ps)/(Uar*Sar))*(SQRT((E19*H.12)/(PI()*(Ows+(Kd.12*ps)+(H.12*Oas))*tau)))*10^3),((Ws*ps*Ls)/(Uar*Sar*tau))*10^3)))","v":"-"},{"$f":"IF(PM.12=\"\",\"-\",(((Pa*Ws)/(Uar*Sar))*10^3))","v":"-"},{"$f":"IF(PM.12=\"\",\"-\",IF(OR(E19=\"-\",E19=0,Kd.12=\"\",Kd.12=\"-\"),\"-\",MIN((((H.12*ps)/(((Kd.12*ps)+Ows+(H.12*Oas))*(1+(Uar*Sar*Lss)/(E19*Wss))))*10^3),((Wss*ps*dss)/(Uar*Sar*tau))*10^3)))","v":"-"},{"$f":"IF(PM.12=\"\",\"-\",IF(OR(F19=0,F19=\"-\",E19=\"-\",Kd.12=\"\",Kd.12=\"-\"),\"-\",MIN(IF(dp>0,(((((H.12*ps)/((Kd.12*ps)+Ows+(H.12*Oas)))*((E19/Lss)/(ER*Lb))*EXP(G19))/(EXP(G19)+((E19/Lss)/(ER*Lb))+(((E19/Lss)/((F19/Lcrk)*n))*(EXP(G19)-1))))*10^3),(((((H.12*ps)/((Kd.12*ps)+Ows+(H.12*Oas)))*((E19/Lss)/(ER*Lb)))/(1+((E19/Lss)/(ER*Lb))+((E19/Lss)/((F19/Lcrk)*n))))*10^3)),((ps*dss)/(Lb*ER*tau))*10^3)))","v":"-"},{"$f":"IF(PM.12=\"\",\"-\",IF(OR(K19=\"-\",J19=\"-\",J19=0),\"-\",((K19/J19)*10^3)))","v":"-"},{"$f":"IF(PM.12=\"\",\"-\",IF(OR(I19=0,I19=\"-\"),\"-\",(((H.12)/(1+((Uar*Sar*Lgw)/(Ww*I19))))*10^3)))","v":"-"},{"$f":"IF(PM.12=\"\",\"-\",IF(OR(F19=0,F19=\"-\",I19=\"-\"),\"-\",(((H.12*((I19/Lgw)/(ER*Lb)))/(1+((I19/Lgw)/(ER*Lb))+((I19/Lgw)/((F19/Lcrk)*n))))*10^3)))","v":"-"},{"$f":"IF(PM.12=\"\",\"-\",IF(OR(Kd.12=\"-\",Kd.12=\"\"),\"-\",1+((Kd.12*ps)/Oef)))","v":"-"},{"$f":"IF(PM.12=\"\",\"-\",IF(OR(Ctek.12=0,Ctek.12=\"-\",Ctek.12=\"\"),\"-\",(0.6931/Ctek.12)))","v":"-"},{"$f":"IF(PM.12=\"\",\"-\",x.12/100)","v":"-"},{"$f":"IF(PM.12=\"\",\"-\",IF(OR(lambda.12=\"-\",R.12=\"-\"),(EXP(((x.12/100)/(2*alfa.x))*(1-SQRT(1+((4*alfa.x*0)/(vs*365/100)))))*ERF((Sw/100)/(4*SQRT(alfa.y*(x.12/100))))*ERF((Sd/100)/(2*SQRT(alfa.z*(x.12/100))))),(EXP(((x.12/100)/(2*alfa.x))*(1-SQRT(1+((4*alfa.x*lambda.12*R.12)/(vs*365/100)))))*ERF((Sw/100)/(4*SQRT(alfa.y*(x.12/100))))*ERF((Sd/100)/(2*SQRT(alfa.z*(x.12/100)))))))","v":"-"},{"$f":"IF(PM.12=\"\",\"-\",IF(OR(Kd.12=\"\",Kd.12=\"-\",Kd.12=0,Tipo.12<>\"METAL\"),\"-\",IF(FatBio.12=\"\",(EXP(2.67-1.12*LN(Kd.12))),FatBio.12)))","v":"-"},{"$f":"IF(PM.12=\"\",\"-\",IF(OR(Kd.12=\"\",Kd.12=\"-\",Kd.12=0,Tipo.12<>\"METAL\"),\"-\",IF(fbcf.12=\"\",(EXP(2.67-1.12*LN(Kd.12))),fbcf.12)))","v":"-"},{"$f":"IF(PM.12=\"\",\"-\",Cf.SoloSup.12*cdpx.12)","v":"-"},{"$f":"IF(PM.12=\"\",\"-\",IF(OR(kow.12=\"-\",kow.12=0,kow.12=\"\",Tipo.12=\"METAL\"),\"-\",(0.784*EXP((-1*((kow.12)-1.78)^2)/2.44))))","v":"-"},{"$f":"IF(PM.12=\"\",\"-\",IF(OR(kow.12=\"-\",kow.12=\"\",H.12=\"\",H.12=0,H.12=\"-\",Tipo.12=\"METAL\"),\"-\",((Wpveg+Lpveg*((10^kow.12)^bveg))/((H.12)))))","v":"-"},{"$f":"IF(PM.12=\"\",\"-\",IF(OR(kla.12=\"-\",kla.12=0),\"-\",(((Alveg*gveg)/(kla.12*Vlveg))+lambdamveg+lambdapveg+lambdagveg)))","v":"-"},{"$f":"IF(PM.12=\"\",\"-\",IF(OR(Kd.12=\"-\",Kd.12=\"\",zw.12=\"-\",Tipo.12=\"METAL\"),\"-\",((Kd.12*ps*zw.12)/Vsveg)))","v":"-"},{"$f":"IF(PM.12=\"\",\"-\",IF(OR(pv.12=\"\",S.12=\"\",pv.12=\"-\",pv.12=0,Tipo.12=\"METAL\",PM.12=\"ND\"),\"-\",(((S.12)*(1/PM.12))/((pv.12*101325)/760))))","v":"-"},{"$f":"IF(OR(PM.12=\"\",Tipo.12=\"METAL\"),\"-\",(1/(Rveg*Tarveg)))","v":"-"},{"$f":"IF(PM.12=\"\",\"-\",IF(OR(za.12=\"-\",zw.12=\"-\",zs.12=\"-\",Tipo.12=\"METAL\"),\"-\",((zw.12*Vwveg)/(za.12*Vaveg+zw.12*Vwveg+zs.12*Vsveg))))","v":"-"},{"$f":"IF(PM.12=\"\",\"-\",IF(OR(kow.12=\"-\",kow.12=\"\",Tipo.12=\"METAL\"),\"-\",(Wtrappveg+Ltrappveg*aveg*((10^kow.12)^btrappveg))))","v":"-"},{"$f":"IF(PM.12=\"\",\"-\",IF(OR(Kd.12=0,Kd.12=\"\",krw.12=\"-\",krw.12=0,Tipo.12=\"METAL\"),\"-\",((Qveg/Kd.12)/((Qveg/krw.12)+(kveg*Vtrappveg)))))","v":"-"},0.01]
[null,13,{"$f":"SQI!D21","v":0},{"$f":"SQI!C21","v":""},{"$f":"IF(PM.13=\"\",\"-\",IF(ISERROR(((Dar.13*Oas^3.33)/(OT^2))+((Dagua.13*Ows^3.33)/(H.13*OT^2))),\"-\",(((Dar.13*Oas^3.33)/(OT^2))+((Dagua.13*Ows^3.33)/(H.13*OT^2)))))","v":"-"},{"$f":"IF(PM.13=\"\",\"-\",IF(ISERROR(((Dar.13*Oacrk^3.33)/(OT^2))+((Dagua.13*Owcrk^3.33)/(H.13*OT^2))),\"-\",(((Dar.13*Oacrk^3.33)/(OT^2))+((Dagua.13*Owcrk^3.33)/(H.13*OT^2)))))","v":"-"},{"$f":"IF(PM.13=\"\",\"-\",IF(OR(F20=\"-\",F20=0),\"-\",((Qs/Ab)/((F20/Lcrk)*n))))","v":"-"},{"$f":"IF(PM.13=\"\",\"-\",IF(ISERROR(((Dar.13*Oacap^3.33)/(OT^2))+((Dagua.13*Owcap^3.33)/(H.13*OT^2))),\"-\",(((Dar.13*Oacap^3.33)/(OT^2))+((Dagua.13*Owcap^3.33)/(H.13*OT^2)))))","v":"-"},{"$f":"IF(PM.13=\"\",\"-\",IF(OR(H20=0,E20=0,H20=\"-\",E20=\"-\"),\"-\",((hcap+hv)/((hcap/H20)+(hv/E20)))))","v":"-"},{"$f":"IF(PM.13=\"\",\"-\",((1+(((Ugw*Sgw)/(SIR*Wss))*365))))","v":"-"},{"$f":"IF(OR(PM.13=\"\",PM.13=\"-\"),\"-\",IF(AND(H.13=\"\",Kd.13<>\"\"),(ps/(((Kd.13*ps)+Ows+(0*Oas)))),IF(AND(Kd.13=\"\",H.13<>\"\"),(ps/(((0*ps)+Ows+(H.13*Oas)))),IF(AND(Kd.13=\"\",H.13=\"\"),(ps/(((0*ps)+Ows+(0*Oas)))),(ps/(((Kd.13*ps)+Ows+(H.13*Oas))))))))","v":"-"},{"$f":"IF(PM.13=\"\",\"-\",IF(OR(K20=\"-\",K20=0,S.13=\"\"),\"-\",(S.13/K20)))","v":"-"},{"$f":"IF(PM.13=\"\",\"-\",IF(OR(E20=\"-\",H.13=\"\",H.13=\"-\",Kd.13=\"\",Kd.13=\"-\"),\"-\",MIN((((2*Ws*ps)/(Uar*Sar))*(SQRT((E20*H.13)/(PI()*(Ows+(Kd.13*ps)+(H.13*Oas))*tau)))*10^3),((Ws*ps*Ls)/(Uar*Sar*tau))*10^3)))","v":"-"},{"$f":"IF(PM.13=\"\",\"-\",(((Pa*Ws)/(Uar*Sar))*10^3))","v":"-"},{"$f":"IF(PM.13=\"\",\"-\",IF(OR(E20=\"-\",E20=0,Kd.13=\"\",Kd.13=\"-\"),\"-\",MIN((((H.13*ps)/(((Kd.13*ps)+Ows+(H.13*Oas))*(1+(Uar*Sar*Lss)/(E20*Wss))))*10^3),((Wss*ps*dss)/(Uar*Sar*tau))*10^3)))","v":"-"},{"$f":"IF(PM.13=\"\",\"-\",IF(OR(F20=0,F20=\"-\",E20=\"-\",Kd.13=\"\",Kd.13=\"-\"),\"-\",MIN(IF(dp>0,(((((H.13*ps)/((Kd.13*ps)+Ows+(H.13*Oas)))*((E20/Lss)/(ER*Lb))*EXP(G20))/(EXP(G20)+((E20/Lss)/(ER*Lb))+(((E20/Lss)/((F20/Lcrk)*n))*(EXP(G20)-1))))*10^3),(((((H.13*ps)/((Kd.13*ps)+Ows+(H.13*Oas)))*((E20/Lss)/(ER*Lb)))/(1+((E20/Lss)/(ER*Lb))+((E20/Lss)/((F20/Lcrk)*n))))*10^3)),((ps*dss)/(Lb*ER*tau))*10^3)))","v":"-"},{"$f":"IF(PM.13=\"\",\"-\",IF(OR(K20=\"-\",J20=\"-\",J20=0),\"-\",((K20/J20)*10^3)))","v":"-"},{"$f":"IF(PM.13=\"\",\"-\",IF(OR(I20=0,I20=\"-\"),\"-\",(((H.13)/(1+((Uar*Sar*Lgw)/(Ww*I20))))*10^3)))","v":"-"},{"$f":"IF(PM.13=\"\",\"-\",IF(OR(F20=0,F20=\"-\",I20=\"-\"),\"-\",(((H.13*((I20/Lgw)/(ER*Lb)))/(1+((I20/Lgw)/(ER*Lb))+((I20/Lgw)/((F20/Lcrk)*n))))*10^3)))","v":"-"},{"$f":"IF(PM.13=\"\",\"-\",IF(OR(Kd.13=\"-\",Kd.13=\"\"),\"-\",1+((Kd.13*ps)/Oef)))","v":"-"},{"$f":"IF(PM.13=\"\",\"-\",IF(OR(Ctek.13=0,Ctek.13=\"-\",Ctek.13=\"\"),\"-\",(0.6931/Ctek.13)))","v":"-"},{"$f":"IF(PM.13=\"\",\"-\",x.13/100)","v":"-"},{"$f":"IF(PM.13=\"\",\"-\",IF(OR(lambda.13=\"-\",R.13=\"-\"),(EXP(((x.13/100)/(2*alfa.x))*(1-SQRT(1+((4*alfa.x*0)/(vs*365/100)))))*ERF((Sw/100)/(4*SQRT(alfa.y*(x.13/100))))*ERF((Sd/100)/(2*SQRT(alfa.z*(x.13/100))))),(EXP(((x.13/100)/(2*alfa.x))*(1-SQRT(1+((4*alfa.x*lambda.13*R.13)/(vs*365/100)))))*ERF((Sw/100)/(4*SQRT(alfa.y*(x.13/100))))*ERF((Sd/100)/(2*SQRT(alfa.z*(x.13/100)))))))","v":"-"},{"$f":"IF(PM.13=\"\",\"-\",IF(OR(Kd.13=\"\",Kd.13=\"-\",Kd.13=0,Tipo.13<>\"METAL\"),\"-\",IF(FatBio.13=\"\",(EXP(2.67-1.12*LN(Kd.13))),FatBio.13)))","v":"-"},{"$f":"IF(PM.13=\"\",\"-\",IF(OR(Kd.13=\"\",Kd.13=\"-\",Kd.13=0,Tipo.13<>\"METAL\"),\"-\",IF(fbcf.13=\"\",(EXP(2.67-1.12*LN(Kd.13))),fbcf.13)))","v":"-"},{"$f":"IF(PM.13=\"\",\"-\",Cf.SoloSup.13*cdpx.13)","v":"-"},{"$f":"IF(PM.13=\"\",\"-\",IF(OR(kow.13=\"-\",kow.13=0,kow.13=\"\",Tipo.13=\"METAL\"),\"-\",(0.784*EXP((-1*((kow.13)-1.78)^2)/2.44))))","v":"-"},{"$f":"IF(PM.13=\"\",\"-\",IF(OR(kow.13=\"-\",kow.13=\"\",H.13=\"\",H.13=0,H.13=\"-\",Tipo.13=\"METAL\"),\"-\",((Wpveg+Lpveg*((10^kow.13)^bveg))/((H.13)))))","v":"-"},{"$f":"IF(PM.13=\"\",\"-\",IF(OR(kla.13=\"-\",kla.13=0),\"-\",(((Alveg*gveg)/(kla.13*Vlveg))+lambdamveg+lambdapveg+lambdagveg)))","v":"-"},{"$f":"IF(PM.13=\"\",\"-\",IF(OR(Kd.13=\"-\",Kd.13=\"\",zw.13=\"-\",Tipo.13=\"METAL\"),\"-\",((Kd.13*ps*zw.13)/Vsveg)))","v":"-"},{"$f":"IF(PM.13=\"\",\"-\",IF(OR(pv.13=\"\",S.13=\"\",pv.13=\"-\",pv.13=0,Tipo.13=\"METAL\",PM.13=\"ND\"),\"-\",(((S.13)*(1/PM.13))/((pv.13*101325)/760))))","v":"-"},{"$f":"IF(OR(PM.13=\"\",Tipo.13=\"METAL\"),\"-\",(1/(Rveg*Tarveg)))","v":"-"},{"$f":"IF(PM.13=\"\",\"-\",IF(OR(za.13=\"-\",zw.13=\"-\",zs.13=\"-\",Tipo.13=\"METAL\"),\"-\",((zw.13*Vwveg)/(za.13*Vaveg+zw.13*Vwveg+zs.13*Vsveg))))","v":"-"},{"$f":"IF(PM.13=\"\",\"-\",IF(OR(kow.13=\"-\",kow.13=\"\",Tipo.13=\"METAL\"),\"-\",(Wtrappveg+Ltrappveg*aveg*((10^kow.13)^btrappveg))))","v":"-"},{"$f":"IF(PM.13=\"\",\"-\",IF(OR(Kd.13=0,Kd.13=\"\",krw.13=\"-\",krw.13=0,Tipo.13=\"METAL\"),\"-\",((Qveg/Kd.13)/((Qveg/krw.13)+(kveg*Vtrappveg)))))","v":"-"},0.01]
[null,14,{"$f":"SQI!D22","v":0},{"$f":"SQI!C22","v":""},{"$f":"IF(PM.14=\"\",\"-\",IF(ISERROR(((Dar.14*Oas^3.33)/(OT^2))+((Dagua.14*Ows^3.33)/(H.14*OT^2))),\"-\",(((Dar.14*Oas^3.33)/(OT^2))+((Dagua.14*Ows^3.33)/(H.14*OT^2)))))","v":"-"},{"$f":"IF(PM.14=\"\",\"-\",IF(ISERROR(((Dar.14*Oacrk^3.33)/(OT^2))+((Dagua.14*Owcrk^3.33)/(H.14*OT^2))),\"-\",(((Dar.14*Oacrk^3.33)/(OT^2))+((Dagua.14*Owcrk^3.33)/(H.14*OT^2)))))","v":"-"},{"$f":"IF(PM.14=\"\",\"-\",IF(OR(F21=\"-\",F21=0),\"-\",((Qs/Ab)/((F21/Lcrk)*n))))","v":"-"},{"$f":"IF(PM.14=\"\",\"-\",IF(ISERROR(((Dar.14*Oacap^3.33)/(OT^2))+((Dagua.14*Owcap^3.33)/(H.14*OT^2))),\"-\",(((Dar.14*Oacap^3.33)/(OT^2))+((Dagua.14*Owcap^3.33)/(H.14*OT^2)))))","v":"-"},{"$f":"IF(PM.14=\"\",\"-\",IF(OR(H21=0,E21=0,H21=\"-\",E21=\"-\"),\"-\",((hcap+hv)/((hcap/H21)+(hv/E21)))))","v":"-"},{"$f":"IF(PM.14=\"\",\"-\",((1+(((Ugw*Sgw)/(SIR*Wss))*365))))","v":"-"},{"$f":"IF(OR(PM.14=\"\",PM.14=\"-\"),\"-\",IF(AND(H.14=\"\",Kd.14<>\"\"),(ps/(((Kd.14*ps)+Ows+(0*Oas)))),IF(AND(Kd.14=\"\",H.14<>\"\"),(ps/(((0*ps)+Ows+(H.14*Oas)))),IF(AND(Kd.14=\"\",H.14=\"\"),(ps/(((0*ps)+Ows+(0*Oas)))),(ps/(((Kd.14*ps)+Ows+(H.14*Oas))))))))","v":"-"},{"$f":"IF(PM.14=\"\",\"-\",IF(OR(K21=\"-\",K21=0,S.14=\"\"),\"-\",(S.14/K21)))","v":"-"},{"$f":"IF(PM.14=\"\",\"-\",IF(OR(E21=\"-\",H.14=\"\",H.14=\"-\",Kd.14=\"\",Kd.14=\"-\"),\"-\",MIN((((2*Ws*ps)/(Uar*Sar))*(SQRT((E21*H.14)/(PI()*(Ows+(Kd.14*ps)+(H.14*Oas))*tau)))*10^3),((Ws*ps*Ls)/(Uar*Sar*tau))*10^3)))","v":"-"},{"$f":"IF(PM.14=\"\",\"-\",(((Pa*Ws)/(Uar*Sar))*10^3))","v":"-"},{"$f":"IF(PM.14=\"\",\"-\",IF(OR(E21=\"-\",E21=0,Kd.14=\"\",Kd.14=\"-\"),\"-\",MIN((((H.14*ps)/(((Kd.14*ps)+Ows+(H.14*Oas))*(1+(Uar*Sar*Lss)/(E21*Wss))))*10^3),((Wss*ps*dss)/(Uar*Sar*tau))*10^3)))","v":"-"},{"$f":"IF(PM.14=\"\",\"-\",IF(OR(F21=0,F21=\"-\",E21=\"-\",Kd.14=\"\",Kd.14=\"-\"),\"-\",MIN(IF(dp>0,(((((H.14*ps)/((Kd.14*ps)+Ows+(H.14*Oas)))*((E21/Lss)/(ER*Lb))*EXP(G21))/(EXP(G21)+((E21/Lss)/(ER*Lb))+(((E21/Lss)/((F21/Lcrk)*n))*(EXP(G21)-1))))*10^3),(((((H.14*ps)/((Kd.14*ps)+Ows+(H.14*Oas)))*((E21/Lss)/(ER*Lb)))/(1+((E21/Lss)/(ER*Lb))+((E21/Lss)/((F21/Lcrk)*n))))*10^3)),((ps*dss)/(Lb*ER*tau))*10^3)))","v":"-"},{"$f":"IF(PM.14=\"\",\"-\",IF(OR(K21=\"-\",J21=\"-\",J21=0),\"-\",((K21/J21)*10^3)))","v":"-"},{"$f":"IF(PM.14=\"\",\"-\",IF(OR(I21=0,I21=\"-\"),\"-\",(((H.14)/(1+((Uar*Sar*Lgw)/(Ww*I21))))*10^3)))","v":"-"},{"$f":"IF(PM.14=\"\",\"-\",IF(OR(F21=0,F21=\"-\",I21=\"-\"),\"-\",(((H.14*((I21/Lgw)/(ER*Lb)))/(1+((I21/Lgw)/(ER*Lb))+((I21/Lgw)/((F21/Lcrk)*n))))*10^3)))","v":"-"},{"$f":"IF(PM.14=\"\",\"-\",IF(OR(Kd.14=\"-\",Kd.14=\"\"),\"-\",1+((Kd.14*ps)/Oef)))","v":"-"},{"$f":"IF(PM.14=\"\",\"-\",IF(OR(Ctek.14=0,Ctek.14=\"-\",Ctek.14=\"\"),\"-\",(0.6931/Ctek.14)))","v":"-"},{"$f":"IF(PM.14=\"\",\"-\",x.14/100)","v":"-"},{"$f":"IF(PM.14=\"\",\"-\",IF(OR(lambda.14=\"-\",R.14=\"-\"),(EXP(((x.14/100)/(2*alfa.x))*(1-SQRT(1+((4*alfa.x*0)/(vs*365/100)))))*ERF((Sw/100)/(4*SQRT(alfa.y*(x.14/100))))*ERF((Sd/100)/(2*SQRT(alfa.z*(x.14/100))))),(EXP(((x.14/100)/(2*alfa.x))*(1-SQRT(1+((4*alfa.x*lambda.14*R.14)/(vs*365/100)))))*ERF((Sw/100)/(4*SQRT(alfa.y*(x.14/100))))*ERF((Sd/100)/(2*SQRT(alfa.z*(x.14/100)))))))","v":"-"},{"$f":"IF(PM.14=\"\",\"-\",IF(OR(Kd.14=\"\",Kd.14=\"-\",Kd.14=0,Tipo.14<>\"METAL\"),\"-\",IF(FatBio.14=\"\",(EXP(2.67-1.12*LN(Kd.14))),FatBio.14)))","v":"-"},{"$f":"IF(PM.14=\"\",\"-\",IF(OR(Kd.14=\"\",Kd.14=\"-\",Kd.14=0,Tipo.14<>\"METAL\"),\"-\",IF(fbcf.14=\"\",(EXP(2.67-1.12*LN(Kd.14))),fbcf.14)))","v":"-"},{"$f":"IF(PM.14=\"\",\"-\",Cf.SoloSup.14*cdpx.14)","v":"-"},{"$f":"IF(PM.14=\"\",\"-\",IF(OR(kow.14=\"-\",kow.14=0,kow.14=\"\",Tipo.14=\"METAL\"),\"-\",(0.784*EXP((-1*((kow.14)-1.78)^2)/2.44))))","v":"-"},{"$f":"IF(PM.14=\"\",\"-\",IF(OR(kow.14=\"-\",kow.14=\"\",H.14=\"\",H.14=0,H.14=\"-\",Tipo.14=\"METAL\"),\"-\",((Wpveg+Lpveg*((10^kow.14)^bveg))/((H.14)))))","v":"-"},{"$f":"IF(PM.14=\"\",\"-\",IF(OR(kla.14=\"-\",kla.14=0),\"-\",(((Alveg*gveg)/(kla.14*Vlveg))+lambdamveg+lambdapveg+lambdagveg)))","v":"-"},{"$f":"IF(PM.14=\"\",\"-\",IF(OR(Kd.14=\"-\",Kd.14=\"\",zw.14=\"-\",Tipo.14=\"METAL\"),\"-\",((Kd.14*ps*zw.14)/Vsveg)))","v":"-"},{"$f":"IF(PM.14=\"\",\"-\",IF(OR(pv.14=\"\",S.14=\"\",pv.14=\"-\",pv.14=0,Tipo.14=\"METAL\",PM.14=\"ND\"),\"-\",(((S.14)*(1/PM.14))/((pv.14*101325)/760))))","v":"-"},{"$f":"IF(OR(PM.14=\"\",Tipo.14=\"METAL\"),\"-\",(1/(Rveg*Tarveg)))","v":"-"},{"$f":"IF(PM.14=\"\",\"-\",IF(OR(za.14=\"-\",zw.14=\"-\",zs.14=\"-\",Tipo.14=\"METAL\"),\"-\",((zw.14*Vwveg)/(za.14*Vaveg+zw.14*Vwveg+zs.14*Vsveg))))","v":"-"},{"$f":"IF(PM.14=\"\",\"-\",IF(OR(kow.14=\"-\",kow.14=\"\",Tipo.14=\"METAL\"),\"-\",(Wtrappveg+Ltrappveg*aveg*((10^kow.14)^btrappveg))))","v":"-"},{"$f":"IF(PM.14=\"\",\"-\",IF(OR(Kd.14=0,Kd.14=\"\",krw.14=\"-\",krw.14=0,Tipo.14=\"METAL\"),\"-\",((Qveg/Kd.14)/((Qveg/krw.14)+(kveg*Vtrappveg)))))","v":"-"},0.01]
[null,15,{"$f":"SQI!D23","v":0},{"$f":"SQI!C23","v":""},{"$f":"IF(PM.15=\"\",\"-\",IF(ISERROR(((Dar.15*Oas^3.33)/(OT^2))+((Dagua.15*Ows^3.33)/(H.15*OT^2))),\"-\",(((Dar.15*Oas^3.33)/(OT^2))+((Dagua.15*Ows^3.33)/(H.15*OT^2)))))","v":"-"},{"$f":"IF(PM.15=\"\",\"-\",IF(ISERROR(((Dar.15*Oacrk^3.33)/(OT^2))+((Dagua.15*Owcrk^3.33)/(H.15*OT^2))),\"-\",(((Dar.15*Oacrk^3.33)/(OT^2))+((Dagua.15*Owcrk^3.33)/(H.15*OT^2)))))","v":"-"},{"$f":"IF(PM.15=\"\",\"-\",IF(OR(F22=\"-\",F22=0),\"-\",((Qs/Ab)/((F22/Lcrk)*n))))","v":"-"},{"$f":"IF(PM.15=\"\",\"-\",IF(ISERROR(((Dar.15*Oacap^3.33)/(OT^2))+((Dagua.15*Owcap^3.33)/(H.15*OT^2))),\"-\",(((Dar.15*Oacap^3.33)/(OT^2))+((Dagua.15*Owcap^3.33)/(H.15*OT^2)))))","v":"-"},{"$f":"IF(PM.15=\"\",\"-\",IF(OR(H22=0,E22=0,H22=\"-\",E22=\"-\"),\"-\",((hcap+hv)/((hcap/H22)+(hv/E22)))))","v":"-"},{"$f":"IF(PM.15=\"\",\"-\",((1+(((Ugw*Sgw)/(SIR*Wss))*365))))","v":"-"},{"$f":"IF(OR(PM.15=\"\",PM.15=\"-\"),\"-\",IF(AND(H.15=\"\",Kd.15<>\"\"),(ps/(((Kd.15*ps)+Ows+(0*Oas)))),IF(AND(Kd.15=\"\",H.15<>\"\"),(ps/(((0*ps)+Ows+(H.15*Oas)))),IF(AND(Kd.15=\"\",H.15=\"\"),(ps/(((0*ps)+Ows+(0*Oas)))),(ps/(((Kd.15*ps)+Ows+(H.15*Oas))))))))","v":"-"},{"$f":"IF(PM.15=\"\",\"-\",IF(OR(K22=\"-\",K22=0,S.15=\"\"),\"-\",(S.15/K22)))","v":"-"},{"$f":"IF(PM.15=\"\",\"-\",IF(OR(E22=\"-\",H.15=\"\",H.15=\"-\",Kd.15=\"\",Kd.15=\"-\"),\"-\",MIN((((2*Ws*ps)/(Uar*Sar))*(SQRT((E22*H.15)/(PI()*(Ows+(Kd.15*ps)+(H.15*Oas))*tau)))*10^3),((Ws*ps*Ls)/(Uar*Sar*tau))*10^3)))","v":"-"},{"$f":"IF(PM.15=\"\",\"-\",(((Pa*Ws)/(Uar*Sar))*10^3))","v":"-"},{"$f":"IF(PM.15=\"\",\"-\",IF(OR(E22=\"-\",E22=0,Kd.15=\"\",Kd.15=\"-\"),\"-\",MIN((((H.15*ps)/(((Kd.15*ps)+Ows+(H.15*Oas))*(1+(Uar*Sar*Lss)/(E22*Wss))))*10^3),((Wss*ps*dss)/(Uar*Sar*tau))*10^3)))","v":"-"},{"$f":"IF(PM.15=\"\",\"-\",IF(OR(F22=0,F22=\"-\",E22=\"-\",Kd.15=\"\",Kd.15=\"-\"),\"-\",MIN(IF(dp>0,(((((H.15*ps)/((Kd.15*ps)+Ows+(H.15*Oas)))*((E22/Lss)/(ER*Lb))*EXP(G22))/(EXP(G22)+((E22/Lss)/(ER*Lb))+(((E22/Lss)/((F22/Lcrk)*n))*(EXP(G22)-1))))*10^3),(((((H.15*ps)/((Kd.15*ps)+Ows+(H.15*Oas)))*((E22/Lss)/(ER*Lb)))/(1+((E22/Lss)/(ER*Lb))+((E22/Lss)/((F22/Lcrk)*n))))*10^3)),((ps*dss)/(Lb*ER*tau))*10^3)))","v":"-"},{"$f":"IF(PM.15=\"\",\"-\",IF(OR(K22=\"-\",J22=\"-\",J22=0),\"-\",((K22/J22)*10^3)))","v":"-"},{"$f":"IF(PM.15=\"\",\"-\",IF(OR(I22=0,I22=\"-\"),\"-\",(((H.15)/(1+((Uar*Sar*Lgw)/(Ww*I22))))*10^3)))","v":"-"},{"$f":"IF(PM.15=\"\",\"-\",IF(OR(F22=0,F22=\"-\",I22=\"-\"),\"-\",(((H.15*((I22/Lgw)/(ER*Lb)))/(1+((I22/Lgw)/(ER*Lb))+((I22/Lgw)/((F22/Lcrk)*n))))*10^3)))","v":"-"},{"$f":"IF(PM.15=\"\",\"-\",IF(OR(Kd.15=\"-\",Kd.15=\"\"),\"-\",1+((Kd.15*ps)/Oef)))","v":"-"},{"$f":"IF(PM.15=\"\",\"-\",IF(OR(Ctek.15=0,Ctek.15=\"-\",Ctek.15=\"\"),\"-\",(0.6931/Ctek.15)))","v":"-"},{"$f":"IF(PM.15=\"\",\"-\",x.15/100)","v":"-"},{"$f":"IF(PM.15=\"\",\"-\",IF(OR(lambda.15=\"-\",R.15=\"-\"),(EXP(((x.15/100)/(2*alfa.x))*(1-SQRT(1+((4*alfa.x*0)/(vs*365/100)))))*ERF((Sw/100)/(4*SQRT(alfa.y*(x.15/100))))*ERF((Sd/100)/(2*SQRT(alfa.z*(x.15/100))))),(EXP(((x.15/100)/(2*alfa.x))*(1-SQRT(1+((4*alfa.x*lambda.15*R.15)/(vs*365/100)))))*ERF((Sw/100)/(4*SQRT(alfa.y*(x.15/100))))*ERF((Sd/100)/(2*SQRT(alfa.z*(x.15/100)))))))","v":"-"},{"$f":"IF(PM.15=\"\",\"-\",IF(OR(Kd.15=\"\",Kd.15=\"-\",Kd.15=0,Tipo.15<>\"METAL\"),\"-\",IF(FatBio.15=\"\",(EXP(2.67-1.12*LN(Kd.15))),FatBio.15)))","v":"-"},{"$f":"IF(PM.15=\"\",\"-\",IF(OR(Kd.15=\"\",Kd.15=\"-\",Kd.15=0,Tipo.15<>\"METAL\"),\"-\",IF(fbcf.15=\"\",(EXP(2.67-1.12*LN(Kd.15))),fbcf.15)))","v":"-"},{"$f":"IF(PM.15=\"\",\"-\",Cf.SoloSup.15*cdpx.15)","v":"-"},{"$f":"IF(PM.15=\"\",\"-\",IF(OR(kow.15=\"-\",kow.15=0,kow.15=\"\",Tipo.15=\"METAL\"),\"-\",(0.784*EXP((-1*((kow.15)-1.78)^2)/2.44))))","v":"-"},{"$f":"IF(PM.15=\"\",\"-\",IF(OR(kow.15=\"-\",kow.15=\"\",H.15=\"\",H.15=0,H.15=\"-\",Tipo.15=\"METAL\"),\"-\",((Wpveg+Lpveg*((10^kow.15)^bveg))/((H.15)))))","v":"-"},{"$f":"IF(PM.15=\"\",\"-\",IF(OR(kla.15=\"-\",kla.15=0),\"-\",(((Alveg*gveg)/(kla.15*Vlveg))+lambdamveg+lambdapveg+lambdagveg)))","v":"-"},{"$f":"IF(PM.15=\"\",\"-\",IF(OR(Kd.15=\"-\",Kd.15=\"\",zw.15=\"-\",Tipo.15=\"METAL\"),\"-\",((Kd.15*ps*zw.15)/Vsveg)))","v":"-"},{"$f":"IF(PM.15=\"\",\"-\",IF(OR(pv.15=\"\",S.15=\"\",pv.15=\"-\",pv.15=0,Tipo.15=\"METAL\",PM.15=\"ND\"),\"-\",(((S.15)*(1/PM.15))/((pv.15*101325)/760))))","v":"-"},{"$f":"IF(OR(PM.15=\"\",Tipo.15=\"METAL\"),\"-\",(1/(Rveg*Tarveg)))","v":"-"},{"$f":"IF(PM.15=\"\",\"-\",IF(OR(za.15=\"-\",zw.15=\"-\",zs.15=\"-\",Tipo.15=\"METAL\"),\"-\",((zw.15*Vwveg)/(za.15*Vaveg+zw.15*Vwveg+zs.15*Vsveg))))","v":"-"},{"$f":"IF(PM.15=\"\",\"-\",IF(OR(kow.15=\"-\",kow.15=\"\",Tipo.15=\"METAL\"),\"-\",(Wtrappveg+Ltrappveg*aveg*((10^kow.15)^btrappveg))))","v":"-"},{"$f":"IF(PM.15=\"\",\"-\",IF(OR(Kd.15=0,Kd.15=\"\",krw.15=\"-\",krw.15=0,Tipo.15=\"METAL\"),\"-\",((Qveg/Kd.15)/((Qveg/krw.15)+(kveg*Vtrappveg)))))","v":"-"},0.01]
[null,16,{"$f":"SQI!D24","v":0},{"$f":"SQI!C24","v":""},{"$f":"IF(PM.16=\"\",\"-\",IF(ISERROR(((Dar.16*Oas^3.33)/(OT^2))+((Dagua.16*Ows^3.33)/(H.16*OT^2))),\"-\",(((Dar.16*Oas^3.33)/(OT^2))+((Dagua.16*Ows^3.33)/(H.16*OT^2)))))","v":"-"},{"$f":"IF(PM.16=\"\",\"-\",IF(ISERROR(((Dar.16*Oacrk^3.33)/(OT^2))+((Dagua.16*Owcrk^3.33)/(H.16*OT^2))),\"-\",(((Dar.16*Oacrk^3.33)/(OT^2))+((Dagua.16*Owcrk^3.33)/(H.16*OT^2)))))","v":"-"},{"$f":"IF(PM.16=\"\",\"-\",IF(OR(F23=\"-\",F23=0),\"-\",((Qs/Ab)/((F23/Lcrk)*n))))","v":"-"},{"$f":"IF(PM.16=\"\",\"-\",IF(ISERROR(((Dar.16*Oacap^3.33)/(OT^2))+((Dagua.16*Owcap^3.33)/(H.16*OT^2))),\"-\",(((Dar.16*Oacap^3.33)/(OT^2))+((Dagua.16*Owcap^3.33)/(H.16*OT^2)))))","v":"-"},{"$f":"IF(PM.16=\"\",\"-\",IF(OR(H23=0,E23=0,H23=\"-\",E23=\"-\"),\"-\",((hcap+hv)/((hcap/H23)+(hv/E23)))))","v":"-"},{"$f":"IF(PM.16=\"\",\"-\",((1+(((Ugw*Sgw)/(SIR*Wss))*365))))","v":"-"},{"$f":"IF(OR(PM.16=\"\",PM.16=\"-\"),\"-\",IF(AND(H.16=\"\",Kd.16<>\"\"),(ps/(((Kd.16*ps)+Ows+(0*Oas)))),IF(AND(Kd.16=\"\",H.16<>\"\"),(ps/(((0*ps)+Ows+(H.16*Oas)))),IF(AND(Kd.16=\"\",H.16=\"\"),(ps/(((0*ps)+Ows+(0*Oas)))),(ps/(((Kd.16*ps)+Ows+(H.16*Oas))))))))","v":"-"},{"$f":"IF(PM.16=\"\",\"-\",IF(OR(K23=\"-\",K23=0,S.16=\"\"),\"-\",(S.16/K23)))","v":"-"},{"$f":"IF(PM.16=\"\",\"-\",IF(OR(E23=\"-\",H.16=\"\",H.16=\"-\",Kd.16=\"\",Kd.16=\"-\"),\"-\",MIN((((2*Ws*ps)/(Uar*Sar))*(SQRT((E23*H.16)/(PI()*(Ows+(Kd.16*ps)+(H.16*Oas))*tau)))*10^3),((Ws*ps*Ls)/(Uar*Sar*tau))*10^3)))","v":"-"},{"$f":"IF(PM.16=\"\",\"-\",(((Pa*Ws)/(Uar*Sar))*10^3))","v":"-"},{"$f":"IF(PM.16=\"\",\"-\",IF(OR(E23=\"-\",E23=0,Kd.16=\"\",Kd.16=\"-\"),\"-\",MIN((((H.16*ps)/(((Kd.16*ps)+Ows+(H.16*Oas))*(1+(Uar*Sar*Lss)/(E23*Wss))))*10^3),((Wss*ps*dss)/(Uar*Sar*tau))*10^3)))","v":"-"},{"$f":"IF(PM.16=\"\",\"-\",IF(OR(F23=0,F23=\"-\",E23=\"-\",Kd.16=\"\",Kd.16=\"-\"),\"-\",MIN(IF(dp>0,(((((H.16*ps)/((Kd.16*ps)+Ows+(H.16*Oas)))*((E23/Lss)/(ER*Lb))*EXP(G23))/(EXP(G23)+((E23/Lss)/(ER*Lb))+(((E23/Lss)/((F23/Lcrk)*n))*(EXP(G23)-1))))*10^3),(((((H.16*ps)/((Kd.16*ps)+Ows+(H.16*Oas)))*((E23/Lss)/(ER*Lb)))/(1+((E23/Lss)/(ER*Lb))+((E23/Lss)/((F23/Lcrk)*n))))*10^3)),((ps*dss)/(Lb*ER*tau))*10^3)))","v":"-"},{"$f":"IF(PM.16=\"\",\"-\",IF(OR(K23=\"-\",J23=\"-\",J23=0),\"-\",((K23/J23)*10^3)))","v":"-"},{"$f":"IF(PM.16=\"\",\"-\",IF(OR(I23=0,I23=\"-\"),\"-\",(((H.16)/(1+((Uar*Sar*Lgw)/(Ww*I23))))*10^3)))","v":"-"},{"$f":"IF(PM.16=\"\",\"-\",IF(OR(F23=0,F23=\"-\",I23=\"-\"),\"-\",(((H.16*((I23/Lgw)/(ER*Lb)))/(1+((I23/Lgw)/(ER*Lb))+((I23/Lgw)/((F23/Lcrk)*n))))*10^3)))","v":"-"},{"$f":"IF(PM.16=\"\",\"-\",IF(OR(Kd.16=\"-\",Kd.16=\"\"),\"-\",1+((Kd.16*ps)/Oef)))","v":"-"},{"$f":"IF(PM.16=\"\",\"-\",IF(OR(Ctek.16=0,Ctek.16=\"-\",Ctek.16=\"\"),\"-\",(0.6931/Ctek.16)))","v":"-"},{"$f":"IF(PM.16=\"\",\"-\",x.16/100)","v":"-"},{"$f":"IF(PM.16=\"\",\"-\",IF(OR(lambda.16=\"-\",R.16=\"-\"),(EXP(((x.16/100)/(2*alfa.x))*(1-SQRT(1+((4*alfa.x*0)/(vs*365/100)))))*ERF((Sw/100)/(4*SQRT(alfa.y*(x.16/100))))*ERF((Sd/100)/(2*SQRT(alfa.z*(x.16/100))))),(EXP(((x.16/100)/(2*alfa.x))*(1-SQRT(1+((4*alfa.x*lambda.16*R.16)/(vs*365/100)))))*ERF((Sw/100)/(4*SQRT(alfa.y*(x.16/100))))*ERF((Sd/100)/(2*SQRT(alfa.z*(x.16/100)))))))","v":"-"},{"$f":"IF(PM.16=\"\",\"-\",IF(OR(Kd.16=\"\",Kd.16=\"-\",Kd.16=0,Tipo.16<>\"METAL\"),\"-\",IF(FatBio.16=\"\",(EXP(2.67-1.12*LN(Kd.16))),FatBio.16)))","v":"-"},{"$f":"IF(PM.16=\"\",\"-\",IF(OR(Kd.16=\"\",Kd.16=\"-\",Kd.16=0,Tipo.16<>\"METAL\"),\"-\",IF(fbcf.16=\"\",(EXP(2.67-1.12*LN(Kd.16))),fbcf.16)))","v":"-"},{"$f":"IF(PM.16=\"\",\"-\",Cf.SoloSup.16*cdpx.16)","v":"-"},{"$f":"IF(PM.16=\"\",\"-\",IF(OR(kow.16=\"-\",kow.16=0,kow.16=\"\",Tipo.16=\"METAL\"),\"-\",(0.784*EXP((-1*((kow.16)-1.78)^2)/2.44))))","v":"-"},{"$f":"IF(PM.16=\"\",\"-\",IF(OR(kow.16=\"-\",kow.16=\"\",H.16=\"\",H.16=0,H.16=\"-\",Tipo.16=\"METAL\"),\"-\",((Wpveg+Lpveg*((10^kow.16)^bveg))/((H.16)))))","v":"-"},{"$f":"IF(PM.16=\"\",\"-\",IF(OR(kla.16=\"-\",kla.16=0),\"-\",(((Alveg*gveg)/(kla.16*Vlveg))+lambdamveg+lambdapveg+lambdagveg)))","v":"-"},{"$f":"IF(PM.16=\"\",\"-\",IF(OR(Kd.16=\"-\",Kd.16=\"\",zw.16=\"-\",Tipo.16=\"METAL\"),\"-\",((Kd.16*ps*zw.16)/Vsveg)))","v":"-"},{"$f":"IF(PM.16=\"\",\"-\",IF(OR(pv.16=\"\",S.16=\"\",pv.16=\"-\",pv.16=0,Tipo.16=\"METAL\",PM.16=\"ND\"),\"-\",(((S.16)*(1/PM.16))/((pv.16*101325)/760))))","v":"-"},{"$f":"IF(OR(PM.16=\"\",Tipo.16=\"METAL\"),\"-\",(1/(Rveg*Tarveg)))","v":"-"},{"$f":"IF(PM.16=\"\",\"-\",IF(OR(za.16=\"-\",zw.16=\"-\",zs.16=\"-\",Tipo.16=\"METAL\"),\"-\",((zw.16*Vwveg)/(za.16*Vaveg+zw.16*Vwveg+zs.16*Vsveg))))","v":"-"},{"$f":"IF(PM.16=\"\",\"-\",IF(OR(kow.16=\"-\",kow.16=\"\",Tipo.16=\"METAL\"),\"-\",(Wtrappveg+Ltrappveg*aveg*((10^kow.16)^btrappveg))))","v":"-"},{"$f":"IF(PM.16=\"\",\"-\",IF(OR(Kd.16=0,Kd.16=\"\",krw.16=\"-\",krw.16=0,Tipo.16=\"METAL\"),\"-\",((Qveg/Kd.16)/((Qveg/krw.16)+(kveg*Vtrappveg)))))","v":"-"},0.01]
[null,17,{"$f":"SQI!D25","v":0},{"$f":"SQI!C25","v":""},{"$f":"IF(PM.17=\"\",\"-\",IF(ISERROR(((Dar.17*Oas^3.33)/(OT^2))+((Dagua.17*Ows^3.33)/(H.17*OT^2))),\"-\",(((Dar.17*Oas^3.33)/(OT^2))+((Dagua.17*Ows^3.33)/(H.17*OT^2)))))","v":"-"},{"$f":"IF(PM.17=\"\",\"-\",IF(ISERROR(((Dar.17*Oacrk^3.33)/(OT^2))+((Dagua.17*Owcrk^3.33)/(H.17*OT^2))),\"-\",(((Dar.17*Oacrk^3.33)/(OT^2))+((Dagua.17*Owcrk^3.33)/(H.17*OT^2)))))","v":"-"},{"$f":"IF(PM.17=\"\",\"-\",IF(OR(F24=\"-\",F24=0),\"-\",((Qs/Ab)/((F24/Lcrk)*n))))","v":"-"},{"$f":"IF(PM.17=\"\",\"-\",IF(ISERROR(((Dar.17*Oacap^3.33)/(OT^2))+((Dagua.17*Owcap^3.33)/(H.17*OT^2))),\"-\",(((Dar.17*Oacap^3.33)/(OT^2))+((Dagua.17*Owcap^3.33)/(H.17*OT^2)))))","v":"-"},{"$f":"IF(PM.17=\"\",\"-\",IF(OR(H24=0,E24=0,H24=\"-\",E24=\"-\"),\"-\",((hcap+hv)/((hcap/H24)+(hv/E24)))))","v":"-"},{"$f":"IF(PM.17=\"\",\"-\",((1+(((Ugw*Sgw)/(SIR*Wss))*365))))","v":"-"},{"$f":"IF(OR(PM.17=\"\",PM.17=\"-\"),\"-\",IF(AND(H.17=\"\",Kd.17<>\"\"),(ps/(((Kd.17*ps)+Ows+(0*Oas)))),IF(AND(Kd.17=\"\",H.17<>\"\"),(ps/(((0*ps)+Ows+(H.17*Oas)))),IF(AND(Kd.17=\"\",H.17=\"\"),(ps/(((0*ps)+Ows+(0*Oas)))),(ps/(((Kd.17*ps)+Ows+(H.17*Oas))))))))","v":"-"},{"$f":"IF(PM.17=\"\",\"-\",IF(OR(K24=\"-\",K24=0,S.17=\"\"),\"-\",(S.17/K24)))","v":"-"},{"$f":"IF(PM.17=\"\",\"-\",IF(OR(E24=\"-\",H.17=\"\",H.17=\"-\",Kd.17=\"\",Kd.17=\"-\"),\"-\",MIN((((2*Ws*ps)/(Uar*Sar))*(SQRT((E24*H.17)/(PI()*(Ows+(Kd.17*ps)+(H.17*Oas))*tau)))*10^3),((Ws*ps*Ls)/(Uar*Sar*tau))*10^3)))","v":"-"},{"$f":"IF(PM.17=\"\",\"-\",(((Pa*Ws)/(Uar*Sar))*10^3))","v":"-"},{"$f":"IF(PM.17=\"\",\"-\",IF(OR(E24=\"-\",E24=0,Kd.17=\"\",Kd.17=\"-\"),\"-\",MIN((((H.17*ps)/(((Kd.17*ps)+Ows+(H.17*Oas))*(1+(Uar*Sar*Lss)/(E24*Wss))))*10^3),((Wss*ps*dss)/(Uar*Sar*tau))*10^3)))","v":"-"},{"$f":"IF(PM.17=\"\",\"-\",IF(OR(F24=0,F24=\"-\",E24=\"-\",Kd.17=\"\",Kd.17=\"-\"),\"-\",MIN(IF(dp>0,(((((H.17*ps)/((Kd.17*ps)+Ows+(H.17*Oas)))*((E24/Lss)/(ER*Lb))*EXP(G24))/(EXP(G24)+((E24/Lss)/(ER*Lb))+(((E24/Lss)/((F24/Lcrk)*n))*(EXP(G24)-1))))*10^3),(((((H.17*ps)/((Kd.17*ps)+Ows+(H.17*Oas)))*((E24/Lss)/(ER*Lb)))/(1+((E24/Lss)/(ER*Lb))+((E24/Lss)/((F24/Lcrk)*n))))*10^3)),((ps*dss)/(Lb*ER*tau))*10^3)))","v":"-"},{"$f":"IF(PM.17=\"\",\"-\",IF(OR(K24=\"-\",J24=\"-\",J24=0),\"-\",((K24/J24)*10^3)))","v":"-"},{"$f":"IF(PM.17=\"\",\"-\",IF(OR(I24=0,I24=\"-\"),\"-\",(((H.17)/(1+((Uar*Sar*Lgw)/(Ww*I24))))*10^3)))","v":"-"},{"$f":"IF(PM.17=\"\",\"-\",IF(OR(F24=0,F24=\"-\",I24=\"-\"),\"-\",(((H.17*((I24/Lgw)/(ER*Lb)))/(1+((I24/Lgw)/(ER*Lb))+((I24/Lgw)/((F24/Lcrk)*n))))*10^3)))","v":"-"},{"$f":"IF(PM.17=\"\",\"-\",IF(OR(Kd.17=\"-\",Kd.17=\"\"),\"-\",1+((Kd.17*ps)/Oef)))","v":"-"},{"$f":"IF(PM.17=\"\",\"-\",IF(OR(Ctek.17=0,Ctek.17=\"-\",Ctek.17=\"\"),\"-\",(0.6931/Ctek.17)))","v":"-"},{"$f":"IF(PM.17=\"\",\"-\",x.17/100)","v":"-"},{"$f":"IF(PM.17=\"\",\"-\",IF(OR(lambda.17=\"-\",R.17=\"-\"),(EXP(((x.17/100)/(2*alfa.x))*(1-SQRT(1+((4*alfa.x*0)/(vs*365/100)))))*ERF((Sw/100)/(4*SQRT(alfa.y*(x.17/100))))*ERF((Sd/100)/(2*SQRT(alfa.z*(x.17/100))))),(EXP(((x.17/100)/(2*alfa.x))*(1-SQRT(1+((4*alfa.x*lambda.17*R.17)/(vs*365/100)))))*ERF((Sw/100)/(4*SQRT(alfa.y*(x.17/100))))*ERF((Sd/100)/(2*SQRT(alfa.z*(x.17/100)))))))","v":"-"},{"$f":"IF(PM.17=\"\",\"-\",IF(OR(Kd.17=\"\",Kd.17=\"-\",Kd.17=0,Tipo.17<>\"METAL\"),\"-\",IF(FatBio.17=\"\",(EXP(2.67-1.12*LN(Kd.17))),FatBio.17)))","v":"-"},{"$f":"IF(PM.17=\"\",\"-\",IF(OR(Kd.17=\"\",Kd.17=\"-\",Kd.17=0,Tipo.17<>\"METAL\"),\"-\",IF(fbcf.17=\"\",(EXP(2.67-1.12*LN(Kd.17))),fbcf.17)))","v":"-"},{"$f":"IF(PM.17=\"\",\"-\",Cf.SoloSup.17*cdpx.17)","v":"-"},{"$f":"IF(PM.17=\"\",\"-\",IF(OR(kow.17=\"-\",kow.17=0,kow.17=\"\",Tipo.17=\"METAL\"),\"-\",(0.784*EXP((-1*((kow.17)-1.78)^2)/2.44))))","v":"-"},{"$f":"IF(PM.17=\"\",\"-\",IF(OR(kow.17=\"-\",kow.17=\"\",H.17=\"\",H.17=0,H.17=\"-\",Tipo.17=\"METAL\"),\"-\",((Wpveg+Lpveg*((10^kow.17)^bveg))/((H.17)))))","v":"-"},{"$f":"IF(PM.17=\"\",\"-\",IF(OR(kla.17=\"-\",kla.17=0),\"-\",(((Alveg*gveg)/(kla.17*Vlveg))+lambdamveg+lambdapveg+lambdagveg)))","v":"-"},{"$f":"IF(PM.17=\"\",\"-\",IF(OR(Kd.17=\"-\",Kd.17=\"\",zw.17=\"-\",Tipo.17=\"METAL\"),\"-\",((Kd.17*ps*zw.17)/Vsveg)))","v":"-"},{"$f":"IF(PM.17=\"\",\"-\",IF(OR(pv.17=\"\",S.17=\"\",pv.17=\"-\",pv.17=0,Tipo.17=\"METAL\",PM.17=\"ND\"),\"-\",(((S.17)*(1/PM.17))/((pv.17*101325)/760))))","v":"-"},{"$f":"IF(OR(PM.17=\"\",Tipo.17=\"METAL\"),\"-\",(1/(Rveg*Tarveg)))","v":"-"},{"$f":"IF(PM.17=\"\",\"-\",IF(OR(za.17=\"-\",zw.17=\"-\",zs.17=\"-\",Tipo.17=\"METAL\"),\"-\",((zw.17*Vwveg)/(za.17*Vaveg+zw.17*Vwveg+zs.17*Vsveg))))","v":"-"},{"$f":"IF(PM.17=\"\",\"-\",IF(OR(kow.17=\"-\",kow.17=\"\",Tipo.17=\"METAL\"),\"-\",(Wtrappveg+Ltrappveg*aveg*((10^kow.17)^btrappveg))))","v":"-"},{"$f":"IF(PM.17=\"\",\"-\",IF(OR(Kd.17=0,Kd.17=\"\",krw.17=\"-\",krw.17=0,Tipo.17=\"METAL\"),\"-\",((Qveg/Kd.17)/((Qveg/krw.17)+(kveg*Vtrappveg)))))","v":"-"},0.01]
[null,18,{"$f":"SQI!D26","v":0},{"$f":"SQI!C26","v":""},{"$f":"IF(PM.18=\"\",\"-\",IF(ISERROR(((Dar.18*Oas^3.33)/(OT^2))+((Dagua.18*Ows^3.33)/(H.18*OT^2))),\"-\",(((Dar.18*Oas^3.33)/(OT^2))+((Dagua.18*Ows^3.33)/(H.18*OT^2)))))","v":"-"},{"$f":"IF(PM.18=\"\",\"-\",IF(ISERROR(((Dar.18*Oacrk^3.33)/(OT^2))+((Dagua.18*Owcrk^3.33)/(H.18*OT^2))),\"-\",(((Dar.18*Oacrk^3.33)/(OT^2))+((Dagua.18*Owcrk^3.33)/(H.18*OT^2)))))","v":"-"},{"$f":"IF(PM.18=\"\",\"-\",IF(OR(F25=\"-\",F25=0),\"-\",((Qs/Ab)/((F25/Lcrk)*n))))","v":"-"},{"$f":"IF(PM.18=\"\",\"-\",IF(ISERROR(((Dar.18*Oacap^3.33)/(OT^2))+((Dagua.18*Owcap^3.33)/(H.18*OT^2))),\"-\",(((Dar.18*Oacap^3.33)/(OT^2))+((Dagua.18*Owcap^3.33)/(H.18*OT^2)))))","v":"-"},{"$f":"IF(PM.18=\"\",\"-\",IF(OR(H25=0,E25=0,H25=\"-\",E25=\"-\"),\"-\",((hcap+hv)/((hcap/H25)+(hv/E25)))))","v":"-"},{"$f":"IF(PM.18=\"\",\"-\",((1+(((Ugw*Sgw)/(SIR*Wss))*365))))","v":"-"},{"$f":"IF(OR(PM.18=\"\",PM.18=\"-\"),\"-\",IF(AND(H.18=\"\",Kd.18<>\"\"),(ps/(((Kd.18*ps)+Ows+(0*Oas)))),IF(AND(Kd.18=\"\",H.18<>\"\"),(ps/(((0*ps)+Ows+(H.18*Oas)))),IF(AND(Kd.18=\"\",H.18=\"\"),(ps/(((0*ps)+Ows+(0*Oas)))),(ps/(((Kd.18*ps)+Ows+(H.18*Oas))))))))","v":"-"},{"$f":"IF(PM.18=\"\",\"-\",IF(OR(K25=\"-\",K25=0,S.18=\"\"),\"-\",(S.18/K25)))","v":"-"},{"$f":"IF(PM.18=\"\",\"-\",IF(OR(E25=\"-\",H.18=\"\",H.18=\"-\",Kd.18=\"\",Kd.18=\"-\"),\"-\",MIN((((2*Ws*ps)/(Uar*Sar))*(SQRT((E25*H.18)/(PI()*(Ows+(Kd.18*ps)+(H.18*Oas))*tau)))*10^3),((Ws*ps*Ls)/(Uar*Sar*tau))*10^3)))","v":"-"},{"$f":"IF(PM.18=\"\",\"-\",(((Pa*Ws)/(Uar*Sar))*10^3))","v":"-"},{"$f":"IF(PM.18=\"\",\"-\",IF(OR(E25=\"-\",E25=0,Kd.18=\"\",Kd.18=\"-\"),\"-\",MIN((((H.18*ps)/(((Kd.18*ps)+Ows+(H.18*Oas))*(1+(Uar*Sar*Lss)/(E25*Wss))))*10^3),((Wss*ps*dss)/(Uar*Sar*tau))*10^3)))","v":"-"},{"$f":"IF(PM.18=\"\",\"-\",IF(OR(F25=0,F25=\"-\",E25=\"-\",Kd.18=\"\",Kd.18=\"-\"),\"-\",MIN(IF(dp>0,(((((H.18*ps)/((Kd.18*ps)+Ows+(H.18*Oas)))*((E25/Lss)/(ER*Lb))*EXP(G25))/(EXP(G25)+((E25/Lss)/(ER*Lb))+(((E25/Lss)/((F25/Lcrk)*n))*(EXP(G25)-1))))*10^3),(((((H.18*ps)/((Kd.18*ps)+Ows+(H.18*Oas)))*((E25/Lss)/(ER*Lb)))/(1+((E25/Lss)/(ER*Lb))+((E25/Lss)/((F25/Lcrk)*n))))*10^3)),((ps*dss)/(Lb*ER*tau))*10^3)))","v":"-"},{"$f":"IF(PM.18=\"\",\"-\",IF(OR(K25=\"-\",J25=\"-\",J25=0),\"-\",((K25/J25)*10^3)))","v":"-"},{"$f":"IF(PM.18=\"\",\"-\",IF(OR(I25=0,I25=\"-\"),\"-\",(((H.18)/(1+((Uar*Sar*Lgw)/(Ww*I25))))*10^3)))","v":"-"},{"$f":"IF(PM.18=\"\",\"-\",IF(OR(F25=0,F25=\"-\",I25=\"-\"),\"-\",(((H.18*((I25/Lgw)/(ER*Lb)))/(1+((I25/Lgw)/(ER*Lb))+((I25/Lgw)/((F25/Lcrk)*n))))*10^3)))","v":"-"},{"$f":"IF(PM.18=\"\",\"-\",IF(OR(Kd.18=\"-\",Kd.18=\"\"),\"-\",1+((Kd.18*ps)/Oef)))","v":"-"},{"$f":"IF(PM.18=\"\",\"-\",IF(OR(Ctek.18=0,Ctek.18=\"-\",Ctek.18=\"\"),\"-\",(0.6931/Ctek.18)))","v":"-"},{"$f":"IF(PM.18=\"\",\"-\",x.18/100)","v":"-"},{"$f":"IF(PM.18=\"\",\"-\",IF(OR(lambda.18=\"-\",R.18=\"-\"),(EXP(((x.18/100)/(2*alfa.x))*(1-SQRT(1+((4*alfa.x*0)/(vs*365/100)))))*ERF((Sw/100)/(4*SQRT(alfa.y*(x.18/100))))*ERF((Sd/100)/(2*SQRT(alfa.z*(x.18/100))))),(EXP(((x.18/100)/(2*alfa.x))*(1-SQRT(1+((4*alfa.x*lambda.18*R.18)/(vs*365/100)))))*ERF((Sw/100)/(4*SQRT(alfa.y*(x.18/100))))*ERF((Sd/100)/(2*SQRT(alfa.z*(x.18/100)))))))","v":"-"},{"$f":"IF(PM.18=\"\",\"-\",IF(OR(Kd.18=\"\",Kd.18=\"-\",Kd.18=0,Tipo.18<>\"METAL\"),\"-\",IF(FatBio.18=\"\",(EXP(2.67-1.12*LN(Kd.18))),FatBio.18)))","v":"-"},{"$f":"IF(PM.18=\"\",\"-\",IF(OR(Kd.18=\"\",Kd.18=\"-\",Kd.18=0,Tipo.18<>\"METAL\"),\"-\",IF(fbcf.18=\"\",(EXP(2.67-1.12*LN(Kd.18))),fbcf.18)))","v":"-"},{"$f":"IF(PM.18=\"\",\"-\",Cf.SoloSup.18*cdpx.18)","v":"-"},{"$f":"IF(PM.18=\"\",\"-\",IF(OR(kow.18=\"-\",kow.18=0,kow.18=\"\",Tipo.18=\"METAL\"),\"-\",(0.784*EXP((-1*((kow.18)-1.78)^2)/2.44))))","v":"-"},{"$f":"IF(PM.18=\"\",\"-\",IF(OR(kow.18=\"-\",kow.18=\"\",H.18=\"\",H.18=0,H.18=\"-\",Tipo.18=\"METAL\"),\"-\",((Wpveg+Lpveg*((10^kow.18)^bveg))/((H.18)))))","v":"-"},{"$f":"IF(PM.18=\"\",\"-\",IF(OR(kla.18=\"-\",kla.18=0),\"-\",(((Alveg*gveg)/(kla.18*Vlveg))+lambdamveg+lambdapveg+lambdagveg)))","v":"-"},{"$f":"IF(PM.18=\"\",\"-\",IF(OR(Kd.18=\"-\",Kd.18=\"\",zw.18=\"-\",Tipo.18=\"METAL\"),\"-\",((Kd.18*ps*zw.18)/Vsveg)))","v":"-"},{"$f":"IF(PM.18=\"\",\"-\",IF(OR(pv.18=\"\",S.18=\"\",pv.18=\"-\",pv.18=0,Tipo.18=\"METAL\",PM.18=\"ND\"),\"-\",(((S.18)*(1/PM.18))/((pv.18*101325)/760))))","v":"-"},{"$f":"IF(OR(PM.18=\"\",Tipo.18=\"METAL\"),\"-\",(1/(Rveg*Tarveg)))","v":"-"},{"$f":"IF(PM.18=\"\",\"-\",IF(OR(za.18=\"-\",zw.18=\"-\",zs.18=\"-\",Tipo.18=\"METAL\"),\"-\",((zw.18*Vwveg)/(za.18*Vaveg+zw.18*Vwveg+zs.18*Vsveg))))","v":"-"},{"$f":"IF(PM.18=\"\",\"-\",IF(OR(kow.18=\"-\",kow.18=\"\",Tipo.18=\"METAL\"),\"-\",(Wtrappveg+Ltrappveg*aveg*((10^kow.18)^btrappveg))))","v":"-"},{"$f":"IF(PM.18=\"\",\"-\",IF(OR(Kd.18=0,Kd.18=\"\",krw.18=\"-\",krw.18=0,Tipo.18=\"METAL\"),\"-\",((Qveg/Kd.18)/((Qveg/krw.18)+(kveg*Vtrappveg)))))","v":"-"},0.01]
[null,19,{"$f":"SQI!D27","v":0},{"$f":"SQI!C27","v":""},{"$f":"IF(PM.19=\"\",\"-\",IF(ISERROR(((Dar.19*Oas^3.33)/(OT^2))+((Dagua.19*Ows^3.33)/(H.19*OT^2))),\"-\",(((Dar.19*Oas^3.33)/(OT^2))+((Dagua.19*Ows^3.33)/(H.19*OT^2)))))","v":"-"},{"$f":"IF(PM.19=\"\",\"-\",IF(ISERROR(((Dar.19*Oacrk^3.33)/(OT^2))+((Dagua.19*Owcrk^3.33)/(H.19*OT^2))),\"-\",(((Dar.19*Oacrk^3.33)/(OT^2))+((Dagua.19*Owcrk^3.33)/(H.19*OT^2)))))","v":"-"},{"$f":"IF(PM.19=\"\",\"-\",IF(OR(F26=\"-\",F26=0),\"-\",((Qs/Ab)/((F26/Lcrk)*n))))","v":"-"},{"$f":"IF(PM.19=\"\",\"-\",IF(ISERROR(((Dar.19*Oacap^3.33)/(OT^2))+((Dagua.19*Owcap^3.33)/(H.19*OT^2))),\"-\",(((Dar.19*Oacap^3.33)/(OT^2))+((Dagua.19*Owcap^3.33)/(H.19*OT^2)))))","v":"-"},{"$f":"IF(PM.19=\"\",\"-\",IF(OR(H26=0,E26=0,H26=\"-\",E26=\"-\"),\"-\",((hcap+hv)/((hcap/H26)+(hv/E26)))))","v":"-"},{"$f":"IF(PM.19=\"\",\"-\",((1+(((Ugw*Sgw)/(SIR*Wss))*365))))","v":"-"},{"$f":"IF(OR(PM.19=\"\",PM.19=\"-\"),\"-\",IF(AND(H.19=\"\",Kd.19<>\"\"),(ps/(((Kd.19*ps)+Ows+(0*Oas)))),IF(AND(Kd.19=\"\",H.19<>\"\"),(ps/(((0*ps)+Ows+(H.19*Oas)))),IF(AND(Kd.19=\"\",H.19=\"\"),(ps/(((0*ps)+Ows+(0*Oas)))),(ps/(((Kd.19*ps)+Ows+(H.19*Oas))))))))","v":"-"},{"$f":"IF(PM.19=\"\",\"-\",IF(OR(K26=\"-\",K26=0,S.19=\"\"),\"-\",(S.19/K26)))","v":"-"},{"$f":"IF(PM.19=\"\",\"-\",IF(OR(E26=\"-\",H.19=\"\",H.19=\"-\",Kd.19=\"\",Kd.19=\"-\"),\"-\",MIN((((2*Ws*ps)/(Uar*Sar))*(SQRT((E26*H.19)/(PI()*(Ows+(Kd.19*ps)+(H.19*Oas))*tau)))*10^3),((Ws*ps*Ls)/(Uar*Sar*tau))*10^3)))","v":"-"},{"$f":"IF(PM.19=\"\",\"-\",(((Pa*Ws)/(Uar*Sar))*10^3))","v":"-"},{"$f":"IF(PM.19=\"\",\"-\",IF(OR(E26=\"-\",E26=0,Kd.19=\"\",Kd.19=\"-\"),\"-\",MIN((((H.19*ps)/(((Kd.19*ps)+Ows+(H.19*Oas))*(1+(Uar*Sar*Lss)/(E26*Wss))))*10^3),((Wss*ps*dss)/(Uar*Sar*tau))*10^3)))","v":"-"},{"$f":"IF(PM.19=\"\",\"-\",IF(OR(F26=0,F26=\"-\",E26=\"-\",Kd.19=\"\",Kd.19=\"-\"),\"-\",MIN(IF(dp>0,(((((H.19*ps)/((Kd.19*ps)+Ows+(H.19*Oas)))*((E26/Lss)/(ER*Lb))*EXP(G26))/(EXP(G26)+((E26/Lss)/(ER*Lb))+(((E26/Lss)/((F26/Lcrk)*n))*(EXP(G26)-1))))*10^3),(((((H.19*ps)/((Kd.19*ps)+Ows+(H.19*Oas)))*((E26/Lss)/(ER*Lb)))/(1+((E26/Lss)/(ER*Lb))+((E26/Lss)/((F26/Lcrk)*n))))*10^3)),((ps*dss)/(Lb*ER*tau))*10^3)))","v":"-"},{"$f":"IF(PM.19=\"\",\"-\",IF(OR(K26=\"-\",J26=\"-\",J26=0),\"-\",((K26/J26)*10^3)))","v":"-"},{"$f":"IF(PM.19=\"\",\"-\",IF(OR(I26=0,I26=\"-\"),\"-\",(((H.19)/(1+((Uar*Sar*Lgw)/(Ww*I26))))*10^3)))","v":"-"},{"$f":"IF(PM.19=\"\",\"-\",IF(OR(F26=0,F26=\"-\",I26=\"-\"),\"-\",(((H.19*((I26/Lgw)/(ER*Lb)))/(1+((I26/Lgw)/(ER*Lb))+((I26/Lgw)/((F26/Lcrk)*n))))*10^3)))","v":"-"},{"$f":"IF(PM.19=\"\",\"-\",IF(OR(Kd.19=\"-\",Kd.19=\"\"),\"-\",1+((Kd.19*ps)/Oef)))","v":"-"},{"$f":"IF(PM.19=\"\",\"-\",IF(OR(Ctek.19=0,Ctek.19=\"-\",Ctek.19=\"\"),\"-\",(0.6931/Ctek.19)))","v":"-"},{"$f":"IF(PM.19=\"\",\"-\",x.19/100)","v":"-"},{"$f":"IF(PM.19=\"\",\"-\",IF(OR(lambda.19=\"-\",R.19=\"-\"),(EXP(((x.19/100)/(2*alfa.x))*(1-SQRT(1+((4*alfa.x*0)/(vs*365/100)))))*ERF((Sw/100)/(4*SQRT(alfa.y*(x.19/100))))*ERF((Sd/100)/(2*SQRT(alfa.z*(x.19/100))))),(EXP(((x.19/100)/(2*alfa.x))*(1-SQRT(1+((4*alfa.x*lambda.19*R.19)/(vs*365/100)))))*ERF((Sw/100)/(4*SQRT(alfa.y*(x.19/100))))*ERF((Sd/100)/(2*SQRT(alfa.z*(x.19/100)))))))","v":"-"},{"$f":"IF(PM.19=\"\",\"-\",IF(OR(Kd.19=\"\",Kd.19=\"-\",Kd.19=0,Tipo.19<>\"METAL\"),\"-\",IF(FatBio.19=\"\",(EXP(2.67-1.12*LN(Kd.19))),FatBio.19)))","v":"-"},{"$f":"IF(PM.19=\"\",\"-\",IF(OR(Kd.19=\"\",Kd.19=\"-\",Kd.19=0,Tipo.19<>\"METAL\"),\"-\",IF(fbcf.19=\"\",(EXP(2.67-1.12*LN(Kd.19))),fbcf.19)))","v":"-"},{"$f":"IF(PM.19=\"\",\"-\",Cf.SoloSup.19*cdpx.19)","v":"-"},{"$f":"IF(PM.19=\"\",\"-\",IF(OR(kow.19=\"-\",kow.19=0,kow.19=\"\",Tipo.19=\"METAL\"),\"-\",(0.784*EXP((-1*((kow.19)-1.78)^2)/2.44))))","v":"-"},{"$f":"IF(PM.19=\"\",\"-\",IF(OR(kow.19=\"-\",kow.19=\"\",H.19=\"\",H.19=0,H.19=\"-\",Tipo.19=\"METAL\"),\"-\",((Wpveg+Lpveg*((10^kow.19)^bveg))/((H.19)))))","v":"-"},{"$f":"IF(PM.19=\"\",\"-\",IF(OR(kla.19=\"-\",kla.19=0),\"-\",(((Alveg*gveg)/(kla.19*Vlveg))+lambdamveg+lambdapveg+lambdagveg)))","v":"-"},{"$f":"IF(PM.19=\"\",\"-\",IF(OR(Kd.19=\"-\",Kd.19=\"\",zw.19=\"-\",Tipo.19=\"METAL\"),\"-\",((Kd.19*ps*zw.19)/Vsveg)))","v":"-"},{"$f":"IF(PM.19=\"\",\"-\",IF(OR(pv.19=\"\",S.19=\"\",pv.19=\"-\",pv.19=0,Tipo.19=\"METAL\",PM.19=\"ND\"),\"-\",(((S.19)*(1/PM.19))/((pv.19*101325)/760))))","v":"-"},{"$f":"IF(OR(PM.19=\"\",Tipo.19=\"METAL\"),\"-\",(1/(Rveg*Tarveg)))","v":"-"},{"$f":"IF(PM.19=\"\",\"-\",IF(OR(za.19=\"-\",zw.19=\"-\",zs.19=\"-\",Tipo.19=\"METAL\"),\"-\",((zw.19*Vwveg)/(za.19*Vaveg+zw.19*Vwveg+zs.19*Vsveg))))","v":"-"},{"$f":"IF(PM.19=\"\",\"-\",IF(OR(kow.19=\"-\",kow.19=\"\",Tipo.19=\"METAL\"),\"-\",(Wtrappveg+Ltrappveg*aveg*((10^kow.19)^btrappveg))))","v":"-"},{"$f":"IF(PM.19=\"\",\"-\",IF(OR(Kd.19=0,Kd.19=\"\",krw.19=\"-\",krw.19=0,Tipo.19=\"METAL\"),\"-\",((Qveg/Kd.19)/((Qveg/krw.19)+(kveg*Vtrappveg)))))","v":"-"},0.01]
[null,20,{"$f":"SQI!D28","v":0},{"$f":"SQI!C28","v":""},{"$f":"IF(PM.20=\"\",\"-\",IF(ISERROR(((Dar.20*Oas^3.33)/(OT^2))+((Dagua.20*Ows^3.33)/(H.20*OT^2))),\"-\",(((Dar.20*Oas^3.33)/(OT^2))+((Dagua.20*Ows^3.33)/(H.20*OT^2)))))","v":"-"},{"$f":"IF(PM.20=\"\",\"-\",IF(ISERROR(((Dar.20*Oacrk^3.33)/(OT^2))+((Dagua.20*Owcrk^3.33)/(H.20*OT^2))),\"-\",(((Dar.20*Oacrk^3.33)/(OT^2))+((Dagua.20*Owcrk^3.33)/(H.20*OT^2)))))","v":"-"},{"$f":"IF(PM.20=\"\",\"-\",IF(OR(F27=\"-\",F27=0),\"-\",((Qs/Ab)/((F27/Lcrk)*n))))","v":"-"},{"$f":"IF(PM.20=\"\",\"-\",IF(ISERROR(((Dar.20*Oacap^3.33)/(OT^2))+((Dagua.20*Owcap^3.33)/(H.20*OT^2))),\"-\",(((Dar.20*Oacap^3.33)/(OT^2))+((Dagua.20*Owcap^3.33)/(H.20*OT^2)))))","v":"-"},{"$f":"IF(PM.20=\"\",\"-\",IF(OR(H27=0,E27=0,H27=\"-\",E27=\"-\"),\"-\",((hcap+hv)/((hcap/H27)+(hv/E27)))))","v":"-"},{"$f":"IF(PM.20=\"\",\"-\",((1+(((Ugw*Sgw)/(SIR*Wss))*365))))","v":"-"},{"$f":"IF(OR(PM.20=\"\",PM.20=\"-\"),\"-\",IF(AND(H.20=\"\",Kd.20<>\"\"),(ps/(((Kd.20*ps)+Ows+(0*Oas)))),IF(AND(Kd.20=\"\",H.20<>\"\"),(ps/(((0*ps)+Ows+(H.20*Oas)))),IF(AND(Kd.20=\"\",H.20=\"\"),(ps/(((0*ps)+Ows+(0*Oas)))),(ps/(((Kd.20*ps)+Ows+(H.20*Oas))))))))","v":"-"},{"$f":"IF(PM.20=\"\",\"-\",IF(OR(K27=\"-\",K27=0,S.20=\"\"),\"-\",(S.20/K27)))","v":"-"},{"$f":"IF(PM.20=\"\",\"-\",IF(OR(E27=\"-\",H.20=\"\",H.20=\"-\",Kd.20=\"\",Kd.20=\"-\"),\"-\",MIN((((2*Ws*ps)/(Uar*Sar))*(SQRT((E27*H.20)/(PI()*(Ows+(Kd.20*ps)+(H.20*Oas))*tau)))*10^3),((Ws*ps*Ls)/(Uar*Sar*tau))*10^3)))","v":"-"},{"$f":"IF(PM.20=\"\",\"-\",(((Pa*Ws)/(Uar*Sar))*10^3))","v":"-"},{"$f":"IF(PM.20=\"\",\"-\",IF(OR(E27=\"-\",E27=0,Kd.20=\"\",Kd.20=\"-\"),\"-\",MIN((((H.20*ps)/(((Kd.20*ps)+Ows+(H.20*Oas))*(1+(Uar*Sar*Lss)/(E27*Wss))))*10^3),((Wss*ps*dss)/(Uar*Sar*tau))*10^3)))","v":"-"},{"$f":"IF(PM.20=\"\",\"-\",IF(OR(F27=0,F27=\"-\",E27=\"-\",Kd.20=\"\",Kd.20=\"-\"),\"-\",MIN(IF(dp>0,(((((H.20*ps)/((Kd.20*ps)+Ows+(H.20*Oas)))*((E27/Lss)/(ER*Lb))*EXP(G27))/(EXP(G27)+((E27/Lss)/(ER*Lb))+(((E27/Lss)/((F27/Lcrk)*n))*(EXP(G27)-1))))*10^3),(((((H.20*ps)/((Kd.20*ps)+Ows+(H.20*Oas)))*((E27/Lss)/(ER*Lb)))/(1+((E27/Lss)/(ER*Lb))+((E27/Lss)/((F27/Lcrk)*n))))*10^3)),((ps*dss)/(Lb*ER*tau))*10^3)))","v":"-"},{"$f":"IF(PM.20=\"\",\"-\",IF(OR(K27=\"-\",J27=\"-\",J27=0),\"-\",((K27/J27)*10^3)))","v":"-"},{"$f":"IF(PM.20=\"\",\"-\",IF(OR(I27=0,I27=\"-\"),\"-\",(((H.20)/(1+((Uar*Sar*Lgw)/(Ww*I27))))*10^3)))","v":"-"},{"$f":"IF(PM.20=\"\",\"-\",IF(OR(F27=0,F27=\"-\",I27=\"-\"),\"-\",(((H.20*((I27/Lgw)/(ER*Lb)))/(1+((I27/Lgw)/(ER*Lb))+((I27/Lgw)/((F27/Lcrk)*n))))*10^3)))","v":"-"},{"$f":"IF(PM.20=\"\",\"-\",IF(OR(Kd.20=\"-\",Kd.20=\"\"),\"-\",1+((Kd.20*ps)/Oef)))","v":"-"},{"$f":"IF(PM.20=\"\",\"-\",IF(OR(Ctek.20=0,Ctek.20=\"-\",Ctek.20=\"\"),\"-\",(0.6931/Ctek.20)))","v":"-"},{"$f":"IF(PM.20=\"\",\"-\",x.20/100)","v":"-"},{"$f":"IF(PM.20=\"\",\"-\",IF(OR(lambda.20=\"-\",R.20=\"-\"),(EXP(((x.20/100)/(2*alfa.x))*(1-SQRT(1+((4*alfa.x*0)/(vs*365/100)))))*ERF((Sw/100)/(4*SQRT(alfa.y*(x.20/100))))*ERF((Sd/100)/(2*SQRT(alfa.z*(x.20/100))))),(EXP(((x.20/100)/(2*alfa.x))*(1-SQRT(1+((4*alfa.x*lambda.20*R.20)/(vs*365/100)))))*ERF((Sw/100)/(4*SQRT(alfa.y*(x.20/100))))*ERF((Sd/100)/(2*SQRT(alfa.z*(x.20/100)))))))","v":"-"},{"$f":"IF(PM.20=\"\",\"-\",IF(OR(Kd.20=\"\",Kd.20=\"-\",Kd.20=0,Tipo.20<>\"METAL\"),\"-\",IF(FatBio.20=\"\",(EXP(2.67-1.12*LN(Kd.20))),FatBio.20)))","v":"-"},{"$f":"IF(PM.20=\"\",\"-\",IF(OR(Kd.20=\"\",Kd.20=\"-\",Kd.20=0,Tipo.20<>\"METAL\"),\"-\",IF(fbcf.20=\"\",(EXP(2.67-1.12*LN(Kd.20))),fbcf.20)))","v":"-"},{"$f":"IF(PM.20=\"\",\"-\",Cf.SoloSup.20*cdpx.20)","v":"-"},{"$f":"IF(PM.20=\"\",\"-\",IF(OR(kow.20=\"-\",kow.20=0,kow.20=\"\",Tipo.20=\"METAL\"),\"-\",(0.784*EXP((-1*((kow.20)-1.78)^2)/2.44))))","v":"-"},{"$f":"IF(PM.20=\"\",\"-\",IF(OR(kow.20=\"-\",kow.20=\"\",H.20=\"\",H.20=0,H.20=\"-\",Tipo.20=\"METAL\"),\"-\",((Wpveg+Lpveg*((10^kow.20)^bveg))/((H.20)))))","v":"-"},{"$f":"IF(PM.20=\"\",\"-\",IF(OR(kla.20=\"-\",kla.20=0),\"-\",(((Alveg*gveg)/(kla.20*Vlveg))+lambdamveg+lambdapveg+lambdagveg)))","v":"-"},{"$f":"IF(PM.20=\"\",\"-\",IF(OR(Kd.20=\"-\",Kd.20=\"\",zw.20=\"-\",Tipo.20=\"METAL\"),\"-\",((Kd.20*ps*zw.20)/Vsveg)))","v":"-"},{"$f":"IF(PM.20=\"\",\"-\",IF(OR(pv.20=\"\",S.20=\"\",pv.20=\"-\",pv.20=0,Tipo.20=\"METAL\",PM.20=\"ND\"),\"-\",(((S.20)*(1/PM.20))/((pv.20*101325)/760))))","v":"-"},{"$f":"IF(OR(PM.20=\"\",Tipo.20=\"METAL\"),\"-\",(1/(Rveg*Tarveg)))","v":"-"},{"$f":"IF(PM.20=\"\",\"-\",IF(OR(za.20=\"-\",zw.20=\"-\",zs.20=\"-\",Tipo.20=\"METAL\"),\"-\",((zw.20*Vwveg)/(za.20*Vaveg+zw.20*Vwveg+zs.20*Vsveg))))","v":"-"},{"$f":"IF(PM.20=\"\",\"-\",IF(OR(kow.20=\"-\",kow.20=\"\",Tipo.20=\"METAL\"),\"-\",(Wtrappveg+Ltrappveg*aveg*((10^kow.20)^btrappveg))))","v":"-"},{"$f":"IF(PM.20=\"\",\"-\",IF(OR(Kd.20=0,Kd.20=\"\",krw.20=\"-\",krw.20=0,Tipo.20=\"METAL\"),\"-\",((Qveg/Kd.20)/((Qveg/krw.20)+(kveg*Vtrappveg)))))","v":"-"},0.01]
[null,21,{"$f":"SQI!D29","v":0},{"$f":"SQI!C29","v":""},{"$f":"IF(PM.21=\"\",\"-\",IF(ISERROR(((Dar.21*Oas^3.33)/(OT^2))+((Dagua.21*Ows^3.33)/(H.21*OT^2))),\"-\",(((Dar.21*Oas^3.33)/(OT^2))+((Dagua.21*Ows^3.33)/(H.21*OT^2)))))","v":"-"},{"$f":"IF(PM.21=\"\",\"-\",IF(ISERROR(((Dar.21*Oacrk^3.33)/(OT^2))+((Dagua.21*Owcrk^3.33)/(H.21*OT^2))),\"-\",(((Dar.21*Oacrk^3.33)/(OT^2))+((Dagua.21*Owcrk^3.33)/(H.21*OT^2)))))","v":"-"},{"$f":"IF(PM.21=\"\",\"-\",IF(OR(F28=\"-\",F28=0),\"-\",((Qs/Ab)/((F28/Lcrk)*n))))","v":"-"},{"$f":"IF(PM.21=\"\",\"-\",IF(ISERROR(((Dar.21*Oacap^3.33)/(OT^2))+((Dagua.21*Owcap^3.33)/(H.21*OT^2))),\"-\",(((Dar.21*Oacap^3.33)/(OT^2))+((Dagua.21*Owcap^3.33)/(H.21*OT^2)))))","v":"-"},{"$f":"IF(PM.21=\"\",\"-\",IF(OR(H28=0,E28=0,H28=\"-\",E28=\"-\"),\"-\",((hcap+hv)/((hcap/H28)+(hv/E28)))))","v":"-"},{"$f":"IF(PM.21=\"\",\"-\",((1+(((Ugw*Sgw)/(SIR*Wss))*365))))","v":"-"},{"$f":"IF(OR(PM.21=\"\",PM.21=\"-\"),\"-\",IF(AND(H.21=\"\",Kd.21<>\"\"),(ps/(((Kd.21*ps)+Ows+(0*Oas)))),IF(AND(Kd.21=\"\",H.21<>\"\"),(ps/(((0*ps)+Ows+(H.21*Oas)))),IF(AND(Kd.21=\"\",H.21=\"\"),(ps/(((0*ps)+Ows+(0*Oas)))),(ps/(((Kd.21*ps)+Ows+(H.21*Oas))))))))","v":"-"},{"$f":"IF(PM.21=\"\",\"-\",IF(OR(K28=\"-\",K28=0,S.21=\"\"),\"-\",(S.21/K28)))","v":"-"},{"$f":"IF(PM.21=\"\",\"-\",IF(OR(E28=\"-\",H.21=\"\",H.21=\"-\",Kd.21=\"\",Kd.21=\"-\"),\"-\",MIN((((2*Ws*ps)/(Uar*Sar))*(SQRT((E28*H.21)/(PI()*(Ows+(Kd.21*ps)+(H.21*Oas))*tau)))*10^3),((Ws*ps*Ls)/(Uar*Sar*tau))*10^3)))","v":"-"},{"$f":"IF(PM.21=\"\",\"-\",(((Pa*Ws)/(Uar*Sar))*10^3))","v":"-"},{"$f":"IF(PM.21=\"\",\"-\",IF(OR(E28=\"-\",E28=0,Kd.21=\"\",Kd.21=\"-\"),\"-\",MIN((((H.21*ps)/(((Kd.21*ps)+Ows+(H.21*Oas))*(1+(Uar*Sar*Lss)/(E28*Wss))))*10^3),((Wss*ps*dss)/(Uar*Sar*tau))*10^3)))","v":"-"},{"$f":"IF(PM.21=\"\",\"-\",IF(OR(F28=0,F28=\"-\",E28=\"-\",Kd.21=\"\",Kd.21=\"-\"),\"-\",MIN(IF(dp>0,(((((H.21*ps)/((Kd.21*ps)+Ows+(H.21*Oas)))*((E28/Lss)/(ER*Lb))*EXP(G28))/(EXP(G28)+((E28/Lss)/(ER*Lb))+(((E28/Lss)/((F28/Lcrk)*n))*(EXP(G28)-1))))*10^3),(((((H.21*ps)/((Kd.21*ps)+Ows+(H.21*Oas)))*((E28/Lss)/(ER*Lb)))/(1+((E28/Lss)/(ER*Lb))+((E28/Lss)/((F28/Lcrk)*n))))*10^3)),((ps*dss)/(Lb*ER*tau))*10^3)))","v":"-"},{"$f":"IF(PM.21=\"\",\"-\",IF(OR(K28=\"-\",J28=\"-\",J28=0),\"-\",((K28/J28)*10^3)))","v":"-"},{"$f":"IF(PM.21=\"\",\"-\",IF(OR(I28=0,I28=\"-\"),\"-\",(((H.21)/(1+((Uar*Sar*Lgw)/(Ww*I28))))*10^3)))","v":"-"},{"$f":"IF(PM.21=\"\",\"-\",IF(OR(F28=0,F28=\"-\",I28=\"-\"),\"-\",(((H.21*((I28/Lgw)/(ER*Lb)))/(1+((I28/Lgw)/(ER*Lb))+((I28/Lgw)/((F28/Lcrk)*n))))*10^3)))","v":"-"},{"$f":"IF(PM.21=\"\",\"-\",IF(OR(Kd.21=\"-\",Kd.21=\"\"),\"-\",1+((Kd.21*ps)/Oef)))","v":"-"},{"$f":"IF(PM.21=\"\",\"-\",IF(OR(Ctek.21=0,Ctek.21=\"-\",Ctek.21=\"\"),\"-\",(0.6931/Ctek.21)))","v":"-"},{"$f":"IF(PM.21=\"\",\"-\",x.21/100)","v":"-"},{"$f":"IF(PM.21=\"\",\"-\",IF(OR(lambda.21=\"-\",R.21=\"-\"),(EXP(((x.21/100)/(2*alfa.x))*(1-SQRT(1+((4*alfa.x*0)/(vs*365/100)))))*ERF((Sw/100)/(4*SQRT(alfa.y*(x.21/100))))*ERF((Sd/100)/(2*SQRT(alfa.z*(x.21/100))))),(EXP(((x.21/100)/(2*alfa.x))*(1-SQRT(1+((4*alfa.x*lambda.21*R.21)/(vs*365/100)))))*ERF((Sw/100)/(4*SQRT(alfa.y*(x.21/100))))*ERF((Sd/100)/(2*SQRT(alfa.z*(x.21/100)))))))","v":"-"},{"$f":"IF(PM.21=\"\",\"-\",IF(OR(Kd.21=\"\",Kd.21=\"-\",Kd.21=0,Tipo.21<>\"METAL\"),\"-\",IF(FatBio.21=\"\",(EXP(2.67-1.12*LN(Kd.21))),FatBio.21)))","v":"-"},{"$f":"IF(PM.21=\"\",\"-\",IF(OR(Kd.21=\"\",Kd.21=\"-\",Kd.21=0,Tipo.21<>\"METAL\"),\"-\",IF(fbcf.21=\"\",(EXP(2.67-1.12*LN(Kd.21))),fbcf.21)))","v":"-"},{"$f":"IF(PM.21=\"\",\"-\",Cf.SoloSup.21*cdpx.21)","v":"-"},{"$f":"IF(PM.21=\"\",\"-\",IF(OR(kow.21=\"-\",kow.21=0,kow.21=\"\",Tipo.21=\"METAL\"),\"-\",(0.784*EXP((-1*((kow.21)-1.78)^2)/2.44))))","v":"-"},{"$f":"IF(PM.21=\"\",\"-\",IF(OR(kow.21=\"-\",kow.21=\"\",H.21=\"\",H.21=0,H.21=\"-\",Tipo.21=\"METAL\"),\"-\",((Wpveg+Lpveg*((10^kow.21)^bveg))/((H.21)))))","v":"-"},{"$f":"IF(PM.21=\"\",\"-\",IF(OR(kla.21=\"-\",kla.21=0),\"-\",(((Alveg*gveg)/(kla.21*Vlveg))+lambdamveg+lambdapveg+lambdagveg)))","v":"-"},{"$f":"IF(PM.21=\"\",\"-\",IF(OR(Kd.21=\"-\",Kd.21=\"\",zw.21=\"-\",Tipo.21=\"METAL\"),\"-\",((Kd.21*ps*zw.21)/Vsveg)))","v":"-"},{"$f":"IF(PM.21=\"\",\"-\",IF(OR(pv.21=\"\",S.21=\"\",pv.21=\"-\",pv.21=0,Tipo.21=\"METAL\",PM.21=\"ND\"),\"-\",(((S.21)*(1/PM.21))/((pv.21*101325)/760))))","v":"-"},{"$f":"IF(OR(PM.21=\"\",Tipo.21=\"METAL\"),\"-\",(1/(Rveg*Tarveg)))","v":"-"},{"$f":"IF(PM.21=\"\",\"-\",IF(OR(za.21=\"-\",zw.21=\"-\",zs.21=\"-\",Tipo.21=\"METAL\"),\"-\",((zw.21*Vwveg)/(za.21*Vaveg+zw.21*Vwveg+zs.21*Vsveg))))","v":"-"},{"$f":"IF(PM.21=\"\",\"-\",IF(OR(kow.21=\"-\",kow.21=\"\",Tipo.21=\"METAL\"),\"-\",(Wtrappveg+Ltrappveg*aveg*((10^kow.21)^btrappveg))))","v":"-"},{"$f":"IF(PM.21=\"\",\"-\",IF(OR(Kd.21=0,Kd.21=\"\",krw.21=\"-\",krw.21=0,Tipo.21=\"METAL\"),\"-\",((Qveg/Kd.21)/((Qveg/krw.21)+(kveg*Vtrappveg)))))","v":"-"},0.01]
[null,22,{"$f":"SQI!D30","v":0},{"$f":"SQI!C30","v":""},{"$f":"IF(PM.22=\"\",\"-\",IF(ISERROR(((Dar.22*Oas^3.33)/(OT^2))+((Dagua.22*Ows^3.33)/(H.22*OT^2))),\"-\",(((Dar.22*Oas^3.33)/(OT^2))+((Dagua.22*Ows^3.33)/(H.22*OT^2)))))","v":"-"},{"$f":"IF(PM.22=\"\",\"-\",IF(ISERROR(((Dar.22*Oacrk^3.33)/(OT^2))+((Dagua.22*Owcrk^3.33)/(H.22*OT^2))),\"-\",(((Dar.22*Oacrk^3.33)/(OT^2))+((Dagua.22*Owcrk^3.33)/(H.22*OT^2)))))","v":"-"},{"$f":"IF(PM.22=\"\",\"-\",IF(OR(F29=\"-\",F29=0),\"-\",((Qs/Ab)/((F29/Lcrk)*n))))","v":"-"},{"$f":"IF(PM.22=\"\",\"-\",IF(ISERROR(((Dar.22*Oacap^3.33)/(OT^2))+((Dagua.22*Owcap^3.33)/(H.22*OT^2))),\"-\",(((Dar.22*Oacap^3.33)/(OT^2))+((Dagua.22*Owcap^3.33)/(H.22*OT^2)))))","v":"-"},{"$f":"IF(PM.22=\"\",\"-\",IF(OR(H29=0,E29=0,H29=\"-\",E29=\"-\"),\"-\",((hcap+hv)/((hcap/H29)+(hv/E29)))))","v":"-"},{"$f":"IF(PM.22=\"\",\"-\",((1+(((Ugw*Sgw)/(SIR*Wss))*365))))","v":"-"},{"$f":"IF(OR(PM.22=\"\",PM.22=\"-\"),\"-\",IF(AND(H.22=\"\",Kd.22<>\"\"),(ps/(((Kd.22*ps)+Ows+(0*Oas)))),IF(AND(Kd.22=\"\",H.22<>\"\"),(ps/(((0*ps)+Ows+(H.22*Oas)))),IF(AND(Kd.22=\"\",H.22=\"\"),(ps/(((0*ps)+Ows+(0*Oas)))),(ps/(((Kd.22*ps)+Ows+(H.22*Oas))))))))","v":"-"},{"$f":"IF(PM.22=\"\",\"-\",IF(OR(K29=\"-\",K29=0,S.22=\"\"),\"-\",(S.22/K29)))","v":"-"},{"$f":"IF(PM.22=\"\",\"-\",IF(OR(E29=\"-\",H.22=\"\",H.22=\"-\",Kd.22=\"\",Kd.22=\"-\"),\"-\",MIN((((2*Ws*ps)/(Uar*Sar))*(SQRT((E29*H.22)/(PI()*(Ows+(Kd.22*ps)+(H.22*Oas))*tau)))*10^3),((Ws*ps*Ls)/(Uar*Sar*tau))*10^3)))","v":"-"},{"$f":"IF(PM.22=\"\",\"-\",(((Pa*Ws)/(Uar*Sar))*10^3))","v":"-"},{"$f":"IF(PM.22=\"\",\"-\",IF(OR(E29=\"-\",E29=0,Kd.22=\"\",Kd.22=\"-\"),\"-\",MIN((((H.22*ps)/(((Kd.22*ps)+Ows+(H.22*Oas))*(1+(Uar*Sar*Lss)/(E29*Wss))))*10^3),((Wss*ps*dss)/(Uar*Sar*tau))*10^3)))","v":"-"},{"$f":"IF(PM.22=\"\",\"-\",IF(OR(F29=0,F29=\"-\",E29=\"-\",Kd.22=\"\",Kd.22=\"-\"),\"-\",MIN(IF(dp>0,(((((H.22*ps)/((Kd.22*ps)+Ows+(H.22*Oas)))*((E29/Lss)/(ER*Lb))*EXP(G29))/(EXP(G29)+((E29/Lss)/(ER*Lb))+(((E29/Lss)/((F29/Lcrk)*n))*(EXP(G29)-1))))*10^3),(((((H.22*ps)/((Kd.22*ps)+Ows+(H.22*Oas)))*((E29/Lss)/(ER*Lb)))/(1+((E29/Lss)/(ER*Lb))+((E29/Lss)/((F29/Lcrk)*n))))*10^3)),((ps*dss)/(Lb*ER*tau))*10^3)))","v":"-"},{"$f":"IF(PM.22=\"\",\"-\",IF(OR(K29=\"-\",J29=\"-\",J29=0),\"-\",((K29/J29)*10^3)))","v":"-"},{"$f":"IF(PM.22=\"\",\"-\",IF(OR(I29=0,I29=\"-\"),\"-\",(((H.22)/(1+((Uar*Sar*Lgw)/(Ww*I29))))*10^3)))","v":"-"},{"$f":"IF(PM.22=\"\",\"-\",IF(OR(F29=0,F29=\"-\",I29=\"-\"),\"-\",(((H.22*((I29/Lgw)/(ER*Lb)))/(1+((I29/Lgw)/(ER*Lb))+((I29/Lgw)/((F29/Lcrk)*n))))*10^3)))","v":"-"},{"$f":"IF(PM.22=\"\",\"-\",IF(OR(Kd.22=\"-\",Kd.22=\"\"),\"-\",1+((Kd.22*ps)/Oef)))","v":"-"},{"$f":"IF(PM.22=\"\",\"-\",IF(OR(Ctek.22=0,Ctek.22=\"-\",Ctek.22=\"\"),\"-\",(0.6931/Ctek.22)))","v":"-"},{"$f":"IF(PM.22=\"\",\"-\",x.22/100)","v":"-"},{"$f":"IF(PM.22=\"\",\"-\",IF(OR(lambda.22=\"-\",R.22=\"-\"),(EXP(((x.22/100)/(2*alfa.x))*(1-SQRT(1+((4*alfa.x*0)/(vs*365/100)))))*ERF((Sw/100)/(4*SQRT(alfa.y*(x.22/100))))*ERF((Sd/100)/(2*SQRT(alfa.z*(x.22/100))))),(EXP(((x.22/100)/(2*alfa.x))*(1-SQRT(1+((4*alfa.x*lambda.22*R.22)/(vs*365/100)))))*ERF((Sw/100)/(4*SQRT(alfa.y*(x.22/100))))*ERF((Sd/100)/(2*SQRT(alfa.z*(x.22/100)))))))","v":"-"},{"$f":"IF(PM.22=\"\",\"-\",IF(OR(Kd.22=\"\",Kd.22=\"-\",Kd.22=0,Tipo.22<>\"METAL\"),\"-\",IF(FatBio.22=\"\",(EXP(2.67-1.12*LN(Kd.22))),FatBio.22)))","v":"-"},{"$f":"IF(PM.22=\"\",\"-\",IF(OR(Kd.22=\"\",Kd.22=\"-\",Kd.22=0,Tipo.22<>\"METAL\"),\"-\",IF(fbcf.22=\"\",(EXP(2.67-1.12*LN(Kd.22))),fbcf.22)))","v":"-"},{"$f":"IF(PM.22=\"\",\"-\",Cf.SoloSup.22*cdpx.22)","v":"-"},{"$f":"IF(PM.22=\"\",\"-\",IF(OR(kow.22=\"-\",kow.22=0,kow.22=\"\",Tipo.22=\"METAL\"),\"-\",(0.784*EXP((-1*((kow.22)-1.78)^2)/2.44))))","v":"-"},{"$f":"IF(PM.22=\"\",\"-\",IF(OR(kow.22=\"-\",kow.22=\"\",H.22=\"\",H.22=0,H.22=\"-\",Tipo.22=\"METAL\"),\"-\",((Wpveg+Lpveg*((10^kow.22)^bveg))/((H.22)))))","v":"-"},{"$f":"IF(PM.22=\"\",\"-\",IF(OR(kla.22=\"-\",kla.22=0),\"-\",(((Alveg*gveg)/(kla.22*Vlveg))+lambdamveg+lambdapveg+lambdagveg)))","v":"-"},{"$f":"IF(PM.22=\"\",\"-\",IF(OR(Kd.22=\"-\",Kd.22=\"\",zw.22=\"-\",Tipo.22=\"METAL\"),\"-\",((Kd.22*ps*zw.22)/Vsveg)))","v":"-"},{"$f":"IF(PM.22=\"\",\"-\",IF(OR(pv.22=\"\",S.22=\"\",pv.22=\"-\",pv.22=0,Tipo.22=\"METAL\",PM.22=\"ND\"),\"-\",(((S.22)*(1/PM.22))/((pv.22*101325)/760))))","v":"-"},{"$f":"IF(OR(PM.22=\"\",Tipo.22=\"METAL\"),\"-\",(1/(Rveg*Tarveg)))","v":"-"},{"$f":"IF(PM.22=\"\",\"-\",IF(OR(za.22=\"-\",zw.22=\"-\",zs.22=\"-\",Tipo.22=\"METAL\"),\"-\",((zw.22*Vwveg)/(za.22*Vaveg+zw.22*Vwveg+zs.22*Vsveg))))","v":"-"},{"$f":"IF(PM.22=\"\",\"-\",IF(OR(kow.22=\"-\",kow.22=\"\",Tipo.22=\"METAL\"),\"-\",(Wtrappveg+Ltrappveg*aveg*((10^kow.22)^btrappveg))))","v":"-"},{"$f":"IF(PM.22=\"\",\"-\",IF(OR(Kd.22=0,Kd.22=\"\",krw.22=\"-\",krw.22=0,Tipo.22=\"METAL\"),\"-\",((Qveg/Kd.22)/((Qveg/krw.22)+(kveg*Vtrappveg)))))","v":"-"},0.01]
[null,23,{"$f":"SQI!D31","v":0},{"$f":"SQI!C31","v":""},{"$f":"IF(PM.23=\"\",\"-\",IF(ISERROR(((Dar.23*Oas^3.33)/(OT^2))+((Dagua.23*Ows^3.33)/(H.23*OT^2))),\"-\",(((Dar.23*Oas^3.33)/(OT^2))+((Dagua.23*Ows^3.33)/(H.23*OT^2)))))","v":"-"},{"$f":"IF(PM.23=\"\",\"-\",IF(ISERROR(((Dar.23*Oacrk^3.33)/(OT^2))+((Dagua.23*Owcrk^3.33)/(H.23*OT^2))),\"-\",(((Dar.23*Oacrk^3.33)/(OT^2))+((Dagua.23*Owcrk^3.33)/(H.23*OT^2)))))","v":"-"},{"$f":"IF(PM.23=\"\",\"-\",IF(OR(F30=\"-\",F30=0),\"-\",((Qs/Ab)/((F30/Lcrk)*n))))","v":"-"},{"$f":"IF(PM.23=\"\",\"-\",IF(ISERROR(((Dar.23*Oacap^3.33)/(OT^2))+((Dagua.23*Owcap^3.33)/(H.23*OT^2))),\"-\",(((Dar.23*Oacap^3.33)/(OT^2))+((Dagua.23*Owcap^3.33)/(H.23*OT^2)))))","v":"-"},{"$f":"IF(PM.23=\"\",\"-\",IF(OR(H30=0,E30=0,H30=\"-\",E30=\"-\"),\"-\",((hcap+hv)/((hcap/H30)+(hv/E30)))))","v":"-"},{"$f":"IF(PM.23=\"\",\"-\",((1+(((Ugw*Sgw)/(SIR*Wss))*365))))","v":"-"},{"$f":"IF(OR(PM.23=\"\",PM.23=\"-\"),\"-\",IF(AND(H.23=\"\",Kd.23<>\"\"),(ps/(((Kd.23*ps)+Ows+(0*Oas)))),IF(AND(Kd.23=\"\",H.23<>\"\"),(ps/(((0*ps)+Ows+(H.23*Oas)))),IF(AND(Kd.23=\"\",H.23=\"\"),(ps/(((0*ps)+Ows+(0*Oas)))),(ps/(((Kd.23*ps)+Ows+(H.23*Oas))))))))","v":"-"},{"$f":"IF(PM.23=\"\",\"-\",IF(OR(K30=\"-\",K30=0,S.23=\"\"),\"-\",(S.23/K30)))","v":"-"},{"$f":"IF(PM.23=\"\",\"-\",IF(OR(E30=\"-\",H.23=\"\",H.23=\"-\",Kd.23=\"\",Kd.23=\"-\"),\"-\",MIN((((2*Ws*ps)/(Uar*Sar))*(SQRT((E30*H.23)/(PI()*(Ows+(Kd.23*ps)+(H.23*Oas))*tau)))*10^3),((Ws*ps*Ls)/(Uar*Sar*tau))*10^3)))","v":"-"},{"$f":"IF(PM.23=\"\",\"-\",(((Pa*Ws)/(Uar*Sar))*10^3))","v":"-"},{"$f":"IF(PM.23=\"\",\"-\",IF(OR(E30=\"-\",E30=0,Kd.23=\"\",Kd.23=\"-\"),\"-\",MIN((((H.23*ps)/(((Kd.23*ps)+Ows+(H.23*Oas))*(1+(Uar*Sar*Lss)/(E30*Wss))))*10^3),((Wss*ps*dss)/(Uar*Sar*tau))*10^3)))","v":"-"},{"$f":"IF(PM.23=\"\",\"-\",IF(OR(F30=0,F30=\"-\",E30=\"-\",Kd.23=\"\",Kd.23=\"-\"),\"-\",MIN(IF(dp>0,(((((H.23*ps)/((Kd.23*ps)+Ows+(H.23*Oas)))*((E30/Lss)/(ER*Lb))*EXP(G30))/(EXP(G30)+((E30/Lss)/(ER*Lb))+(((E30/Lss)/((F30/Lcrk)*n))*(EXP(G30)-1))))*10^3),(((((H.23*ps)/((Kd.23*ps)+Ows+(H.23*Oas)))*((E30/Lss)/(ER*Lb)))/(1+((E30/Lss)/(ER*Lb))+((E30/Lss)/((F30/Lcrk)*n))))*10^3)),((ps*dss)/(Lb*ER*tau))*10^3)))","v":"-"},{"$f":"IF(PM.23=\"\",\"-\",IF(OR(K30=\"-\",J30=\"-\",J30=0),\"-\",((K30/J30)*10^3)))","v":"-"},{"$f":"IF(PM.23=\"\",\"-\",IF(OR(I30=0,I30=\"-\"),\"-\",(((H.23)/(1+((Uar*Sar*Lgw)/(Ww*I30))))*10^3)))","v":"-"},{"$f":"IF(PM.23=\"\",\"-\",IF(OR(F30=0,F30=\"-\",I30=\"-\"),\"-\",(((H.23*((I30/Lgw)/(ER*Lb)))/(1+((I30/Lgw)/(ER*Lb))+((I30/Lgw)/((F30/Lcrk)*n))))*10^3)))","v":"-"},{"$f":"IF(PM.23=\"\",\"-\",IF(OR(Kd.23=\"-\",Kd.23=\"\"),\"-\",1+((Kd.23*ps)/Oef)))","v":"-"},{"$f":"IF(PM.23=\"\",\"-\",IF(OR(Ctek.23=0,Ctek.23=\"-\",Ctek.23=\"\"),\"-\",(0.6931/Ctek.23)))","v":"-"},{"$f":"IF(PM.23=\"\",\"-\",x.23/100)","v":"-"},{"$f":"IF(PM.23=\"\",\"-\",IF(OR(lambda.23=\"-\",R.23=\"-\"),(EXP(((x.23/100)/(2*alfa.x))*(1-SQRT(1+((4*alfa.x*0)/(vs*365/100)))))*ERF((Sw/100)/(4*SQRT(alfa.y*(x.23/100))))*ERF((Sd/100)/(2*SQRT(alfa.z*(x.23/100))))),(EXP(((x.23/100)/(2*alfa.x))*(1-SQRT(1+((4*alfa.x*lambda.23*R.23)/(vs*365/100)))))*ERF((Sw/100)/(4*SQRT(alfa.y*(x.23/100))))*ERF((Sd/100)/(2*SQRT(alfa.z*(x.23/100)))))))","v":"-"},{"$f":"IF(PM.23=\"\",\"-\",IF(OR(Kd.23=\"\",Kd.23=\"-\",Kd.23=0,Tipo.23<>\"METAL\"),\"-\",IF(FatBio.23=\"\",(EXP(2.67-1.12*LN(Kd.23))),FatBio.23)))","v":"-"},{"$f":"IF(PM.23=\"\",\"-\",IF(OR(Kd.23=\"\",Kd.23=\"-\",Kd.23=0,Tipo.23<>\"METAL\"),\"-\",IF(fbcf.23=\"\",(EXP(2.67-1.12*LN(Kd.23))),fbcf.23)))","v":"-"},{"$f":"IF(PM.23=\"\",\"-\",Cf.SoloSup.23*cdpx.23)","v":"-"},{"$f":"IF(PM.23=\"\",\"-\",IF(OR(kow.23=\"-\",kow.23=0,kow.23=\"\",Tipo.23=\"METAL\"),\"-\",(0.784*EXP((-1*((kow.23)-1.78)^2)/2.44))))","v":"-"},{"$f":"IF(PM.23=\"\",\"-\",IF(OR(kow.23=\"-\",kow.23=\"\",H.23=\"\",H.23=0,H.23=\"-\",Tipo.23=\"METAL\"),\"-\",((Wpveg+Lpveg*((10^kow.23)^bveg))/((H.23)))))","v":"-"},{"$f":"IF(PM.23=\"\",\"-\",IF(OR(kla.23=\"-\",kla.23=0),\"-\",(((Alveg*gveg)/(kla.23*Vlveg))+lambdamveg+lambdapveg+lambdagveg)))","v":"-"},{"$f":"IF(PM.23=\"\",\"-\",IF(OR(Kd.23=\"-\",Kd.23=\"\",zw.23=\"-\",Tipo.23=\"METAL\"),\"-\",((Kd.23*ps*zw.23)/Vsveg)))","v":"-"},{"$f":"IF(PM.23=\"\",\"-\",IF(OR(pv.23=\"\",S.23=\"\",pv.23=\"-\",pv.23=0,Tipo.23=\"METAL\",PM.23=\"ND\"),\"-\",(((S.23)*(1/PM.23))/((pv.23*101325)/760))))","v":"-"},{"$f":"IF(OR(PM.23=\"\",Tipo.23=\"METAL\"),\"-\",(1/(Rveg*Tarveg)))","v":"-"},{"$f":"IF(PM.23=\"\",\"-\",IF(OR(za.23=\"-\",zw.23=\"-\",zs.23=\"-\",Tipo.23=\"METAL\"),\"-\",((zw.23*Vwveg)/(za.23*Vaveg+zw.23*Vwveg+zs.23*Vsveg))))","v":"-"},{"$f":"IF(PM.23=\"\",\"-\",IF(OR(kow.23=\"-\",kow.23=\"\",Tipo.23=\"METAL\"),\"-\",(Wtrappveg+Ltrappveg*aveg*((10^kow.23)^btrappveg))))","v":"-"},{"$f":"IF(PM.23=\"\",\"-\",IF(OR(Kd.23=0,Kd.23=\"\",krw.23=\"-\",krw.23=0,Tipo.23=\"METAL\"),\"-\",((Qveg/Kd.23)/((Qveg/krw.23)+(kveg*Vtrappveg)))))","v":"-"},0.01]
[null,24,{"$f":"SQI!D32","v":0},{"$f":"SQI!C32","v":""},{"$f":"IF(PM.24=\"\",\"-\",IF(ISERROR(((Dar.24*Oas^3.33)/(OT^2))+((Dagua.24*Ows^3.33)/(H.24*OT^2))),\"-\",(((Dar.24*Oas^3.33)/(OT^2))+((Dagua.24*Ows^3.33)/(H.24*OT^2)))))","v":"-"},{"$f":"IF(PM.24=\"\",\"-\",IF(ISERROR(((Dar.24*Oacrk^3.33)/(OT^2))+((Dagua.24*Owcrk^3.33)/(H.24*OT^2))),\"-\",(((Dar.24*Oacrk^3.33)/(OT^2))+((Dagua.24*Owcrk^3.33)/(H.24*OT^2)))))","v":"-"},{"$f":"IF(PM.24=\"\",\"-\",IF(OR(F31=\"-\",F31=0),\"-\",((Qs/Ab)/((F31/Lcrk)*n))))","v":"-"},{"$f":"IF(PM.24=\"\",\"-\",IF(ISERROR(((Dar.24*Oacap^3.33)/(OT^2))+((Dagua.24*Owcap^3.33)/(H.24*OT^2))),\"-\",(((Dar.24*Oacap^3.33)/(OT^2))+((Dagua.24*Owcap^3.33)/(H.24*OT^2)))))","v":"-"},{"$f":"IF(PM.24=\"\",\"-\",IF(OR(H31=0,E31=0,H31=\"-\",E31=\"-\"),\"-\",((hcap+hv)/((hcap/H31)+(hv/E31)))))","v":"-"},{"$f":"IF(PM.24=\"\",\"-\",((1+(((Ugw*Sgw)/(SIR*Wss))*365))))","v":"-"},{"$f":"IF(OR(PM.24=\"\",PM.24=\"-\"),\"-\",IF(AND(H.24=\"\",Kd.24<>\"\"),(ps/(((Kd.24*ps)+Ows+(0*Oas)))),IF(AND(Kd.24=\"\",H.24<>\"\"),(ps/(((0*ps)+Ows+(H.24*Oas)))),IF(AND(Kd.24=\"\",H.24=\"\"),(ps/(((0*ps)+Ows+(0*Oas)))),(ps/(((Kd.24*ps)+Ows+(H.24*Oas))))))))","v":"-"},{"$f":"IF(PM.24=\"\",\"-\",IF(OR(K31=\"-\",K31=0,S.24=\"\"),\"-\",(S.24/K31)))","v":"-"},{"$f":"IF(PM.24=\"\",\"-\",IF(OR(E31=\"-\",H.24=\"\",H.24=\"-\",Kd.24=\"\",Kd.24=\"-\"),\"-\",MIN((((2*Ws*ps)/(Uar*Sar))*(SQRT((E31*H.24)/(PI()*(Ows+(Kd.24*ps)+(H.24*Oas))*tau)))*10^3),((Ws*ps*Ls)/(Uar*Sar*tau))*10^3)))","v":"-"},{"$f":"IF(PM.24=\"\",\"-\",(((Pa*Ws)/(Uar*Sar))*10^3))","v":"-"},{"$f":"IF(PM.24=\"\",\"-\",IF(OR(E31=\"-\",E31=0,Kd.24=\"\",Kd.24=\"-\"),\"-\",MIN((((H.24*ps)/(((Kd.24*ps)+Ows+(H.24*Oas))*(1+(Uar*Sar*Lss)/(E31*Wss))))*10^3),((Wss*ps*dss)/(Uar*Sar*tau))*10^3)))","v":"-"},{"$f":"IF(PM.24=\"\",\"-\",IF(OR(F31=0,F31=\"-\",E31=\"-\",Kd.24=\"\",Kd.24=\"-\"),\"-\",MIN(IF(dp>0,(((((H.24*ps)/((Kd.24*ps)+Ows+(H.24*Oas)))*((E31/Lss)/(ER*Lb))*EXP(G31))/(EXP(G31)+((E31/Lss)/(ER*Lb))+(((E31/Lss)/((F31/Lcrk)*n))*(EXP(G31)-1))))*10^3),(((((H.24*ps)/((Kd.24*ps)+Ows+(H.24*Oas)))*((E31/Lss)/(ER*Lb)))/(1+((E31/Lss)/(ER*Lb))+((E31/Lss)/((F31/Lcrk)*n))))*10^3)),((ps*dss)/(Lb*ER*tau))*10^3)))","v":"-"},{"$f":"IF(PM.24=\"\",\"-\",IF(OR(K31=\"-\",J31=\"-\",J31=0),\"-\",((K31/J31)*10^3)))","v":"-"},{"$f":"IF(PM.24=\"\",\"-\",IF(OR(I31=0,I31=\"-\"),\"-\",(((H.24)/(1+((Uar*Sar*Lgw)/(Ww*I31))))*10^3)))","v":"-"},{"$f":"IF(PM.24=\"\",\"-\",IF(OR(F31=0,F31=\"-\",I31=\"-\"),\"-\",(((H.24*((I31/Lgw)/(ER*Lb)))/(1+((I31/Lgw)/(ER*Lb))+((I31/Lgw)/((F31/Lcrk)*n))))*10^3)))","v":"-"},{"$f":"IF(PM.24=\"\",\"-\",IF(OR(Kd.24=\"-\",Kd.24=\"\"),\"-\",1+((Kd.24*ps)/Oef)))","v":"-"},{"$f":"IF(PM.24=\"\",\"-\",IF(OR(Ctek.24=0,Ctek.24=\"-\",Ctek.24=\"\"),\"-\",(0.6931/Ctek.24)))","v":"-"},{"$f":"IF(PM.24=\"\",\"-\",x.24/100)","v":"-"},{"$f":"IF(PM.24=\"\",\"-\",IF(OR(lambda.24=\"-\",R.24=\"-\"),(EXP(((x.24/100)/(2*alfa.x))*(1-SQRT(1+((4*alfa.x*0)/(vs*365/100)))))*ERF((Sw/100)/(4*SQRT(alfa.y*(x.24/100))))*ERF((Sd/100)/(2*SQRT(alfa.z*(x.24/100))))),(EXP(((x.24/100)/(2*alfa.x))*(1-SQRT(1+((4*alfa.x*lambda.24*R.24)/(vs*365/100)))))*ERF((Sw/100)/(4*SQRT(alfa.y*(x.24/100))))*ERF((Sd/100)/(2*SQRT(alfa.z*(x.24/100)))))))","v":"-"},{"$f":"IF(PM.24=\"\",\"-\",IF(OR(Kd.24=\"\",Kd.24=\"-\",Kd.24=0,Tipo.24<>\"METAL\"),\"-\",IF(FatBio.24=\"\",(EXP(2.67-1.12*LN(Kd.24))),FatBio.24)))","v":"-"},{"$f":"IF(PM.24=\"\",\"-\",IF(OR(Kd.24=\"\",Kd.24=\"-\",Kd.24=0,Tipo.24<>\"METAL\"),\"-\",IF(fbcf.24=\"\",(EXP(2.67-1.12*LN(Kd.24))),fbcf.24)))","v":"-"},{"$f":"IF(PM.24=\"\",\"-\",Cf.SoloSup.24*cdpx.24)","v":"-"},{"$f":"IF(PM.24=\"\",\"-\",IF(OR(kow.24=\"-\",kow.24=0,kow.24=\"\",Tipo.24=\"METAL\"),\"-\",(0.784*EXP((-1*((kow.24)-1.78)^2)/2.44))))","v":"-"},{"$f":"IF(PM.24=\"\",\"-\",IF(OR(kow.24=\"-\",kow.24=\"\",H.24=\"\",H.24=0,H.24=\"-\",Tipo.24=\"METAL\"),\"-\",((Wpveg+Lpveg*((10^kow.24)^bveg))/((H.24)))))","v":"-"},{"$f":"IF(PM.24=\"\",\"-\",IF(OR(kla.24=\"-\",kla.24=0),\"-\",(((Alveg*gveg)/(kla.24*Vlveg))+lambdamveg+lambdapveg+lambdagveg)))","v":"-"},{"$f":"IF(PM.24=\"\",\"-\",IF(OR(Kd.24=\"-\",Kd.24=\"\",zw.24=\"-\",Tipo.24=\"METAL\"),\"-\",((Kd.24*ps*zw.24)/Vsveg)))","v":"-"},{"$f":"IF(PM.24=\"\",\"-\",IF(OR(pv.24=\"\",S.24=\"\",pv.24=\"-\",pv.24=0,Tipo.24=\"METAL\",PM.24=\"ND\"),\"-\",(((S.24)*(1/PM.24))/((pv.24*101325)/760))))","v":"-"},{"$f":"IF(OR(PM.24=\"\",Tipo.24=\"METAL\"),\"-\",(1/(Rveg*Tarveg)))","v":"-"},{"$f":"IF(PM.24=\"\",\"-\",IF(OR(za.24=\"-\",zw.24=\"-\",zs.24=\"-\",Tipo.24=\"METAL\"),\"-\",((zw.24*Vwveg)/(za.24*Vaveg+zw.24*Vwveg+zs.24*Vsveg))))","v":"-"},{"$f":"IF(PM.24=\"\",\"-\",IF(OR(kow.24=\"-\",kow.24=\"\",Tipo.24=\"METAL\"),\"-\",(Wtrappveg+Ltrappveg*aveg*((10^kow.24)^btrappveg))))","v":"-"},{"$f":"IF(PM.24=\"\",\"-\",IF(OR(Kd.24=0,Kd.24=\"\",krw.24=\"-\",krw.24=0,Tipo.24=\"METAL\"),\"-\",((Qveg/Kd.24)/((Qveg/krw.24)+(kveg*Vtrappveg)))))","v":"-"},0.01]
[null,25,{"$f":"SQI!D33","v":0},{"$f":"SQI!C33","v":""},{"$f":"IF(PM.25=\"\",\"-\",IF(ISERROR(((Dar.25*Oas^3.33)/(OT^2))+((Dagua.25*Ows^3.33)/(H.25*OT^2))),\"-\",(((Dar.25*Oas^3.33)/(OT^2))+((Dagua.25*Ows^3.33)/(H.25*OT^2)))))","v":"-"},{"$f":"IF(PM.25=\"\",\"-\",IF(ISERROR(((Dar.25*Oacrk^3.33)/(OT^2))+((Dagua.25*Owcrk^3.33)/(H.25*OT^2))),\"-\",(((Dar.25*Oacrk^3.33)/(OT^2))+((Dagua.25*Owcrk^3.33)/(H.25*OT^2)))))","v":"-"},{"$f":"IF(PM.25=\"\",\"-\",IF(OR(F32=\"-\",F32=0),\"-\",((Qs/Ab)/((F32/Lcrk)*n))))","v":"-"},{"$f":"IF(PM.25=\"\",\"-\",IF(ISERROR(((Dar.25*Oacap^3.33)/(OT^2))+((Dagua.25*Owcap^3.33)/(H.25*OT^2))),\"-\",(((Dar.25*Oacap^3.33)/(OT^2))+((Dagua.25*Owcap^3.33)/(H.25*OT^2)))))","v":"-"},{"$f":"IF(PM.25=\"\",\"-\",IF(OR(H32=0,E32=0,H32=\"-\",E32=\"-\"),\"-\",((hcap+hv)/((hcap/H32)+(hv/E32)))))","v":"-"},{"$f":"IF(PM.25=\"\",\"-\",((1+(((Ugw*Sgw)/(SIR*Wss))*365))))","v":"-"},{"$f":"IF(OR(PM.25=\"\",PM.25=\"-\"),\"-\",IF(AND(H.25=\"\",Kd.25<>\"\"),(ps/(((Kd.25*ps)+Ows+(0*Oas)))),IF(AND(Kd.25=\"\",H.25<>\"\"),(ps/(((0*ps)+Ows+(H.25*Oas)))),IF(AND(Kd.25=\"\",H.25=\"\"),(ps/(((0*ps)+Ows+(0*Oas)))),(ps/(((Kd.25*ps)+Ows+(H.25*Oas))))))))","v":"-"},{"$f":"IF(PM.25=\"\",\"-\",IF(OR(K32=\"-\",K32=0,S.25=\"\"),\"-\",(S.25/K32)))","v":"-"},{"$f":"IF(PM.25=\"\",\"-\",IF(OR(E32=\"-\",H.25=\"\",H.25=\"-\",Kd.25=\"\",Kd.25=\"-\"),\"-\",MIN((((2*Ws*ps)/(Uar*Sar))*(SQRT((E32*H.25)/(PI()*(Ows+(Kd.25*ps)+(H.25*Oas))*tau)))*10^3),((Ws*ps*Ls)/(Uar*Sar*tau))*10^3)))","v":"-"},{"$f":"IF(PM.25=\"\",\"-\",(((Pa*Ws)/(Uar*Sar))*10^3))","v":"-"},{"$f":"IF(PM.25=\"\",\"-\",IF(OR(E32=\"-\",E32=0,Kd.25=\"\",Kd.25=\"-\"),\"-\",MIN((((H.25*ps)/(((Kd.25*ps)+Ows+(H.25*Oas))*(1+(Uar*Sar*Lss)/(E32*Wss))))*10^3),((Wss*ps*dss)/(Uar*Sar*tau))*10^3)))","v":"-"},{"$f":"IF(PM.25=\"\",\"-\",IF(OR(F32=0,F32=\"-\",E32=\"-\",Kd.25=\"\",Kd.25=\"-\"),\"-\",MIN(IF(dp>0,(((((H.25*ps)/((Kd.25*ps)+Ows+(H.25*Oas)))*((E32/Lss)/(ER*Lb))*EXP(G32))/(EXP(G32)+((E32/Lss)/(ER*Lb))+(((E32/Lss)/((F32/Lcrk)*n))*(EXP(G32)-1))))*10^3),(((((H.25*ps)/((Kd.25*ps)+Ows+(H.25*Oas)))*((E32/Lss)/(ER*Lb)))/(1+((E32/Lss)/(ER*Lb))+((E32/Lss)/((F32/Lcrk)*n))))*10^3)),((ps*dss)/(Lb*ER*tau))*10^3)))","v":"-"},{"$f":"IF(PM.25=\"\",\"-\",IF(OR(K32=\"-\",J32=\"-\",J32=0),\"-\",((K32/J32)*10^3)))","v":"-"},{"$f":"IF(PM.25=\"\",\"-\",IF(OR(I32=0,I32=\"-\"),\"-\",(((H.25)/(1+((Uar*Sar*Lgw)/(Ww*I32))))*10^3)))","v":"-"},{"$f":"IF(PM.25=\"\",\"-\",IF(OR(F32=0,F32=\"-\",I32=\"-\"),\"-\",(((H.25*((I32/Lgw)/(ER*Lb)))/(1+((I32/Lgw)/(ER*Lb))+((I32/Lgw)/((F32/Lcrk)*n))))*10^3)))","v":"-"},{"$f":"IF(PM.25=\"\",\"-\",IF(OR(Kd.25=\"-\",Kd.25=\"\"),\"-\",1+((Kd.25*ps)/Oef)))","v":"-"},{"$f":"IF(PM.25=\"\",\"-\",IF(OR(Ctek.25=0,Ctek.25=\"-\",Ctek.25=\"\"),\"-\",(0.6931/Ctek.25)))","v":"-"},{"$f":"IF(PM.25=\"\",\"-\",x.25/100)","v":"-"},{"$f":"IF(PM.25=\"\",\"-\",IF(OR(lambda.25=\"-\",R.25=\"-\"),(EXP(((x.25/100)/(2*alfa.x))*(1-SQRT(1+((4*alfa.x*0)/(vs*365/100)))))*ERF((Sw/100)/(4*SQRT(alfa.y*(x.25/100))))*ERF((Sd/100)/(2*SQRT(alfa.z*(x.25/100))))),(EXP(((x.25/100)/(2*alfa.x))*(1-SQRT(1+((4*alfa.x*lambda.25*R.25)/(vs*365/100)))))*ERF((Sw/100)/(4*SQRT(alfa.y*(x.25/100))))*ERF((Sd/100)/(2*SQRT(alfa.z*(x.25/100)))))))","v":"-"},{"$f":"IF(PM.25=\"\",\"-\",IF(OR(Kd.25=\"\",Kd.25=\"-\",Kd.25=0,Tipo.25<>\"METAL\"),\"-\",IF(FatBio.25=\"\",(EXP(2.67-1.12*LN(Kd.25))),FatBio.25)))","v":"-"},{"$f":"IF(PM.25=\"\",\"-\",IF(OR(Kd.25=\"\",Kd.25=\"-\",Kd.25=0,Tipo.25<>\"METAL\"),\"-\",IF(fbcf.25=\"\",(EXP(2.67-1.12*LN(Kd.25))),fbcf.25)))","v":"-"},{"$f":"IF(PM.25=\"\",\"-\",Cf.SoloSup.25*cdpx.25)","v":"-"},{"$f":"IF(PM.25=\"\",\"-\",IF(OR(kow.25=\"-\",kow.25=0,kow.25=\"\",Tipo.25=\"METAL\"),\"-\",(0.784*EXP((-1*((kow.25)-1.78)^2)/2.44))))","v":"-"},{"$f":"IF(PM.25=\"\",\"-\",IF(OR(kow.25=\"-\",kow.25=\"\",H.25=\"\",H.25=0,H.25=\"-\",Tipo.25=\"METAL\"),\"-\",((Wpveg+Lpveg*((10^kow.25)^bveg))/((H.25)))))","v":"-"},{"$f":"IF(PM.25=\"\",\"-\",IF(OR(kla.25=\"-\",kla.25=0),\"-\",(((Alveg*gveg)/(kla.25*Vlveg))+lambdamveg+lambdapveg+lambdagveg)))","v":"-"},{"$f":"IF(PM.25=\"\",\"-\",IF(OR(Kd.25=\"-\",Kd.25=\"\",zw.25=\"-\",Tipo.25=\"METAL\"),\"-\",((Kd.25*ps*zw.25)/Vsveg)))","v":"-"},{"$f":"IF(PM.25=\"\",\"-\",IF(OR(pv.25=\"\",S.25=\"\",pv.25=\"-\",pv.25=0,Tipo.25=\"METAL\",PM.25=\"ND\"),\"-\",(((S.25)*(1/PM.25))/((pv.25*101325)/760))))","v":"-"},{"$f":"IF(OR(PM.25=\"\",Tipo.25=\"METAL\"),\"-\",(1/(Rveg*Tarveg)))","v":"-"},{"$f":"IF(PM.25=\"\",\"-\",IF(OR(za.25=\"-\",zw.25=\"-\",zs.25=\"-\",Tipo.25=\"METAL\"),\"-\",((zw.25*Vwveg)/(za.25*Vaveg+zw.25*Vwveg+zs.25*Vsveg))))","v":"-"},{"$f":"IF(PM.25=\"\",\"-\",IF(OR(kow.25=\"-\",kow.25=\"\",Tipo.25=\"METAL\"),\"-\",(Wtrappveg+Ltrappveg*aveg*((10^kow.25)^btrappveg))))","v":"-"},{"$f":"IF(PM.25=\"\",\"-\",IF(OR(Kd.25=0,Kd.25=\"\",krw.25=\"-\",krw.25=0,Tipo.25=\"METAL\"),\"-\",((Qveg/Kd.25)/((Qveg/krw.25)+(kveg*Vtrappveg)))))","v":"-"},0.01]
[null,26,{"$f":"SQI!D34","v":0},{"$f":"SQI!C34","v":""},{"$f":"IF(PM.26=\"\",\"-\",IF(ISERROR(((Dar.26*Oas^3.33)/(OT^2))+((Dagua.26*Ows^3.33)/(H.26*OT^2))),\"-\",(((Dar.26*Oas^3.33)/(OT^2))+((Dagua.26*Ows^3.33)/(H.26*OT^2)))))","v":"-"},{"$f":"IF(PM.26=\"\",\"-\",IF(ISERROR(((Dar.26*Oacrk^3.33)/(OT^2))+((Dagua.26*Owcrk^3.33)/(H.26*OT^2))),\"-\",(((Dar.26*Oacrk^3.33)/(OT^2))+((Dagua.26*Owcrk^3.33)/(H.26*OT^2)))))","v":"-"},{"$f":"IF(PM.26=\"\",\"-\",IF(OR(F33=\"-\",F33=0),\"-\",((Qs/Ab)/((F33/Lcrk)*n))))","v":"-"},{"$f":"IF(PM.26=\"\",\"-\",IF(ISERROR(((Dar.26*Oacap^3.33)/(OT^2))+((Dagua.26*Owcap^3.33)/(H.26*OT^2))),\"-\",(((Dar.26*Oacap^3.33)/(OT^2))+((Dagua.26*Owcap^3.33)/(H.26*OT^2)))))","v":"-"},{"$f":"IF(PM.26=\"\",\"-\",IF(OR(H33=0,E33=0,H33=\"-\",E33=\"-\"),\"-\",((hcap+hv)/((hcap/H33)+(hv/E33)))))","v":"-"},{"$f":"IF(PM.26=\"\",\"-\",((1+(((Ugw*Sgw)/(SIR*Wss))*365))))","v":"-"},{"$f":"IF(OR(PM.26=\"\",PM.26=\"-\"),\"-\",IF(AND(H.26=\"\",Kd.26<>\"\"),(ps/(((Kd.26*ps)+Ows+(0*Oas)))),IF(AND(Kd.26=\"\",H.26<>\"\"),(ps/(((0*ps)+Ows+(H.26*Oas)))),IF(AND(Kd.26=\"\",H.26=\"\"),(ps/(((0*ps)+Ows+(0*Oas)))),(ps/(((Kd.26*ps)+Ows+(H.26*Oas))))))))","v":"-"},{"$f":"IF(PM.26=\"\",\"-\",IF(OR(K33=\"-\",K33=0,S.26=\"\"),\"-\",(S.26/K33)))","v":"-"},{"$f":"IF(PM.26=\"\",\"-\",IF(OR(E33=\"-\",H.26=\"\",H.26=\"-\",Kd.26=\"\",Kd.26=\"-\"),\"-\",MIN((((2*Ws*ps)/(Uar*Sar))*(SQRT((E33*H.26)/(PI()*(Ows+(Kd.26*ps)+(H.26*Oas))*tau)))*10^3),((Ws*ps*Ls)/(Uar*Sar*tau))*10^3)))","v":"-"},{"$f":"IF(PM.26=\"\",\"-\",(((Pa*Ws)/(Uar*Sar))*10^3))","v":"-"},{"$f":"IF(PM.26=\"\",\"-\",IF(OR(E33=\"-\",E33=0,Kd.26=\"\",Kd.26=\"-\"),\"-\",MIN((((H.26*ps)/(((Kd.26*ps)+Ows+(H.26*Oas))*(1+(Uar*Sar*Lss)/(E33*Wss))))*10^3),((Wss*ps*dss)/(Uar*Sar*tau))*10^3)))","v":"-"},{"$f":"IF(PM.26=\"\",\"-\",IF(OR(F33=0,F33=\"-\",E33=\"-\",Kd.26=\"\",Kd.26=\"-\"),\"-\",MIN(IF(dp>0,(((((H.26*ps)/((Kd.26*ps)+Ows+(H.26*Oas)))*((E33/Lss)/(ER*Lb))*EXP(G33))/(EXP(G33)+((E33/Lss)/(ER*Lb))+(((E33/Lss)/((F33/Lcrk)*n))*(EXP(G33)-1))))*10^3),(((((H.26*ps)/((Kd.26*ps)+Ows+(H.26*Oas)))*((E33/Lss)/(ER*Lb)))/(1+((E33/Lss)/(ER*Lb))+((E33/Lss)/((F33/Lcrk)*n))))*10^3)),((ps*dss)/(Lb*ER*tau))*10^3)))","v":"-"},{"$f":"IF(PM.26=\"\",\"-\",IF(OR(K33=\"-\",J33=\"-\",J33=0),\"-\",((K33/J33)*10^3)))","v":"-"},{"$f":"IF(PM.26=\"\",\"-\",IF(OR(I33=0,I33=\"-\"),\"-\",(((H.26)/(1+((Uar*Sar*Lgw)/(Ww*I33))))*10^3)))","v":"-"},{"$f":"IF(PM.26=\"\",\"-\",IF(OR(F33=0,F33=\"-\",I33=\"-\"),\"-\",(((H.26*((I33/Lgw)/(ER*Lb)))/(1+((I33/Lgw)/(ER*Lb))+((I33/Lgw)/((F33/Lcrk)*n))))*10^3)))","v":"-"},{"$f":"IF(PM.26=\"\",\"-\",IF(OR(Kd.26=\"-\",Kd.26=\"\"),\"-\",1+((Kd.26*ps)/Oef)))","v":"-"},{"$f":"IF(PM.26=\"\",\"-\",IF(OR(Ctek.26=0,Ctek.26=\"-\",Ctek.26=\"\"),\"-\",(0.6931/Ctek.26)))","v":"-"},{"$f":"IF(PM.26=\"\",\"-\",x.26/100)","v":"-"},{"$f":"IF(PM.26=\"\",\"-\",IF(OR(lambda.26=\"-\",R.26=\"-\"),(EXP(((x.26/100)/(2*alfa.x))*(1-SQRT(1+((4*alfa.x*0)/(vs*365/100)))))*ERF((Sw/100)/(4*SQRT(alfa.y*(x.26/100))))*ERF((Sd/100)/(2*SQRT(alfa.z*(x.26/100))))),(EXP(((x.26/100)/(2*alfa.x))*(1-SQRT(1+((4*alfa.x*lambda.26*R.26)/(vs*365/100)))))*ERF((Sw/100)/(4*SQRT(alfa.y*(x.26/100))))*ERF((Sd/100)/(2*SQRT(alfa.z*(x.26/100)))))))","v":"-"},{"$f":"IF(PM.26=\"\",\"-\",IF(OR(Kd.26=\"\",Kd.26=\"-\",Kd.26=0,Tipo.26<>\"METAL\"),\"-\",IF(FatBio.26=\"\",(EXP(2.67-1.12*LN(Kd.26))),FatBio.26)))","v":"-"},{"$f":"IF(PM.26=\"\",\"-\",IF(OR(Kd.26=\"\",Kd.26=\"-\",Kd.26=0,Tipo.26<>\"METAL\"),\"-\",IF(fbcf.26=\"\",(EXP(2.67-1.12*LN(Kd.26))),fbcf.26)))","v":"-"},{"$f":"IF(PM.26=\"\",\"-\",Cf.SoloSup.26*cdpx.26)","v":"-"},{"$f":"IF(PM.26=\"\",\"-\",IF(OR(kow.26=\"-\",kow.26=0,kow.26=\"\",Tipo.26=\"METAL\"),\"-\",(0.784*EXP((-1*((kow.26)-1.78)^2)/2.44))))","v":"-"},{"$f":"IF(PM.26=\"\",\"-\",IF(OR(kow.26=\"-\",kow.26=\"\",H.26=\"\",H.26=0,H.26=\"-\",Tipo.26=\"METAL\"),\"-\",((Wpveg+Lpveg*((10^kow.26)^bveg))/((H.26)))))","v":"-"},{"$f":"IF(PM.26=\"\",\"-\",IF(OR(kla.26=\"-\",kla.26=0),\"-\",(((Alveg*gveg)/(kla.26*Vlveg))+lambdamveg+lambdapveg+lambdagveg)))","v":"-"},{"$f":"IF(PM.26=\"\",\"-\",IF(OR(Kd.26=\"-\",Kd.26=\"\",zw.26=\"-\",Tipo.26=\"METAL\"),\"-\",((Kd.26*ps*zw.26)/Vsveg)))","v":"-"},{"$f":"IF(PM.26=\"\",\"-\",IF(OR(pv.26=\"\",S.26=\"\",pv.26=\"-\",pv.26=0,Tipo.26=\"METAL\",PM.26=\"ND\"),\"-\",(((S.26)*(1/PM.26))/((pv.26*101325)/760))))","v":"-"},{"$f":"IF(OR(PM.26=\"\",Tipo.26=\"METAL\"),\"-\",(1/(Rveg*Tarveg)))","v":"-"},{"$f":"IF(PM.26=\"\",\"-\",IF(OR(za.26=\"-\",zw.26=\"-\",zs.26=\"-\",Tipo.26=\"METAL\"),\"-\",((zw.26*Vwveg)/(za.26*Vaveg+zw.26*Vwveg+zs.26*Vsveg))))","v":"-"},{"$f":"IF(PM.26=\"\",\"-\",IF(OR(kow.26=\"-\",kow.26=\"\",Tipo.26=\"METAL\"),\"-\",(Wtrappveg+Ltrappveg*aveg*((10^kow.26)^btrappveg))))","v":"-"},{"$f":"IF(PM.26=\"\",\"-\",IF(OR(Kd.26=0,Kd.26=\"\",krw.26=\"-\",krw.26=0,Tipo.26=\"METAL\"),\"-\",((Qveg/Kd.26)/((Qveg/krw.26)+(kveg*Vtrappveg)))))","v":"-"},0.01]
[null,27,{"$f":"SQI!D35","v":0},{"$f":"SQI!C35","v":""},{"$f":"IF(PM.27=\"\",\"-\",IF(ISERROR(((Dar.27*Oas^3.33)/(OT^2))+((Dagua.27*Ows^3.33)/(H.27*OT^2))),\"-\",(((Dar.27*Oas^3.33)/(OT^2))+((Dagua.27*Ows^3.33)/(H.27*OT^2)))))","v":"-"},{"$f":"IF(PM.27=\"\",\"-\",IF(ISERROR(((Dar.27*Oacrk^3.33)/(OT^2))+((Dagua.27*Owcrk^3.33)/(H.27*OT^2))),\"-\",(((Dar.27*Oacrk^3.33)/(OT^2))+((Dagua.27*Owcrk^3.33)/(H.27*OT^2)))))","v":"-"},{"$f":"IF(PM.27=\"\",\"-\",IF(OR(F34=\"-\",F34=0),\"-\",((Qs/Ab)/((F34/Lcrk)*n))))","v":"-"},{"$f":"IF(PM.27=\"\",\"-\",IF(ISERROR(((Dar.27*Oacap^3.33)/(OT^2))+((Dagua.27*Owcap^3.33)/(H.27*OT^2))),\"-\",(((Dar.27*Oacap^3.33)/(OT^2))+((Dagua.27*Owcap^3.33)/(H.27*OT^2)))))","v":"-"},{"$f":"IF(PM.27=\"\",\"-\",IF(OR(H34=0,E34=0,H34=\"-\",E34=\"-\"),\"-\",((hcap+hv)/((hcap/H34)+(hv/E34)))))","v":"-"},{"$f":"IF(PM.27=\"\",\"-\",((1+(((Ugw*Sgw)/(SIR*Wss))*365))))","v":"-"},{"$f":"IF(OR(PM.27=\"\",PM.27=\"-\"),\"-\",IF(AND(H.27=\"\",Kd.27<>\"\"),(ps/(((Kd.27*ps)+Ows+(0*Oas)))),IF(AND(Kd.27=\"\",H.27<>\"\"),(ps/(((0*ps)+Ows+(H.27*Oas)))),IF(AND(Kd.27=\"\",H.27=\"\"),(ps/(((0*ps)+Ows+(0*Oas)))),(ps/(((Kd.27*ps)+Ows+(H.27*Oas))))))))","v":"-"},{"$f":"IF(PM.27=\"\",\"-\",IF(OR(K34=\"-\",K34=0,S.27=\"\"),\"-\",(S.27/K34)))","v":"-"},{"$f":"IF(PM.27=\"\",\"-\",IF(OR(E34=\"-\",H.27=\"\",H.27=\"-\",Kd.27=\"\",Kd.27=\"-\"),\"-\",MIN((((2*Ws*ps)/(Uar*Sar))*(SQRT((E34*H.27)/(PI()*(Ows+(Kd.27*ps)+(H.27*Oas))*tau)))*10^3),((Ws*ps*Ls)/(Uar*Sar*tau))*10^3)))","v":"-"},{"$f":"IF(PM.27=\"\",\"-\",(((Pa*Ws)/(Uar*Sar))*10^3))","v":"-"},{"$f":"IF(PM.27=\"\",\"-\",IF(OR(E34=\"-\",E34=0,Kd.27=\"\",Kd.27=\"-\"),\"-\",MIN((((H.27*ps)/(((Kd.27*ps)+Ows+(H.27*Oas))*(1+(Uar*Sar*Lss)/(E34*Wss))))*10^3),((Wss*ps*dss)/(Uar*Sar*tau))*10^3)))","v":"-"},{"$f":"IF(PM.27=\"\",\"-\",IF(OR(F34=0,F34=\"-\",E34=\"-\",Kd.27=\"\",Kd.27=\"-\"),\"-\",MIN(IF(dp>0,(((((H.27*ps)/((Kd.27*ps)+Ows+(H.27*Oas)))*((E34/Lss)/(ER*Lb))*EXP(G34))/(EXP(G34)+((E34/Lss)/(ER*Lb))+(((E34/Lss)/((F34/Lcrk)*n))*(EXP(G34)-1))))*10^3),(((((H.27*ps)/((Kd.27*ps)+Ows+(H.27*Oas)))*((E34/Lss)/(ER*Lb)))/(1+((E34/Lss)/(ER*Lb))+((E34/Lss)/((F34/Lcrk)*n))))*10^3)),((ps*dss)/(Lb*ER*tau))*10^3)))","v":"-"},{"$f":"IF(PM.27=\"\",\"-\",IF(OR(K34=\"-\",J34=\"-\",J34=0),\"-\",((K34/J34)*10^3)))","v":"-"},{"$f":"IF(PM.27=\"\",\"-\",IF(OR(I34=0,I34=\"-\"),\"-\",(((H.27)/(1+((Uar*Sar*Lgw)/(Ww*I34))))*10^3)))","v":"-"},{"$f":"IF(PM.27=\"\",\"-\",IF(OR(F34=0,F34=\"-\",I34=\"-\"),\"-\",(((H.27*((I34/Lgw)/(ER*Lb)))/(1+((I34/Lgw)/(ER*Lb))+((I34/Lgw)/((F34/Lcrk)*n))))*10^3)))","v":"-"},{"$f":"IF(PM.27=\"\",\"-\",IF(OR(Kd.27=\"-\",Kd.27=\"\"),\"-\",1+((Kd.27*ps)/Oef)))","v":"-"},{"$f":"IF(PM.27=\"\",\"-\",IF(OR(Ctek.27=0,Ctek.27=\"-\",Ctek.27=\"\"),\"-\",(0.6931/Ctek.27)))","v":"-"},{"$f":"IF(PM.27=\"\",\"-\",x.27/100)","v":"-"},{"$f":"IF(PM.27=\"\",\"-\",IF(OR(lambda.27=\"-\",R.27=\"-\"),(EXP(((x.27/100)/(2*alfa.x))*(1-SQRT(1+((4*alfa.x*0)/(vs*365/100)))))*ERF((Sw/100)/(4*SQRT(alfa.y*(x.27/100))))*ERF((Sd/100)/(2*SQRT(alfa.z*(x.27/100))))),(EXP(((x.27/100)/(2*alfa.x))*(1-SQRT(1+((4*alfa.x*lambda.27*R.27)/(vs*365/100)))))*ERF((Sw/100)/(4*SQRT(alfa.y*(x.27/100))))*ERF((Sd/100)/(2*SQRT(alfa.z*(x.27/100)))))))","v":"-"},{"$f":"IF(PM.27=\"\",\"-\",IF(OR(Kd.27=\"\",Kd.27=\"-\",Kd.27=0,Tipo.27<>\"METAL\"),\"-\",IF(FatBio.27=\"\",(EXP(2.67-1.12*LN(Kd.27))),FatBio.27)))","v":"-"},{"$f":"IF(PM.27=\"\",\"-\",IF(OR(Kd.27=\"\",Kd.27=\"-\",Kd.27=0,Tipo.27<>\"METAL\"),\"-\",IF(fbcf.27=\"\",(EXP(2.67-1.12*LN(Kd.27))),fbcf.27)))","v":"-"},{"$f":"IF(PM.27=\"\",\"-\",Cf.SoloSup.27*cdpx.27)","v":"-"},{"$f":"IF(PM.27=\"\",\"-\",IF(OR(kow.27=\"-\",kow.27=0,kow.27=\"\",Tipo.27=\"METAL\"),\"-\",(0.784*EXP((-1*((kow.27)-1.78)^2)/2.44))))","v":"-"},{"$f":"IF(PM.27=\"\",\"-\",IF(OR(kow.27=\"-\",kow.27=\"\",H.27=\"\",H.27=0,H.27=\"-\",Tipo.27=\"METAL\"),\"-\",((Wpveg+Lpveg*((10^kow.27)^bveg))/((H.27)))))","v":"-"},{"$f":"IF(PM.27=\"\",\"-\",IF(OR(kla.27=\"-\",kla.27=0),\"-\",(((Alveg*gveg)/(kla.27*Vlveg))+lambdamveg+lambdapveg+lambdagveg)))","v":"-"},{"$f":"IF(PM.27=\"\",\"-\",IF(OR(Kd.27=\"-\",Kd.27=\"\",zw.27=\"-\",Tipo.27=\"METAL\"),\"-\",((Kd.27*ps*zw.27)/Vsveg)))","v":"-"},{"$f":"IF(PM.27=\"\",\"-\",IF(OR(pv.27=\"\",pv.27=\"\",S.27=\"-\",pv.27=0,Tipo.27=\"METAL\",PM.27=\"ND\"),\"-\",(((S.27)*(1/PM.27))/((pv.27*101325)/760))))","v":"-"},{"$f":"IF(OR(PM.27=\"\",Tipo.27=\"METAL\"),\"-\",(1/(Rveg*Tarveg)))","v":"-"},{"$f":"IF(PM.27=\"\",\"-\",IF(OR(za.27=\"-\",zw.27=\"-\",zs.27=\"-\",Tipo.27=\"METAL\"),\"-\",((zw.27*Vwveg)/(za.27*Vaveg+zw.27*Vwveg+zs.27*Vsveg))))","v":"-"},{"$f":"IF(PM.27=\"\",\"-\",IF(OR(kow.27=\"-\",kow.27=\"\",Tipo.27=\"METAL\"),\"-\",(Wtrappveg+Ltrappveg*aveg*((10^kow.27)^btrappveg))))","v":"-"},{"$f":"IF(PM.27=\"\",\"-\",IF(OR(Kd.27=0,Kd.27=\"\",krw.27=\"-\",krw.27=0,Tipo.27=\"METAL\"),\"-\",((Qveg/Kd.27)/((Qveg/krw.27)+(kveg*Vtrappveg)))))","v":"-"},0.01]
[null,28,{"$f":"SQI!D36","v":0},{"$f":"SQI!C36","v":""},{"$f":"IF(PM.28=\"\",\"-\",IF(ISERROR(((Dar.28*Oas^3.33)/(OT^2))+((Dagua.28*Ows^3.33)/(H.28*OT^2))),\"-\",(((Dar.28*Oas^3.33)/(OT^2))+((Dagua.28*Ows^3.33)/(H.28*OT^2)))))","v":"-"},{"$f":"IF(PM.28=\"\",\"-\",IF(ISERROR(((Dar.28*Oacrk^3.33)/(OT^2))+((Dagua.28*Owcrk^3.33)/(H.28*OT^2))),\"-\",(((Dar.28*Oacrk^3.33)/(OT^2))+((Dagua.28*Owcrk^3.33)/(H.28*OT^2)))))","v":"-"},{"$f":"IF(PM.28=\"\",\"-\",IF(OR(F35=\"-\",F35=0),\"-\",((Qs/Ab)/((F35/Lcrk)*n))))","v":"-"},{"$f":"IF(PM.28=\"\",\"-\",IF(ISERROR(((Dar.28*Oacap^3.33)/(OT^2))+((Dagua.28*Owcap^3.33)/(H.28*OT^2))),\"-\",(((Dar.28*Oacap^3.33)/(OT^2))+((Dagua.28*Owcap^3.33)/(H.28*OT^2)))))","v":"-"},{"$f":"IF(PM.28=\"\",\"-\",IF(OR(H35=0,E35=0,H35=\"-\",E35=\"-\"),\"-\",((hcap+hv)/((hcap/H35)+(hv/E35)))))","v":"-"},{"$f":"IF(PM.28=\"\",\"-\",((1+(((Ugw*Sgw)/(SIR*Wss))*365))))","v":"-"},{"$f":"IF(OR(PM.28=\"\",PM.28=\"-\"),\"-\",IF(AND(H.28=\"\",Kd.28<>\"\"),(ps/(((Kd.28*ps)+Ows+(0*Oas)))),IF(AND(Kd.28=\"\",H.28<>\"\"),(ps/(((0*ps)+Ows+(H.28*Oas)))),IF(AND(Kd.28=\"\",H.28=\"\"),(ps/(((0*ps)+Ows+(0*Oas)))),(ps/(((Kd.28*ps)+Ows+(H.28*Oas))))))))","v":"-"},{"$f":"IF(PM.28=\"\",\"-\",IF(OR(K35=\"-\",K35=0,S.28=\"\"),\"-\",(S.28/K35)))","v":"-"},{"$f":"IF(PM.28=\"\",\"-\",IF(OR(E35=\"-\",H.28=\"\",H.28=\"-\",Kd.28=\"\",Kd.28=\"-\"),\"-\",MIN((((2*Ws*ps)/(Uar*Sar))*(SQRT((E35*H.28)/(PI()*(Ows+(Kd.28*ps)+(H.28*Oas))*tau)))*10^3),((Ws*ps*Ls)/(Uar*Sar*tau))*10^3)))","v":"-"},{"$f":"IF(PM.28=\"\",\"-\",(((Pa*Ws)/(Uar*Sar))*10^3))","v":"-"},{"$f":"IF(PM.28=\"\",\"-\",IF(OR(E35=\"-\",E35=0,Kd.28=\"\",Kd.28=\"-\"),\"-\",MIN((((H.28*ps)/(((Kd.28*ps)+Ows+(H.28*Oas))*(1+(Uar*Sar*Lss)/(E35*Wss))))*10^3),((Wss*ps*dss)/(Uar*Sar*tau))*10^3)))","v":"-"},{"$f":"IF(PM.28=\"\",\"-\",IF(OR(F35=0,F35=\"-\",E35=\"-\",Kd.28=\"\",Kd.28=\"-\"),\"-\",MIN(IF(dp>0,(((((H.28*ps)/((Kd.28*ps)+Ows+(H.28*Oas)))*((E35/Lss)/(ER*Lb))*EXP(G35))/(EXP(G35)+((E35/Lss)/(ER*Lb))+(((E35/Lss)/((F35/Lcrk)*n))*(EXP(G35)-1))))*10^3),(((((H.28*ps)/((Kd.28*ps)+Ows+(H.28*Oas)))*((E35/Lss)/(ER*Lb)))/(1+((E35/Lss)/(ER*Lb))+((E35/Lss)/((F35/Lcrk)*n))))*10^3)),((ps*dss)/(Lb*ER*tau))*10^3)))","v":"-"},{"$f":"IF(PM.28=\"\",\"-\",IF(OR(K35=\"-\",J35=\"-\",J35=0),\"-\",((K35/J35)*10^3)))","v":"-"},{"$f":"IF(PM.28=\"\",\"-\",IF(OR(I35=0,I35=\"-\"),\"-\",(((H.28)/(1+((Uar*Sar*Lgw)/(Ww*I35))))*10^3)))","v":"-"},{"$f":"IF(PM.28=\"\",\"-\",IF(OR(F35=0,F35=\"-\",I35=\"-\"),\"-\",(((H.28*((I35/Lgw)/(ER*Lb)))/(1+((I35/Lgw)/(ER*Lb))+((I35/Lgw)/((F35/Lcrk)*n))))*10^3)))","v":"-"},{"$f":"IF(PM.28=\"\",\"-\",IF(OR(Kd.28=\"-\",Kd.28=\"\"),\"-\",1+((Kd.28*ps)/Oef)))","v":"-"},{"$f":"IF(PM.28=\"\",\"-\",IF(OR(Ctek.28=0,Ctek.28=\"-\",Ctek.28=\"\"),\"-\",(0.6931/Ctek.28)))","v":"-"},{"$f":"IF(PM.28=\"\",\"-\",x.28/100)","v":"-"},{"$f":"IF(PM.28=\"\",\"-\",IF(OR(lambda.28=\"-\",R.28=\"-\"),(EXP(((x.28/100)/(2*alfa.x))*(1-SQRT(1+((4*alfa.x*0)/(vs*365/100)))))*ERF((Sw/100)/(4*SQRT(alfa.y*(x.28/100))))*ERF((Sd/100)/(2*SQRT(alfa.z*(x.28/100))))),(EXP(((x.28/100)/(2*alfa.x))*(1-SQRT(1+((4*alfa.x*lambda.28*R.28)/(vs*365/100)))))*ERF((Sw/100)/(4*SQRT(alfa.y*(x.28/100))))*ERF((Sd/100)/(2*SQRT(alfa.z*(x.28/100)))))))","v":"-"},{"$f":"IF(PM.28=\"\",\"-\",IF(OR(Kd.28=\"\",Kd.28=\"-\",Kd.28=0,Tipo.28<>\"METAL\"),\"-\",IF(FatBio.28=\"\",(EXP(2.67-1.12*LN(Kd.28))),FatBio.28)))","v":"-"},{"$f":"IF(PM.28=\"\",\"-\",IF(OR(Kd.28=\"\",Kd.28=\"-\",Kd.28=0,Tipo.28<>\"METAL\"),\"-\",IF(fbcf.28=\"\",(EXP(2.67-1.12*LN(Kd.28))),fbcf.28)))","v":"-"},{"$f":"IF(PM.28=\"\",\"-\",Cf.SoloSup.28*cdpx.28)","v":"-"},{"$f":"IF(PM.28=\"\",\"-\",IF(OR(kow.28=\"-\",kow.28=0,kow.28=\"\",Tipo.28=\"METAL\"),\"-\",(0.784*EXP((-1*((kow.28)-1.78)^2)/2.44))))","v":"-"},{"$f":"IF(PM.28=\"\",\"-\",IF(OR(kow.28=\"-\",kow.28=\"\",H.28=\"\",H.28=0,H.28=\"-\",Tipo.28=\"METAL\"),\"-\",((Wpveg+Lpveg*((10^kow.28)^bveg))/((H.28)))))","v":"-"},{"$f":"IF(PM.28=\"\",\"-\",IF(OR(kla.28=\"-\",kla.28=0),\"-\",(((Alveg*gveg)/(kla.28*Vlveg))+lambdamveg+lambdapveg+lambdagveg)))","v":"-"},{"$f":"IF(PM.28=\"\",\"-\",IF(OR(Kd.28=\"-\",Kd.28=\"\",zw.28=\"-\",Tipo.28=\"METAL\"),\"-\",((Kd.28*ps*zw.28)/Vsveg)))","v":"-"},{"$f":"IF(PM.28=\"\",\"-\",IF(OR(pv.28=\"\",S.28=\"\",pv.28=\"-\",pv.28=0,Tipo.28=\"METAL\",PM.28=\"ND\"),\"-\",(((S.28)*(1/PM.28))/((pv.28*101325)/760))))","v":"-"},{"$f":"IF(OR(PM.28=\"\",Tipo.28=\"METAL\"),\"-\",(1/(Rveg*Tarveg)))","v":"-"},{"$f":"IF(PM.28=\"\",\"-\",IF(OR(za.28=\"-\",zw.28=\"-\",zs.28=\"-\",Tipo.28=\"METAL\"),\"-\",((zw.28*Vwveg)/(za.28*Vaveg+zw.28*Vwveg+zs.28*Vsveg))))","v":"-"},{"$f":"IF(PM.28=\"\",\"-\",IF(OR(kow.28=\"-\",kow.28=\"\",Tipo.28=\"METAL\"),\"-\",(Wtrappveg+Ltrappveg*aveg*((10^kow.28)^btrappveg))))","v":"-"},{"$f":"IF(PM.28=\"\",\"-\",IF(OR(Kd.28=0,Kd.28=\"\",krw.28=\"-\",krw.28=0,Tipo.28=\"METAL\"),\"-\",((Qveg/Kd.28)/((Qveg/krw.28)+(kveg*Vtrappveg)))))","v":"-"},0.01]
[null,29,{"$f":"SQI!D37","v":0},{"$f":"SQI!C37","v":""},{"$f":"IF(PM.29=\"\",\"-\",IF(ISERROR(((Dar.29*Oas^3.33)/(OT^2))+((Dagua.29*Ows^3.33)/(H.29*OT^2))),\"-\",(((Dar.29*Oas^3.33)/(OT^2))+((Dagua.29*Ows^3.33)/(H.29*OT^2)))))","v":"-"},{"$f":"IF(PM.29=\"\",\"-\",IF(ISERROR(((Dar.29*Oacrk^3.33)/(OT^2))+((Dagua.29*Owcrk^3.33)/(H.29*OT^2))),\"-\",(((Dar.29*Oacrk^3.33)/(OT^2))+((Dagua.29*Owcrk^3.33)/(H.29*OT^2)))))","v":"-"},{"$f":"IF(PM.29=\"\",\"-\",IF(OR(F36=\"-\",F36=0),\"-\",((Qs/Ab)/((F36/Lcrk)*n))))","v":"-"},{"$f":"IF(PM.29=\"\",\"-\",IF(ISERROR(((Dar.29*Oacap^3.33)/(OT^2))+((Dagua.29*Owcap^3.33)/(H.29*OT^2))),\"-\",(((Dar.29*Oacap^3.33)/(OT^2))+((Dagua.29*Owcap^3.33)/(H.29*OT^2)))))","v":"-"},{"$f":"IF(PM.29=\"\",\"-\",IF(OR(H36=0,E36=0,H36=\"-\",E36=\"-\"),\"-\",((hcap+hv)/((hcap/H36)+(hv/E36)))))","v":"-"},{"$f":"IF(PM.29=\"\",\"-\",((1+(((Ugw*Sgw)/(SIR*Wss))*365))))","v":"-"},{"$f":"IF(OR(PM.29=\"\",PM.29=\"-\"),\"-\",IF(AND(H.29=\"\",Kd.29<>\"\"),(ps/(((Kd.29*ps)+Ows+(0*Oas)))),IF(AND(Kd.29=\"\",H.29<>\"\"),(ps/(((0*ps)+Ows+(H.29*Oas)))),IF(AND(Kd.29=\"\",H.29=\"\"),(ps/(((0*ps)+Ows+(0*Oas)))),(ps/(((Kd.29*ps)+Ows+(H.29*Oas))))))))","v":"-"},{"$f":"IF(PM.29=\"\",\"-\",IF(OR(K36=\"-\",K36=0,S.29=\"\"),\"-\",(S.29/K36)))","v":"-"},{"$f":"IF(PM.29=\"\",\"-\",IF(OR(E36=\"-\",H.29=\"\",H.29=\"-\",Kd.29=\"\",Kd.29=\"-\"),\"-\",MIN((((2*Ws*ps)/(Uar*Sar))*(SQRT((E36*H.29)/(PI()*(Ows+(Kd.29*ps)+(H.29*Oas))*tau)))*10^3),((Ws*ps*Ls)/(Uar*Sar*tau))*10^3)))","v":"-"},{"$f":"IF(PM.29=\"\",\"-\",(((Pa*Ws)/(Uar*Sar))*10^3))","v":"-"},{"$f":"IF(PM.29=\"\",\"-\",IF(OR(E36=\"-\",E36=0,Kd.29=\"\",Kd.29=\"-\"),\"-\",MIN((((H.29*ps)/(((Kd.29*ps)+Ows+(H.29*Oas))*(1+(Uar*Sar*Lss)/(E36*Wss))))*10^3),((Wss*ps*dss)/(Uar*Sar*tau))*10^3)))","v":"-"},{"$f":"IF(PM.29=\"\",\"-\",IF(OR(F36=0,F36=\"-\",E36=\"-\",Kd.29=\"\",Kd.29=\"-\"),\"-\",MIN(IF(dp>0,(((((H.29*ps)/((Kd.29*ps)+Ows+(H.29*Oas)))*((E36/Lss)/(ER*Lb))*EXP(G36))/(EXP(G36)+((E36/Lss)/(ER*Lb))+(((E36/Lss)/((F36/Lcrk)*n))*(EXP(G36)-1))))*10^3),(((((H.29*ps)/((Kd.29*ps)+Ows+(H.29*Oas)))*((E36/Lss)/(ER*Lb)))/(1+((E36/Lss)/(ER*Lb))+((E36/Lss)/((F36/Lcrk)*n))))*10^3)),((ps*dss)/(Lb*ER*tau))*10^3)))","v":"-"},{"$f":"IF(PM.29=\"\",\"-\",IF(OR(K36=\"-\",J36=\"-\",J36=0),\"-\",((K36/J36)*10^3)))","v":"-"},{"$f":"IF(PM.29=\"\",\"-\",IF(OR(I36=0,I36=\"-\"),\"-\",(((H.29)/(1+((Uar*Sar*Lgw)/(Ww*I36))))*10^3)))","v":"-"},{"$f":"IF(PM.29=\"\",\"-\",IF(OR(F36=0,F36=\"-\",I36=\"-\"),\"-\",(((H.29*((I36/Lgw)/(ER*Lb)))/(1+((I36/Lgw)/(ER*Lb))+((I36/Lgw)/((F36/Lcrk)*n))))*10^3)))","v":"-"},{"$f":"IF(PM.29=\"\",\"-\",IF(OR(Kd.29=\"-\",Kd.29=\"\"),\"-\",1+((Kd.29*ps)/Oef)))","v":"-"},{"$f":"IF(PM.29=\"\",\"-\",IF(OR(Ctek.29=0,Ctek.29=\"-\",Ctek.29=\"\"),\"-\",(0.6931/Ctek.29)))","v":"-"},{"$f":"IF(PM.29=\"\",\"-\",x.29/100)","v":"-"},{"$f":"IF(PM.29=\"\",\"-\",IF(OR(lambda.29=\"-\",R.29=\"-\"),(EXP(((x.29/100)/(2*alfa.x))*(1-SQRT(1+((4*alfa.x*0)/(vs*365/100)))))*ERF((Sw/100)/(4*SQRT(alfa.y*(x.29/100))))*ERF((Sd/100)/(2*SQRT(alfa.z*(x.29/100))))),(EXP(((x.29/100)/(2*alfa.x))*(1-SQRT(1+((4*alfa.x*lambda.29*R.29)/(vs*365/100)))))*ERF((Sw/100)/(4*SQRT(alfa.y*(x.29/100))))*ERF((Sd/100)/(2*SQRT(alfa.z*(x.29/100)))))))","v":"-"},{"$f":"IF(PM.29=\"\",\"-\",IF(OR(Kd.29=\"\",Kd.29=\"-\",Kd.29=0,Tipo.29<>\"METAL\"),\"-\",IF(FatBio.29=\"\",(EXP(2.67-1.12*LN(Kd.29))),FatBio.29)))","v":"-"},{"$f":"IF(PM.29=\"\",\"-\",IF(OR(Kd.29=\"\",Kd.29=\"-\",Kd.29=0,Tipo.29<>\"METAL\"),\"-\",IF(fbcf.29=\"\",(EXP(2.67-1.12*LN(Kd.29))),fbcf.29)))","v":"-"},{"$f":"IF(PM.29=\"\",\"-\",Cf.SoloSup.29*cdpx.29)","v":"-"},{"$f":"IF(PM.29=\"\",\"-\",IF(OR(kow.29=\"-\",kow.29=0,kow.29=\"\",Tipo.29=\"METAL\"),\"-\",(0.784*EXP((-1*((kow.29)-1.78)^2)/2.44))))","v":"-"},{"$f":"IF(PM.29=\"\",\"-\",IF(OR(kow.29=\"-\",kow.29=\"\",H.29=\"\",H.29=0,H.29=\"-\",Tipo.29=\"METAL\"),\"-\",((Wpveg+Lpveg*((10^kow.29)^bveg))/((H.29)))))","v":"-"},{"$f":"IF(PM.29=\"\",\"-\",IF(OR(kla.29=\"-\",kla.29=0),\"-\",(((Alveg*gveg)/(kla.29*Vlveg))+lambdamveg+lambdapveg+lambdagveg)))","v":"-"},{"$f":"IF(PM.29=\"\",\"-\",IF(OR(Kd.29=\"-\",Kd.29=\"\",zw.29=\"-\",Tipo.29=\"METAL\"),\"-\",((Kd.29*ps*zw.29)/Vsveg)))","v":"-"},{"$f":"IF(PM.29=\"\",\"-\",IF(OR(pv.29=\"\",S.29=\"\",pv.29=\"-\",pv.29=0,Tipo.29=\"METAL\",PM.29=\"ND\"),\"-\",(((S.29)*(1/PM.29))/((pv.29*101325)/760))))","v":"-"},{"$f":"IF(OR(PM.29=\"\",Tipo.29=\"METAL\"),\"-\",(1/(Rveg*Tarveg)))","v":"-"},{"$f":"IF(PM.29=\"\",\"-\",IF(OR(za.29=\"-\",zw.29=\"-\",zs.29=\"-\",Tipo.29=\"METAL\"),\"-\",((zw.29*Vwveg)/(za.29*Vaveg+zw.29*Vwveg+zs.29*Vsveg))))","v":"-"},{"$f":"IF(PM.29=\"\",\"-\",IF(OR(kow.29=\"-\",kow.29=\"\",Tipo.29=\"METAL\"),\"-\",(Wtrappveg+Ltrappveg*aveg*((10^kow.29)^btrappveg))))","v":"-"},{"$f":"IF(PM.29=\"\",\"-\",IF(OR(Kd.29=0,Kd.29=\"\",krw.29=\"-\",krw.29=0,Tipo.29=\"METAL\"),\"-\",((Qveg/Kd.29)/((Qveg/krw.29)+(kveg*Vtrappveg)))))","v":"-"},0.01]
[null,30,{"$f":"SQI!D38","v":0},{"$f":"SQI!C38","v":""},{"$f":"IF(PM.30=\"\",\"-\",IF(ISERROR(((Dar.30*Oas^3.33)/(OT^2))+((Dagua.30*Ows^3.33)/(H.30*OT^2))),\"-\",(((Dar.30*Oas^3.33)/(OT^2))+((Dagua.30*Ows^3.33)/(H.30*OT^2)))))","v":"-"},{"$f":"IF(PM.30=\"\",\"-\",IF(ISERROR(((Dar.30*Oacrk^3.33)/(OT^2))+((Dagua.30*Owcrk^3.33)/(H.30*OT^2))),\"-\",(((Dar.30*Oacrk^3.33)/(OT^2))+((Dagua.30*Owcrk^3.33)/(H.30*OT^2)))))","v":"-"},{"$f":"IF(PM.30=\"\",\"-\",IF(OR(F37=\"-\",F37=0),\"-\",((Qs/Ab)/((F37/Lcrk)*n))))","v":"-"},{"$f":"IF(PM.30=\"\",\"-\",IF(ISERROR(((Dar.30*Oacap^3.33)/(OT^2))+((Dagua.30*Owcap^3.33)/(H.30*OT^2))),\"-\",(((Dar.30*Oacap^3.33)/(OT^2))+((Dagua.30*Owcap^3.33)/(H.30*OT^2)))))","v":"-"},{"$f":"IF(PM.30=\"\",\"-\",IF(OR(H37=0,E37=0,H37=\"-\",E37=\"-\"),\"-\",((hcap+hv)/((hcap/H37)+(hv/E37)))))","v":"-"},{"$f":"IF(PM.30=\"\",\"-\",((1+(((Ugw*Sgw)/(SIR*Wss))*365))))","v":"-"},{"$f":"IF(OR(PM.30=\"\",PM.30=\"-\"),\"-\",IF(AND(H.30=\"\",Kd.30<>\"\"),(ps/(((Kd.30*ps)+Ows+(0*Oas)))),IF(AND(Kd.30=\"\",H.30<>\"\"),(ps/(((0*ps)+Ows+(H.30*Oas)))),IF(AND(Kd.30=\"\",H.30=\"\"),(ps/(((0*ps)+Ows+(0*Oas)))),(ps/(((Kd.30*ps)+Ows+(H.30*Oas))))))))","v":"-"},{"$f":"IF(PM.30=\"\",\"-\",IF(OR(K37=\"-\",K37=0,S.30=\"\"),\"-\",(S.30/K37)))","v":"-"},{"$f":"IF(PM.30=\"\",\"-\",IF(OR(E37=\"-\",H.30=\"\",H.30=\"-\",Kd.30=\"\",Kd.30=\"-\"),\"-\",MIN((((2*Ws*ps)/(Uar*Sar))*(SQRT((E37*H.30)/(PI()*(Ows+(Kd.30*ps)+(H.30*Oas))*tau)))*10^3),((Ws*ps*Ls)/(Uar*Sar*tau))*10^3)))","v":"-"},{"$f":"IF(PM.30=\"\",\"-\",(((Pa*Ws)/(Uar*Sar))*10^3))","v":"-"},{"$f":"IF(PM.30=\"\",\"-\",IF(OR(E37=\"-\",E37=0,Kd.30=\"\",Kd.30=\"-\"),\"-\",MIN((((H.30*ps)/(((Kd.30*ps)+Ows+(H.30*Oas))*(1+(Uar*Sar*Lss)/(E37*Wss))))*10^3),((Wss*ps*dss)/(Uar*Sar*tau))*10^3)))","v":"-"},{"$f":"IF(PM.30=\"\",\"-\",IF(OR(F37=0,F37=\"-\",E37=\"-\",Kd.30=\"\",Kd.30=\"-\"),\"-\",MIN(IF(dp>0,(((((H.30*ps)/((Kd.30*ps)+Ows+(H.30*Oas)))*((E37/Lss)/(ER*Lb))*EXP(G37))/(EXP(G37)+((E37/Lss)/(ER*Lb))+(((E37/Lss)/((F37/Lcrk)*n))*(EXP(G37)-1))))*10^3),(((((H.30*ps)/((Kd.30*ps)+Ows+(H.30*Oas)))*((E37/Lss)/(ER*Lb)))/(1+((E37/Lss)/(ER*Lb))+((E37/Lss)/((F37/Lcrk)*n))))*10^3)),((ps*dss)/(Lb*ER*tau))*10^3)))","v":"-"},{"$f":"IF(PM.30=\"\",\"-\",IF(OR(K37=\"-\",J37=\"-\",J37=0),\"-\",((K37/J37)*10^3)))","v":"-"},{"$f":"IF(PM.30=\"\",\"-\",IF(OR(I37=0,I37=\"-\"),\"-\",(((H.30)/(1+((Uar*Sar*Lgw)/(Ww*I37))))*10^3)))","v":"-"},{"$f":"IF(PM.30=\"\",\"-\",IF(OR(F37=0,F37=\"-\",I37=\"-\"),\"-\",(((H.30*((I37/Lgw)/(ER*Lb)))/(1+((I37/Lgw)/(ER*Lb))+((I37/Lgw)/((F37/Lcrk)*n))))*10^3)))","v":"-"},{"$f":"IF(PM.30=\"\",\"-\",IF(OR(Kd.30=\"-\",Kd.30=\"\"),\"-\",1+((Kd.30*ps)/Oef)))","v":"-"},{"$f":"IF(PM.30=\"\",\"-\",IF(OR(Ctek.30=0,Ctek.30=\"-\",Ctek.30=\"\"),\"-\",(0.6931/Ctek.30)))","v":"-"},{"$f":"IF(PM.30=\"\",\"-\",x.30/100)","v":"-"},{"$f":"IF(PM.30=\"\",\"-\",IF(OR(lambda.30=\"-\",R.30=\"-\"),(EXP(((x.30/100)/(2*alfa.x))*(1-SQRT(1+((4*alfa.x*0)/(vs*365/100)))))*ERF((Sw/100)/(4*SQRT(alfa.y*(x.30/100))))*ERF((Sd/100)/(2*SQRT(alfa.z*(x.30/100))))),(EXP(((x.30/100)/(2*alfa.x))*(1-SQRT(1+((4*alfa.x*lambda.30*R.30)/(vs*365/100)))))*ERF((Sw/100)/(4*SQRT(alfa.y*(x.30/100))))*ERF((Sd/100)/(2*SQRT(alfa.z*(x.30/100)))))))","v":"-"},{"$f":"IF(PM.30=\"\",\"-\",IF(OR(Kd.30=\"\",Kd.30=\"-\",Kd.30=0,Tipo.30<>\"METAL\"),\"-\",IF(FatBio.30=\"\",(EXP(2.67-1.12*LN(Kd.30))),FatBio.30)))","v":"-"},{"$f":"IF(PM.30=\"\",\"-\",IF(OR(Kd.30=\"\",Kd.30=\"-\",Kd.30=0,Tipo.30<>\"METAL\"),\"-\",IF(fbcf.30=\"\",(EXP(2.67-1.12*LN(Kd.30))),fbcf.30)))","v":"-"},{"$f":"IF(PM.30=\"\",\"-\",Cf.SoloSup.30*cdpx.30)","v":"-"},{"$f":"IF(PM.30=\"\",\"-\",IF(OR(kow.30=\"-\",kow.30=0,kow.30=\"\",Tipo.30=\"METAL\"),\"-\",(0.784*EXP((-1*((kow.30)-1.78)^2)/2.44))))","v":"-"},{"$f":"IF(PM.30=\"\",\"-\",IF(OR(kow.30=\"-\",kow.30=\"\",H.30=\"\",H.30=0,H.30=\"-\",Tipo.30=\"METAL\"),\"-\",((Wpveg+Lpveg*((10^kow.30)^bveg))/((H.30)))))","v":"-"},{"$f":"IF(PM.30=\"\",\"-\",IF(OR(kla.30=\"-\",kla.30=0),\"-\",(((Alveg*gveg)/(kla.30*Vlveg))+lambdamveg+lambdapveg+lambdagveg)))","v":"-"},{"$f":"IF(PM.30=\"\",\"-\",IF(OR(Kd.30=\"-\",Kd.30=\"\",zw.30=\"-\",Tipo.30=\"METAL\"),\"-\",((Kd.30*ps*zw.30)/Vsveg)))","v":"-"},{"$f":"IF(PM.30=\"\",\"-\",IF(OR(pv.30=\"\",S.30=\"\",pv.30=\"-\",pv.30=0,Tipo.30=\"METAL\",PM.30=\"ND\"),\"-\",(((S.30)*(1/PM.30))/((pv.30*101325)/760))))","v":"-"},{"$f":"IF(OR(PM.30=\"\",Tipo.30=\"METAL\"),\"-\",(1/(Rveg*Tarveg)))","v":"-"},{"$f":"IF(PM.30=\"\",\"-\",IF(OR(za.30=\"-\",zw.30=\"-\",zs.30=\"-\",Tipo.30=\"METAL\"),\"-\",((zw.30*Vwveg)/(za.30*Vaveg+zw.30*Vwveg+zs.30*Vsveg))))","v":"-"},{"$f":"IF(PM.30=\"\",\"-\",IF(OR(kow.30=\"-\",kow.30=\"\",Tipo.30=\"METAL\"),\"-\",(Wtrappveg+Ltrappveg*aveg*((10^kow.30)^btrappveg))))","v":"-"},{"$f":"IF(PM.30=\"\",\"-\",IF(OR(Kd.30=0,Kd.30=\"\",krw.30=\"-\",krw.30=0,Tipo.30=\"METAL\"),\"-\",((Qveg/Kd.30)/((Qveg/krw.30)+(kveg*Vtrappveg)))))","v":"-"},0.01]

{"sheet":"FI","index":12,"n_rows":26,"n_cols":12,"rows_kept":26,"cut":false,"hidden":false,"merged":[[1,1,5,1],[1,2,1,11],[6,5,7,5],[8,5,8,6],[6,1,22,1],[21,2,22,3],[21,4,21,6],[22,4,22,6],[14,2,20,2],[14,3,17,3],[6,2,13,2],[6,3,10,3],[2,2,5,3],[2,4,5,6],[2,7,5,7],[6,4,10,4],[18,3,20,3],[18,4,20,4],[18,5,18,6],[16,5,17,5],[19,5,19,6],[20,5,20,6],[16,4,17,4],[9,5,9,6],[10,5,10,6],[14,4,15,5],[2,8,5,11],[11,3,13,3],[11,4,12,5],[13,4,13,6]]}
[]
[null,null,"FATORES DE INGRESSO"]
[null,null,"MEIO FÍSICO",null,"VIAS DE INGRESSO",null,null,"UNIDADE",{"$f":"CENÁRIOS!H5","v":"TRABALHADOR EM OBRAS CIVIS E DE ESCAVAÇÃO"}]
[]
[]
[]
[null,"CAMINHOS DE EXPOSIÇÃO","SOLO","SUPERFICIAL","CONTATO DIRETO","INALAÇÃO","VAPORES","(m³/kg.dia)",{"$f":"IF(CENÁRIOS!$H$11=TRUE,((IRaamb.a*EF.a*ETs.a*ED.a)/(BW.a*ATc.a)),\"-\")","v":1.4180776539323291E-3},"C",{"$f":"IF(CENÁRIOS!$H$11=TRUE,((IRaamb.a*EF.a*ETs.a*ED.a)/(BW.a*ATn.a)),\"-\")","v":0.16231884057971013},"NC"]
[null,null,null,null,null,null,"PARTÍCULAS","(m³/kg.dia)",{"$f":"IF(CENÁRIOS!$H$12=TRUE,((IRaamb.a*EF.a*ETs.a*ED.a)/(BW.a*ATc.a)),\"-\")","v":1.4180776539323291E-3},"C",{"$f":"IF(CENÁRIOS!$H$12=TRUE,((IRaamb.a*EF.a*ETs.a*ED.a)/(BW.a*ATn.a)),\"-\")","v":0.16231884057971013},"NC"]
[null,null,null,null,null,"CONTATO DÉRMICO",null,"(1/dia)",{"$f":"IF(CENÁRIOS!$H$13=TRUE,((SA.a*AF.a*EF.derm.s.a*ED.a*EV.a*CFk)/(BW.a*ATc.a)),\"-\")","v":1.3397035407373193E-7},"C",{"$f":"IF(CENÁRIOS!$H$13=TRUE,((SA.a*AF.a*EF.derm.s.a*ED.a*EV.a*CFk)/(BW.a*ATn.a)),\"-\")","v":1.5334782608695652E-5},"NC"]
[null,null,null,null,null,"INGESTÃO",null,"(1/dia)",{"$f":"IF(CENÁRIOS!$H$14=TRUE,((IRs.a*EF.a*ED.a*FI.a*CFk)/(BW.a*ATc.a)),\"-\")","v":4.178264516050612E-8},"C",{"$f":"IF(CENÁRIOS!$H$14=TRUE,((IRs.a*EF.a*ED.a*FI.a*CFk)/(BW.a*ATn.a)),\"-\")","v":4.7826086956521735E-6},"NC"]
[null,null,null,null,null,"INGESTÃO DE VEGETAIS",null,"(dia/kg.dia)",{"$f":"IF(CENÁRIOS!$H$15=TRUE,((FI.veg.a*EFveg.i*EDveg.i)/(BW.a*ATcveg.i)),\"-\")","v":"-"},"C",{"$f":"IF(CENÁRIOS!$H$15=TRUE,((FI.veg.a*EFveg.i*EDveg.i)/(BW.a*ATncveg.i)),\"-\")","v":"-"},"NC"]
[null,null,null,"SUBSUPERFICIAL","INALAÇÃO",null,"AMBIENTES ABERTOS","(m³/kg.dia)",{"$f":"IF(CENÁRIOS!$H$16=TRUE,((IRaamb.a*EF.a*ETaa.a*ED.a)/(BW.a*ATc.a)),\"-\")","v":1.4180776539323291E-3},"C",{"$f":"IF(CENÁRIOS!$H$16=TRUE,((IRaamb.a*EF.a*ETaa.a*ED.a)/(BW.a*ATn.a)),\"-\")","v":0.16231884057971013},"NC"]
[null,null,null,null,null,null,"AMBIENTES FECHADOS","(m³/kg.dia)",{"$f":"IF(CENÁRIOS!$H$17=TRUE,((IRaesp.a*EF.a*ETaf.a*ED.a)/(BW.a*ATc.a)),\"-\")","v":1.4180776539323291E-3},"C",{"$f":"IF(CENÁRIOS!$H$17=TRUE,((IRaesp.a*EF.a*ETaf.a*ED.a)/(BW.a*ATn.a)),\"-\")","v":0.16231884057971013},"NC"]
[null,null,null,null,"LIXIVIAÇÃO PARA ÁGUA SUBTERRÂNEA",null,null,"(L/kg.dia)",{"$f":"IF(AND(CENÁRIOS!$H$18=FALSE,CENÁRIOS!I18=FALSE),\"-\",((IRw.a*EF.a*ED.a)/(BW.a*ATc.a)))","v":2.5322815248791594E-6},"C",{"$f":"IF(AND(CENÁRIOS!$H$18=FALSE,CENÁRIOS!I18=FALSE),\"-\",((IRw.a*EF.a*ED.a)/(BW.a*ATn.a)))","v":2.8985507246376811E-4},"NC"]
[null,null,"ÁGUA","SUBTERRÂNEA","INALAÇÃO",null,"AMBIENTES ABERTOS","(m³/kg.dia)",{"$f":"IF(AND(CENÁRIOS!$H$19=FALSE,CENÁRIOS!I19=FALSE),\"-\",((IRaamb.a*EF.a*ETaa.a*ED.a)/(BW.a*ATc.a)))","v":1.4180776539323291E-3},"C",{"$f":"IF(AND(CENÁRIOS!$H$19=FALSE,CENÁRIOS!I19=FALSE),\"-\",((IRaamb.a*EF.a*ETaa.a*ED.a)/(BW.a*ATn.a)))","v":0.16231884057971013},"NC"]
[null,null,null,null,null,null,"AMBIENTES FECHADOS","(m³/kg.dia)",{"$f":"IF(AND(CENÁRIOS!$H$20=FALSE,CENÁRIOS!I20=FALSE),\"-\",((IRaesp.a*EF.a*ETaf.a*ED.a)/(BW.a*ATc.a)))","v":1.4180776539323291E-3},"C",{"$f":"IF(AND(CENÁRIOS!$H$20=FALSE,CENÁRIOS!I20=FALSE),\"-\",((IRaesp.a*EF.a*ETaf.a*ED.a)/(BW.a*ATn.a)))","v":0.16231884057971013},"NC"]
[null,null,null,null,"USO IRRESTRITO","CONTATO DIRETO","CONTATO DÉRMICO","(cm².evento)/kg.dia",{"$f":"IF(AND(CENÁRIOS!$H$21=FALSE,CENÁRIOS!I21=FALSE),\"-\",((SAw.a*EF.derm.a*ED.a*EV.a*ETw.sub.derm.a*CFd)/(BW.a*ATc.a)))","v":3.5725427752995179E-3},"C",{"$f":"IF(AND(CENÁRIOS!$H$21=FALSE,CENÁRIOS!I21=FALSE),\"-\",((SAw.a*EF.derm.a*ED.a*EV.a*ETw.sub.derm.a*CFd)/(BW.a*ATn.a)))","v":0.40892753623188405},"NC"]
[null,null,null,null,null,null,"INGESTÃO","(L/kg.dia)",{"$f":"IF(AND(CENÁRIOS!$H$22=FALSE,CENÁRIOS!I22=FALSE),\"-\",((IRw.a*EF.a*ED.a)/(BW.a*ATc.a)))","v":2.5322815248791594E-6},"C",{"$f":"IF(AND(CENÁRIOS!$H$22=FALSE,CENÁRIOS!I22=FALSE),\"-\",((IRw.a*EF.a*ED.a)/(BW.a*ATn.a)))","v":2.8985507246376811E-4},"NC"]
[null,null,null,"SUPERFICIAL","RECREAÇÃO","INALAÇÃO",null,"(m³/kg.dia)",{"$f":"IF(CENÁRIOS!$H$24=TRUE,((IRaamb.a*EFrec.a*ET.rec.in.a*ED.a)/(BW.a*ATc.a)),\"-\")","v":"-"},"C",{"$f":"IF(CENÁRIOS!$H$24=TRUE,((IRaamb.a*EFrec.a*ET.rec.in.a*ED.a)/(BW.a*ATn.a)),\"-\")","v":"-"},"NC"]
[null,null,null,null,null,"INGESTÃO",null,"(L/kg.dia)",{"$f":"IF(CENÁRIOS!$H$25=TRUE,((IRrec.a*EFrec.a*ET.rec.ig.a*ED.a)/(BW.a*ATc.a)),\"-\")","v":"-"},"C",{"$f":"IF(CENÁRIOS!$H$25=TRUE,((IRrec.a*EFrec.a*ET.rec.ig.a*ED.a)/(BW.a*ATn.a)),\"-\")","v":"-"},"NC"]
[null,null,null,null,null,"CONTATO DÉRMICO",null,"(cm².hora)/kg.dia",{"$f":"IF(CENÁRIOS!$H$26=TRUE,((SA.a*EFrec.a*ED.a*ET.rec.a*CFd)/(BW.a*ATc.a)),\"-\")","v":"-"},"C",{"$f":"IF(CENÁRIOS!$H$26=TRUE,((SA.a*EFrec.a*ED.a*ET.rec.a*CFd)/(BW.a*ATn.a)),\"-\")","v":"-"},"NC"]
[null,null,"SEDIMENTO",null,"INGESTÃO",null,null,"(1/dia)",{"$f":"IF(CENÁRIOS!$H$28=TRUE,((IRs.a*EF.a*ED.a*FI.a*CFk)/(BW.a*ATc.a)),\"-\")","v":"-"},"C",{"$f":"IF(CENÁRIOS!$H$28=TRUE,((IRs.a*EF.a*ED.a*FI.a*CFk)/(BW.a*ATn.a)),\"-\")","v":"-"},"NC"]
[null,null,null,null,"CONTATO DÉRMICO",null,null,"(1/dia)",{"$f":"IF(CENÁRIOS!$H$29=TRUE,((SA.a*AF.a*EF.a*ED.a*FD.a*CFk)/(BW.a*ATc.a)),\"-\")","v":"-"},"C",{"$f":"IF(CENÁRIOS!$H$29=TRUE,((SA.a*AF.a*EF.a*ED.a*FD.a*CFk)/(BW.a*ATn.a)),\"-\")","v":"-"},"NC"]
[]
[null,"C","Substância Química Carcinogênica"]
[null,"NC","Substância Química não Carcinogênica"]

{"sheet":"MF","index":13,"n_rows":64,"n_cols":6,"rows_kept":64,"cut":false,"hidden":false,"merged":[[1,1,4,1],[5,1,6,1],[40,1,40,5],[34,1,34,5],[17,1,17,5],[1,2,3,5],[4,2,4,5],[59,1,59,5],[7,1,7,5],[24,1,24,5],[5,2,6,2],[5,3,6,3],[5,5,6,5],[5,4,6,4]]}
[]
[null,null,{"$f":"CENÁRIOS!H5","v":"TRABALHADOR EM OBRAS CIVIS E DE ESCAVAÇÃO"}]
[]
[]
[null,null,"PARÂMETROS DO MEIO FÍSICO"]
[null,"PARÂMETROS","DESCRIÇÃO","UNIDADE","CETESB","REFERÊNCIA"]
[]
[null,"Parâmetro de Construção"]
[null,"Ab","Área das Fundações","cm2",200000,"CETESB, 2009"]
[null,"Lb","Pé Direito","cm",250,"CETESB, 2009"]
[null,"Lcrk","Espessura das fundações/paredes de construções","cm",15,"CETESB, 2009"]
[null,"η","Fração da área de rachaduras/fendas nas fundações/paredes","cm2-fenda/cm2-área total",0.01,"ASTM, 2001"]
[null,"θacrk","Conteúdo volumétrico de ar nas fundações/paredes ","cm³-ar/cm³-vol total",{"$f":"E32*0.61","v":0.28060000000000002},"MAXIMIANO, 2001"]
[null,"θwcrk","Conteúdo volumétrico de água nas fundações/paredes ","cm³-H2O/cm³-vol total",{"$f":"E32*0.39","v":0.1794},"MAXIMIANO, 2001"]
[null,"Xcrk","Perímetro das Fundações","cm",{"$f":"SQRT(Ab)*4","v":1788.8543819998317},"CETESB, 2009"]
[null,"Zcrk","Profundidade da base das fundações","cm",15,"CETESB, 2009"]
[null,"α","Fator de atenuação"," -",0.03,"USEPA, 2015"]
[null,"Parâmetros do Ar"]
[null,"ER","Razão de troca de ar em espaços fechados","1/seg",1.3899999999999999E-4,"CETESB, 2009"]
[null,"Pa","Taxa de emissão de partículas","g/cm².seg",6.8999999999999996E-14,"ASTM, 2001"]
[null,"t","Tempo médio do fluxo de vapor a partir da fonte","s",{"$f":"ED.a*365*24*60*60","v":31536000},"ASTM, 2001"]
[null,"Uar","Velocidade do ar na zona de respiração","cm/s",100,"CETESB, 2009"]
[null,"δar","Altura da Zona de Mistura do ar em Ambiente Aberto","cm",200,"ASTM, 2001"]
[null,"Kand","Fator de volatilização de Andelman"," -",0.5,"USEPA, 1991b"]
[null,"Parâmetros dos Solo"]
[null,"hv","Espessura da Zona Não Saturada","cm",{"$f":"Lgw-hcap","v":445},"CETESB, 2009"]
[null,"Kv","Permeabilidade do Solo ao Vapor","cm²",9.9999999999999995E-7,"CETESB, 2009"]
[null,"Ls","Espessura do Solo Superficial Impactado","cm",100,"ASTM, 2002"]
[null,"Lss","Profundidade do Topo da Fonte no solo subsuperficial","cm",100,"ASTM, 2002"]
[null,"dss","Espessura do Solo Subsuperficial Impactado","cm",345,"ASTM, 2002"]
[null,"θas","Conteúdo Volumétrico de Ar na Zona Não Saturada","cm³-ar/cm³-solo",{"$f":"OT-Ows","v":0.28060000000000002},"Θas= ΘT - Θws"]
[null,"θT","Porosidade Total","cm³/cm³",0.46,"CETESB, 2009"]
[null,"θws","Conteúdo Volumétrico de Água na Zona Não Saturada","cm³-H2O/cm³-solo",{"$f":"OT*0.39","v":0.1794},"CETESB, 2009"]
[null,"ρs","Densidade do Solo","g-solo/cm³-solo",1.3,"CETESB, 2009"]
[null,"Parâmetros da Fonte"]
[null,"A","Área da Fonte (Emissão de Vapores e Solo Impactado)","cm²",{"$f":"4500*4500","v":20250000},"CETESB, 2009"]
[null,"Sd","Espessura da Fonte na Água Subterrânea","cm",{"$f":"E56","v":200},"ASTM, 2002"]
[null,"Sw","Largura da Fonte na Água Subterrânea","cm",4500,"CETESB, 2009"]
[null,"Wss","Largura da área fonte no solo subsuperficial","cm",4500,"ASTM, 2002"]
[null,"Ws","Largura da área fonte no solo superficial","cm",4500,"ASTM, 2002"]
[null,"Parâmetros de Água Subterrânea"]
[null,"foc","Fração de Carbono Orgânico no Solo (Zona Saturada)","g-C/g-solo",3.0000000000000001E-3,"MAXIMIANO, 2001"]
[null,"hcap","Espessura da Franja Capilar","cm",5,"ASTM, 2001"]
[null,"i","Gradiente Hidráulico","adimensional",0.05,"CETESB, 2009"]
[null,"K","Condutividade Hidráulica","cm/dia",11.23,"CETESB, 2009"]
[null,"Lgw","Profundidade do Nível dÁgua","cm",450,"CETESB, 2009"]
[null,"I","Taxa de infiltração no Solo","cm/ano",66.099999999999994,"MAXIMIANO, 2001"]
[null,"T","Temperatura da Água Subterrânea","K",298,"CETESB, 2009"]
[null,"Ugw","Velocidade de Darcy"," cm/dia",{"$f":"(k*i)","v":0.5615},"UGW=(k x i)"]
[null,"vs","Velocidade de Escoamento","cm/dia",{"$f":"(k*i)/Oef","v":4.6791666666666671},"CETESB, 2009"]
[null,"Ww","Largura da área fonte na direção paralela ao fluxo da água subterrânea","cm",4500,"CETESB, 2009"]
[null,"x","Distancia entre a área fonte na água subterrânea e o Ponto de Exposição","cm",4500,"CETESB, 2009"]
[null,"αx","Dispersividade Longitudinal","m",{"$f":"(x/100)*0.1","v":4.5},"αx = x*0,1"]
[null,"αy ","Dispersividade Transversal","m",{"$f":"alfa.x*0.33","v":1.4850000000000001},"αy = αx*0,33"]
[null,"αz","Dispersividade Vertical","m",{"$f":"alfa.x*0.05","v":0.22500000000000001},"αz = αx*0,05"]
[null,"δgw","Espessura da pluma dissolvida na água subterrânea","cm",200,"ASTM (2002)"]
[null,"θacap","Conteúdo Volumétrico de Ar na Franja Capilar","cm³-ar/cm³-solo",{"$f":"0.1*OT","v":4.6000000000000006E-2},"Θacap = 0.1 x ΘT"]
[null,"θef","Porosidade Efetiva","cm³/cm³",0.12,"GELHAR, et al"]
[null,"θwcap","Conteúdo Volumétrico de Água na Franja Capilar","cm³-H2O/cm³-solo",{"$f":"0.9*OT","v":0.41400000000000003},"Θwcap = 0.9 x ΘT"]
[null,"Parâmetros de Transporte"]
[null,"dp","Gradiente de Pressão","(g/cm.s²)",0,"CETESB, 2009"]
[null,"μar","Viscosidade do Ar","(g/cm.s²)",1.8100000000000001E-4,"CETESB, 2009"]
[null,"Qs","Fluxo Convectivo ao longo das Fundações","(cm³/s)",{"$f":"(2*PI()*dp*Kv*Xcrk)/(u.ar*LN((2*Zcrk*Xcrk)/(Ab*n)))","v":0},"CETESB, 2009"]
[null,"R","Constante Universal dos Gases","atm-L/mol-K",8.2000000000000003E-2]

{"sheet":"EXP","index":14,"n_rows":82,"n_cols":6,"rows_kept":82,"cut":false,"hidden":false,"merged":[[71,1,71,5],[37,1,37,5],[5,5,6,5],[1,2,3,5],[4,2,4,5],[1,1,4,1],[5,1,6,1],[5,2,6,2],[5,3,6,3],[5,4,6,4]]}
[]
[null,null,{"$f":"CENÁRIOS!H5","v":"TRABALHADOR EM OBRAS CIVIS E DE ESCAVAÇÃO"}]
[]
[]
[null,null,"PARÂMETROS DE EXPOSIÇÃO"]
[null,"VARIÁVEL","DESCRIÇÃO","UNIDADE",null,"REFERÊNCIA"]
[]
[null,"ED","Duração da exposição","Anos",1,"USEPA, 2002 Exhibit 5-1"]
[null,"ExpVida","Expectativa de Vida","Anos",78.400000000000006,"IBGE, 2018 (média SP - h+m)"]
[null,"ATc","Tempo médio para efeitos carcinogênicos","dias",{"$f":"ExpVida.a*365","v":28616.000000000004},"USEPA 1989 (pg. 6-23) (OSWER Directive 9200.1-120 (2014))"]
[null,"ATn","Tempo médio para efeitos não carcinogênicos","dias",250,"USEPA, 2002 Exhibit 5-1"]
[null,"BW","Massa corpórea","kg",69,"IBGE, 2010a - valores médios (SP)"]
[null,"ET","Tempo de Exposição para inalação de partículas e vapores do solo superficial","Horas/dia",8,"EPA RSL - dia de trabalho"]
[null,"ET","Tempo de Exposição para contato dérmico com água subterrânea","Horas/dia",8,"EPA RSL - dia de trabalho"]
[null,"ET","Tempo de Exposição para inalação de vapores em ambientes abertos","Horas/dia",8,"EPA RSL - dia de trabalho"]
[null,"ET","Tempo de Exposição para inalação de vapores em ambientes Fechados","Horas/dia",8,"EPA RSL - dia de trabalho"]
[null,"ET","Tempo de Exposição durante recreação em água sup. - contato dérmico","Horas/dia",0,"Não aplicável"]
[null,"ET","Tempo de Exposição durante recreação em água sup. -inalação ","Horas/dia",0,"Não aplicável"]
[null,"ET","Tempo de Exposição durante recreação em água sup. -ingestão","Horas/dia",0,"Não aplicável"]
[null,"EF","Frequência de Exposição para Contato dérmico com solo superficial","dias/ano",250,"USEPA, 2002 Exhibit 5-1"]
[null,"EF","Frequência de Exposição para Contato dérmico com a água subterrânea","dias/ano",250,"USEPA, 2002 Exhibit 5-1"]
[null,"EF","Freqüência da Exposição para recreação","dias/ano",0,"Não aplicável"]
[null,"EF","Freqüência da Exposição","dias/ano",250,"USEPA, 2002 Exhibit 5-1"]
[null,"EV","Frequência de Eventos para contato dérmico com o solo/água","eventos/dia",1,"CETESB, 2009"]
[null,"IRs","Taxa de ingestão de solo","mg/dia",330,"USEPA, 2002 Exhibit 5-1"]
[null,"IRaesp","Taxa de inalação diária em ambientes fechados","m3/hora",1.4,"Allan et al. (2009) apud G. Mark Richardson and Stantec Consultig Ltd. (2013) (p. 36)"]
[null,"IRaamb","Taxa de inalação diária em ambientes abertos","m3/hora",1.4,"Allan et al. (2009) apud G. Mark Richardson and Stantec Consultig Ltd. (2013) (p. 36)"]
[null,"IRw","Taxa de ingestão diária de água ","L/dia",0.02,"Virginia Unified Risk Assessment Model –VURAM   User   GuideFor Risk Assessors, Virginia Department of Environmental Quality DEQ, 2018"]
[null,"IRrec","Taxa de ingestão de água durante a recreação na água superficial","L/hora",0,"Não aplicável"]
[null,"AF","Fator de aderência do solo na pele","mg/cm2.evento",0.3,"USEPA, 2002\n(Exhibit 5-1)"]
[null,"SAsolo","Área superficial da pele disponível para contato dérmico - solo","cm2",3527,"USEPA, 2011, Table 7-2."]
[null,"SAagua","Área superficial da pele disponível para contato dérmico - água subterrânea","cm2",3527,"USEPA, 2011, Table 7-2."]
[null,"SArec","Área superficial da pele disponível para contato dérmico durante recreação na água superficial",null,0,"Não aplicável"]
[null,"FI","Fração Ingerida da Fonte de Contaminação - Solo","-",1,"CETESB, 2009"]
[null,"FD","Fração da fonte em contato dérmico","-",1,"CETESB, 2009"]
[null,"THI","Quociente de Risco não Carcinogênico","-",1,"CETESB, 2009"]
[null,"TR","Risco Carcinogênico","-",1.0000000000000001E-5,"CETESB, 2009"]
[null,"VEGETAIS"]
[null,"EDveg","Duração da exposição para consumo de vegetais","Anos",{"$f":"ED.a","v":1},"USEPA, 1989"]
[null,"EFveg","Frequência de exposição para consumo de vegetais","dias/ano",{"$f":"EF.a","v":250},"CETESB, 2005"]
[null,"FIveg","Fração ingerida de vegetais provenientes de área contaminada","-",0.33,"IBGE, 2010b"]
[null,"ATcveg","Tempo médio para carcinogênicos genotóxicos","dia",{"$f":"ATc.a","v":28616.000000000004},"CETESB, 2005"]
[null,"ATncveg","Tempo médio para não carcinogênicos","dia",{"$f":"ATn.a","v":250},"CETESB, 2009"]
[null,"IRL","Taxa de ingestão de culturas caseiras foleáceas/estruturais","kg/dia",1.6E-2,"IBGE, 2010b"]
[null,"IRR ","Taxa de ingestão de culturas caseiras tuberosas ","kg/dia",3.7999999999999999E-2,"IBGE, 2010b"]
[null,"DPCONST.","Constante de deposição de partículas nas folhas vegetais","-",0.01]
[null,"frk","Fator de conversão de peso em base seca para base úmida para raízes","-",5.99,"RIVM 711701040"]
[null,"frb","Fator de conversão de peso em base seca para base úmida para cultura foleáceas","-",10.199999999999999,"RIVM 711701040"]
[null,"Wp","Teor de umidade nas folhas da planta","g/g",0.8,"Trapp e Matteis, 1995"]
[null,"Lp","Conteúdo lipídico na planta foleácea","g/g",0.02,"Trapp e Matteis, 1995"]
[null,"b ","Expoente de correção para diferenças entre lipídios da planta e octanol","-",0.95,"Trapp e Matteis, 1995"]
[null,"λm","Constante da taxa de metabolismo","1/dia",0,"consideração conservadora"]
[null,"λp","Constante da taxa de foto-degradação","1/dia",0,"consideração conservadora"]
[null,"λg","Constante da taxa de crescimento","1/dia",3.5000000000000003E-2,"consideração conservadora"]
[null,"VL","Volume foliar","m3",2E-3,"Trapp e Matteis, 1995"]
[null,"g","Condutância","m/dia",86.4,"Trapp e Matteis, 1995"]
[null,"AL","Área foliar","m2",5,"Trapp e Matteis, 1995"]
[null,"Vs","Fração de volume no solo","-",{"$f":"1-OT","v":0.54},"CETESB, 2001"]
[null,"Tar","Temperatura","K",298,"Trapp e Matteis, 1995"]
[null,"R","Constante Universal dos Gases","(Pa.m3)/(mol.K)",8.3140000000000001,"CETESB, 2001"]
[null,"Vw","Fração de volume na água","-",{"$f":"MF!E33","v":0.1794},"CETESB, 2001"]
[null,"Va ","Fração do volume no ar","-",{"$f":"MF!E31","v":0.28060000000000002},"CETESB, 2001"]
[null,"Q","Fluxo de transpiração","L/dia",1,"Trapp, 2002"]
[null,"ρplant","Densidade do tecido da planta","kg/m3",800,"Rikken e Lijzen, 2004"]
[null,"fdws","Razão de base seca para base úmida em culturas foliáceas","kg dw/kg fw",9.8000000000000004E-2,"CETESB, 2001"]
[null,"WTrapp","Teor de umidade nas raízes","gm/gm",0.89,"Rikken e Lijzen, 2004"]
[null,"Ltrapp","Conteúdo lipídico na raiz","gm/gm",5.0000000000000001E-3,"Rikken e Lijzen, 2004"]
[null,"a","correção da densidade","-",1.22,"Trapp, 2002"]
[null,"bTrapp","Fator empírico","-",0.77,"Rikken e Lijzen, 2004"]
[null,"VTrapp","Volume radicular","L",1,"Trapp, 2002"]
[null,"k","Constante de primeira ordem da taxa de crescimento","1/dia",0.1,"Trapp, 2002"]
[null,"FATORES DE CONVERSÃO"]
[null,"CFh","Fator de Conversão de dia para hora","hora/dia",24,"-"]
[null,"CFx","Fator de Conversão de L para kg","kg/L",1,"-"]
[null,"CFd","Fator de Conversão de L para cm3","L/cm3",1E-3,"-"]
[null,"CFt","Fator de Conversão de m3 para L","m3/L",1E-3,"-"]
[null,"CFk","Fator de Conversão de mg para kg","kg/mg",9.9999999999999995E-7,"-"]
[null,"CFm","Fator de Conversão de cm3 para m3","cm3/m3",9.9999999999999995E-7,"-"]
[null,"CFn","Fator de Conversão de mg para ug","mg/ug",1E-3,"-"]
[null,"CFi","Fator de Conversão de L ou Kg para m3","L/m3",1000,"-"]
[null,"CFb","Fator de Conversão de L ou Kg para m3","mg/m3",9.9999999999999995E-7,"-"]
[null,"CFj","Fator de Conversão de L ou Kg para m3","kg/m3",1000,"-"]

{"sheet":"FisQui","index":15,"n_rows":823,"n_cols":37,"rows_kept":823,"cut":false,"hidden":false,"merged":[[0,0,1,1],[0,2,1,36]]}
["BANCO DE DADOS FÍSICO-QUIMICOS",null,"Informações Físico-Químicas Específicas"]
[]
["CAS N°","ANALITO","PM \n(g/mol)","PM Ref","H \n(-)","HLC \n(atm-m³/mole)","H Ref","Densidade","Densidade Ref","Dia \n(cm²/s)","Dia Ref","Diw \n(cm²/s)","Diw Ref","Koc","Koc Ref","S \n(mg/L)","S Ref","PF\n(°C)","PF Ref","PC\n(cm/h)","PC Ref","Kd\n(L/kg)","Kd Ref","meia vida\n(anos)","meia vida Ref","log Kow","log Kow Ref","Pvap\n(mm Hg)","Pvap Ref","Fator de Bioconcentração para Metais na raíz\n(-)                                ","Fator de Bioconcentração para Metais nas folhas/estrutura\n(-)                                ","FBC Ref","B\n(-)","Tevent\n(h/evento)","t*\n(h)","FA","FA Ref "]
["100-00-5","Chloronitrobenzene, p-",157.56,"PHYSPROP",1.9991823385000001E-4,4.8899999999999998E-6,"PHYSPROP",1.3,"CRC",5.015870808957E-2,"WATER9 (U.S. EPA, 2001)",8.5260706636399999E-6,"WATER9 (U.S. EPA, 2001)",363.2,"EPI",225,"PHYSPROP",83.5,"PHYSPROP",7.9299999999999995E-3,"EPI","","","","",2.39,"PHYSPROP",2.1899999999999999E-2,"EPI","","","",3.8284486414209999E-2,0.80201917115753996,1.92484601077808,1,"RSL, nov/2022"]
["100-01-6","Nitroaniline, 4-",138.13,"PHYSPROP",5.1512673753100002E-8,1.26E-9,"PHYSPROP",1.4,"CRC",6.3660111817450002E-2,"WATER9 (U.S. EPA, 2001)",9.7544987644300002E-6,"WATER9 (U.S. EPA, 2001)",109.10000000000001,"EPI",728,"PHYSPROP",146,"PHYSPROP",2.2100000000000002E-3,"EPI","","","","",1.3900000000000001,"PHYSPROP",3.1999999999999999E-6,"EPI","","","",9.9899411910200006E-3,0.62427615900078004,1.4982627816018601,1,"RSL, nov/2022"]
["100-21-0","Phthalic Acid, p-",166.13,"PHYSPROP",1.586263287E-11,3.8800000000000001E-13,"PHYSPROP",1.5,"CRC",4.8850475992630003E-2,"WATER9 (U.S. EPA, 2001)",9.0769009609000008E-6,"WATER9 (U.S. EPA, 2001)",79.239999999999995,"EPI",15,"PHYSPROP",126.58,"EPI",3.9100000000000003E-3,"EPI","","",3.8359999999999998E-2,"Handbook of Environmental Degradation Rates. Lewis. Publishers, Chelsea, MI, 1989",2,"PHYSPROP",9.2E-6,"EPI","","","",1.938328770255E-2,0.89572923618700995,2.1497501668488299,1,"RSL, nov/2022"]
["100-25-4","Dinitrobenzene, 1,4-",168.11,"PHYSPROP",3.43008994276E-6,8.3900000000000004E-8,"PHYSPROP",1.6,"CRC",4.9166764288999999E-2,"WATER9 (U.S. EPA, 2001)",9.3848570503199993E-6,"WATER9 (U.S. EPA, 2001)",351.6,"EPI",69,"PHYSPROP",174,"PHYSPROP",1.67E-3,"EPI","","","","",1.46,"PHYSPROP",2.6100000000000001E-5,"PHYSPROP","","","",8.3279842901699992E-3,0.91889259052981997,2.2053422172715602,1,"RSL, nov/2022"]
["100-41-4","Ethylbenzene",106.17,"PHYSPROP",0.32215862632870002,7.8799999999999999E-3,"PHYSPROP",0.86,"CRC",6.8465204860710005E-2,"WATER9 (U.S. EPA, 2001)",8.45583214768E-6,"WATER9 (U.S. EPA, 2001)",446.1,"EPI",169,"PHYSPROP",-94.9,"PHYSPROP",4.9299999999999997E-2,"EPI","","",0.62470000000000003,"Handbook of Environmental Degradation Rates. Lewis. Publishers, Chelsea, MI, 1989",3.15,"PHYSPROP",9.6,"PHYSPROP","","","",0.19537746931965,0.41342882164758998,0.99222917195421001,1,"RSL, nov/2022"]
["100-42-5","Styrene",104.15,"PHYSPROP",0.11242845461978999,2.7499999999999998E-3,"PHYSPROP",0.9,"CRC",7.1114019006519993E-2,"WATER9 (U.S. EPA, 2001)",8.7838426783500005E-6,"WATER9 (U.S. EPA, 2001)",446.1,"EPI",310,"PHYSPROP",-31,"PHYSPROP",3.7199999999999997E-2,"EPI","","",0.57530000000000003,"Handbook of Environmental Degradation Rates. Lewis. Publishers, Chelsea, MI,1989",2.95,"PHYSPROP",6.4,"PHYSPROP","","","",0.14601559047828,0.40279933938787998,0.96671841453092,1,"RSL, nov/2022"]
["100-44-7","Benzyl Chloride",126.59,"PHYSPROP",1.6843826655760001E-2,4.1199999999999999E-4,"EPI",1.1000000000000001,"CRC",6.3361780349059996E-2,"WATER9 (U.S. EPA, 2001)",8.8056715166100008E-6,"WATER9 (U.S. EPA, 2001)",446.1,"EPI",525,"PHYSPROP",-45,"PHYSPROP",1.03E-2,"EPI","","",3.3110000000000001E-2,"Handbook of Environmental Degradation Rates. Lewis. Publishers, Chelsea, MI, 1989",2.2999999999999998,"PHYSPROP",1.23,"PHYSPROP","","","",4.4572149309659997E-2,0.53796342464476998,1.29111221914746,1,"RSL, nov/2022"]
["100-51-6","Benzyl Alcohol",108.14,"PHYSPROP",1.3777596079999999E-5,3.3700000000000001E-7,"PHYSPROP",1,"CRC",7.311862562325E-2,"WATER9 (U.S. EPA, 2001)",9.3664619939299995E-6,"WATER9 (U.S. EPA, 2001)",21.46,"EPI",42900,"PHYSPROP",-15.200000000000001,"PHYSPROP",2.0899999999999998E-3,"EPI","","","","",1.1000000000000001,"PHYSPROP",9.4E-2,"PHYSPROP","","","",8.3592270352700008E-3,0.42406531242651002,1.01775674982362,1,"RSL, nov/2022"]
["100-52-7","Benzaldehyde",106.13,"PHYSPROP",1.0915780866699999E-3,2.6699999999999998E-5,"PHYSPROP",1,"CRC",7.4392958558900005E-2,"WATER9 (U.S. EPA, 2001)",9.4626751426499994E-6,"WATER9 (U.S. EPA, 2001)",11.09,"EPI",6950,"PHYSPROP",-26,"PHYSPROP",3.8300000000000001E-3,"EPI","","","","",1.48,"PHYSPROP",1.27,"PHYSPROP","","","",1.517555238167E-2,0.41321563870061001,0.99171753288148001,1,"RSL, nov/2022"]
["100-61-8","Monomethylaniline",107.16,"PHYSPROP",3.6304170074000002E-4,8.8799999999999997E-6,"PHYSPROP",0.99,"CRC",7.2099916225960001E-2,"WATER9 (U.S. EPA, 2001)",9.1284337861400002E-6,"WATER9 (U.S. EPA, 2001)",82.08,"EPI",5620,"PHYSPROP",-57,"PHYSPROP",4.9800000000000001E-3,"EPI","","","","",1.6600000000000001,"PHYSPROP",0.45300000000000001,"PHYSPROP","","","",1.9827700365280001E-2,0.41874029012976999,1.0049766963114399,1,"RSL, nov/2022"]
["100-75-4","Nitrosopiperidine [N-]",114.15,"PHYSPROP",3.4505314800000001E-5,8.4399999999999999E-7,"PHYSPROP",1.1000000000000001,"CRC",6.989003466042E-2,"WATER9 (U.S. EPA, 2001)",9.1776331277100004E-6,"WATER9 (U.S. EPA, 2001)",167.5,"EPI",76500,"PHYSPROP",6.83,"EPI",6.2200000000000005E-4,"EPI","","",1,"Handbook of Environmental Degradation Rates. Lewis. Publishers, Chelsea, MI, 1989",0.36,"PHYSPROP",9.1999999999999998E-2,"PHYSPROP","","","",2.55596554204E-3,0.45823551919930999,1.09976524607834,1,"RSL, nov/2022"]
["10025-84-0","Lanthanum Chloride Heptahydrate",371.37099999999998,"CRC","","","","","","","","","","","",957000,"CRC",91,"CRC",1E-3,"RAGSE","","","","","","","","","","","",7.4119186761300001E-3,12.6335775221907,30.320586053257699,1,"RSL, nov/2022"]
["10025-85-1","Trichloramine","","","","","","","","","","","","","","","","","","","","","","","","","","","","","","","","","",0,"RSL, nov/2022"]
["10034-93-2","Hydrazine Sulfate",128.1,"EPI","","","",1.4,"CRC","","","","","","",30550,"PERRY",254,"CRC",1E-3,"RAGSE","","","","","","","","","","","",4.3531257898200004E-3,0.54854056513194005,1.31649735631665,1,"RSL, nov/2022"]
["10049-04-4","Chlorine Dioxide",67.45,"EPI",1.6400000000000001,4.0099999999999997E-2,"Toxnet HSDB",2.8,"CRC",0.15657900602423,"WATER9 (U.S. EPA, 2001)",2.229177541E-5,"WATER9 (U.S. EPA, 2001)","","",8000,"PubChem",-59,"CRC",1E-3,"RAGSE","","","","","","",758,"Toxnet HSDB","","","",3.1587672676000001E-3,0.25093933896203002,0.60225441350887998,1,"RSL, nov/2022"]
["100587-90-4","Lanthanum Acetate Hydrate",334.05,"PPRTV","","","","","",3.946504632193E-2,"WATER9 (U.S. EPA, 2001)",4.6111790965600001E-6,"WATER9 (U.S. EPA, 2001)","","","","","","","","","","","","","","","","","","","","",7.8078012485189099,18.7387229964454,0,"RSL, nov/2022"]
["10099-58-8","Lanthanum Chloride, Anhydrous",245.26,"EPI","","","",3.8,"CRC","","","","","","",957000,"CRC",858,"CRC",1E-3,"RAGSE","","","","","","","","","","","",6.0233765521300001E-3,2.48487616089366,5.96370278614478,1,"RSL, nov/2022"]
["101-14-4","Methylene-bis(2-chloroaniline), 4,4'-",267.16000000000003,"PHYSPROP",1.6598528209299999E-9,4.0600000000000001E-11,"PHYSPROP","","",4.580427123828E-2,"WATER9 (U.S. EPA, 2001)",5.35186748153E-6,"WATER9 (U.S. EPA, 2001)",5698,"EPI",13.9,"PHYSPROP",110,"PHYSPROP",1.9699999999999999E-2,"EPI","","",1,"Handbook of Environmental Degradation Rates. Lewis. Publishers, Chelsea, MI, 1989",3.91,"PHYSPROP",2.8599999999999999E-7,"PHYSPROP","","","",0.12384503367864,3.2956778232233801,7.9096267757361201,0.9,"RSL, nov/2022"]
["101-21-3","Chlorpropham",213.67000000000002,"PHYSPROP",2.3262469339999999E-5,5.6899999999999997E-7,"EPI",1.2,"CRC",2.6088983464879999E-2,"WATER9 (U.S. EPA, 2001)",6.7074098751299999E-6,"WATER9 (U.S. EPA, 2001)",350.7,"EPI",89,"PHYSPROP",41,"PHYSPROP",2.1299999999999999E-2,"EPI","","","","",3.5100000000000002,"PHYSPROP",1.8000000000000001E-4,"PHYSPROP","","","",0.11975069165098,1.6534868661787001,3.96836847882888,0.9,"RSL, nov/2022"]
["101-61-1","Methylene-bis(N,N-dimethyl) Aniline, 4,4'-",254.38,"PHYSPROP",4.3744889615699997E-8,1.07E-9,"PHYSPROP","","",4.7325835768939999E-2,"WATER9 (U.S. EPA, 2001)",5.5296502845800001E-6,"WATER9 (U.S. EPA, 2001)",2667,"EPI",4.1399999999999997,"PHYSPROP",91.5,"PHYSPROP",4.7E-2,"EPI","","",0.98299999999999998,"Handbook of Environmental Degradation Rates. Lewis. Publishers, Chelsea, MI, 1989",4.37,"PHYSPROP",1.7499999999999998E-5,"PHYSPROP","","","",0.28831417261414,2.7949674186476501,6.7079218047543598,1,"RSL, nov/2022"]
["101-68-8","Methylenediphenyl Diisocyanate",250.26000000000002,"PHYSPROP",3.659035159E-5,8.9500000000000001E-7,"PHYSPROP",1.2,"CRC",2.4173738549760002E-2,"WATER9 (U.S. EPA, 2001)",6.15309184459E-6,"WATER9 (U.S. EPA, 2001)",284900,"EPI",0.82879999999999998,"PHYSPROP",38,"PHYSPROP",0.18099999999999999,"EPI","","",2.7399999999999998E-3,"Handbook of Environmental Degradation Rates. Lewis. Publishers, Chelsea, MI, 1989",5.22,"PHYSPROP",5.0000000000000004E-6,"PHYSPROP","","","",1.10128810138334,2.6503592749467102,10.279842990599301,0.9,"RSL, nov/2022"]
["101-77-9","Methylenebisbenzenamine, 4,4'-",198.27,"PHYSPROP",2.1668029435799999E-9,5.2999999999999998E-11,"PHYSPROP","","",5.5879039170220003E-2,"WATER9 (U.S. EPA, 2001)",6.52902457673E-6,"WATER9 (U.S. EPA, 2001)",2126,"EPI",1000,"PHYSPROP",92.5,"PHYSPROP",1.3799999999999999E-3,"EPI","","",3.8359999999999998E-2,"Handbook of Environmental Degradation Rates. Lewis. Publishers, Chelsea, MI, 1989",1.59,"PHYSPROP",2.03E-7,"PHYSPROP","","","",7.4736755768000001E-3,1.3556911145575701,3.25365867493817,1,"RSL, nov/2022"]
["101-84-8","Diphenyl Ether",170.21,"PHYSPROP",1.1406378E-2,2.7900000000000001E-4,"EPI",1.1000000000000001,"CRC",3.9686288966650003E-2,"WATER9 (U.S. EPA, 2001)",7.2336833611800004E-6,"WATER9 (U.S. EPA, 2001)",1950,"PPRTV",18,"PHYSPROP",26.8,"PHYSPROP",0.109,"EPI","","","","",4.21,"PHYSPROP",2.2499999999999999E-2,"PHYSPROP","","","",0.54694755571098996,0.94411467805237004,2.2658752273256901,1,"RSL, nov/2022"]
["10102-45-1","Thallium (I) Nitrate",267.38,"PHYSPROP","","","",5.6,"CRC","","","","","","",95500,"PHYSPROP",206,"PHYSPROP",1E-3,"RAGSE","","","","","","","","","","","",6.2891378135500001E-3,3.3050402253736002,7.93209654089664,1,"RSL, nov/2022"]
["101200-48-0","Tribenuron-methyl",395.40000000000003,"PHYSPROP",4.1700735895000002E-12,1.0199999999999999E-13,"PHYSPROP","","",3.5269217499599999E-2,"WATER9 (U.S. EPA, 2001)",4.1209296236399997E-6,"WATER9 (U.S. EPA, 2001)",94.69,"EPI",50,"PHYSPROP",141,"PHYSPROP",4.6799999999999999E-4,"EPI","","","","",0.78,"PHYSPROP",3.9E-10,"PHYSPROP","","","",3.5792401428200002E-3,17.222204808863601,41.333291541272601,1,"RSL, nov/2022"]
["10159-46-3","Pentamethylphosphoramide (PMPA)",165.17699999999999,"EPA Dashboard",2.9765E-5,7.3399999999999998E-7,"EPA Dashboard",1.1000000000000001,"EPA Dashboard",4.220246139139E-2,"WATER9 (U.S. EPA, 2001)",7.3812904298399999E-6,"WATER9 (U.S. EPA, 2001)",3.12,"EPI",1.78,"EPI",21.7,"EPI",5.7051242389999998E-5,"RAGSE","","","","",-0.77,"EPI",0.14499999999999999,"EPA Dashboard","","","",2.8201132265999999E-4,0.88478947860305002,2.1234947486473099,1,"RSL, nov/2022"]
["102-76-1","Triacetin",218.21,"PHYSPROP",5.0299999999999999E-7,1.2299999999999999E-8,"EPI",1.2,"CRC",2.5580004674949999E-2,"WATER9 (U.S. EPA, 2001)",6.5499745989500003E-6,"WATER9 (U.S. EPA, 2001)",40.729999999999997,"EPI",58000,"PHYSPROP",78,"PHYSPROP",1.37E-4,"EPI","","","","",0.25,"PHYSPROP",2.48E-3,"PHYSPROP","","","",7.7836723072000004E-4,1.7531729031133101,4.2076149674719403,1,"RSL, nov/2022"]
["10213-10-2","Sodium Tungstate Dihydrate",329.85,"CRC","","","",3.3,"CRC","","","","","","",742000,"CRC",100,"CRC",1E-3,"RAGSE","","","","","","","","","","","",6.98529732354E-3,7.3962017584069999,17.7508842201768,1,"RSL, nov/2022"]
["1024-57-3","Heptachlor Epoxide",389.32,"PHYSPROP",8.5854456255E-4,2.0999999999999999E-5,"PHYSPROP",1.9,"LookChem",2.4000609906139999E-2,"WATER9 (U.S. EPA, 2001)",6.2475215534999998E-6,"WATER9 (U.S. EPA, 2001)",10110,"EPI",0.2,"PHYSPROP",160,"PHYSPROP",2.0899999999999998E-2,"EPI","","",3.0247000000000002,"Handbook of Environmental Degradation Rates. Lewis. Publishers, Chelsea, MI, 1989",4.9800000000000004,"PHYSPROP",1.95E-5,"PHYSPROP","","","",0.15860844068214,15.9235813014401,38.216595123456102,0.8,"RSL, nov/2022"]
["10265-92-6","Methamidophos",141.13,"PHYSPROP",3.5494685200300002E-8,8.6819999999999996E-10,"PHYSPROP",1.3,"CRC",5.9623261085080002E-2,"WATER9 (U.S. EPA, 2001)",9.1593139210599993E-6,"WATER9 (U.S. EPA, 2001)",5.407,"EPI",1000000,"PHYSPROP",46,"PHYSPROP",7.4400000000000006E-5,"EPI","","","","",-0.8,"PHYSPROP",3.5299999999999997E-5,"PHYSPROP","","","",3.3994547004E-4,0.64889846918437999,1.5573563260425101,1,"RSL, nov/2022"]
["10277-43-7","Lanthanum Nitrate Hexahydrate",433.01100000000002,"CRC","","","","","","","","","","","",2000000,"CRC",40,"CRC",1E-3,"RAGSE","","","","","","","","","","","",8.0034293685099997E-3,27.9711517637854,67.130764233085003,0.9,"RSL, nov/2022"]
["10294-34-5","Boron Trichloride",117.17,"PHYSPROP",0.748,1.83E-2,"PHYSPROP",4.7999999999999996E-3,"CRC",0.12454470665816,"WATER9 (U.S. EPA, 2001)",2.2290962219999999E-5,"WATER9 (U.S. EPA, 2001)","","","","",-107,"PHYSPROP",1E-3,"RAGSE","","","","",1.1599999999999999,"PHYSPROP",1,"PHYSPROP","","","",4.1632727795199997E-3,0.47643180915243,1.14343634196582,1,"RSL, nov/2022"]
["103-23-1","Di(2-ethylhexyl)adipate",370.58,"PHYSPROP",1.7743254289999999E-5,4.34E-7,"PHYSPROP",0.92,"CRC",1.7290778023649998E-2,"WATER9 (U.S. EPA, 2001)",4.1570106582399997E-6,"WATER9 (U.S. EPA, 2001)",36000,"EPI",0.78,"PHYSPROP",-67.8,"PHYSPROP",3.23,"EPI","","",0.15340000000000001,"Handbook of Environmental Degradation Rates. Lewis. Publishers, Chelsea, MI, 1989",6.11,"PHYSPROP",8.5000000000000001E-7,"PHYSPROP","","","",23.914987755571001,12.505375867299,57.918929185115999,0,"RSL, nov/2022"]
["103-33-3","Azobenzene",182.23,"PHYSPROP",5.5192150449999997E-4,1.3499999999999999E-5,"EPI",1.2,"PERRY",3.5908482809779999E-2,"WATER9 (U.S. EPA, 2001)",7.4655055533900003E-6,"WATER9 (U.S. EPA, 2001)",3759,"EPI",6.4,"PHYSPROP",68,"PHYSPROP",5.1400000000000001E-2,"EPI","","","","",3.8200000000000003,"PHYSPROP",3.6099999999999999E-4,"PHYSPROP","","","",0.26686997110819999,1.1023937684537799,2.64574504428907,1,"RSL, nov/2022"]
["103-65-1","Propyl benzene",120.2,"PHYSPROP",0.42927228127555001,1.0500000000000001E-2,"PHYSPROP",0.86,"CRC",6.0155772979650003E-2,"WATER9 (U.S. EPA, 2001)",7.8309775339400005E-6,"WATER9 (U.S. EPA, 2001)",813.1,"EPI",52.2,"PHYSPROP",-99.5,"PHYSPROP",9.3899999999999997E-2,"EPI","","","","",3.69,"PHYSPROP",3.42,"PHYSPROP","","","",0.39595376612837002,0.49541454114276001,1.18899489874263,1,"RSL, nov/2022"]
["103-72-0","Phenyl Isothiocyanate",135.19,"PHYSPROP",0.12142273098937,2.97E-3,"EPI",1.1000000000000001,"CRC",5.914964244603E-2,"WATER9 (U.S. EPA, 2001)",8.6024323758000008E-6,"WATER9 (U.S. EPA, 2001)",218.8,"EPI",89.9,"PHYSPROP",-21,"PHYSPROP",4.1300000000000003E-2,"EPI","","","","",3.2800000000000002,"PHYSPROP",1.5,"PHYSPROP","","","",0.18469238422289999,0.60105297294937998,1.44252713507852,1,"RSL, nov/2022"]
["1031-07-8","Endosulfan Sulfate",422.93,"PHYSPROP",1.3286999180000001E-5,3.2500000000000001E-7,"EPI","","",3.3721581894289997E-2,"WATER9 (U.S. EPA, 2001)",3.94010062133E-6,"WATER9 (U.S. EPA, 2001)",9847,"EPI",0.48,"PHYSPROP",181,"PHYSPROP",1.7899999999999999E-3,"EPI","","","","",3.66,"PHYSPROP",2.8000000000000002E-7,"EPI","","","",1.415839189649E-2,24.5616053879357,58.947852931045801,0.9,"RSL, nov/2022"]
["104-51-8","Butylbenzene, n-",134.22,"PHYSPROP",0.65004088307440999,1.5900000000000001E-2,"EPI",0.86,"CRC",5.2773156878850001E-2,"WATER9 (U.S. EPA, 2001)",7.3334916102199999E-6,"WATER9 (U.S. EPA, 2001)",1482,"EPI",11.8,"PHYSPROP",-87.9,"PHYSPROP",0.22500000000000001,"EPI","","","","",4.38,"PHYSPROP",1.0641,"PHYSPROP","","","",1.0025771156280501,0.59358203670076004,2.2905998853724201,1,"RSL, nov/2022"]
["104-76-7","Hexanol, 1-,2-ethyl- (2-Ethyl-1-hexanol)",130.22999999999999,"PHYSPROP",1.0834009999999999E-3,2.65E-5,"EPI",0.83,"CRC",5.3987808256729997E-2,"WATER9 (U.S. EPA, 2001)",7.3196079775400002E-6,"WATER9 (U.S. EPA, 2001)",35.28,"EPI",880,"PHYSPROP",-70,"PHYSPROP",1.9E-2,"EPI","","","","",2.73,"PHYSPROP",0.13600000000000001,"PHYSPROP","","","",8.3394185868599993E-2,0.56381516065880999,1.3531563855811399,1,"RSL, nov/2022"]
["10453-86-8","Resmethrin",338.45,"PHYSPROP",5.4374488961599996E-6,1.3300000000000001E-7,"EPI","","",3.9122258828639997E-2,"WATER9 (U.S. EPA, 2001)",4.5711270841900002E-6,"WATER9 (U.S. EPA, 2001)",311400,"EPI",3.7900000000000003E-2,"PHYSPROP",56.5,"PHYSPROP",0.23799999999999999,"EPI","","","","",6.1400000000000006,"PHYSPROP",1.13E-8,"PHYSPROP","","","",1.6840340496775501,8.2635897753819307,33.173156601340501,0.7,"RSL, nov/2022"]
["105-60-2","Caprolactam",113.16,"PHYSPROP",1.0343417825000001E-6,2.5300000000000002E-8,"PHYSPROP",1,"LANGE",6.9242219371059996E-2,"WATER9 (U.S. EPA, 2001)",8.9994529619099996E-6,"WATER9 (U.S. EPA, 2001)",24.5,"EPI",772000,"PHYSPROP",69.3,"PHYSPROP",1E-3,"EPI","","","","",-0.19,"YAWS",1.6000000000000001E-3,"EPI","","","",4.0914111221499998E-3,0.45242307751406002,1.0858153860337501,1,"RSL, nov/2022"]
["105-67-9","Dimethylphenol, 2,4-",122.17,"PHYSPROP",3.8879803760000002E-5,9.5099999999999998E-7,"PHYSPROP",0.97,"CRC",6.2245058879930003E-2,"WATER9 (U.S. EPA, 2001)",8.3139884193999994E-6,"WATER9 (U.S. EPA, 2001)",491.8,"EPI",7870,"PHYSPROP",24.5,"PHYSPROP",1.09E-2,"EPI","","",3.8359999999999998E-2,"Handbook of Environmental Degradation Rates. Lewis. Publishers, Chelsea, MI, 1989",2.2999999999999998,"PHYSPROP",0.10199999999999999,"PHYSPROP","","","",4.6337802790549998E-2,0.50816031967269004,1.21958476721446,1,"RSL, nov/2022"]
["10595-95-6","Nitrosomethylethylamine, N-",88.11,"PHYSPROP",5.8871627150000002E-5,1.44E-6,"PHYSPROP",0.95,"PubChem",8.4054666237610001E-2,"WATER9 (U.S. EPA, 2001)",9.9875871421399993E-6,"WATER9 (U.S. EPA, 2001)",43.47,"EPI",300000,"PHYSPROP",-27.21,"EPI",5.3300000000000005E-4,"EPI","","","","",0.04,"PHYSPROP",1.1000000000000001,"PHYSPROP","","","",1.9242720052E-3,0.32754030539133,0.78609673293919002,1,"RSL, nov/2022"]
["10599-90-3","Monochloramine",51.480000000000004,"EPI","","","","","","","","","","","","","",-66,"CRC",1E-3,"RAGSE","","","","","","","","","","","",2.75959863302E-3,0.20423809434984,0.49017142643961997,1,"RSL, nov/2022"]
["106-37-6","Dibromobenzene, 1,4-",235.91,"PHYSPROP",3.6508585445630001E-2,8.9300000000000002E-4,"EPI",2.2999999999999998,"CRC",3.3275453631009998E-2,"WATER9 (U.S. EPA, 2001)",9.3369342082000005E-6,"WATER9 (U.S. EPA, 2001)",375.3,"EPI",20,"PHYSPROP",87.3,"PHYSPROP",2.4500000000000001E-2,"EPI","","","","",3.79,"PHYSPROP",5.7500000000000002E-2,"PHYSPROP","","","",0.14473244929420001,2.2026462274171101,5.28635094580107,0.9,"RSL, nov/2022"]
["106-42-3","Xylene, p-",106.17,"PHYSPROP",0.28209321340964999,6.8999999999999999E-3,"PHYSPROP",0.86,"CRC",6.8408473487300003E-2,"WATER9 (U.S. EPA, 2001)",8.4464180358400005E-6,"WATER9 (U.S. EPA, 2001)",375.3,"EPI",162,"PHYSPROP",13.25,"PHYSPROP",4.9299999999999997E-2,"EPI","","",0.98629999999999995,"Handbook of Environmental Degradation Rates. Lewis. Publishers, Chelsea, MI, 1989",3.15,"PHYSPROP",8.84,"PHYSPROP","","","",0.19537746931965,0.41342882164758998,0.99222917195421001,1,"RSL, nov/2022"]
["106-43-4","Chlorotoluene, p-",126.59,"PHYSPROP",0.17906786590352,4.3800000000000002E-3,"EPI",1.1000000000000001,"CRC",6.2571039315390001E-2,"WATER9 (U.S. EPA, 2001)",8.6574367855499999E-6,"WATER9 (U.S. EPA, 2001)",375.3,"EPI",106,"PHYSPROP",7.5,"PHYSPROP",4.9799999999999997E-2,"EPI","","","","",3.33,"PHYSPROP",2.69,"PHYSPROP","","","",0.21550417821564999,0.53796342464476998,1.29111221914746,1,"RSL, nov/2022"]
["106-44-5","Cresol, p-",108.14,"PHYSPROP",4.088307441E-5,9.9999999999999995E-7,"PHYSPROP",1,"CRC",7.2393799120169994E-2,"WATER9 (U.S. EPA, 2001)",9.2396723826299992E-6,"WATER9 (U.S. EPA, 2001)",300.39999999999998,"EPI",21500,"PHYSPROP",35.5,"PHYSPROP",7.5399999999999998E-3,"EPI","","",7.671E-2,"Handbook of Environmental Degradation Rates. Lewis. Publishers, Chelsea, MI, 1989",1.94,"PHYSPROP",0.11,"PHYSPROP","","","",3.0157211409550001E-2,0.42406531242651002,1.01775674982362,1,"RSL, nov/2022"]
["106-46-7","Dichlorobenzene, 1,4-",147,"PHYSPROP",9.8528209321340002E-2,2.4099999999999998E-3,"PHYSPROP",1.3,"CRC",5.5042894256450002E-2,"WATER9 (U.S. EPA, 2001)",8.6797197569099999E-6,"WATER9 (U.S. EPA, 2001)",375.3,"EPI",81.3,"PHYSPROP",52.09,"PHYSPROP",4.53E-2,"EPI","","",0.98629999999999995,"Handbook of Environmental Degradation Rates. Lewis. Publishers, Chelsea, MI, 1989",3.44,"PHYSPROP",1.74,"PHYSPROP","","","",0.21124358118465,0.69992055777343998,1.67980933865626,1,"RSL, nov/2022"]
["106-47-8","Chloroaniline, p-",127.57000000000001,"PHYSPROP",4.7424366309999998E-5,1.1599999999999999E-6,"EPI",1.4,"CRC",7.0384718250269998E-2,"WATER9 (U.S. EPA, 2001)",1.0252787949999999E-5,"WATER9 (U.S. EPA, 2001)",112.7,"EPI",3900,"PHYSPROP",72.5,"PHYSPROP",4.96E-3,"EPI","","","","",1.83,"PHYSPROP",2.7E-2,"PHYSPROP","","","",2.154679135629E-2,0.54480457964845996,1.3075309911563,1,"RSL, nov/2022"]
["106-49-0","Toluidine, p-",107.16,"PHYSPROP",8.2583810299999996E-5,2.0200000000000001E-6,"PHYSPROP",0.96,"CRC",7.1219014478170001E-2,"WATER9 (U.S. EPA, 2001)",8.9769768132200001E-6,"WATER9 (U.S. EPA, 2001)",112.7,"EPI",6500,"PHYSPROP",43.6,"PHYSPROP",3.29E-3,"EPI","","","","",1.3900000000000001,"PHYSPROP",0.28625,"PHYSPROP","","","",1.309902293208E-2,0.41874029012976999,1.0049766963114399,1,"RSL, nov/2022"]
["106-50-3","Phenylenediamine, p-",108.14,"PHYSPROP",2.7514309076000001E-8,6.7299999999999995E-10,"PHYSPROP","","",8.3707176050039994E-2,"WATER9 (U.S. EPA, 2001)",9.7805226753199997E-6,"WATER9 (U.S. EPA, 2001)",33.83,"EPI",37000,"PHYSPROP",146,"PHYSPROP",2.4499999999999999E-4,"EPI","","",0.15340000000000001,"Handbook of Environmental Degradation Rates. Lewis. Publishers, Chelsea, MI, 1989",-0.3,"PHYSPROP",5.0000000000000001E-3,"PHYSPROP","","","",9.7990938929999995E-4,0.42406531242651002,1.01775674982362,1,"RSL, nov/2022"]
["106-88-7","Epoxybutane, 1,2-",72.108000000000004,"PHYSPROP",7.3589533932999999E-3,1.8000000000000001E-4,"EPI",0.83,"CRC",9.2895846700269999E-2,"WATER9 (U.S. EPA, 2001)",1.041919955E-5,"WATER9 (U.S. EPA, 2001)",9.907,"EPI",95000,"PHYSPROP",-150,"PHYSPROP",2.31E-3,"EPI","","",3.5389999999999998E-2,"Handbook of Environmental Degradation Rates. Lewis. Publishers, Chelsea, MI, 1989",0.86,"PHYSPROP",180,"PHYSPROP","","","",7.54449815993E-3,0.26647320757247001,0.63953569817392997,1,"RSL, nov/2022"]
["106-89-8","Epichlorohydrin",92.525999999999996,"PHYSPROP",1.2428454619800001E-3,3.04E-5,"EPI",1.2,"PERRY",8.8868248103709996E-2,"WATER9 (U.S. EPA, 2001)",1.109952378E-5,"WATER9 (U.S. EPA, 2001)",9.907,"EPI",65900,"PHYSPROP",-57.2,"PHYSPROP",9.4399999999999996E-4,"EPI","","",0.15340000000000001,"Handbook of Environmental Degradation Rates. Lewis. Publishers, Chelsea, MI, 1989",0.45,"PHYSPROP",16.440000000000001,"PHYSPROP","","","",3.4924527574099998E-3,0.34673233926585001,0.83215761423804002,1,"RSL, nov/2022"]
["106-93-4","Dibromoethane, 1,2-",187.86,"PHYSPROP",2.6573998364679999E-2,6.4999999999999997E-4,"PHYSPROP",2.2000000000000002,"CRC",4.3034841244550003E-2,"WATER9 (U.S. EPA, 2001)",1.043861314E-5,"WATER9 (U.S. EPA, 2001)",39.6,"EPI",3910,"PHYSPROP",9.9,"PHYSPROP",2.7799999999999999E-3,"EPI","","",0.32879999999999998,"Handbook of Environmental Degradation Rates. Lewis. Publishers, Chelsea, MI, 1989",1.96,"PHYSPROP",11.200000000000001,"PHYSPROP","","","",1.465509395051E-2,1.18539952701691,2.8449588648405899,1,"RSL, nov/2022"]
["106-94-5","Bromopropane, 1-",122.99000000000001,"PHYSPROP",0.29926000000000003,7.3200000000000001E-3,"EPI",1.4,"CRC",7.1693389245210001E-2,"WATER9 (U.S. EPA, 2001)",1.0145263889999999E-5,"WATER9 (U.S. EPA, 2001)",39.6,"EPI",2450,"PHYSPROP",-110,"PHYSPROP",7.9500000000000005E-3,"EPI","","","","",2.1,"PHYSPROP",110.8,"PHYSPROP","","","",3.3910069621660002E-2,0.51356184405423,1.23254842573016,1,"RSL, nov/2022"]
["106-99-0","Butadiene, 1,3-",54.091999999999999,"PHYSPROP",3.0089942763695801,7.3599999999999999E-2,"EPI",0.62,"CRC",0.10034881658179,"WATER9 (U.S. EPA, 2001)",1.03436697E-5,"WATER9 (U.S. EPA, 2001)",39.6,"EPI",735,"PHYSPROP",-108.9,"PHYSPROP",1.6400000000000001E-2,"EPI","","",0.15340000000000001,"Handbook of Environmental Degradation Rates. Lewis. Publishers, Chelsea, MI, 1989",1.99,"PHYSPROP",2107,"PHYSPROP","","","",4.6391350958849997E-2,0.21123406155204999,0.50696174772490998,1,"RSL, nov/2022"]
["107-02-8","Acrolein",56.064999999999998,"PHYSPROP",4.9877350776799997E-3,1.22E-4,"PHYSPROP",0.84,"CRC",0.11168620061171,"WATER9 (U.S. EPA, 2001)",1.2207430129999999E-5,"WATER9 (U.S. EPA, 2001)",1,"EPI",212000,"PHYSPROP",-87.7,"PHYSPROP",7.4799999999999997E-4,"EPI","","",0.15340000000000001,"Handbook of Environmental Degradation Rates. Lewis. Publishers, Chelsea, MI, 1989",-0.01,"PHYSPROP",274.10000000000002,"PHYSPROP","","","",2.1541411803399999E-3,0.21667696791015001,0.52002472298434999,1,"RSL, nov/2022"]
["107-04-0","Bromo-2-chloroethane, 1-",143.41,"PHYSPROP",3.7162714636140001E-2,9.0899999999999998E-4,"PHYSPROP",1.7,"CRC",6.5924814385369998E-2,"WATER9 (U.S. EPA, 2001)",1.07531035E-5,"WATER9 (U.S. EPA, 2001)",39.6,"EPI",6900,"PHYSPROP",-16.7,"PHYSPROP",4.64E-3,"EPI","","","","",1.92,"PHYSPROP",33.1,"PHYSPROP","","","",2.1371467790089999E-2,0.66825889712595998,1.60382135310229,1,"RSL, nov/2022"]
["107-05-1","Allyl Chloride",76.525999999999996,"PHYSPROP",0.44971381847914998,1.0999999999999999E-2,"EPI",0.94,"CRC",9.3610952858929994E-2,"WATER9 (U.S. EPA, 2001)",1.081924418E-5,"WATER9 (U.S. EPA, 2001)",39.6,"EPI",3370,"PHYSPROP",-134.5,"PHYSPROP",1.12E-2,"EPI","","",3.8240000000000003E-2,"Handbook of Environmental Degradation Rates. Lewis. Publishers, Chelsea, MI, 1989",1.93,"PHYSPROP",367.90000000000003,"PHYSPROP","","","",3.7683322005849999E-2,0.28209432515730998,0.67702638037755003,1,"RSL, nov/2022"]
["107-06-2","Dichloroethane, 1,2-",98.960000000000008,"PHYSPROP",4.824202780049E-2,1.1800000000000001E-3,"PHYSPROP",1.3,"CRC",8.5722058078229996E-2,"WATER9 (U.S. EPA, 2001)",1.0994646649999999E-5,"WATER9 (U.S. EPA, 2001)",39.6,"EPI",8600,"PHYSPROP",-35.5,"PHYSPROP",4.1999999999999997E-3,"EPI","","",0.98629999999999995,"Handbook of Environmental Degradation Rates. Lewis. Publishers, Chelsea, MI, 1989",1.48,"PHYSPROP",78.900000000000006,"PHYSPROP","","","",1.6069626610730001E-2,0.37672526722851002,0.90414064134842997,1,"RSL, nov/2022"]
["107-07-3","Chloroethanol, 2-",80.515000000000001,"PHYSPROP",3.1112000000000003E-5,7.61E-7,"EPI",1.2,"CRC",9.9981331224440001E-2,"WATER9 (U.S. EPA, 2001)",1.2180544260000001E-5,"WATER9 (U.S. EPA, 2001)",1.9039999999999999,"EPI",1000000,"PHYSPROP",-67.5,"PHYSPROP",5.7899999999999998E-4,"EPI","","","","",0.03,"PHYSPROP",7.18,"PHYSPROP","","","",1.99822143977E-3,0.29698379298057997,0.71276110315339003,1,"RSL, nov/2022"]
["107-13-1","Acrylonitrile",53.064,"PHYSPROP",5.6418642681899996E-3,1.3799999999999999E-4,"PHYSPROP",0.8,"CRC",0.11368364166964,"WATER9 (U.S. EPA, 2001)",1.225952597E-5,"WATER9 (U.S. EPA, 2001)",8.5109999999999992,"EPI",74500,"PHYSPROP",-83.5,"PHYSPROP",1.16E-3,"EPI","","",0.126,"Handbook of Environmental Degradation Rates. Lewis. Publishers, Chelsea, MI, 1989",0.25,"PHYSPROP",108.5,"PHYSPROP","","","",3.2500095220600001E-3,0.20845251995194999,0.50028604788467002,1,"RSL, nov/2022"]
["107-15-3","Ethylene Diamine",60.098999999999997,"PHYSPROP",7.0727718724399999E-8,1.73E-9,"PHYSPROP",0.9,"CRC",0.10944602490031,"WATER9 (U.S. EPA, 2001)",1.218675856E-5,"WATER9 (U.S. EPA, 2001)",14.870000000000001,"EPI",1000000,"PHYSPROP",11.1,"PHYSPROP",3.18E-5,"EPI","","","","",-2.04,"PHYSPROP",12,"PHYSPROP","","","",9.4817258650000002E-5,0.22824598651051001,0.54779036762523003,1,"RSL, nov/2022"]
["107-18-6","Allyl Alcohol",58.081000000000003,"PHYSPROP",2.0400654129E-4,4.9899999999999997E-6,"PHYSPROP",0.85,"CRC",0.10975349549952,"WATER9 (U.S. EPA, 2001)",1.207052175E-5,"WATER9 (U.S. EPA, 2001)",1.9039999999999999,"EPI",1000000,"PHYSPROP",-129,"PHYSPROP",9.59E-4,"EPI","","",3.8359999999999998E-2,"Handbook of Environmental Degradation Rates. Lewis. Publishers, Chelsea, MI, 1989",0.17,"PHYSPROP",26.1,"PHYSPROP","","","",2.8110094251599998E-3,0.22238339169509,0.53372014006821,1,"RSL, nov/2022"]
["107-19-7","Propargyl Alcohol",56.064999999999998,"PHYSPROP",4.701553557E-5,1.15E-6,"EPI",0.95,"CRC",0.11738742930309,"WATER9 (U.S. EPA, 2001)",1.31246188E-5,"WATER9 (U.S. EPA, 2001)",1.9039999999999999,"EPI",1000000,"PHYSPROP",-50,"PHYSPROP",4.2400000000000001E-4,"EPI","","","","",-0.38,"PHYSPROP",15.6,"PHYSPROP","","","",1.2210639845800001E-3,0.21667696791015001,0.52002472298434999,1,"RSL, nov/2022"]
["107-20-0","Chloroacetaldehyde, 2-",78.498999999999995,"PHYSPROP",9.7710547832999999E-4,2.3900000000000002E-5,"PHYSPROP",1.2,"CRC",0.10150602975297,"WATER9 (U.S. EPA, 2001)",1.229366781E-5,"WATER9 (U.S. EPA, 2001)",1,"EPI",110700,"PHYSPROP",-16.3,"PHYSPROP",6.4999999999999997E-4,"EPI","","","","",0.09,"PHYSPROP",64.266000000000005,"PHYSPROP","","","",2.2149915349700001E-3,0.28936310077380001,0.69447144185712995,1,"RSL, nov/2022"]
["107-21-1","Ethylene Glycol",62.069000000000003,"PHYSPROP",2.4529844644300001E-6,5.9999999999999995E-8,"PHYSPROP",1.1000000000000001,"CRC",0.11692495503863,"WATER9 (U.S. EPA, 2001)",1.360069355E-5,"WATER9 (U.S. EPA, 2001)",1,"EPI",1000000,"PHYSPROP",-13,"PHYSPROP",8.7700000000000004E-5,"EPI","","",6.5750000000000003E-2,"Handbook of Environmental Degradation Rates. Lewis. Publishers, Chelsea, MI, 1989",-1.36,"PHYSPROP",9.1999999999999998E-2,"PHYSPROP","","","",2.6574409293999998E-4,0.23411818555354999,0.56188364532852997,1,"RSL, nov/2022"]
["107-30-2","Chloromethyl Methyl Ether",80.515000000000001,"PHYSPROP",1.2428454619790001E-2,3.0400000000000002E-4,"PHYSPROP",1.1000000000000001,"CRC",9.4968283354279995E-2,"WATER9 (U.S. EPA, 2001)",1.1315289029999999E-5,"WATER9 (U.S. EPA, 2001)",5.3220000000000001,"EPI",69440,"PHYSPROP",-103.5,"PHYSPROP",9.0499999999999999E-4,"EPI","","",3.7670000000000001E-6,"Handbook of Environmental Degradation Rates. Lewis. Publishers, Chelsea, MI, 1989",0.32,"PHYSPROP",30,"PHYSPROP","","","",3.1232994870300001E-3,0.29698379298057997,0.71276110315339003,1,"RSL, nov/2022"]
["107-98-2","Propylene Glycol Monomethyl Ether",90.123000000000005,"PHYSPROP",3.7612428449999998E-5,9.1999999999999998E-7,"PHYSPROP",0.96,"CRC",8.3145042640749997E-2,"WATER9 (U.S. EPA, 2001)",9.9603690646800006E-6,"WATER9 (U.S. EPA, 2001)",1,"EPI",1000000,"PHYSPROP",-95,"PHYSPROP",2.31E-4,"EPI","","",0.15340000000000001,"Handbook of Environmental Degradation Rates. Lewis. Publishers, Chelsea, MI, 1989",-0.49,"PHYSPROP",12.5,"PHYSPROP","","","",8.4344438607000002E-4,0.33615343201532999,0.80676823683679,1,"RSL, nov/2022"]
["1071-83-6","Glyphosate",169.07,"PHYSPROP",8.5854456255000001E-11,2.0999999999999999E-12,"EPI","","",6.2140665375299997E-2,"WATER9 (U.S. EPA, 2001)",7.2606461649000002E-6,"WATER9 (U.S. EPA, 2001)",2100,"USDA ARS",10500,"PHYSPROP",189.5,"PHYSPROP",4.5400000000000003E-8,"EPI","","","","",-3.4,"PHYSPROP",9.8000000000000004E-8,"PHYSPROP","","","",2.27047006967E-7,0.93033797724616996,2.2328111453908099,1,"RSL, nov/2022"]
["1073-06-9","Bromo-3-fluorobenzene, 1-",175,"PHYSPROP",0.10220768601799,2.5000000000000001E-3,"PHYSPROP",1.7,"CRC",4.6200727287979998E-2,"WATER9 (U.S. EPA, 2001)",9.4396723003100008E-6,"WATER9 (U.S. EPA, 2001)",375.3,"EPI",378,"PHYSPROP",-19.100000000000001,"EPI",1.4200000000000001E-2,"EPI","","","","",2.92,"PHYSPROP",2.84,"PHYSPROP","","","",7.2249362725229999E-2,1.0042659767905999,2.4102383442974298,1,"RSL, nov/2022"]
["108-05-4","Vinyl Acetate",86.090999999999994,"PHYSPROP",2.0891251022080001E-2,5.1099999999999995E-4,"EPI",0.93,"CRC",8.4901607533209994E-2,"WATER9 (U.S. EPA, 2001)",1.0003480449999999E-5,"WATER9 (U.S. EPA, 2001)",5.5830000000000002,"EPI",20000,"PHYSPROP",-93.2,"PHYSPROP",1.57E-3,"EPI","","","","",0.73,"PHYSPROP",90.16,"PHYSPROP","","","",5.6028007828599997E-3,0.31912317899590997,0.76589562959018997,1,"RSL, nov/2022"]
["108-10-1","Methyl Isobutyl Ketone (4-methyl-2-pentanone)",100.16,"PHYSPROP",5.6418642681899996E-3,1.3799999999999999E-4,"EPI",0.8,"CRC",6.9779655947430005E-2,"WATER9 (U.S. EPA, 2001)",8.3476964852300003E-6,"WATER9 (U.S. EPA, 2001)",12.6,"EPI",19000,"PHYSPROP",-84,"PHYSPROP",3.1900000000000001E-3,"EPI","","",3.8359999999999998E-2,"Handbook of Environmental Degradation Rates. Lewis. Publishers, Chelsea, MI, 1989",1.31,"PHYSPROP",19.86,"PHYSPROP","","","",1.227904223083E-2,0.38259980964473,0.91823954314735001,1,"RSL, nov/2022"]
["108-11-2","Methyl-2-Pentanol, 4-",102.18,"PHYSPROP",1.8192968111199999E-3,4.4499999999999997E-5,"PHYSPROP",0.81,"CRC",6.8927299787979998E-2,"WATER9 (U.S. EPA, 2001)",8.3164456022899992E-6,"WATER9 (U.S. EPA, 2001)",8.1549999999999994,"EPI",16400,"PHYSPROP",-90,"PHYSPROP",5.4400000000000004E-3,"EPI","","","","",1.43,"PHYSPROP",5.3,"PHYSPROP","","","",2.114990889233E-2,0.39269624598786002,0.94247099037086002,1,"RSL, nov/2022"]
["108-20-3","Diisopropyl Ether",102.18,"PHYSPROP",0.10466067048242,2.5600000000000002E-3,"PHYSPROP",0.72,"CRC",6.5422642324779998E-2,"WATER9 (U.S. EPA, 2001)",7.7582190898500007E-6,"WATER9 (U.S. EPA, 2001)",22.79,"EPI",8800,"PHYSPROP",-86.8,"PHYSPROP",4.28E-3,"EPI","","","","",1.52,"PHYSPROP",149,"PHYSPROP","","","",1.6640001849109999E-2,0.39269624598786002,0.94247099037086002,1,"RSL, nov/2022"]
["108-31-6","Maleic Anhydride",98.058999999999997,"PHYSPROP",1.6067048241999999E-4,3.9299999999999996E-6,"PHYSPROP",1.3,"CRC",8.8395484906870006E-2,"WATER9 (U.S. EPA, 2001)",1.141659289E-5,"WATER9 (U.S. EPA, 2001)",1,"EPI",163000,"PERRY",52.800000000000004,"PHYSPROP",5.2500000000000003E-3,"EPI","","","","",1.62,"PHYSPROP",0.25,"EPI","","","",1.9995381077220001E-2,0.37237382823888998,0.89369718777332996,1,"RSL, nov/2022"]
["108-36-1","Dibromobenzene, 1,3-",235.91,"PHYSPROP",5.0700000000000002E-2,1.24E-3,"EPI",2,"CRC",3.1185408763330001E-2,"WATER9 (U.S. EPA, 2001)",8.5497725865900001E-6,"WATER9 (U.S. EPA, 2001)",375.3,"EPI",67.5,"PHYSPROP",-7,"PHYSPROP",2.3099999999999999E-2,"EPI","","","","",3.75,"PHYSPROP",0.26860000000000001,"PHYSPROP","","","",0.13646202362025001,2.2026462274171101,5.28635094580107,0.9,"RSL, nov/2022"]
["108-38-3","Xylene, m-",106.17,"PHYSPROP",0.29354047424365998,7.1799999999999998E-3,"PHYSPROP",0.86,"CRC",6.8518327165540002E-2,"WATER9 (U.S. EPA, 2001)",8.4646515359700006E-6,"WATER9 (U.S. EPA, 2001)",375.3,"EPI",161,"PHYSPROP",-47.800000000000004,"PHYSPROP",5.3199999999999997E-2,"EPI","","",0.98629999999999995,"Handbook of Environmental Degradation Rates. Lewis. Publishers, Chelsea, MI, 1989",3.2,"PHYSPROP",8.2899999999999991,"PHYSPROP","","","",0.21083329346460999,0.41342882164758998,0.99222917195421001,1,"RSL, nov/2022"]
["108-39-4","Cresol, m-",108.14,"PHYSPROP",3.4995911690000003E-5,8.5600000000000004E-7,"PHYSPROP",1,"CRC",7.2872069816480006E-2,"WATER9 (U.S. EPA, 2001)",9.3232444992600007E-6,"WATER9 (U.S. EPA, 2001)",300.39999999999998,"EPI",22700,"PHYSPROP",11.8,"PHYSPROP",7.77E-3,"EPI","","",0.13420000000000001,"Handbook of Environmental Degradation Rates. Lewis. Publishers, Chelsea, MI, 1989",1.96,"PHYSPROP",0.11,"PHYSPROP","","","",3.1077126346439998E-2,0.42406531242651002,1.01775674982362,1,"RSL, nov/2022"]
["108-45-2","Phenylenediamine, m-",108.14,"PHYSPROP",5.1103843009000001E-8,1.25E-9,"EPI",1,"CRC",7.2115168653790002E-2,"WATER9 (U.S. EPA, 2001)",9.1911437290300007E-6,"WATER9 (U.S. EPA, 2001)",33.83,"EPI",238000,"PHYSPROP",63.5,"PHYSPROP",2.34E-4,"EPI","","",0.15340000000000001,"Handbook of Environmental Degradation Rates. Lewis. Publishers, Chelsea, MI, 1989",-0.33,"PHYSPROP",2.0899999999999998E-3,"EPI","","","",9.3591345754000005E-4,0.42406531242651002,1.01775674982362,1,"RSL, nov/2022"]
["108-60-1","Bis(2-chloro-1-methylethyl) ether",171.07,"PHYSPROP",3.0335241210099999E-3,7.4200000000000001E-5,"EPI",1.1000000000000001,"CRC",3.9889131750200001E-2,"WATER9 (U.S. EPA, 2001)",7.3605923470999996E-6,"WATER9 (U.S. EPA, 2001)",82.92,"EPI",1700,"PHYSPROP",-97,"PHYSPROP",7.6400000000000001E-3,"EPI","","",0.98629999999999995,"Handbook of Environmental Degradation Rates. Lewis. Publishers, Chelsea, MI, 1989",2.48,"PHYSPROP",0.56000000000000005,"PHYSPROP","","","",3.8433234724140002E-2,0.95464246631699001,2.29114191916076,1,"RSL, nov/2022"]
["108-67-8","Trimethylbenzene, 1,3,5-",120.2,"PHYSPROP",0.35854456255110001,8.77E-3,"PHYSPROP",0.86,"CRC",6.0225432515719997E-2,"WATER9 (U.S. EPA, 2001)",7.8430008130199997E-6,"WATER9 (U.S. EPA, 2001)",602.1,"EPI",48.2,"PHYSPROP",-44.7,"PHYSPROP",6.2100000000000002E-2,"EPI","","","","",3.42,"PHYSPROP",2.48,"PHYSPROP","","","",0.26186079740758,0.49541454114276001,1.18899489874263,1,"RSL, nov/2022"]
["108-86-1","Bromobenzene",157.01,"PHYSPROP",0.10098119378577,2.47E-3,"PHYSPROP",1.5,"CRC",5.3713170025199999E-2,"WATER9 (U.S. EPA, 2001)",9.3003672675599996E-6,"WATER9 (U.S. EPA, 2001)",233.9,"EPI",446,"PHYSPROP",-30.6,"PHYSPROP",0.02,"EPI","","","","",2.99,"PHYSPROP",4.1820000000000004,"PHYSPROP","","","",9.6387408640230002E-2,0.79635140315644004,1.9112433675754601,1,"RSL, nov/2022"]
["108-88-3","Toluene",92.141999999999996,"PHYSPROP",0.27146361406378,6.6400000000000001E-3,"PHYSPROP",0.86,"CRC",7.7803873565410006E-2,"WATER9 (U.S. EPA, 2001)",9.2043308800900001E-6,"WATER9 (U.S. EPA, 2001)",233.9,"EPI",526,"PHYSPROP",-94.9,"PHYSPROP",3.1099999999999999E-2,"EPI","","",7.671E-2,"Handbook of Environmental Degradation Rates. Lewis. Publishers, Chelsea, MI, 1989",2.73,"PHYSPROP",28.400000000000002,"PHYSPROP","","","",0.11481955474085,0.34501974481163,0.82804738754789997,1,"RSL, nov/2022"]
["108-90-7","Chlorobenzene",112.56,"PHYSPROP",0.12714636140638,3.1099999999999999E-3,"PHYSPROP",1.1000000000000001,"CRC",7.2130615287710004E-2,"WATER9 (U.S. EPA, 2001)",9.4764848418399994E-6,"WATER9 (U.S. EPA, 2001)",233.9,"EPI",498,"PHYSPROP",-45.31,"PHYSPROP",2.8199999999999999E-2,"EPI","","",0.82189999999999996,"Handbook of Environmental Degradation Rates. Lewis. Publishers, Chelsea, MI, 1989",2.84,"PHYSPROP",11.97,"PHYSPROP","","","",0.11507150748261,0.44893632760023999,1.0774471862405699,1,"RSL, nov/2022"]
["108-91-8","Cyclohexylamine",99.177000000000007,"PHYSPROP",1.7007358953000001E-4,4.16E-6,"PHYSPROP",0.82,"CRC",7.1294509989010005E-2,"WATER9 (U.S. EPA, 2001)",8.5393997969500004E-6,"WATER9 (U.S. EPA, 2001)",32.17,"EPI",1000000,"PHYSPROP",-17.7,"PHYSPROP",4.2500000000000003E-3,"EPI","","","","",1.49,"PHYSPROP",10.1,"PHYSPROP","","","",1.6278750454080001E-2,0.37778085886555002,0.90667406127731998,1,"RSL, nov/2022"]
["108-94-1","Cyclohexanone",98.146000000000001,"PHYSPROP",3.6794766966000001E-4,9.0000000000000002E-6,"PHYSPROP",0.95,"CRC",7.6759912017320006E-2,"WATER9 (U.S. EPA, 2001)",9.3794685508999998E-6,"WATER9 (U.S. EPA, 2001)",17.38,"EPI",25000,"PHYSPROP",-31,"PHYSPROP",1.5200000000000001E-3,"EPI","","","","",0.81,"PHYSPROP",4.33,"PHYSPROP","","","",5.7917064556699998E-3,0.37279179884474001,0.89470031722737997,1,"RSL, nov/2022"]
["108-95-2","Phenol",94.114000000000004,"PHYSPROP",1.3614063779999999E-5,3.3299999999999998E-7,"PHYSPROP",1.1000000000000001,"CRC",8.3398295459199995E-2,"WATER9 (U.S. EPA, 2001)",1.025432748E-5,"WATER9 (U.S. EPA, 2001)",187.20000000000002,"EPI",82800,"PHYSPROP",40.9,"PHYSPROP",4.3400000000000001E-3,"EPI","","",1.9179999999999999E-2,"Handbook of Environmental Degradation Rates. Lewis. Publishers, Chelsea, MI, 1989",1.46,"PHYSPROP",0.35000000000000003,"PHYSPROP","","","",1.6193603357629999E-2,0.35390536767007003,0.84937288240816,1,"RSL, nov/2022"]
["108-98-5","Benzenethiol",110.18,"PHYSPROP",1.369582992641E-2,3.3500000000000001E-4,"EPI",1.1000000000000001,"CRC",7.2856356574329997E-2,"WATER9 (U.S. EPA, 2001)",9.4506238531400008E-6,"WATER9 (U.S. EPA, 2001)",233.9,"EPI",835,"PHYSPROP",-14.9,"PHYSPROP",1.78E-2,"EPI","","","","",2.52,"PHYSPROP",1.93,"PHYSPROP","","","",7.1861791248339996E-2,0.43536824543878999,1.0448837890531,1,"RSL, nov/2022"]
["108427-53-8","Perfluorohexanesulfonate",399.1,"3M","","","",1.8,"3M",2.3292931741120002E-2,"WATER9 (U.S. EPA, 2001)",6.0208111879900003E-6,"WATER9 (U.S. EPA, 2001)",112.2,"Guelfo and Higgins 2013","","",41,"3M",2.5807510932999999E-4,"RAGSE","","","","",2.2000000000000002,"3M","","","","","",1.9829585487499998E-3,18.063784754339899,43.353083410415699,1,"RSL, nov/2022"]
["109-66-0","Pentane, n-",72.150999999999996,"PHYSPROP",51.103843008994303,1.25,"PHYSPROP",0.63,"CRC",8.212927659449E-2,"WATER9 (U.S. EPA, 2001)",8.7973971192200008E-6,"WATER9 (U.S. EPA, 2001)",72.17,"EPI",38,"PHYSPROP",-129.69999999999999,"PHYSPROP",0.11,"EPI","","","","",3.39,"PHYSPROP",514,"PHYSPROP","","","",0.35936892006691001,0.26662099793909,0.63989039505379997,1,"RSL, nov/2022"]
["109-69-3","Chlorobutane, 1-",92.569000000000003,"PHYSPROP",0.68274734260016001,1.67E-2,"PHYSPROP",0.89,"CRC",7.8413722093889998E-2,"WATER9 (U.S. EPA, 2001)",9.3274819020300001E-6,"WATER9 (U.S. EPA, 2001)",72.17,"EPI",1100,"PHYSPROP",-123.10000000000001,"PHYSPROP",2.69E-2,"EPI","","","","",2.64,"PHYSPROP",101.3,"PHYSPROP","","","",9.9543227571370005E-2,0.34692464264975997,0.83261914235942003,1,"RSL, nov/2022"]
["109-77-3","Malononitrile",66.063000000000002,"PHYSPROP",5.3556827473400003E-6,1.31E-7,"EPI",1.2,"CRC",0.11506942062846,"WATER9 (U.S. EPA, 2001)",1.3640926019999999E-5,"WATER9 (U.S. EPA, 2001)",3.3340000000000001,"EPI",133000,"PHYSPROP",32,"PHYSPROP",2.6600000000000001E-4,"EPI","","","","",-0.6,"PHYSPROP",0.2,"EPI","","","",8.3154821277999999E-4,0.24649127407020999,0.59157905776849995,1,"RSL, nov/2022"]
["109-78-4","Ethylene Cyanohydrin",71.078999999999994,"PHYSPROP",3.06623058054E-7,7.4999999999999993E-9,"EPI",1,"CRC",0.10331141089463999,"WATER9 (U.S. EPA, 2001)",1.2037801900000001E-5,"WATER9 (U.S. EPA, 2001)",1,"EPI",1000000,"PHYSPROP",-46,"PHYSPROP",1.4799999999999999E-4,"EPI","","","","",-0.94000000000000006,"PHYSPROP",8.0199999999999994E-2,"PHYSPROP","","","",4.7990914080999999E-4,0.26296088313131,0.63110611951515005,1,"RSL, nov/2022"]
["109-86-4","Methoxyethanol, 2-",76.096000000000004,"PHYSPROP",1.349141455E-5,3.3000000000000002E-7,"PHYSPROP",0.97,"CRC",9.5155698439489997E-2,"WATER9 (U.S. EPA, 2001)",1.1043075500000001E-5,"WATER9 (U.S. EPA, 2001)",1,"EPI",1000000,"PHYSPROP",-85.100000000000009,"PHYSPROP",1.8000000000000001E-4,"EPI","","",0.15340000000000001,"Handbook of Environmental Degradation Rates. Lewis. Publishers, Chelsea, MI, 1989",-0.77,"PHYSPROP",9.5,"PHYSPROP","","","",6.0392091648999997E-4,0.28053454612762002,0.67328291070627999,1,"RSL, nov/2022"]
["109-99-9","Tetrahydrofuran",72.108000000000004,"PHYSPROP",2.88225674571E-3,7.0500000000000006E-5,"PHYSPROP",0.88,"CRC",9.9375092999000006E-2,"WATER9 (U.S. EPA, 2001)",1.08179916E-5,"WATER9 (U.S. EPA, 2001)",10.75,"EPI",1000000,"PHYSPROP",-108.44,"PHYSPROP",1.25E-3,"EPI","","","","",0.46,"PHYSPROP",162.19999999999999,"PHYSPROP","","","",4.0825206493099999E-3,0.26647320757247001,0.63953569817392997,1,"RSL, nov/2022"]
["110-00-9","Furan",68.075999999999993,"PHYSPROP",0.22076860179885999,5.4000000000000003E-3,"EPI",0.95,"CRC",0.1022756523633,"WATER9 (U.S. EPA, 2001)",1.170828383E-5,"WATER9 (U.S. EPA, 2001)",79.989999999999995,"EPI",10000,"PHYSPROP",-85.600000000000009,"PHYSPROP",5.0499999999999998E-3,"EPI","","",0.30680000000000002,"Handbook of Environmental Degradation Rates. Lewis. Publishers, Chelsea, MI, 1989",1.34,"PHYSPROP",600,"PHYSPROP","","","",1.6025627543580001E-2,0.25297310400176998,0.60713544960424004,1,"RSL, nov/2022"]
["110-49-6","Methoxyethanol Acetate, 2-",118.13,"PHYSPROP",1.271463614E-5,3.1100000000000002E-7,"EPI",1,"CRC",6.5834739605950002E-2,"WATER9 (U.S. EPA, 2001)",8.7051611881699999E-6,"WATER9 (U.S. EPA, 2001)",2.492,"EPI",1000000,"PHYSPROP",-65.099999999999994,"PHYSPROP",3.9599999999999998E-4,"EPI","","","","",0.1,"PHYSPROP",7,"PHYSPROP","","","",1.6553961466600001E-3,0.48236606779801999,1.1576785627152399,1,"RSL, nov/2022"]
["110-54-3","Hexane, N-",86.177999999999997,"PHYSPROP",73.589533932951795,1.8,"EPI",0.66,"CRC",7.3107790633359995E-2,"WATER9 (U.S. EPA, 2001)",8.1657685595900006E-6,"WATER9 (U.S. EPA, 2001)",131.5,"EPI",9.5,"PHYSPROP",-95.3,"PHYSPROP",0.20100000000000001,"EPI","","","","",3.9,"PHYSPROP",151.30000000000001,"PHYSPROP","","","",0.71766359267313995,0.31948137846739,1.2376933948698701,1,"RSL, nov/2022"]
["110-57-6","Dichloro-2-butene, trans-1,4-",125,"PHYSPROP",2.714636140638E-2,6.6399999999999999E-4,"EPI",1.2,"CRC",6.6381756786559998E-2,"WATER9 (U.S. EPA, 2001)",9.2665187861999992E-6,"WATER9 (U.S. EPA, 2001)",131.5,"EPI",850,"PHYSPROP",2,"PHYSPROP",1.66E-2,"EPI","","","","",2.6,"PHYSPROP",3.43,"PHYSPROP","","","",7.1382170050950003E-2,0.52704627669473003,1.26491106406735,1,"RSL, nov/2022"]
["110-80-5","Ethoxyethanol, 2-",90.123000000000005,"PHYSPROP",1.9215044969999998E-5,4.7E-7,"PHYSPROP",0.93,"CRC",8.1753705026339996E-2,"WATER9 (U.S. EPA, 2001)",9.7306068260200006E-6,"WATER9 (U.S. EPA, 2001)",1,"EPI",1000000,"PHYSPROP",-70,"PHYSPROP",2.9999999999999997E-4,"EPI","","",0.15340000000000001,"Handbook of Environmental Degradation Rates. Lewis. Publishers, Chelsea, MI, 1989",-0.32,"PHYSPROP",5.3100000000000005,"PHYSPROP","","","",1.09538231957E-3,0.33615343201532999,0.80676823683679,1,"RSL, nov/2022"]
["110-82-7","Cyclohexane",84.162999999999997,"PHYSPROP",6.1324611610793101,0.15,"PHYSPROP",0.77,"CRC",7.9972934324940001E-2,"WATER9 (U.S. EPA, 2001)",9.1077259652699995E-6,"WATER9 (U.S. EPA, 2001)",145.80000000000001,"EPI",55,"PHYSPROP",6.6000000000000005,"PHYSPROP",0.10199999999999999,"EPI","","",0.98629999999999995,"Handbook of Environmental Degradation Rates. Lewis. Publishers, Chelsea, MI, 1989",3.44,"PHYSPROP",96.86,"PHYSPROP","","","",0.35990462494006997,0.31128740540699001,0.74708977297679002,1,"RSL, nov/2022"]
["110-83-8","Cyclohexene",82.147000000000006,"PHYSPROP",1.8601798855273901,4.5499999999999999E-2,"PHYSPROP",0.81,"NIOSH",8.3187568925530003E-2,"WATER9 (U.S. EPA, 2001)",9.4974662358899993E-6,"WATER9 (U.S. EPA, 2001)",145.80000000000001,"EPI",213,"PHYSPROP",-103.5,"PHYSPROP",4.3099999999999999E-2,"EPI","","","","",2.86,"PHYSPROP",89,"PHYSPROP","","","",0.15024491281544999,0.30329967826322002,0.72791922783172003,1,"RSL, nov/2022"]
["110-86-1","Pyridine",79.102000000000004,"PHYSPROP",4.4971381848E-4,1.1E-5,"PHYSPROP",0.98,"CRC",9.3088316402879998E-2,"WATER9 (U.S. EPA, 2001)",1.090434664E-5,"WATER9 (U.S. EPA, 2001)",71.72,"EPI",1000000,"PHYSPROP",-41.6,"PHYSPROP",1.5200000000000001E-3,"EPI","","",3.8359999999999998E-2,"Handbook of Environmental Degradation Rates. Lewis. Publishers, Chelsea, MI, 1989",0.65,"PHYSPROP",20.8,"PHYSPROP","","","",5.1995286085799999E-3,0.29162177539169998,0.69989226094009005,1,"RSL, nov/2022"]
["11096-82-5","Aroclor 1260",395.33,"PHYSPROP",1.373671300082E-2,3.3599999999999998E-4,"PHYSPROP",1.6,"ATSDR Profile",2.2023936682919999E-2,"WATER9 (U.S. EPA, 2001)",5.6079601232499999E-6,"WATER9 (U.S. EPA, 2001)",349700,"EPI",1.44E-2,"PHYSPROP",163.56,"EPI",0.98599999999999999,"EPI","","","","",7.55,"PHYSPROP",4.0500000000000002E-5,"PHYSPROP","","","",7.5402102041705001,17.206666830223899,77.061907682591595,0,"RSL, nov/2022"]
["11097-69-1","Aroclor 1254",326.44,"PHYSPROP",1.156991005724E-2,2.8299999999999999E-4,"PHYSPROP",1.5,"ATSDR Profile",2.3720483214040002E-2,"WATER9 (U.S. EPA, 2001)",6.1024212341400001E-6,"WATER9 (U.S. EPA, 2001)",130500,"EPI",4.2999999999999997E-2,"PHYSPROP",134.6,"EPI",0.751,"EPI","","","","",6.5,"PHYSPROP",7.7100000000000004E-5,"PHYSPROP","","","",5.2187713992049698,7.0780357134763596,31.096662612958699,0.5,"RSL, nov/2022"]
["111-15-9","Ethoxyethanol Acetate, 2-",132.16,"PHYSPROP",1.3082583810000001E-4,3.1999999999999999E-6,"PHYSPROP",0.97,"CRC",5.695037863961E-2,"WATER9 (U.S. EPA, 2001)",7.9753018213699995E-6,"WATER9 (U.S. EPA, 2001)",4.5419999999999998,"EPI",187000,"PHYSPROP",-61.7,"PHYSPROP",6.9999999999999999E-4,"EPI","","","","",0.59,"PHYSPROP",2,"PHYSPROP","","","",3.09510015515E-3,0.57802250745037997,1.3872540178809101,1,"RSL, nov/2022"]
["111-30-8","Glutaraldehyde",100.12,"PHYSPROP",1.34914145544E-6,3.2999999999999998E-8,"PHYSPROP","","",8.8119706165350004E-2,"WATER9 (U.S. EPA, 2001)",1.029609198E-5,"WATER9 (U.S. EPA, 2001)",1,"EPI",224000,"PHYSPROP",-29.86,"EPI",3.2499999999999999E-4,"EPI","","","","",-0.33,"PHYSPROP",0.6,"PHYSPROP","","","",1.2507497751299999E-3,0.38240252355663001,0.91776605653590004,1,"RSL, nov/2022"]
["111-42-2","Diethanolamine",105.14,"PHYSPROP",1.5821749795600001E-9,3.8699999999999999E-11,"EPI",1.1000000000000001,"CRC",7.6805406275900004E-2,"WATER9 (U.S. EPA, 2001)",9.8229047510200005E-6,"WATER9 (U.S. EPA, 2001)",1,"EPI",1000000,"PHYSPROP",28,"PHYSPROP",4.5099999999999998E-5,"EPI","","","","",-1.43,"PHYSPROP",2.7999999999999998E-4,"PHYSPROP","","","",1.7786364175999999E-4,0.40797424709576002,0.97913819302981997,1,"RSL, nov/2022"]
["111-44-4","Bis(2-chloroethyl)ether",143.01,"PHYSPROP",6.9501226491999995E-4,1.7E-5,"EPI",1.2,"CRC",5.6719164820489998E-2,"WATER9 (U.S. EPA, 2001)",8.7069855954199998E-6,"WATER9 (U.S. EPA, 2001)",32.21,"EPI",17200,"PHYSPROP",-51.9,"PHYSPROP",1.7799999999999999E-3,"EPI","","",0.98629999999999995,"Handbook of Environmental Degradation Rates. Lewis. Publishers, Chelsea, MI, 1989",1.29,"PHYSPROP",1.55,"PHYSPROP","","","",8.1870955250399995E-3,0.66482103118018998,1.59557047483245,1,"RSL, nov/2022"]
["111-48-8","Thiodiglycol",122.19,"PHYSPROP",7.5633687653299999E-8,1.85E-9,"PHYSPROP",1.2,"CRC",6.8014389996880004E-2,"WATER9 (U.S. EPA, 2001)",9.3761587482600001E-6,"WATER9 (U.S. EPA, 2001)",1,"EPI",1000000,"PHYSPROP",-10.199999999999999,"PHYSPROP",1.2300000000000001E-4,"EPI","","","","",-0.63,"PHYSPROP",3.2299999999999998E-3,"PHYSPROP","","","",5.2293727066999999E-4,0.50829138579847,1.21989932591633,1,"RSL, nov/2022"]
["111-69-3","Adiponitrile",108.14,"PHYSPROP",4.9468520032700002E-8,1.21E-9,"EPI",0.97,"CRC",7.0777496328419995E-2,"WATER9 (U.S. EPA, 2001)",8.9597825206299997E-6,"WATER9 (U.S. EPA, 2001)",20.18,"EPI",80000,"PHYSPROP",1,"PHYSPROP",2.3699999999999999E-4,"EPI","","","","",-0.32,"PHYSPROP",6.7900000000000002E-4,"PHYSPROP","","","",9.4791234802000005E-4,0.42406531242651002,1.01775674982362,1,"RSL, nov/2022"]
["111-71-7","Heptanal, n-",114.19,"PHYSPROP",1.103843008994E-2,2.7E-4,"PHYSPROP",0.81,"CRC",6.1989266308299998E-2,"WATER9 (U.S. EPA, 2001)",7.8129195029399999E-6,"WATER9 (U.S. EPA, 2001)",10.85,"EPI",1250,"PHYSPROP",-43.300000000000004,"PHYSPROP",1.1900000000000001E-2,"EPI","","","","",2.29,"PHYSPROP",3.52,"PHYSPROP","","","",4.8908872363389998E-2,0.45847192844727003,1.10033262827345,1,"RSL, nov/2022"]
["111-76-2","Ethylene Glycol Monobutyl Ether",118.18,"PHYSPROP",6.5412919050000006E-5,1.5999999999999999E-6,"PHYSPROP",0.9,"CRC",6.2618837486459994E-2,"WATER9 (U.S. EPA, 2001)",8.1418822799599997E-6,"WATER9 (U.S. EPA, 2001)",2.823,"EPI",1000000,"PHYSPROP",-74.8,"PHYSPROP",1.2099999999999999E-3,"EPI","","",0.15340000000000001,"Handbook of Environmental Degradation Rates. Lewis. Publishers, Chelsea, MI, 1989",0.83000000000000007,"PHYSPROP",0.88,"PHYSPROP","","","",5.0592252429800004E-3,0.48267716096861002,1.15842518632467,1,"RSL, nov/2022"]
["111-77-3","Ethanol, 2-(2-methoxyethoxy)-",120.15,"PHYSPROP",6.7457072772000002E-10,1.6500000000000001E-11,"PHYSPROP","","",7.8031702807780004E-2,"WATER9 (U.S. EPA, 2001)",9.1173884333299998E-6,"WATER9 (U.S. EPA, 2001)",1,"EPI",1000000,"PHYSPROP",-14.6,"EPI",5.4400000000000001E-5,"EPI","","","","",-1.18,"PHYSPROP",0.25,"PHYSPROP","","","",2.2934402984E-4,0.49509523852638998,1.1882285724633299,1,"RSL, nov/2022"]
["111-84-2","Nonane, n-",128.26,"PHYSPROP",139.00245298446401,3.4,"EPI",0.72,"CRC",5.1431994696579997E-2,"WATER9 (U.S. EPA, 2001)",6.7690362122699998E-6,"WATER9 (U.S. EPA, 2001)",796,"EPI",0.22,"PHYSPROP",-53.5,"PHYSPROP",1.7,"EPI","","","","",5.65,"PHYSPROP",4.45,"PHYSPROP","","","",7.4049339860175696,0.54967343630260002,2.4597368290978299,1,"RSL, nov/2022"]
["111-90-0","Diethylene Glycol Monoethyl Ether",134.18,"PHYSPROP",9.1169255927999997E-7,2.2300000000000001E-8,"EPI",0.99,"CRC",5.6240455148610001E-2,"WATER9 (U.S. EPA, 2001)",7.9734284832199997E-6,"WATER9 (U.S. EPA, 2001)",1,"EPI",1000000,"PHYSPROP",-76,"PHYSPROP",1.21E-4,"EPI","","",0.153,"Handbook of Environmental Degradation Rates. Lewis. Publishers, Chelsea, MI, 1989",-0.54,"PHYSPROP",0.126,"PHYSPROP","","","",5.3908334701999996E-4,0.59327595845651004,1.4238623002956201,1,"RSL, nov/2022"]
["111-91-1","Bis(2-chloroethoxy)methane",173.04,"PHYSPROP",1.5739983647E-4,3.8500000000000004E-6,"EPI","","",6.1186544897129998E-2,"WATER9 (U.S. EPA, 2001)",7.1491647195600003E-6,"WATER9 (U.S. EPA, 2001)",14.38,"EPI",7800,"PHYSPROP",-32,"PHYSPROP",1.2199999999999999E-3,"EPI","","","","",1.3,"PHYSPROP",0.13200000000000001,"EPI","","","",6.1724806326000003E-3,0.97920303214711002,2.3500872771530701,1,"RSL, nov/2022"]
["11104-28-2","Aroclor 1221",188.66,"PHYSPROP",9.3213409648400004E-3,2.2800000000000001E-4,"PHYSPROP",1.2,"ATSDR Profile",3.245789805898E-2,"WATER9 (U.S. EPA, 2001)",7.22758283635E-6,"WATER9 (U.S. EPA, 2001)",8397,"EPI",15,"PHYSPROP",34,"EPI",0.16800000000000001,"EPI","","","","",4.6500000000000004,"PHYSPROP",6.7000000000000002E-3,"PHYSPROP","","","",0.88751530030981995,1.19769089944245,4.6045202581637898,1,"RSL, nov/2022"]
["11126-42-4","Aroclor 5460",540.29999999999995,"PubChem",5.1103843009000002E-3,1.25E-4,"PHYSPROP",1.5,"PPRTV",1.7868594876050001E-2,"WATER9 (U.S. EPA, 2001)",4.3861268929000004E-6,"WATER9 (U.S. EPA, 2001)",81320,"EPI",5.3199999999999997E-2,"PHYSPROP",122.32000000000001,"EPI",0.58399999999999996,"EPI","","","","",6.34,"PHYSPROP",8.4500000000000004E-6,"PHYSPROP","","","",5.2210395482602001,111.565200332641,490.16351457455897,0,"RSL, nov/2022"]
["1114-71-2","Pebulate",203.35,"PHYSPROP",9.6892886345100009E-3,2.3699999999999999E-4,"EPI",0.95,"CRC",2.414417699436E-2,"WATER9 (U.S. EPA, 2001)",6.0506892809300003E-6,"WATER9 (U.S. EPA, 2001)",299.10000000000002,"EPI",100,"PHYSPROP",70.540000000000006,"EPI",3.9699999999999999E-2,"EPI","","","","",3.83,"PHYSPROP",8.8499999999999995E-2,"PHYSPROP","","","",0.21774051569368999,1.44746726111346,3.4739214266723,1,"RSL, nov/2022"]
["11141-16-5","Aroclor 1232",188.66,"PHYSPROP",3.0089942763700001E-2,7.36E-4,"EPI",1.3,"ATSDR Profile",3.3446781665939999E-2,"WATER9 (U.S. EPA, 2001)",7.5177209405100004E-6,"WATER9 (U.S. EPA, 2001)",8397,"EPI",1.45,"PHYSPROP",34,"EPI",0.16800000000000001,"EPI","","","","",4.4000000000000004,"PHYSPROP",4.0600000000000002E-3,"PHYSPROP","","","",0.88751530030981995,1.19769089944245,4.6045202581637898,1,"RSL, nov/2022"]
["1116-54-7","Nitrosodiethanolamine, N-",134.13999999999999,"PHYSPROP",1.9828291087E-10,4.8499999999999997E-12,"PHYSPROP","","",7.2507244284920003E-2,"WATER9 (U.S. EPA, 2001)",8.4718990690800006E-6,"WATER9 (U.S. EPA, 2001)",1,"EPI",1000000,"PHYSPROP",81.52,"EPI",3.9100000000000002E-5,"EPI","","",1,"Handbook of Environmental Degradation Rates. Lewis. Publishers, Chelsea, MI, 1989",-1.28,"PHYSPROP",5.0000000000000001E-4,"PHYSPROP","","","",1.7417369306E-4,0.59297003804030002,1.4231280912967099,1,"RSL, nov/2022"]
["112-27-6","Triethylene Glycol",150.18,"PHYSPROP",1.29190515127E-9,3.1599999999999999E-11,"PHYSPROP",1.1000000000000001,"CRC",5.0921903116939997E-2,"WATER9 (U.S. EPA, 2001)",8.06401505412E-6,"WATER9 (U.S. EPA, 2001)",10,"EPI",1000000,"PHYSPROP",-7,"PHYSPROP",1.5500000000000001E-5,"EPI","","","","",-1.75,"PHYSPROP",1.32E-3,"PHYSPROP","","","",7.3057431609999994E-5,0.72921694114583002,1.75012065875,1,"RSL, nov/2022"]
["112-34-5","Diethylene Glycol Monobutyl Ether",162.22999999999999,"PHYSPROP",2.94358135732E-7,7.2E-9,"PHYSPROP",0.96,"CRC",4.143836891983E-2,"WATER9 (U.S. EPA, 2001)",6.9707087478100003E-6,"WATER9 (U.S. EPA, 2001)",10,"EPI",1000000,"PHYSPROP",-68,"PHYSPROP",4.5399999999999998E-4,"EPI","","","","",0.56000000000000005,"PHYSPROP",2.1899999999999999E-2,"PHYSPROP","","","",2.22406814074E-3,0.85179826201471998,2.0443158288353298,1,"RSL, nov/2022"]
["113-00-8","Guanidine",59.070999999999998,"PHYSPROP",9.5666394112999991E-10,2.3400000000000001E-11,"PHYSPROP",1.6,"GuideChem",0.13781937214352999,"WATER9 (U.S. EPA, 2001)",1.708622797E-5,"WATER9 (U.S. EPA, 2001)",11.950000000000001,"EPI",1840,"PHYSPROP",50,"PHYSPROP",6.0300000000000002E-5,"EPI","","","","",-1.6300000000000001,"PHYSPROP",2.21,"PHYSPROP","","","",1.7825065142E-4,0.22524043095820001,0.54057703429967996,1,"RSL, nov/2022"]
["114-26-1","Phenol, 2-(1-methylethoxy)-, methylcarbamate",209.25,"PHYSPROP",5.8462796402299999E-8,1.43E-9,"EPI",1.1000000000000001,"CRC",2.5744522470780001E-2,"WATER9 (U.S. EPA, 2001)",6.5826885132299998E-6,"WATER9 (U.S. EPA, 2001)",59.95,"EPI",1860,"PHYSPROP",90,"PHYSPROP",1.07E-3,"EPI","","",0.15340000000000001,"Handbook of Environmental Degradation Rates. Lewis. Publishers, Chelsea, MI, 1989",1.52,"PHYSPROP",2.0999999999999999E-5,"PHYSPROP","","","",5.9530997966900003E-3,1.5618839051126701,3.74852137227042,1,"RSL, nov/2022"]
["115-07-1","Propylene",42.081000000000003,"PHYSPROP",8.0130825838103004,0.19600000000000001,"PHYSPROP",0.51,"CRC",0.10969671150322,"WATER9 (U.S. EPA, 2001)",1.0685502919999999E-5,"WATER9 (U.S. EPA, 2001)",21.73,"EPI",200,"PHYSPROP",-185,"PHYSPROP",1.3599999999999999E-2,"EPI","","","","",1.77,"PHYSPROP",8690,"PHYSPROP","","","",3.3931931863660003E-2,0.18092656987014,0.43422376768833998,1,"RSL, nov/2022"]
["115-29-7","Endosulfan",406.93,"PHYSPROP",2.65739983647E-3,6.4999999999999994E-5,"PHYSPROP",1.8,"CRC",2.2484548455469999E-2,"WATER9 (U.S. EPA, 2001)",5.76284853659E-6,"WATER9 (U.S. EPA, 2001)",6761,"EPI",0.32500000000000001,"PHYSPROP",106,"PHYSPROP",2.8600000000000001E-3,"EPI","","",2.4879999999999999E-2,"Handbook of Environmental Degradation Rates. Lewis. Publishers, Chelsea, MI, 1989",3.83,"PHYSPROP",1.73E-7,"PHYSPROP","","","",2.2189756645800002E-2,19.982818768391599,47.958765044139902,0.9,"RSL, nov/2022"]
["115-96-8","Tris(2-chloroethyl)phosphate",285.49,"PHYSPROP",1.3450531479999999E-4,3.2899999999999998E-6,"EPI",1.4,"CRC",2.421840168156E-2,"WATER9 (U.S. EPA, 2001)",6.2190795402600004E-6,"WATER9 (U.S. EPA, 2001)",388.3,"EPI",7000,"PHYSPROP",-55,"PHYSPROP",3.5500000000000001E-4,"EPI","","","","",1.44,"PHYSPROP",6.13E-2,"PHYSPROP","","","",2.30701519714E-3,4.1743873878478999,10.018529730835001,1,"RSL, nov/2022"]
["116-06-3","Aldicarb",190.27,"PHYSPROP",5.88716271464E-8,1.44E-9,"EPI",1.2,"CRC",3.1862890588700003E-2,"WATER9 (U.S. EPA, 2001)",7.2455327501400001E-6,"WATER9 (U.S. EPA, 2001)",24.64,"EPI",6030,"PHYSPROP",99,"PHYSPROP",7.5500000000000003E-4,"EPI","","",1.7397,"Handbook of Environmental Degradation Rates. Lewis. Publishers, Chelsea, MI, 1989",1.1299999999999999,"PHYSPROP",3.4700000000000003E-5,"PHYSPROP","","","",4.0055186920799997E-3,1.2228149778569499,2.9347559468566802,1,"RSL, nov/2022"]
["1163-19-5","Decabromodiphenyl ether, 2,2',3,3',4,4',5,5',6,6'- (BDE-209)",959.17000000000007,"PHYSPROP",4.8650858544600005E-7,1.1900000000000001E-8,"PHYSPROP",3,"IRIS Profile",1.8924069924780001E-2,"WATER9 (U.S. EPA, 2001)",4.7687787356900003E-6,"WATER9 (U.S. EPA, 2001)",276200,"EPI",1E-4,"PHYSPROP",305,"PHYSPROP",0.72499999999999998,"EPI","","",2,"Handbook of Environmental Degradation Rates. Lewis. Publishers, Chelsea, MI, 1989",12.11,"PHYSPROP",4.6700000000000001E-12,"PHYSPROP","","","",8.6359963881919199,24728.669464888098,111398.388456328,0,"RSL, nov/2022"]
["117-81-7","Bis(2-ethylhexyl)phthalate",390.57,"PHYSPROP",1.103843009E-5,2.7000000000000001E-7,"EPI",0.98,"CRC",1.7340283185039999E-2,"WATER9 (U.S. EPA, 2001)",4.18074661646E-6,"WATER9 (U.S. EPA, 2001)",119600,"EPI",0.27,"PHYSPROP",-55,"PHYSPROP",1.1299999999999999,"EPI","","",1.0657000000000001,"Handbook of Environmental Degradation Rates. Lewis. Publishers, Chelsea, MI, 1989",7.6000000000000005,"PHYSPROP",1.42E-7,"PHYSPROP","","","",8.5892360135147108,16.182318683408699,72.882394847308603,0.8,"RSL, nov/2022"]
["117-84-0","Octyl Phthalate, di-N-",390.57,"PHYSPROP",1.0506950123E-4,2.57E-6,"EPI","","",3.555939361675E-2,"WATER9 (U.S. EPA, 2001)",4.1548344120599999E-6,"WATER9 (U.S. EPA, 2001)",140800,"EPI",2.1999999999999999E-2,"PHYSPROP",25,"PHYSPROP",2.4300000000000002,"EPI","","","","",8.1,"PHYSPROP",9.9999999999999995E-8,"PHYSPROP","","","",18.470657975965299,16.182318683408699,74.584832195974002,0,"RSL, nov/2022"]
["118-74-1","Hexachlorobenzene",284.77999999999997,"PHYSPROP",6.9501226492230006E-2,1.6999999999999999E-3,"PHYSPROP",2,"CRC",2.8974507367290001E-2,"WATER9 (U.S. EPA, 2001)",7.8497281212200001E-6,"WATER9 (U.S. EPA, 2001)",6195,"EPI",6.1999999999999998E-3,"PHYSPROP",231.8,"PHYSPROP",0.254,"EPI","","",11.4466,"Handbook of Environmental Degradation Rates. Lewis. Publishers, Chelsea, MI, 1989",5.73,"PHYSPROP",1.8E-5,"PHYSPROP","","","",1.6485993014692,4.1363449507906704,16.572823901394202,0.9,"RSL, nov/2022"]
["118-75-2","Chloranil",245.88,"PHYSPROP",1.33687653312E-8,3.2700000000000001E-10,"PHYSPROP","","",4.8410339831829997E-2,"WATER9 (U.S. EPA, 2001)",5.6563660224600002E-6,"WATER9 (U.S. EPA, 2001)",308.10000000000002,"EPI",250,"PHYSPROP",290,"PHYSPROP",1.9400000000000001E-3,"EPI","","","","",2.2200000000000002,"PHYSPROP",2.2800000000000002E-6,"PHYSPROP","","","",1.170011106001E-2,2.5048213111023498,6.0115711466456396,1,"RSL, nov/2022"]
["118-79-6","Tribromophenol, 2,4,6-",330.8,"PHYSPROP",1.4513491414599999E-6,3.55E-8,"PHYSPROP",2.6,"CRC",2.9726549447260001E-2,"WATER9 (U.S. EPA, 2001)",8.1932570300300004E-6,"WATER9 (U.S. EPA, 2001)",805.2,"EPI",70,"PHYSPROP",95.5,"PHYSPROP",1.21E-2,"EPI","","","","",4.13,"PHYSPROP",3.0299999999999999E-4,"PHYSPROP","","","",8.4643726022839996E-2,7.48736059753403,17.969665434081701,0.9,"RSL, nov/2022"]
["118-96-7","Trinitrotoluene, 2,4,6-",227.13,"PHYSPROP",8.5036794767000002E-7,2.0800000000000001E-8,"EPI",1.7,"CRC",2.950930215056E-2,"WATER9 (U.S. EPA, 2001)",7.9182347703500003E-6,"WATER9 (U.S. EPA, 2001)",2812,"EPI",115,"PHYSPROP",80.099999999999994,"PHYSPROP",9.6299999999999999E-4,"EPI","","",1,"Handbook of Environmental Degradation Rates. Lewis. Publishers, Chelsea, MI, 1989",1.6,"PHYSPROP",8.0199999999999994E-6,"PHYSPROP","","","",5.5820045943600002E-3,1.96687495180828,4.7204998843398798,1,"RSL, nov/2022"]
["119-90-4","Dimethoxybenzidine, 3,3'-",244.3,"PHYSPROP",1.9215044971400001E-9,4.6999999999999999E-11,"PHYSPROP","","",4.861884338078E-2,"WATER9 (U.S. EPA, 2001)",5.6807280160700001E-6,"WATER9 (U.S. EPA, 2001)",508.8,"EPI",60,"PHYSPROP",137,"PHYSPROP",1.06E-3,"EPI","","",0.98629999999999995,"Handbook of Environmental Degradation Rates. Lewis. Publishers, Chelsea, MI, 1989",1.81,"PHYSPROP",1.2499999999999999E-7,"PHYSPROP","","","",6.37227119924E-3,2.4543062289987398,5.8903349495969701,1,"RSL, nov/2022"]
["119-93-7","Dimethylbenzidine, 3,3'-",212.3,"PHYSPROP",2.57154538021E-9,6.2899999999999997E-11,"PHYSPROP","","",5.3389223546140001E-2,"WATER9 (U.S. EPA, 2001)",6.2381092775000003E-6,"WATER9 (U.S. EPA, 2001)",3190,"EPI",1300,"PHYSPROP",131.5,"PHYSPROP",3.62E-3,"EPI","","",3.8399999999999997E-2,"Handbook of Environmental Degradation Rates. Lewis. Publishers, Chelsea, MI, 1989",2.34,"PHYSPROP",6.92E-7,"PHYSPROP","","","",2.028664454131E-2,1.62453379223369,3.8988811013608502,1,"RSL, nov/2022"]
["120-12-7","Anthracene",178.24,"PHYSPROP",2.2730989370400002E-3,5.5600000000000003E-5,"PHYSPROP",1.3,"CRC",3.8973167043099999E-2,"WATER9 (U.S. EPA, 2001)",7.8522596013299994E-6,"WATER9 (U.S. EPA, 2001)",16360,"EPI",4.3400000000000001E-2,"PHYSPROP",215,"PHYSPROP",0.14199999999999999,"EPI","","",2.5205000000000002,"Handbook of Environmental Degradation Rates. Lewis. Publishers, Chelsea, MI, 1989",4.45,"PHYSPROP",6.5300000000000002E-6,"EPI","","","",0.72915118033710002,1.0471110667780701,4.0502150728380801,1,"RSL, nov/2022"]
["120-61-6","Dimethylterephthalate",194.19,"PHYSPROP",5.4783319705599999E-3,1.34E-4,"EPI",1.1000000000000001,"CRC",2.85328637192E-2,"WATER9 (U.S. EPA, 2001)",6.7170832838600002E-6,"WATER9 (U.S. EPA, 2001)",30.96,"EPI",19,"PHYSPROP",141,"PHYSPROP",3.9899999999999996E-3,"EPI","","",0.98629999999999995,"Handbook of Environmental Degradation Rates. Lewis. Publishers, Chelsea, MI, 1989",2.25,"PHYSPROP",0.01,"PHYSPROP","","","",2.1385183373060002E-2,1.28621257012256,3.08691016829414,1,"RSL, nov/2022"]
["120-82-1","Trichlorobenzene, 1,2,4-",181.45000000000002,"PHYSPROP",5.8053965658219998E-2,1.42E-3,"PHYSPROP",1.5,"CRC",3.9599247847320003E-2,"WATER9 (U.S. EPA, 2001)",8.4033173162499994E-6,"WATER9 (U.S. EPA, 2001)",1356,"EPI",49,"PHYSPROP",17,"PHYSPROP",7.0499999999999993E-2,"EPI","","",1,"Handbook of Environmental Degradation Rates. Lewis. Publishers, Chelsea, MI, 1989",4.0199999999999996,"PHYSPROP",0.46,"PHYSPROP","","","",0.36525338989715,1.0913618028648799,2.61926832687571,1,"RSL, nov/2022"]
["120-83-2","Dichlorophenol, 2,4-",163,"PHYSPROP",1.7538838921000001E-4,4.2899999999999996E-6,"EPI",1.4,"PERRY",4.8576831463819997E-2,"WATER9 (U.S. EPA, 2001)",8.6786568514900008E-6,"WATER9 (U.S. EPA, 2001)",147,"SSL",5550,"PHYSPROP",45,"PHYSPROP",2.06E-2,"EPI","","",0.1178,"Handbook of Environmental Degradation Rates. Lewis. Publishers, Chelsea, MI, 1989",3.06,"PHYSPROP",0.09,"PHYSPROP","","","",0.10115507457575,0.86029767582779004,2.06471442198669,1,"RSL, nov/2022"]
["12035-72-2","Nickel Subsulfide",240.21,"CRC","","","",5.9,"CRC","","","","","","","","",789,"CRC",2.0000000000000001E-4,"RAGSE","","","","","","","","","","","",1.19220843259E-3,2.3282239349374798,5.5877374438499503,1,"RSL, nov/2022"]
["12039-52-0","Thallium Selenite",283.33999999999997,"EPI","","","","","","","","","","","","","",330,"CRC",1E-3,"RAGSE","","","","","","","","","","","",6.4741177919000002E-3,4.0602497624533997,9.7445994298881509,1,"RSL, nov/2022"]
["12054-48-7","Nickel Hydroxide",92.708100000000002,"WebBook","","","","","","","","","","","","","","","",1E-3,"RAGSE","","","","","","","","","","","",3.7032709833800001E-3,0.34754745258727998,0.83411388620946003,1,"RSL, nov/2022"]
["121-14-2","Dinitrotoluene, 2,4-",182.14000000000001,"PHYSPROP",2.2076860179899999E-6,5.4E-8,"PHYSPROP",1.3,"CRC",3.7511504073990003E-2,"WATER9 (U.S. EPA, 2001)",7.8982487671299997E-6,"WATER9 (U.S. EPA, 2001)",575.6,"EPI",200,"PHYSPROP",71,"PHYSPROP",3.0799999999999998E-3,"EPI","","",0.98629999999999995,"Handbook of Environmental Degradation Rates. Lewis. Publishers, Chelsea, MI, 1989",1.98,"PHYSPROP",1.47E-4,"PHYSPROP","","","",1.5987480753030001E-2,1.1011151793496901,2.64267643043926,1,"RSL, nov/2022"]
["121-44-8","Triethylamine",101.19,"PHYSPROP",6.0915780866699996E-3,1.4899999999999999E-4,"PHYSPROP",0.73,"CRC",6.6363129017280004E-2,"WATER9 (U.S. EPA, 2001)",7.8575836408999995E-6,"WATER9 (U.S. EPA, 2001)",50.81,"EPI",68600,"PHYSPROP",-114.7,"PHYSPROP",3.8999999999999998E-3,"EPI","","","","",1.45,"PHYSPROP",57.07,"PHYSPROP","","","",1.508898604943E-2,0.38771513052607998,0.93051631326259998,1,"RSL, nov/2022"]
["121-69-7","Dimethylaniline, N,N-",121.18,"PHYSPROP",2.32215862633E-3,5.6799999999999998E-5,"EPI",0.96,"CRC",6.254106545792E-2,"WATER9 (U.S. EPA, 2001)",8.3062721091599994E-6,"WATER9 (U.S. EPA, 2001)",78.67,"EPI",1450,"PHYSPROP",2.5,"PHYSPROP",1.12E-2,"EPI","","",0.98629999999999995,"Handbook of Environmental Degradation Rates. Lewis. Publishers, Chelsea, MI, 1989",2.31,"PHYSPROP",0.70000000000000007,"PHYSPROP","","","",4.7419847042050003E-2,0.50171461195013001,1.2041150686803199,1,"RSL, nov/2022"]
["121-75-5","Malathion",330.36,"PHYSPROP",1.99918233851E-7,4.8900000000000003E-9,"PHYSPROP",1.2,"CRC",2.098733839134E-2,"WATER9 (U.S. EPA, 2001)",5.2364041659900004E-6,"WATER9 (U.S. EPA, 2001)",31.27,"EPI",143,"PHYSPROP",2.8000000000000003,"PHYSPROP",8.12E-4,"EPI","","",0.28220000000000001,"Handbook of Environmental Degradation Rates. Lewis. Publishers, Chelsea, MI, 1989",2.36,"PHYSPROP",3.3799999999999998E-6,"PHYSPROP","","","",5.6764446827800002E-3,7.4450008147632403,17.868001955431801,1,"RSL, nov/2022"]
["121-82-4","Hexahydro-1,3,5-trinitro-1,3,5-triazine (RDX)",222.12,"PHYSPROP",8.2174979558000002E-10,2.01E-11,"EPI",1.8,"CRC",3.1154050632899999E-2,"WATER9 (U.S. EPA, 2001)",8.4988860314999992E-6,"WATER9 (U.S. EPA, 2001)",89.070000000000007,"EPI",59.7,"PHYSPROP",205.5,"PHYSPROP",3.3599999999999998E-4,"EPI","","","","",0.87,"PHYSPROP",4.1000000000000003E-9,"EPI","","","",1.9260154287899999E-3,1.8438294597037499,4.4251907032890001,1,"RSL, nov/2022"]
["12122-67-7","Zineb",275.73,"PHYSPROP",1.11201962388E-7,2.7200000000000001E-9,"PHYSPROP","","",4.4850186544589998E-2,"WATER9 (U.S. EPA, 2001)",5.24039021732E-6,"WATER9 (U.S. EPA, 2001)",1345,"EPI",10,"PHYSPROP",157,"EPI",3.2499999999999999E-4,"EPI","","","","",1.3,"PHYSPROP",7.4999999999999997E-8,"PHYSPROP","","","",2.07563996155E-3,3.6807536346715501,8.8338087232117193,1,"RSL, nov/2022"]
["122-34-9","Simazine",201.66,"PHYSPROP",3.8511856091599997E-8,9.4200000000000006E-10,"EPI",1.3,"CRC",2.813938185216E-2,"WATER9 (U.S. EPA, 2001)",7.3665900890800004E-6,"WATER9 (U.S. EPA, 2001)",146.5,"EPI",6.2,"PHYSPROP",226,"PHYSPROP",3.2499999999999999E-3,"EPI","","","","",2.1800000000000002,"PHYSPROP",2.2099999999999999E-8,"PHYSPROP","","","",1.7750880259860002E-2,1.41626574027702,3.3990377766648598,1,"RSL, nov/2022"]
["122-39-4","Diphenylamine",169.23,"PHYSPROP",1.0997547016000001E-4,2.6900000000000001E-6,"EPI",1.2,"CRC",4.1705642848430001E-2,"WATER9 (U.S. EPA, 2001)",7.62799666551E-6,"WATER9 (U.S. EPA, 2001)",825.80000000000007,"EPI",53,"PHYSPROP",52.9,"PHYSPROP",3.73E-2,"EPI","","",0.15340000000000001,"Handbook of Environmental Degradation Rates. Lewis. Publishers, Chelsea, MI, 1989",3.5,"PHYSPROP",6.7000000000000002E-4,"PHYSPROP","","","",0.18662686513453,0.93225935396905002,2.2374224495257198,1,"RSL, nov/2022"]
["122-42-9","Propham",179.22,"PHYSPROP",7.5224856909199997E-6,1.8400000000000001E-7,"EPI",1.1000000000000001,"CRC",3.5750039167720002E-2,"WATER9 (U.S. EPA, 2001)",7.1071549910599998E-6,"WATER9 (U.S. EPA, 2001)",218.6,"EPI",179,"PHYSPROP",87.3,"PHYSPROP",8.26E-3,"EPI","","","","",2.6,"PHYSPROP",1.3999999999999999E-4,"PHYSPROP","","","",4.2530445885490001E-2,1.0604269332212899,2.5450246397310901,1,"RSL, nov/2022"]
["122-66-7","Diphenylhydrazine, 1,2-",184.24,"PHYSPROP",1.9542109569999999E-5,4.7800000000000002E-7,"EPI",1.2,"CRC",3.431164309062E-2,"WATER9 (U.S. EPA, 2001)",7.2488072576399998E-6,"WATER9 (U.S. EPA, 2001)",1505,"EPI",221,"PHYSPROP",131,"PHYSPROP",1.2999999999999999E-2,"EPI","","",0.98629999999999995,"Handbook of Environmental Degradation Rates. Lewis. Publishers, Chelsea, MI, 1989",2.94,"PHYSPROP",4.3600000000000003E-4,"EPI","","","",6.7867518003829994E-2,1.1313389766816,2.71521354403585,1,"RSL, nov/2022"]
["123-30-8","Aminophenol, p-",109.13,"PHYSPROP",1.46770237122E-8,3.59E-10,"EPI","","",8.3200160513259999E-2,"WATER9 (U.S. EPA, 2001)",9.7212819126000001E-6,"WATER9 (U.S. EPA, 2001)",90.2,"EPI",16000,"PHYSPROP",187.5,"PHYSPROP",4.0700000000000003E-4,"EPI","","","","",0.04,"PHYSPROP",4.0000000000000003E-5,"EPI","","","",1.63528381672E-3,0.42951343172396,1.0308322361375,1,"RSL, nov/2022"]
["123-31-9","Hydroquinone",110.11,"PHYSPROP",1.9337694194599999E-9,4.7300000000000001E-11,"EPI",1.3,"CRC",7.9842511667470001E-2,"WATER9 (U.S. EPA, 2001)",1.0727207919999999E-5,"WATER9 (U.S. EPA, 2001)",240.5,"EPI",72000,"PHYSPROP",170,"PHYSPROP",9.3099999999999997E-4,"EPI","","",3.8399999999999997E-2,"Handbook of Environmental Degradation Rates. Lewis. Publishers, Chelsea, MI, 1989",0.59,"PHYSPROP",2.4000000000000001E-5,"EPI","","","",3.7574197544999999E-3,0.43497545354175998,1.04394108850022,1,"RSL, nov/2022"]
["123-33-1","Maleic Hydrazide",112.09,"PHYSPROP",1.08340147179E-9,2.6499999999999999E-11,"PHYSPROP","","",8.1728906482080005E-2,"WATER9 (U.S. EPA, 2001)",9.5493774942200002E-6,"WATER9 (U.S. EPA, 2001)",3.3029999999999999,"EPI",4507,"PHYSPROP",306,"PHYSPROP",1.02E-4,"EPI","","","","",-0.84,"PHYSPROP",2.7700000000000002E-6,"PHYSPROP","","","",4.1534621617000001E-4,0.44622381984907999,1.0709371676377899,1,"RSL, nov/2022"]
["123-38-6","Propionaldehyde",58.081000000000003,"PHYSPROP",3.0008176614900002E-3,7.3399999999999995E-5,"PHYSPROP",0.87,"CRC",0.11037670384569,"WATER9 (U.S. EPA, 2001)",1.2169472990000001E-5,"WATER9 (U.S. EPA, 2001)",1,"EPI",306000,"PHYSPROP",-80,"PHYSPROP",1.82E-3,"EPI","","",3.8399999999999997E-2,"Handbook of Environmental Degradation Rates. Lewis. Publishers, Chelsea, MI, 1989",0.59,"PHYSPROP",316.8,"PHYSPROP","","","",5.3347624126999999E-3,0.22238339169509,0.53372014006821,1,"RSL, nov/2022"]
["123-73-9","Crotonaldehyde, trans-",70.091999999999999,"PHYSPROP",7.9313164350000001E-4,1.9400000000000001E-5,"PHYSPROP",0.85,"CRC",9.5923530204479995E-2,"WATER9 (U.S. EPA, 2001)",1.0764951860000001E-5,"WATER9 (U.S. EPA, 2001)",1.7929999999999999,"EPI",150000,"PHYSPROP",-76,"PHYSPROP",1.5900000000000001E-3,"EPI","","",3.8359999999999998E-2,"Handbook of Environmental Degradation Rates. Lewis. Publishers, Chelsea, MI, 1989",0.6,"PHYSPROP",30,"PHYSPROP","","","",5.1198590205699997E-3,0.25963542603604001,0.62312502248649004,1,"RSL, nov/2022"]
["123-77-3","Azodicarbonamide",116.08,"PHYSPROP",3.3524E-11,8.2000000000000004E-13,"EPI",1.7,"GuideChem",8.295558166493E-2,"WATER9 (U.S. EPA, 2001)",1.182790148E-5,"WATER9 (U.S. EPA, 2001)",69.58,"EPI",35,"PHYSPROP",212,"EPI",2.5899999999999999E-5,"EPI","","","","",-1.7,"PHYSPROP",1.88E-10,"PHYSPROP","","","",1.0732604254E-4,0.46978240794539,1.1274777790689301,1,"RSL, nov/2022"]
["123-91-1","Dioxane, 1,4-",88.106999999999999,"PHYSPROP",1.9623875715000001E-4,4.7999999999999998E-6,"PHYSPROP",1,"CRC",8.7373925367260005E-2,"WATER9 (U.S. EPA, 2001)",1.0541495629999999E-5,"WATER9 (U.S. EPA, 2001)",2.633,"EPI",1000000,"PHYSPROP",11.8,"PHYSPROP",3.3199999999999999E-4,"EPI","","",0.98629999999999995,"Handbook of Environmental Degradation Rates. Lewis. Publishers, Chelsea, MI, 1989",-0.27,"PHYSPROP",38.090000000000003,"PHYSPROP","","","",1.1985880480299999E-3,0.32752763525405998,0.78606632460975001,1,"RSL, nov/2022"]
["124-04-9","Hexanedioic Acid",146.13999999999999,"PHYSPROP",1.9255928046E-10,4.7099999999999999E-12,"EPI",1.4,"CRC",5.7681867550990001E-2,"WATER9 (U.S. EPA, 2001)",9.1734702059500005E-6,"WATER9 (U.S. EPA, 2001)",24.34,"EPI",30800,"PHYSPROP",153.19999999999999,"PHYSPROP",2.6800000000000001E-4,"EPI","","","","",0.08,"PHYSPROP",3.1800000000000002E-7,"EPI","","","",1.24608020675E-3,0.69220184035379995,1.6612844168491301,1,"RSL, nov/2022"]
["124-48-1","Dibromochloromethane",208.28,"PHYSPROP",3.2011447260830002E-2,7.8299999999999995E-4,"PHYSPROP",2.5,"CRC",3.663560512248E-2,"WATER9 (U.S. EPA, 2001)",1.056061516E-5,"WATER9 (U.S. EPA, 2001)",31.82,"EPI",2700,"PHYSPROP",-20,"PHYSPROP",2.8900000000000002E-3,"EPI","","",0.49320000000000003,"Handbook of Environmental Degradation Rates. Lewis. Publishers, Chelsea, MI, 1989",2.16,"PHYSPROP",5.54,"PHYSPROP","","","",1.6041622027649999E-2,1.54247008368927,3.7019282008542498,1,"RSL, nov/2022"]
["124-58-3","Methylarsonic acid",139.97,"PHYSPROP","","","","","",7.0479631689270003E-2,"WATER9 (U.S. EPA, 2001)",8.2349885447499993E-6,"WATER9 (U.S. EPA, 2001)",43.89,"EPI",256000,"PHYSPROP",160.5,"PHYSPROP",4.1900000000000002E-5,"EPI","","","","",-1.18,"PHYSPROP",1.6199999999999999E-3,"PHYSPROP","","","",1.9065937116999999E-4,0.63926473845943999,1.53423537230266,1,"RSL, nov/2022"]
["12427-38-2","Maneb",295.37,"PHYSPROP",1.9869174161900001E-7,4.8600000000000002E-9,"PHYSPROP","","",4.2839330891069997E-2,"WATER9 (U.S. EPA, 2001)",5.0054376093800001E-6,"WATER9 (U.S. EPA, 2001)",607.6,"EPI",6,"PHYSPROP",200,"EPI",7.7099999999999998E-4,"EPI","","","","",0.62,"PHYSPROP",7.4999999999999997E-8,"PHYSPROP","","","",5.0964083850800002E-3,4.7415545312161296,11.3797308749187,1,"RSL, nov/2022"]
["126-33-0","Sulfolane",120.17,"PHYSPROP",1.9828291086999999E-4,4.8500000000000002E-6,"PHYSPROP",1.3,"CRC",7.1599814202510007E-2,"WATER9 (U.S. EPA, 2001)",9.9116932103099997E-6,"WATER9 (U.S. EPA, 2001)",9.0790000000000006,"EPI",1000000,"PHYSPROP",27.6,"PHYSPROP",1.02E-4,"EPI","","","","",-0.77,"PHYSPROP",4.0899999999999999E-3,"EPI","","","",4.3005584473000002E-4,0.49522293487003,1.1885350436880699,1,"RSL, nov/2022"]
["126-72-7","Tris(2,3-dibromopropyl)phosphate",697.62,"PHYSPROP",8.9125102207999996E-4,2.1800000000000001E-5,"EPI",2.2999999999999998,"PubChem",1.9401518581170001E-2,"WATER9 (U.S. EPA, 2001)",4.8833284105300002E-6,"WATER9 (U.S. EPA, 2001)",9706,"EPI",8,"PHYSPROP",5.5,"PHYSPROP",1.35E-4,"EPI","","","","",4.29,"PHYSPROP",1.9000000000000001E-4,"PHYSPROP","","","",1.3714181156499999E-3,848.24390867587601,2035.7853808221,1,"RSL, nov/2022"]
["126-73-8","Tributyl Phosphate",266.32,"PHYSPROP",5.7645134910000002E-5,1.4100000000000001E-6,"EPI",0.97,"CRC",2.1184112234189999E-2,"WATER9 (U.S. EPA, 2001)",5.2337967333400004E-6,"WATER9 (U.S. EPA, 2001)",2350,"EPI",280,"PHYSPROP",-79,"PHYSPROP",2.2800000000000001E-2,"EPI","","","","",4,"PHYSPROP",1.1299999999999999E-3,"PHYSPROP","","","",0.14310782792776,3.26017377503601,7.82441706008641,0.9,"RSL, nov/2022"]
["126-98-7","Methacrylonitrile",67.090999999999994,"PHYSPROP",1.009811937858E-2,2.4699999999999999E-4,"EPI",0.8,"CRC",9.6429871013529997E-2,"WATER9 (U.S. EPA, 2001)",1.064534583E-5,"WATER9 (U.S. EPA, 2001)",13.05,"EPI",25400,"PHYSPROP",-35.799999999999997,"PHYSPROP",1.8600000000000001E-3,"EPI","","","","",0.68,"PHYSPROP",71.2,"PHYSPROP","","","",5.85965071055E-3,0.24978039589539,0.59947295014893998,1,"RSL, nov/2022"]
["126-99-8","Chloro-1,3-butadiene, 2-",88.537000000000006,"PHYSPROP",2.29354047424366,5.6099999999999997E-2,"PHYSPROP",0.96,"CRC",8.4148902764249994E-2,"WATER9 (U.S. EPA, 2001)",1.0029323170000001E-5,"WATER9 (U.S. EPA, 2001)",60.7,"EPI",874.9,"PHYSPROP",-130,"PHYSPROP",2.3800000000000002E-2,"EPI","","",0.98629999999999995,"Handbook of Environmental Degradation Rates. Lewis. Publishers, Chelsea, MI, 1989",2.5299999999999998,"PHYSPROP",215.5,"PHYSPROP","","","",8.6132293217530007E-2,0.32934869702405001,0.79043687285773001,1,"RSL, nov/2022"]
["12672-29-6","Aroclor 1248",291.99,"EPI",1.7988552739170001E-2,4.4000000000000002E-4,"PHYSPROP",1.4,"HSDB",2.4059346353109998E-2,"WATER9 (U.S. EPA, 2001)",6.1752817781900002E-6,"WATER9 (U.S. EPA, 2001)",76530,"EPI",0.1,"PHYSPROP",122.32000000000001,"EPI",0.47500000000000003,"EPI","","","","",6.2,"PHYSPROP",4.9399999999999997E-4,"PHYSPROP","","","",3.1217940655766898,4.5393403832826502,19.240400206389001,0.7,"RSL, nov/2022"]
["12674-11-2","Aroclor 1016",257.55,"EPI",8.1766148814399996E-3,2.0000000000000001E-4,"EPI",1.4,"ATSDR Profile",2.5371767712639999E-2,"WATER9 (U.S. EPA, 2001)",6.5582380914400001E-6,"WATER9 (U.S. EPA, 2001)",47700,"EPI",0.42,"PHYSPROP",100.85000000000001,"EPI",0.30499999999999999,"EPI","","","","",5.69,"PHYSPROP",4.0000000000000002E-4,"PHYSPROP","","","",1.8825965933869,2.91158014829736,11.8079371120518,0.9,"RSL, nov/2022"]
["127-18-4","Tetrachloroethylene",165.83,"PHYSPROP",0.72363041700735997,1.77E-2,"PHYSPROP",1.6,"CRC",5.0466374151020003E-2,"WATER9 (U.S. EPA, 2001)",9.4550759772300007E-6,"WATER9 (U.S. EPA, 2001)",94.94,"EPI",206,"PHYSPROP",-22.3,"PHYSPROP",3.3399999999999999E-2,"EPI","","",2,"Handbook of Environmental Degradation Rates. Lewis. Publishers, Chelsea, MI, 1989",3.4,"PHYSPROP",18.5,"PHYSPROP","","","",0.16542634303645001,0.89227094155288,2.1414502597269101,1,"RSL, nov/2022"]
["127-63-9","Diphenyl Sulfone",218.28,"PHYSPROP",1.017988553E-5,2.4900000000000002E-7,"PHYSPROP",1.3,"CRC",2.6517719768670001E-2,"WATER9 (U.S. EPA, 2001)",6.8616095546699999E-6,"WATER9 (U.S. EPA, 2001)",1109,"EPI",313.60000000000002,"PHYSPROP",128.5,"PHYSPROP",3.6700000000000001E-3,"EPI","","","","",2.4,"PHYSPROP",1.5299999999999999E-5,"PHYSPROP","","","",2.08544955351E-2,1.75475605477126,4.2114145314510401,1,"RSL, nov/2022"]
["1271-28-9","Nickelocene",188.87899999999999,"CRC","","","","","",5.7716211709710002E-2,"WATER9 (U.S. EPA, 2001)",6.7436836839799999E-6,"WATER9 (U.S. EPA, 2001)","","","","",173,"CRC","","","","","","","","","","","","","","",1.20107782713082,2.8825867851139599,0,"RSL, nov/2022"]
["12789-03-6","Chlordane (technical mixture)",409.78000000000003,"PHYSPROP",1.9869174161899999E-3,4.8600000000000002E-5,"EPI",1.6,"CRC",2.1493012115890001E-2,"WATER9 (U.S. EPA, 2001)",5.4477015420599998E-6,"WATER9 (U.S. EPA, 2001)",67540,"EPI",5.6000000000000001E-2,"EPI",106,"EPI",0.107,"EPI","","","","",6.16,"EPI",9.9799999999999993E-6,"PHYSPROP","","","",0.83307827437919002,20.730832832149101,79.689721818315903,0.7,"RSL, nov/2022"]
["128-37-0","Butylated hydroxytoluene",220.36,"PHYSPROP",1.6843826655999999E-4,4.1200000000000004E-6,"PHYSPROP",0.89,"CRC",2.250943806699E-2,"WATER9 (U.S. EPA, 2001)",5.5732325909700002E-6,"WATER9 (U.S. EPA, 2001)",14750,"EPI",0.6,"PHYSPROP",71,"PHYSPROP",0.223,"EPI","","","","",5.0999999999999996,"PHYSPROP",5.1599999999999997E-3,"EPI","","","",1.2732037143461601,1.8024563225516299,7.0634042185433801,1,"RSL, nov/2022"]
["129-00-0","Pyrene",202.26,"PHYSPROP",4.8650858544999997E-4,1.19E-5,"PHYSPROP",1.3,"CRC",2.7787275434940001E-2,"WATER9 (U.S. EPA, 2001)",7.2479151442499996E-6,"WATER9 (U.S. EPA, 2001)",54340,"EPI",0.13500000000000001,"PHYSPROP",151.19999999999999,"PHYSPROP",0.20100000000000001,"EPI","","",10.4,"Handbook of Environmental Degradation Rates. Lewis. Publishers, Chelsea, MI, 1989",4.88,"PHYSPROP",4.5000000000000001E-6,"PHYSPROP","","","",1.09945563857003,1.42726543921932,5.53530713863268,1,"RSL, nov/2022"]
["1306-38-3","Ceric oxide",172.11500000000001,"CRC","","","",7.2,"CRC","","","","","","","","",2480,"CRC",1E-3,"RAGSE","","","","","","","","","","","",5.0458694807299998E-3,0.96759307083913004,2.3222233700139099,1,"RSL, nov/2022"]
["13071-79-9","Terbufos",288.43,"PHYSPROP",9.8119378577000006E-4,2.4000000000000001E-5,"EPI",1.1000000000000001,"CRC",2.159545075558E-2,"WATER9 (U.S. EPA, 2001)",5.3859817858600002E-6,"WATER9 (U.S. EPA, 2001)",998.9,"EPI",5.07,"PHYSPROP",-29.2,"PHYSPROP",3.5799999999999998E-2,"EPI","","","","",4.4800000000000004,"PHYSPROP",3.2000000000000003E-4,"PHYSPROP","","","",0.2338459720394,4.3356752931100102,10.405620703464001,0.9,"RSL, nov/2022"]
["1309-64-4","Antimony Trioxide",291.52,"EPI","","","",5.6,"CRC","","","","","","","","",570,"CRC",1E-3,"RAGSE","","","","","","","","","","","",6.5669064524299997E-3,4.5119133402526899,10.8285920166065,1,"RSL, nov/2022"]
["131-74-8","Ammonium Picrate",229.11,"PHYSPROP",6.9501226491999997E-10,1.6999999999999999E-11,"EPI",1.8,"PERRY",3.023644087746E-2,"WATER9 (U.S. EPA, 2001)",8.1845862885599995E-6,"WATER9 (U.S. EPA, 2001)",2251,"EPI",12700,"PHYSPROP",122.5,"PHYSPROP",6.2100000000000002E-4,"EPI","","","","",1.44,"PHYSPROP",7.5000000000000002E-7,"PHYSPROP","","","",3.6152661500599998E-3,2.0177378907591801,4.8425709378220398,1,"RSL, nov/2022"]
["131-89-5","Dinitro-o-cyclohexyl Phenol, 4,6-",266.26,"PHYSPROP",2.2649223221599999E-6,5.54E-8,"PHYSPROP","","",4.5907430193449998E-2,"WATER9 (U.S. EPA, 2001)",5.3639207910200003E-6,"WATER9 (U.S. EPA, 2001)",16540,"EPI",15,"PHYSPROP",107,"PHYSPROP",2.75E-2,"EPI","","","","",4.12,"PHYSPROP",4.1899999999999998E-8,"PHYSPROP","","","",0.17258868100385999,3.25765245644252,7.8183658954620396,0.9,"RSL, nov/2022"]
["1313-99-1","Nickel Oxide",74.69,"EPI","","","",6.7,"CRC","","","","","","","","",1957,"CRC",1E-3,"RAGSE","","","","","","","","","","","",3.3239760179699998E-3,0.27549438368625001,0.66118652084699003,1,"RSL, nov/2022"]
["1314-32-5","Thallic Oxide",456.76499999999999,"CRC","","","",10,"CRC","","","","","","","","",834,"CRC",1E-3,"RAGSE","","","","","","","","","","","",8.2200235390299994E-3,37.995551237714501,91.189322970514695,0.9,"RSL, nov/2022"]
["1314-60-9","Antimony Pentoxide",323.517,"CRC","","","",3.8,"CRC","","","","","","",3000,"CRC","","",1E-3,"RAGSE","","","","","","","","","","","",6.9179147420799997E-3,6.8162254989234503,16.3589411974163,1,"RSL, nov/2022"]
["1314-62-1","Vanadium Pentoxide",181.88,"EPI","","","",3.4,"CRC","","","","","","",700,"CRC",681,"CRC",1E-3,"RAGSE","","","","","","",0,"NIOSH","","","",5.18703435923E-3,1.0974298015388899,2.6338315236933498,1,"RSL, nov/2022"]
["1314-84-7","Zinc Phosphide",258.17500000000001,"CRC","","","",4.5999999999999996,"CRC","","","","","","","","",420,"PERRY",5.9999999999999995E-4,"RAGSE","","","","","","","","","","","",3.7079596137299998E-3,2.93513951749022,7.0443348419765304,1,"RSL, nov/2022"]
["1319-77-3","Cresols",324.42,"PHYSPROP",2.5306623060000001E-5,6.1900000000000002E-7,"PHYSPROP","","",4.0242212896610001E-2,"WATER9 (U.S. EPA, 2001)",4.7019848752899999E-6,"WATER9 (U.S. EPA, 2001)",306.5,"EPI",9066,"PHYSPROP",29.8,"EPI",7.6600000000000001E-3,"EPI","","",0.13400000000000001,"Handbook of Environmental Degradation Rates. Lewis. Publishers, Chelsea, MI, 1989",1.95,"PHYSPROP",0.17,"PHYSPROP","","","",5.3065129893849997E-2,6.8960555246009703,16.5505332590423,0.9,"RSL, nov/2022"]
["132-64-9","Dibenzofuran",168.20000000000002,"PHYSPROP",8.7080948487300008E-3,2.13E-4,"EPI",1.1000000000000001,"CRC",6.5066324892049998E-2,"WATER9 (U.S. EPA, 2001)",7.37729541601E-6,"WATER9 (U.S. EPA, 2001)",9161,"EPI",3.1,"PHYSPROP",86.5,"PHYSPROP",9.7500000000000003E-2,"EPI","","","","",4.12,"PHYSPROP",2.48E-3,"PHYSPROP","","","",0.48634478510619999,0.91995958704036995,2.2079030088968801,1,"RSL, nov/2022"]
["13252-13-6","Hexafluoropropylene oxide dimer acid (HFPO-DA)",330.1,"3M",1.022E-2,2.5000000000000001E-4,"EPA OW","","",3.9779249457499999E-2,"WATER9 (U.S. EPA, 2001)",4.6478912524000003E-6,"WATER9 (U.S. EPA, 2001)","","",756000,"3M",-40,"EPA OW","","","","","","","","",2.2949999999999999,"3M","","","","",7.4200827668435902,17.8081986404246,0,"RSL, nov/2022"]
["133-06-2","Captan",300.58999999999997,"PHYSPROP",2.8618152084999999E-7,6.9999999999999998E-9,"EPI",1.7,"CRC",2.6194058421619999E-2,"WATER9 (U.S. EPA, 2001)",6.8994838669799996E-6,"WATER9 (U.S. EPA, 2001)",252.20000000000002,"EPI",5.0999999999999996,"PHYSPROP",178,"PHYSPROP",2.3400000000000001E-3,"EPI","","",1.176E-3,"Handbook of Environmental Degradation Rates. Lewis. Publishers, Chelsea, MI, 1989",2.8000000000000003,"PHYSPROP",8.9999999999999999E-8,"PHYSPROP","","","",1.560377838858E-2,5.0716905789698297,12.1720573895276,1,"RSL, nov/2022"]
["133-07-3","Folpet",296.56,"PHYSPROP",3.1316434995900001E-6,7.6599999999999998E-8,"EPI","","",4.2724653797499998E-2,"WATER9 (U.S. EPA, 2001)",4.9920384963400004E-6,"WATER9 (U.S. EPA, 2001)",17.7,"EPI",0.8,"PHYSPROP",177,"EPI",2.66E-3,"EPI","","","","",2.85,"PHYSPROP",1.5699999999999999E-7,"PHYSPROP","","","",1.7618323302069999E-2,4.8148720378829104,11.555692890919,1,"RSL, nov/2022"]
["133-90-4","Chloramben",206.03,"PHYSPROP",1.5821749795600001E-9,3.8699999999999999E-11,"EPI","","",5.4466979590939997E-2,"WATER9 (U.S. EPA, 2001)",6.3640365627299999E-6,"WATER9 (U.S. EPA, 2001)",21.37,"EPI",700,"PHYSPROP",200,"PHYSPROP",2.0100000000000001E-3,"EPI","","","","",1.9000000000000001,"PHYSPROP",9.9999999999999995E-8,"PHYSPROP","","","",1.109654913974E-2,1.4983619974601801,3.5960687939044398,1,"RSL, nov/2022"]
["1330-20-7","Xylenes",106.17,"PHYSPROP",0.27105478331971,6.6299999999999996E-3,"PHYSPROP",0.86,"ATSDR Profile",6.8514787582670003E-2,"WATER9 (U.S. EPA, 2001)",8.4640637673699996E-6,"WATER9 (U.S. EPA, 2001)",382.90000000000003,"EPI",106,"PHYSPROP",-25.2,"EPI",0.05,"EPI","","",1,"Handbook of Environmental Degradation Rates. Lewis. Publishers, Chelsea, MI, 1989",3.16,"PHYSPROP",7.99,"PHYSPROP","","","",0.19815159160208001,0.41342882164758998,0.99222917195421001,1,"RSL, nov/2022"]
["1330-78-5","Tricresyl Phosphate (TCP)",368.37,"PHYSPROP",3.3034000000000003E-5,8.0800000000000004E-7,"EPI",1.2,"Yaws",1.936904343434E-2,"WATER9 (U.S. EPA, 2001)",4.7684002992599996E-6,"WATER9 (U.S. EPA, 2001)",47110,"EPI",0.36,"PHYSPROP",-33,"PHYSPROP",3.3399999999999999E-2,"EPI","","","","",5.1100000000000003,"PHYSPROP",5.9999999999999997E-7,"EPI","","","",0.24655581278194999,12.1540424711915,29.169701930859599,0.8,"RSL, nov/2022"]
["1332-21-4","Asbestos (units in fibers)","","","","","","","","","","","","","","","","","",1E-3,"RAGSE","","","","","","",0,"NIOSH","","","","","","",0,"RSL, nov/2022"]
["1332-81-6","Antimony Tetroxide",307.52,"EPI","","","",6.6,"CRC","","","","","","","","","","",1E-3,"RAGSE","","","","","","","","","","","",6.7447108359299998E-3,5.5457558962173099,13.3098141509215,1,"RSL, nov/2022"]
["1335-32-6","Lead subacetate",805.67000000000007,"PHYSPROP","","","","","",2.1943983730600001E-2,"WATER9 (U.S. EPA, 2001)",2.56398125694E-6,"WATER9 (U.S. EPA, 2001)",10.370000000000001,"EPI",62500,"PHYSPROP",156.72999999999999,"EPI",1.0300000000000001E-10,"EPI","","","","",-4,"PHYSPROP",2.98E-10,"PHYSPROP","","","",1.12445601773E-9,3416.65202546398,8199.9648611135508,1,"RSL, nov/2022"]
["1336-36-3-A","Polychlorinated Biphenyls (lowest risk)",291.99,"PHYSPROP",1.6966475878990001E-2,4.15E-4,"PHYSPROP",1.4,"HSDB",2.4339655398689999E-2,"WATER9 (U.S. EPA, 2001)",6.2671267752199998E-6,"WATER9 (U.S. EPA, 2001)",78100,"EPI",0.70000000000000007,"PHYSPROP",122.32000000000001,"EPI",0.54500000000000004,"EPI","","","","",7.1000000000000005,"PHYSPROP",4.9399999999999997E-4,"PHYSPROP","","","",3.5818479278722002,4.5393403832826502,19.446178178515499,0.7,"RSL, nov/2022"]
["1336-36-3-B","Polychlorinated Biphenyls (low risk)",291.99,"PHYSPROP",1.6966475878990001E-2,4.15E-4,"PHYSPROP",1.4,"HSDB",2.4339655398689999E-2,"WATER9 (U.S. EPA, 2001)",6.2671267752199998E-6,"WATER9 (U.S. EPA, 2001)",78100,"EPI",0.70000000000000007,"PHYSPROP",122.32000000000001,"EPI",0.54500000000000004,"EPI","","","","",7.1000000000000005,"PHYSPROP",4.9399999999999997E-4,"PHYSPROP","","","",3.5818479278722002,4.5393403832826502,19.446178178515499,0.7,"RSL, nov/2022"]
["1336-36-3-C","Polychlorinated Biphenyls (high risk)",291.99,"PHYSPROP",1.6966475878990001E-2,4.15E-4,"PHYSPROP",1.4,"HSDB",2.4339655398689999E-2,"WATER9 (U.S. EPA, 2001)",6.2671267752199998E-6,"WATER9 (U.S. EPA, 2001)",78100,"EPI",0.70000000000000007,"PHYSPROP",122.32000000000001,"EPI",0.54500000000000004,"EPI","","","","",7.1000000000000005,"PHYSPROP",4.9399999999999997E-4,"PHYSPROP","","","",3.5818479278722002,4.5393403832826502,19.446178178515499,0.7,"RSL, nov/2022"]
["13463-39-3","Nickel Carbonyl",170.73400000000001,"CRC",20.440000000000001,0.5,"Matheson MSDS",1.3,"CRC",4.330191357088E-2,"WATER9 (U.S. EPA, 2001)",8.17038534329E-6,"WATER9 (U.S. EPA, 2001)","","",180,"PERRY",-19.3,"CRC","","","","","","","","",315,"NIOSH","","","","",0.95051538256343004,2.2812369181522301,0,"RSL, nov/2022"]
["13472-45-2","Sodium Tungstate",293.82,"CRC","","","",4.2,"CRC","","","","","","",742000,"CRC",695,"CRC",1E-3,"RAGSE","","","","","","","","","","","",6.5927609574E-3,4.6477284901540399,11.1545483763697,1,"RSL, nov/2022"]
["135-20-6","Cupferron",155.16,"PHYSPROP",1.47996729354E-7,3.6199999999999999E-9,"PHYSPROP","","",6.5801190888269995E-2,"WATER9 (U.S. EPA, 2001)",7.6883496722100001E-6,"WATER9 (U.S. EPA, 2001)",762.4,"EPI",608000,"PHYSPROP",163.5,"PHYSPROP",1.6700000000000001E-6,"EPI","","","","",-1.73,"PHYSPROP",6.2899999999999997E-5,"PHYSPROP","","","",8.0007925273099999E-6,0.77757940551433002,1.86619057323438,1,"RSL, nov/2022"]
["135-98-8","Butylbenzene, sec-",134.22,"PHYSPROP",0.71954210956664,1.7600000000000001E-2,"EPI",0.86,"LANGE",5.2792819505940003E-2,"WATER9 (U.S. EPA, 2001)",7.3370720837899998E-6,"WATER9 (U.S. EPA, 2001)",1331,"EPI",17.600000000000001,"PHYSPROP",-82.7,"PHYSPROP",0.30099999999999999,"EPI","","","","",4.57,"PHYSPROP",1.752,"PHYSPROP","","","",1.3412253857957499,0.59358203670076004,2.3358545242380102,1,"RSL, nov/2022"]
["13593-03-8","Quinalphos",298.3,"PHYSPROP",1.89697465249E-6,4.6399999999999999E-8,"EPI","","",4.2558348382319998E-2,"WATER9 (U.S. EPA, 2001)",4.9726070215099998E-6,"WATER9 (U.S. EPA, 2001)",4185,"EPI",22,"PHYSPROP",31.5,"PHYSPROP",2.9600000000000001E-2,"EPI","","","","",4.4400000000000004,"PHYSPROP",2.6000000000000001E-6,"PHYSPROP","","","",0.19662783155498001,4.9241213780744202,11.8178913073786,0.9,"RSL, nov/2022"]
["13674-84-5","Tris(1-chloro-2-propyl)phosphate",327.57,"PHYSPROP",2.4366312346700002E-6,5.9599999999999998E-8,"PHYSPROP","","",3.9983811113329999E-2,"WATER9 (U.S. EPA, 2001)",4.67179266693E-6,"WATER9 (U.S. EPA, 2001)",1604,"EPI",1200,"PHYSPROP",-40,"PHYSPROP",1.1999999999999999E-3,"EPI","","","","",2.59,"PHYSPROP",2.02E-5,"PHYSPROP","","","",8.3533361510300004E-3,7.1819230831796999,17.236615399631301,1,"RSL, nov/2022"]
["13674-87-8","Tris(1,3-Dichloro-2-propyl) Phosphate",430.91,"PHYSPROP",1.0670482420299999E-7,2.6099999999999999E-9,"PHYSPROP","","",3.3303960730160002E-2,"WATER9 (U.S. EPA, 2001)",3.8913048853099998E-6,"WATER9 (U.S. EPA, 2001)",11130,"EPI",7,"PHYSPROP",27,"PHYSPROP",1.5900000000000001E-3,"EPI","","","","",3.65,"PHYSPROP",7.3599999999999997E-8,"PHYSPROP","","","",1.269454275775E-2,27.2235495156242,65.336518837498105,0.9,"RSL, nov/2022"]
["13684-63-4","Phenmedipham",300.32,"PHYSPROP",3.4382665576000003E-11,8.4099999999999995E-13,"EPI","","",4.2367297669279998E-2,"WATER9 (U.S. EPA, 2001)",4.9502842539899996E-6,"WATER9 (U.S. EPA, 2001)",2594,"EPI",4.7,"PHYSPROP",143,"PHYSPROP",7.8600000000000007E-3,"EPI","","","","",3.59,"PHYSPROP",9.9999999999999994E-12,"PHYSPROP","","","",5.2389146805029999E-2,5.0540641453898196,12.129753948935599,0.9,"RSL, nov/2022"]
["137-26-8","Thiram",240.43,"PHYSPROP",7.4407195421099996E-6,1.8199999999999999E-7,"EPI",1.3,"PERRY",2.5566740837389999E-2,"WATER9 (U.S. EPA, 2001)",6.5922307981699998E-6,"WATER9 (U.S. EPA, 2001)",611.4,"EPI",30,"PHYSPROP",155.6,"PHYSPROP",9.8999999999999999E-4,"EPI","","","","",1.73,"PHYSPROP",1.7249999999999999E-5,"PHYSPROP","","","",5.9041335810799999E-3,2.3348379821665701,5.6036111571997704,1,"RSL, nov/2022"]
["13718-26-8","Sodium Metavanadate",121.93,"CRC","","","","","","","","","","","",210000,"CRC",630,"CRC",1E-3,"RAGSE","","","","","","","","","","","",4.2469968505399998E-3,0.50659015977801003,1.21581638346721,1,"RSL, nov/2022"]
["139-40-2","Propazine",229.71,"PHYSPROP",1.8806214227300001E-7,4.5999999999999998E-9,"EPI",1.2,"CRC",2.4935429434920001E-2,"WATER9 (U.S. EPA, 2001)",6.3633748521399999E-6,"WATER9 (U.S. EPA, 2001)",344.1,"EPI",8.6,"PHYSPROP",213,"PHYSPROP",7.1300000000000001E-3,"EPI","","","","",2.93,"PHYSPROP",1.31E-7,"PHYSPROP","","","",4.1562927800000003E-2,2.0334090382787702,4.8801816918690504,1,"RSL, nov/2022"]
["140-57-8","Sulfurous acid, 2-chloroethyl 2-[4-(1,1-dimethylethyl)phenoxy]-1-methylethyl ester",334.87,"PHYSPROP",7.7677841373699992E-6,1.9000000000000001E-7,"PHYSPROP",1.1000000000000001,"CRC",2.02897168448E-2,"WATER9 (U.S. EPA, 2001)",5.0254362081200003E-6,"WATER9 (U.S. EPA, 2001)",5550,"EPI",0.59019999999999995,"PHYSPROP",-31.7,"PHYSPROP",3.2800000000000003E-2,"EPI","","","","",4.82,"PHYSPROP",2.1799999999999999E-7,"PHYSPROP","","","",0.23085464470582001,7.89079479834444,18.937907516026701,0.8,"RSL, nov/2022"]
["140-88-5","Ethyl Acrylate",100.12,"PHYSPROP",1.385936222404E-2,3.39E-4,"EPI",0.92,"CRC",7.4539161799679995E-2,"WATER9 (U.S. EPA, 2001)",9.1241662340000008E-6,"WATER9 (U.S. EPA, 2001)",10.65,"EPI",15000,"PHYSPROP",-71.2,"PHYSPROP",3.2399999999999998E-3,"EPI","","",3.8359999999999998E-2,"Handbook of Environmental Degradation Rates. Lewis. Publishers, Chelsea, MI, 1989",1.32,"PHYSPROP",38.6,"PHYSPROP","","","",1.2469013142880001E-2,0.38240252355663001,0.91776605653590004,1,"RSL, nov/2022"]
["141-66-2","Dicrotophos",237.19,"PHYSPROP",2.0564186426799998E-9,5.0299999999999997E-11,"PHYSPROP",1.2,"CRC",2.5047353857079999E-2,"WATER9 (U.S. EPA, 2001)",6.41466663644E-6,"WATER9 (U.S. EPA, 2001)",16.579999999999998,"EPI",1000000,"PHYSPROP",79.209999999999994,"EPI",7.3100000000000001E-5,"EPI","","","","",0,"PHYSPROP",1.6000000000000001E-4,"PHYSPROP","","","",4.3300430733000001E-4,2.2393024209200298,5.3743258102080604,1,"RSL, nov/2022"]
["141-78-6","Ethyl Acetate",88.106999999999999,"PHYSPROP",5.4783319705599999E-3,1.34E-4,"PHYSPROP",0.9,"CRC",8.2315847539899997E-2,"WATER9 (U.S. EPA, 2001)",9.7028177330599999E-6,"WATER9 (U.S. EPA, 2001)",5.5830000000000002,"EPI",80000,"PHYSPROP",-83.600000000000009,"PHYSPROP",1.5299999999999999E-3,"EPI","","",3.8359999999999998E-2,"Handbook of Environmental Degradation Rates. Lewis. Publishers, Chelsea, MI, 1989",0.73,"PHYSPROP",93.2,"PHYSPROP","","","",5.5236135948299996E-3,0.32752763525405998,0.78606632460975001,1,"RSL, nov/2022"]
["142-28-9","Dichloropropane, 1,3-",112.99000000000001,"PHYSPROP",3.9901880621419999E-2,9.7599999999999998E-4,"PHYSPROP",1.2,"CRC",7.3873815434119999E-2,"WATER9 (U.S. EPA, 2001)",9.8230310876100005E-6,"WATER9 (U.S. EPA, 2001)",72.17,"EPI",2750,"PHYSPROP",-99.5,"PHYSPROP",7.7600000000000004E-3,"EPI","","","","",2,"PHYSPROP",18.16,"PHYSPROP","","","",3.1725492857339999E-2,0.45143242470886003,1.0834378193012699,1,"RSL, nov/2022"]
["142-82-5","Heptane, N-",100.21000000000001,"PHYSPROP",81.766148814390803,2,"EPI",0.68,"CRC",6.4921176930249999E-2,"WATER9 (U.S. EPA, 2001)",7.5864536868500001E-6,"WATER9 (U.S. EPA, 2001)",239.70000000000002,"EPI",3.4,"PHYSPROP",-90.600000000000009,"PHYSPROP",0.53700000000000003,"EPI","","","","",4.66,"PHYSPROP",46,"PHYSPROP","","","",2.0675521318814001,0.38284656039234,1.56599986194773,1,"RSL, nov/2022"]
["143-33-9","Sodium Cyanide",49.008000000000003,"PHYSPROP","","","",1.6,"CRC","","","","","","",582000,"CRC",563,"PHYSPROP",1E-3,"RAGSE","","","","","","",0,"NIOSH","","","",2.69252746356E-3,0.19783063710165999,0.47479352904399003,1,"RSL, nov/2022"]
["143-50-0","Chlordecone (Kepone)",490.64,"PHYSPROP",2.1995094031100001E-6,5.3799999999999999E-8,"EPI",1.6,"CRC",1.964701566029E-2,"WATER9 (U.S. EPA, 2001)",4.9080561906399996E-6,"WATER9 (U.S. EPA, 2001)",17500,"EPI",2.7,"PHYSPROP",350,"EPI",1.09E-2,"EPI","","",4,"Handbook of Environmental Degradation Rates. Lewis. Publishers, Chelsea, MI, 1989",5.41,"PHYSPROP",2.2499999999999999E-7,"PHYSPROP","","","",9.2861271473340001E-2,58.807504382984199,141.13801051916201,0.8,"RSL, nov/2022"]
["1445-75-6","Diisopropyl Methylphosphonate",180.19,"PHYSPROP",1.7906786590400001E-3,4.3800000000000001E-5,"EPI",0.98,"ATSDR Profile",3.3527521609229997E-2,"WATER9 (U.S. EPA, 2001)",6.62984310542E-6,"WATER9 (U.S. EPA, 2001)",42.2,"EPI",1500,"PHYSPROP",-23.8,"EPI",7.3800000000000005E-4,"EPI","","","","",1.03,"PHYSPROP",0.22800000000000001,"PHYSPROP","","","",3.81020512191E-3,1.0737736680019601,2.5770568032047101,1,"RSL, nov/2022"]
["145-73-3","Endothall",186.17000000000002,"PHYSPROP",1.5739983646999999E-14,3.8499999999999999E-16,"EPI",1.4,"CRC",3.6747017588909997E-2,"WATER9 (U.S. EPA, 2001)",8.1791793730200001E-6,"WATER9 (U.S. EPA, 2001)",19.41,"EPI",100000,"PHYSPROP",144,"PHYSPROP",2.63E-3,"EPI","","","","",1.9100000000000001,"PHYSPROP",1.57E-10,"PHYSPROP","","","",1.380184830796E-2,1.1598471231488801,2.7836330955573199,1,"RSL, nov/2022"]
["1476-11-5","Dichloro-2-butene, cis-1,4-",125,"PHYSPROP",2.714636140638E-2,6.6399999999999999E-4,"EPI",1.2,"CRC",6.6504724839259996E-2,"WATER9 (U.S. EPA, 2001)",9.2899981635400007E-6,"WATER9 (U.S. EPA, 2001)",131.5,"EPI",580.20000000000005,"PHYSPROP",-48,"PHYSPROP",1.66E-2,"EPI","","","","",2.6,"PHYSPROP",4.0940000000000003,"PHYSPROP","","","",7.1382170050950003E-2,0.52704627669473003,1.26491106406735,1,"RSL, nov/2022"]
["14797-55-8","Nitrate (measured as nitrogen)",62,"EPI","","","","","","","","","","","","","","","",1E-3,"RAGSE","","","","","","","","","","","",3.0284645669300001E-3,0.23390997882020001,0.56138394916847001,1,"RSL, nov/2022"]
["14797-65-0","Nitrite (measured as nitrogen)",47.01,"EPI","","","","","","","","","","","","","","","",1E-3,"RAGSE","","","","","","","","","","","",2.6370707255999998E-3,0.19279898784509,0.46271757082821002,1,"RSL, nov/2022"]
["14797-73-0","Perchlorate and Perchlorate Salts",117.49000000000001,"CRC","","","","","","","","","","","",245000,"CRC","","",1E-3,"RAGSE","","","","","","","","","","","",4.1689540072800003E-3,0.47840173896024002,1.14816417350457,1,"RSL, nov/2022"]
["148-18-5","Sodium Diethyldithiocarbamate",172.27,"PHYSPROP","","","","","",6.1368734141100001E-2,"WATER9 (U.S. EPA, 2001)",7.1704520943799996E-6,"WATER9 (U.S. EPA, 2001)",204.5,"EPI",364100,"PHYSPROP",94,"PHYSPROP",1.9199999999999999E-5,"EPI","","","","",-1.43,"PHYSPROP",8.1499999999999998E-10,"PHYSPROP","","","",9.6924307680000004E-5,0.96952887864062998,2.3268693087375198,1,"RSL, nov/2022"]
["149-30-4","Mercaptobenzothiazole, 2-",167.25,"PHYSPROP",1.4839999999999999E-6,3.6300000000000001E-8,"PHYSPROP",1.4,"CRC",4.6799107816179998E-2,"WATER9 (U.S. EPA, 2001)",8.6821063694500006E-6,"WATER9 (U.S. EPA, 2001)",1360,"EPI",120,"PHYSPROP",181,"PHYSPROP",7.3200000000000001E-3,"EPI","","","","",2.42,"PHYSPROP",4.64E-4,"PHYSPROP","","","",3.6410009840260001E-2,0.90875905156381998,2.1810217237531702,1,"RSL, nov/2022"]
["150-50-5","Merphos",298.51,"PHYSPROP",9.2804578903999996E-4,2.27E-5,"PHYSPROP",1,"CRC",2.0400012739600001E-2,"WATER9 (U.S. EPA, 2001)",5.0287094543200002E-6,"WATER9 (U.S. EPA, 2001)",48970,"EPI",3.5000000000000001E-3,"PHYSPROP",100,"PHYSPROP",4.1500000000000004,"EPI","","","","",7.67,"PHYSPROP",2.0000000000000002E-5,"PHYSPROP","","","",27.577455404689399,4.9374731803625904,22.919006385322401,0.3,"RSL, nov/2022"]
["151-50-8","Potassium Cyanide",65.12,"PHYSPROP","","","",1.6,"CRC","","","","","","",720000,"PHYSPROP",634,"PHYSPROP",2E-3,"RAGSE","","","","","","",0,"NIOSH","","","",6.2074587697899999E-3,0.24351221418474001,0.58442931404338005,1,"RSL, nov/2022"]
["151-56-4","Ethyleneimine",43.069000000000003,"PHYSPROP",4.9468520033000001E-4,1.2099999999999999E-5,"EPI",0.83,"CRC",0.13282931729978001,"WATER9 (U.S. EPA, 2001)",1.4218274499999999E-5,"WATER9 (U.S. EPA, 2001)",9.0429999999999993,"EPI",1000000,"PHYSPROP",-77.900000000000006,"PHYSPROP",5.8100000000000003E-4,"EPI","","","","",-0.28000000000000003,"PHYSPROP",213,"PHYSPROP","","","",1.4665105057499999E-3,0.18324627267085999,0.43979105441006999,1,"RSL, nov/2022"]
["152-16-9","Octamethylpyrophosphoramide",286.25,"PHYSPROP",1.5400654129199999E-8,3.767E-10,"PHYSPROP",1.1000000000000001,"CRC",2.1539867510159998E-2,"WATER9 (U.S. EPA, 2001)",5.3663670350500003E-6,"WATER9 (U.S. EPA, 2001)",20.12,"EPI",1000000,"PHYSPROP",17,"PHYSPROP",8.3000000000000002E-6,"EPI","","","","",-1.01,"PHYSPROP",1E-3,"PHYSPROP","","","",5.4010412240000003E-5,4.21549666074357,10.117191985784601,1,"RSL, nov/2022"]
["15299-99-7","Napropamide",271.36,"PHYSPROP",3.4382665576500001E-8,8.4099999999999999E-10,"EPI","","",4.5330416968389999E-2,"WATER9 (U.S. EPA, 2001)",5.2965013510399998E-6,"WATER9 (U.S. EPA, 2001)",3218,"EPI",73,"PHYSPROP",75,"PHYSPROP",8.0400000000000003E-3,"EPI","","","","",3.36,"PHYSPROP",1.72E-7,"PHYSPROP","","","",5.0939610051409998E-2,3.4790826782991502,8.3497984279179693,0.9,"RSL, nov/2022"]
["15541-45-4","Bromate",79.900000000000006,"EPI","","","","","","","","","","","","","","","",1E-3,"RAGSE",7.5,"BAES","","","","","","","","","",3.4379538430899998E-3,0.29463799440050997,0.70713118656122997,1,"RSL, nov/2022"]
["156-59-2","Dichloroethylene, cis-1,2-",96.944000000000003,"PHYSPROP",0.16680294358136,4.0800000000000003E-3,"PHYSPROP",1.3,"CRC",8.8405643037459999E-2,"WATER9 (U.S. EPA, 2001)",1.133541266E-5,"WATER9 (U.S. EPA, 2001)",39.6,"EPI",6410,"PHYSPROP",-80,"PHYSPROP",1.0999999999999999E-2,"EPI","","",7.8766999999999996,"Handbook of Environmental Degradation Rates. Lewis. Publishers, Chelsea, MI, 1989",1.86,"PHYSPROP",200,"PHYSPROP","","","",4.165621486269E-2,0.36705838514296002,0.88094012434309998,1,"RSL, nov/2022"]
["156-60-5","Dichloroethylene, trans-1,2-",96.944000000000003,"PHYSPROP",0.38348323793949002,9.3799999999999994E-3,"PHYSPROP",1.3,"CRC",8.7609432305390006E-2,"WATER9 (U.S. EPA, 2001)",1.11906859E-5,"WATER9 (U.S. EPA, 2001)",39.6,"EPI",4520,"PHYSPROP",-49.800000000000004,"PHYSPROP",1.0999999999999999E-2,"EPI","","",7.8766999999999996,"Handbook of Environmental Degradation Rates. Lewis. Publishers, Chelsea, MI, 1989",2.09,"PHYSPROP",331,"EPI","","","",4.165621486269E-2,0.36705838514296002,0.88094012434309998,1,"RSL, nov/2022"]
["1563-66-2","Carbofuran",221.26,"PHYSPROP",1.26328699918E-7,3.0899999999999999E-9,"EPI",1.2,"CRC",2.5614943878780001E-2,"WATER9 (U.S. EPA, 2001)",6.5683945354100002E-6,"WATER9 (U.S. EPA, 2001)",95.25,"EPI",320,"PHYSPROP",151,"PHYSPROP",3.13E-3,"EPI","","","","",2.3199999999999998,"PHYSPROP",4.8500000000000002E-6,"PHYSPROP","","","",1.7906983919040002E-2,1.8234957255229201,4.3763897412550001,1,"RSL, nov/2022"]
["1582-09-8","Trifluralin",335.29,"PHYSPROP",4.2109566639400003E-3,1.03E-4,"PHYSPROP",1.4,"PubChem",2.2051920147909999E-2,"WATER9 (U.S. EPA, 2001)",5.57368930474E-6,"WATER9 (U.S. EPA, 2001)",16390,"EPI",0.184,"PHYSPROP",49,"PHYSPROP",7.2800000000000004E-2,"EPI","","","","",5.34,"PHYSPROP",4.5800000000000002E-5,"PHYSPROP","","","",0.51270591960694001,7.9336447450844201,19.0407473882026,0.8,"RSL, nov/2022"]
["1596-84-5","Daminozide",160.16999999999999,"PHYSPROP",1.7293540474199998E-8,4.2299999999999999E-10,"EPI","","",6.4421794366659998E-2,"WATER9 (U.S. EPA, 2001)",7.5271780786300002E-6,"WATER9 (U.S. EPA, 2001)",10,"EPI",100000,"PHYSPROP",154.5,"PHYSPROP",1.9899999999999999E-5,"EPI","","","","",-1.5,"PHYSPROP",2.0000000000000001E-4,"PHYSPROP","","","",9.6865765790000004E-5,0.82947012680545995,1.9907283043331001,1,"RSL, nov/2022"]
["15972-60-8","Alachlor",269.77,"PHYSPROP",3.4014717906799999E-7,8.3199999999999994E-9,"PHYSPROP",1.1000000000000001,"CRC",2.264066720697E-2,"WATER9 (U.S. EPA, 2001)",5.6913268326999999E-6,"WATER9 (U.S. EPA, 2001)",312.3,"EPI",240,"PHYSPROP",40,"PHYSPROP",1.0500000000000001E-2,"EPI","","","","",3.52,"PHYSPROP",2.1999999999999999E-5,"PHYSPROP","","","",6.6330424556860001E-2,3.4084799967980701,8.18035199231538,0.9,"RSL, nov/2022"]
["16065-83-1","Chromium(III), Insoluble Salts",52,"EPI","","","",5.2,"CRC","","","","","","","","","","",1E-3,"RAGSE",21000,"SSL (pH 5,5)","","","","","","",2E-3,0.02,"Bockting e Van den Berg, 1992 apud Otte et al., 2001 - RIVM 711701 025",2.7735009811300001E-3,0.20561213829439001,0.49346913190653002,1,"RSL, nov/2022"]
["16071-86-6","Direct Brown 95",761.12,"PHYSPROP","","","","","",2.2792126408649999E-2,"WATER9 (U.S. EPA, 2001)",2.6630800330099999E-6,"WATER9 (U.S. EPA, 2001)",6985000,"EPI",1000000,"PHYSPROP",349.84000000000003,"EPI",3.8700000000000003E-12,"EPI","","","","",-6.53,"PHYSPROP",1.43E-41,"PHYSPROP","","","",4.1064277310000002E-11,1923.6264924932,4616.7035819836801,1,"RSL, nov/2022"]
["1610-18-0","Prometon",225.3,"PHYSPROP",3.71627146361E-8,9.0899999999999996E-10,"EPI","","",5.131521345877E-2,"WATER9 (U.S. EPA, 2001)",5.9957775725500003E-6,"WATER9 (U.S. EPA, 2001)",137.4,"EPI",750,"PHYSPROP",91,"PHYSPROP",8.2699999999999996E-3,"EPI","","","","",2.99,"PHYSPROP",2.3E-6,"PHYSPROP","","","",4.7743335558339997E-2,1.92100612514793,4.6104147003550402,1,"RSL, nov/2022"]
["1634-04-4","Methyl tert-Butyl Ether (MTBE)",88.150999999999996,"PHYSPROP",2.399836467702E-2,5.8699999999999996E-4,"PHYSPROP",0.74,"CRC",7.5267202926059998E-2,"WATER9 (U.S. EPA, 2001)",8.5904153988199992E-6,"WATER9 (U.S. EPA, 2001)",11.56,"EPI",51000,"PHYSPROP",-108.60000000000001,"PHYSPROP",2.1099999999999999E-3,"EPI","","",1,"Handbook of Environmental Degradation Rates. Lewis. Publishers, Chelsea, MI, 1989",0.94000000000000006,"PHYSPROP",250,"PHYSPROP","","","",7.6194343068800002E-3,0.32771351306433,0.78651243135438997,1,"RSL, nov/2022"]
["1646-87-3","Aldicarb sulfoxide",206.27,"PHYSPROP",3.9615699100600001E-8,9.6900000000000007E-10,"EPI","","",5.4424722318569999E-2,"WATER9 (U.S. EPA, 2001)",6.3590991340599999E-6,"WATER9 (U.S. EPA, 2001)",10,"EPI",28000,"PHYSPROP",77.88,"EPI",3.29E-5,"EPI","","","","",-0.78,"PHYSPROP",1E-4,"PHYSPROP","","","",1.8173584067000001E-4,1.5030061222437501,3.6072146933849898,1,"RSL, nov/2022"]
["1646-88-4","Aldicarb Sulfone",222.26,"PHYSPROP",1.37775960752E-7,3.3700000000000001E-9,"EPI","","",5.1782068427560002E-2,"WATER9 (U.S. EPA, 2001)",6.0503258899599997E-6,"WATER9 (U.S. EPA, 2001)",10,"EPI",10000,"PHYSPROP",140,"PHYSPROP",3.7100000000000001E-5,"EPI","","","","",-0.56999999999999995,"PHYSPROP",9.0000000000000006E-5,"PHYSPROP","","","",2.1273121309000001E-4,1.84716099608294,4.4331863905990501,1,"RSL, nov/2022"]
["16672-87-0","Ethephon",144.5,"PHYSPROP",2.3303352411999998E-10,5.7000000000000003E-12,"PHYSPROP",1.2,"CRC",5.5476461352340002E-2,"WATER9 (U.S. EPA, 2001)",8.5676124041100004E-6,"WATER9 (U.S. EPA, 2001)",5.0279999999999996,"EPI",1000000,"PHYSPROP",74,"PHYSPROP",1.73E-4,"EPI","","","","",-0.22,"PHYSPROP",9.8000000000000004E-8,"PHYSPROP","","","",7.9984655517999995E-4,0.67771757723405002,1.62652218536171,1,"RSL, nov/2022"]
["16752-77-5","Methomyl",162.21,"PHYSPROP",8.0539656581999999E-10,1.97E-11,"EPI",1.3,"CRC",4.7590031094619997E-2,"WATER9 (U.S. EPA, 2001)",8.3657822942599993E-6,"WATER9 (U.S. EPA, 2001)",10,"EPI",58000,"PHYSPROP",78,"PHYSPROP",4.8200000000000001E-4,"EPI","","","","",0.6,"PHYSPROP",5.4E-6,"PHYSPROP","","","",2.3610897857399998E-3,0.85157862048375998,2.04378868916104,1,"RSL, nov/2022"]
["16853-36-4","Tetramethylphosphoramide, -N,N,N',N\" (TMPA)",151.15,"EPA Dashboard",3.5240000000000001E-6,8.6900000000000004E-8,"EPA Dashboard",1.1000000000000001,"EPA Dashboard",5.0262062598510002E-2,"WATER9 (U.S. EPA, 2001)",8.0012473110699996E-6,"WATER9 (U.S. EPA, 2001)","","",6.6000000000000005,"EPI",25.6,"EPI",2.9475368949999998E-5,"RAGSE","","","","",-1.32,"EPI",0.36299999999999999,"EPA Dashboard","","","",1.3937663588E-4,0.73839500406195002,1.7721480097486799,1,"RSL, nov/2022"]
["1689-84-5","Bromoxynil",276.92,"PHYSPROP",5.3965658217500004E-9,1.3200000000000001E-10,"EPI","","",4.4721605436620002E-2,"WATER9 (U.S. EPA, 2001)",5.22536652996E-6,"WATER9 (U.S. EPA, 2001)",330.1,"EPI",130,"PHYSPROP",190,"PHYSPROP",7.8300000000000002E-3,"EPI","","","","",2.8000000000000003,"PHYSPROP",4.7199999999999999E-8,"PHYSPROP","","","",5.0114750849049997E-2,3.7376682345927601,8.9704037630226292,0.9,"RSL, nov/2022"]
["1689-99-2","Bromoxynil Octanoate",403.12,"PHYSPROP",1.3041700735900001E-3,3.1900000000000003E-5,"EPI",1.5,"LookChem",2.1280103708130001E-2,"WATER9 (U.S. EPA, 2001)",5.37679646486E-6,"WATER9 (U.S. EPA, 2001)",4252,"EPI",0.08,"PHYSPROP",45.5,"PHYSPROP",3.32E-2,"EPI","","",0.1205,"Handbook of Environmental Degradation Rates. Lewis. Publishers, Chelsea, MI, 1989",5.4,"PHYSPROP",4.7999999999999998E-6,"PHYSPROP","","","",0.25637868072247,19.024828461420199,45.659588307408498,0.8,"RSL, nov/2022"]
["16984-48-8","Fluoride",38,"EPI","","","","","","","","","","","",1.69,"EPI",-219.61,"EPI",1E-3,"RAGSE",150,"BAES","","","","","","","","","",2.3709284626799998E-3,0.17165195322345,0.41196468773627998,1,"RSL, nov/2022"]
["1746-01-6","TCDD, 2,3,7,8-",321.98,"PHYSPROP",2.0441537203599999E-3,5.0000000000000002E-5,"EPI",1.8,"PubChem",4.702781760086E-2,"WATER9 (U.S. EPA, 2001)",6.7567513486299998E-6,"WATER9 (U.S. EPA, 2001)",249100,"EPI",2.0000000000000001E-4,"PHYSPROP",305,"PHYSPROP",0.80800000000000005,"EPI","","",3.23,"Handbook of Environmental Degradation Rates. Lewis. Publishers, Chelsea, MI, 1989",6.8,"PHYSPROP",1.5E-9,"PHYSPROP","","","",5.5763812829663797,6.6824658745553398,29.471893843615899,0.5,"RSL, nov/2022"]
["1763-23-1","Perfluorooctanesulfonic acid (PFOS)",500.1,"3M",1.811120196E-5,4.4299999999999998E-7,"3M",1.8,"LookChem",2.0748407964270001E-2,"WATER9 (U.S. EPA, 2001)",5.25345435317E-6,"WATER9 (U.S. EPA, 2001)",371.5,"Higgins and Luthy 2006",680,"3M","","",4.6851381349800002E-7,"RAGSE","","","","",-1.08,"3M",6.5300000000000004E-4,"3M","","","",4.0297442039099998E-6,66.436806668935006,159.44833600544399,1,"RSL, nov/2022"]
["17804-35-2","Benomyl",290.32,"PHYSPROP",2.0155355683000001E-10,4.9300000000000002E-12,"PHYSPROP","","",4.3334683683029999E-2,"WATER9 (U.S. EPA, 2001)",5.0633156724400001E-6,"WATER9 (U.S. EPA, 2001)",336.2,"EPI",3.8000000000000003,"PHYSPROP",140,"EPI",9.4300000000000004E-4,"EPI","","","","",2.12,"PHYSPROP",3.7E-9,"PHYSPROP","","","",6.1798341842100001E-3,4.4426361853052896,10.6623268447327,1,"RSL, nov/2022"]
["1832-54-8","Isopropyl Methyl Phosphonic Acid",138.1,"PHYSPROP",2.8127555192200002E-7,6.8800000000000002E-9,"PHYSPROP","","",7.1114443398499996E-2,"WATER9 (U.S. EPA, 2001)",8.3091612812999992E-6,"WATER9 (U.S. EPA, 2001)",7.7069999999999999,"EPI",50420,"PHYSPROP",-8.1199999999999992,"EPI",3.9599999999999998E-4,"EPI","","","","",0.27,"PHYSPROP",1.1900000000000001E-2,"PHYSPROP","","","",1.7898584123E-3,0.62403471427509005,1.4976833142602299,1,"RSL, nov/2022"]
["18540-29-9","Chromium(VI)",52,"EPI","","","","","","","","","","","",1690000,"CRC","","",2E-3,"RAGSE",103,"Soares, M.R., 2004.Coeficiente de distribuição de metais pesados em solo de São Paulo.Piracicaba,SP.Tese.Usp,SP","","","","","","","","","",5.5470019622500004E-3,0.20561213829439001,0.49346913190653002,1,"RSL, nov/2022"]
["1861-32-1","Chlorthal-dimethyl",331.97,"PHYSPROP",8.9125102209999997E-5,2.1799999999999999E-6,"EPI","","",3.9629723477099997E-2,"WATER9 (U.S. EPA, 2001)",4.63042032206E-6,"WATER9 (U.S. EPA, 2001)",511.1,"EPI",0.5,"PHYSPROP",155,"PHYSPROP",1.4999999999999999E-2,"EPI","","",0.50409999999999999,"Handbook of Environmental Degradation Rates. Lewis. Publishers, Chelsea, MI, 1989",4.28,"PHYSPROP",2.5000000000000002E-6,"PHYSPROP","","","",0.10511563792927001,7.6011753205169397,18.242820769240598,0.9,"RSL, nov/2022"]
["1861-40-1","Benfluralin",335.29,"PHYSPROP",1.1896974652490001E-2,2.9100000000000003E-4,"EPI",1.3,"ChemNet",2.1872322258970001E-2,"WATER9 (U.S. EPA, 2001)",5.5169399320599997E-6,"WATER9 (U.S. EPA, 2001)",16390,"EPI",0.1,"PHYSPROP",66,"PHYSPROP",6.7500000000000004E-2,"EPI","","",0.65749999999999997,"Handbook of Environmental Degradation Rates. Lewis. Publishers, Chelsea, MI, 1989",5.29,"PHYSPROP",6.5300000000000002E-5,"PHYSPROP","","","",0.47537980183335998,7.9336447450844201,19.0407473882026,0.8,"RSL, nov/2022"]
["1897-45-6","Chlorothalonil",265.91000000000003,"PHYSPROP",8.1766148809999997E-5,1.9999999999999999E-6,"PHYSPROP",1.7,"CRC",2.75786742159E-2,"WATER9 (U.S. EPA, 2001)",7.3231903427699999E-6,"WATER9 (U.S. EPA, 2001)",1041,"EPI",0.81,"PHYSPROP",250,"PHYSPROP",5.3699999999999998E-3,"EPI","","","","",3.0500000000000003,"PHYSPROP",5.7000000000000005E-7,"PHYSPROP","","","",3.3679704525030003E-2,3.2429835790624799,7.7831605897499498,0.9,"RSL, nov/2022"]
["19044-88-3","Oryzalin",346.36,"PHYSPROP",7.8086672117699997E-8,1.9099999999999998E-9,"PHYSPROP","","",3.8524331708590001E-2,"WATER9 (U.S. EPA, 2001)",4.5012640206899997E-6,"WATER9 (U.S. EPA, 2001)",825.4,"EPI",2.5,"PHYSPROP",141,"PHYSPROP",5.3699999999999998E-3,"EPI","","","","",3.73,"PHYSPROP",9.7499999999999996E-9,"PHYSPROP","","","",3.8438355867219998E-2,9.1509198098879203,21.962207543731001,0.9,"RSL, nov/2022"]
["1910-42-5","Paraquat Dichloride",257.16000000000003,"PHYSPROP",1.3164349959E-11,3.2199999999999999E-13,"PHYSPROP","","",4.6984144433049997E-2,"WATER9 (U.S. EPA, 2001)",5.4897263495500004E-6,"WATER9 (U.S. EPA, 2001)",6780,"EPI",620000,"PHYSPROP",300,"EPI",5.7700000000000001E-8,"EPI","","","","",-4.5,"PHYSPROP",7.4999999999999997E-8,"PHYSPROP","","","",3.5588048497499997E-7,2.89697501483354,6.9527400356004998,1,"RSL, nov/2022"]
["1912-24-9","Atrazine",215.69,"PHYSPROP",9.6484055601000005E-8,2.3600000000000001E-9,"EPI",1.2,"PubChem",2.6465508227820001E-2,"WATER9 (U.S. EPA, 2001)",6.8378069002999996E-6,"WATER9 (U.S. EPA, 2001)",224.5,"EPI",34.700000000000003,"PHYSPROP",173,"PHYSPROP",5.2399999999999999E-3,"EPI","","","","",2.61,"PHYSPROP",2.8900000000000001E-7,"PHYSPROP","","","",2.9598720946299999E-2,1.69712077416229,4.0730898579895003,1,"RSL, nov/2022"]
["1918-00-9","Dicamba",221.04,"PHYSPROP",8.9125102207699995E-8,2.1799999999999999E-9,"EPI",1.6,"CRC",2.922425179898E-2,"WATER9 (U.S. EPA, 2001)",7.8006185217200001E-6,"WATER9 (U.S. EPA, 2001)",29.01,"EPI",8310,"PHYSPROP",115,"PHYSPROP",2.65E-3,"EPI","","","","",2.21,"PHYSPROP",1.2500000000000001E-5,"PHYSPROP","","","",1.515332584035E-2,1.8183301907223199,4.36399245773356,1,"RSL, nov/2022"]
["1918-02-1","Picloram",241.46,"PHYSPROP",2.1790678659000002E-12,5.3299999999999998E-14,"EPI","","",4.8999329444870003E-2,"WATER9 (U.S. EPA, 2001)",5.7251848088199997E-6,"WATER9 (U.S. EPA, 2001)",38.770000000000003,"EPI",430,"PHYSPROP",218.5,"PHYSPROP",1.2700000000000001E-3,"EPI","","","","",1.9000000000000001,"PHYSPROP",7.2100000000000002E-11,"PHYSPROP","","","",7.5901956574499999E-3,2.3660545305904801,5.6785308734171602,1,"RSL, nov/2022"]
["1918-16-7","Propachlor",211.69,"PHYSPROP",1.471790679E-5,3.5999999999999999E-7,"EPI",1.2,"CRC",2.6846365815530002E-2,"WATER9 (U.S. EPA, 2001)",6.9554386341800001E-6,"WATER9 (U.S. EPA, 2001)",204.5,"EPI",580,"PHYSPROP",77,"PHYSPROP",2.8600000000000001E-3,"EPI","","","","",2.1800000000000002,"PHYSPROP",2.3000000000000001E-4,"PHYSPROP","","","",1.6004527484430001E-2,1.6118059313477999,3.8683342352347299,1,"RSL, nov/2022"]
["192-65-4","Dibenzo(a,e)pyrene",302.38,"PHYSPROP",5.7645134914099999E-7,1.4100000000000001E-8,"PHYSPROP","","",4.2174656993009998E-2,"WATER9 (U.S. EPA, 2001)",4.92777571181E-6,"WATER9 (U.S. EPA, 2001)",6479000,"EPI",8.0220000000000001E-5,"PHYSPROP",233.5,"PHYSPROP",4.1900000000000004,"EPI","","","","",7.71,"EPI",7.0300000000000005E-11,"PHYSPROP","","","",28.0231664465725,5.1901122367528796,24.097321623559299,0.3,"RSL, nov/2022"]
["192-97-2","Benzo(e)pyrene",252.32,"EPI",1.2165E-5,2.9999999999999999E-7,"EPI","","",4.7583072726949997E-2,"WATER9 (U.S. EPA, 2001)",5.5597063923100003E-6,"WATER9 (U.S. EPA, 2001)",599400,"EPI",6.3E-3,"EPI",177.5,"EPI",1.1499999999999999,"EPI","","","","",6.44,"EPI",5.6999999999999998E-9,"EPI","","","",7.0258735690506198,2.72170311040471,12.149362325644899,0.9,"RSL, nov/2022"]
["1929-77-7","Vernolate",203.35,"PHYSPROP",1.26328699918E-3,3.0899999999999999E-5,"EPI",0.95,"CRC",2.4218867981749999E-2,"WATER9 (U.S. EPA, 2001)",6.0744566143899998E-6,"WATER9 (U.S. EPA, 2001)",299.10000000000002,"EPI",90,"PHYSPROP",70.540000000000006,"EPI",4.0300000000000002E-2,"EPI","","","","",3.84,"PHYSPROP",1.04E-2,"PHYSPROP","","","",0.22103130434398,1.44746726111346,3.4739214266723,1,"RSL, nov/2022"]
["193-39-5","Indeno[1,2,3-cd]pyrene",276.33999999999997,"PHYSPROP",1.4227309889999999E-5,3.4799999999999999E-7,"PHYSPROP",1.4,"ChemSrc",2.471303505976E-2,"WATER9 (U.S. EPA, 2001)",6.3691626699499999E-6,"WATER9 (U.S. EPA, 2001)",1951000,"EPI",1.9000000000000001E-4,"PHYSPROP",163.6,"PHYSPROP",1.24,"EPI","","",4,"Handbook of Environmental Degradation Rates. Lewis. Publishers, Chelsea, MI, 1989",6.7,"PHYSPROP",1.2500000000000001E-10,"PHYSPROP","","","",7.92811997831343,3.7098192431956001,16.651939304483601,0.6,"RSL, nov/2022"]
["1937-37-7","Direct Black 38",779.77,"PHYSPROP",3.3646770237000001E-38,8.2299999999999998E-40,"PHYSPROP","","",2.242724457689E-2,"WATER9 (U.S. EPA, 2001)",2.6204464716199998E-6,"WATER9 (U.S. EPA, 2001)",242000000,"EPI",3000,"PHYSPROP",349.84000000000003,"EPI",2.05E-4,"EPI","","","","",4.9000000000000004,"PHYSPROP",1.5299999999999999E-36,"PHYSPROP","","","",2.2017285520400001E-3,2446.5874836142898,5871.8099606742799,1,"RSL, nov/2022"]
["19406-51-0","Dinitrotoluene, 4-Amino-2,6-",197.15,"PHYSPROP",1.33687653312E-9,3.2700000000000001E-11,"PHYSPROP","","",5.6090470115739997E-2,"WATER9 (U.S. EPA, 2001)",6.5537286135200003E-6,"WATER9 (U.S. EPA, 2001)",283,"EPI",1220,"PHYSPROP",171,"PHYSPROP",2.0400000000000001E-3,"EPI","","","","",1.84,"PHYSPROP",1.0699999999999999E-5,"PHYSPROP","","","",1.1016793528290001E-2,1.3362531734440699,3.2070076162657601,1,"RSL, nov/2022"]
["19666-30-9","Oxadiazon",345.23,"PHYSPROP",2.9721995094000002E-6,7.2699999999999996E-8,"EPI","","",3.8608350635160001E-2,"WATER9 (U.S. EPA, 2001)",4.5110809689500003E-6,"WATER9 (U.S. EPA, 2001)",4996,"EPI",0.70000000000000007,"PHYSPROP",90,"PHYSPROP",2.8000000000000001E-2,"EPI","","","","",4.8,"PHYSPROP",1.12E-7,"PHYSPROP","","","",0.20009624902966,9.0185506688646804,21.644521605275202,0.8,"RSL, nov/2022"]
["2008-41-5","Butylate",217.38,"PHYSPROP",3.45461978741E-3,8.4499999999999994E-5,"EPI",0.94,"CRC",2.3230610915349999E-2,"WATER9 (U.S. EPA, 2001)",5.7925817149200004E-6,"WATER9 (U.S. EPA, 2001)",385.7,"EPI",45,"PHYSPROP",60.29,"EPI",5.4100000000000002E-2,"EPI","","","","",4.1500000000000004,"PHYSPROP",1.2999999999999999E-2,"PHYSPROP","","","",0.30678470897801002,1.73450976670165,4.1628234400839697,1,"RSL, nov/2022"]
["205-82-3","Benzo(j)fluoranthene",252.32,"PHYSPROP",8.2992641046599993E-6,2.03E-7,"PHYSPROP","","",4.7583072726949997E-2,"WATER9 (U.S. EPA, 2001)",5.5597063923100003E-6,"WATER9 (U.S. EPA, 2001)",599400,"EPI",2.5000000000000001E-3,"PHYSPROP",166,"PHYSPROP",0.69000000000000006,"EPI","","","","",6.11,"PHYSPROP",2.62E-8,"PHYSPROP","","","",4.2155241414303699,2.72170311040471,11.795999034671301,0.9,"RSL, nov/2022"]
["205-99-2","Benzo[b]fluoranthene",252.32,"PHYSPROP",2.6860179890000001E-5,6.5700000000000002E-7,"PHYSPROP",1.3,"ChemSrc",2.502243175992E-2,"WATER9 (U.S. EPA, 2001)",6.4337884593199996E-6,"WATER9 (U.S. EPA, 2001)",599400,"EPI",1.5E-3,"PHYSPROP",168,"PHYSPROP",0.41699999999999998,"EPI","","",3.3424999999999998,"Handbook of Environmental Degradation Rates. Lewis. Publishers, Chelsea, MI, 1989",5.78,"PHYSPROP",4.9999999999999998E-7,"PHYSPROP","","","",2.5476428506905302,2.72170311040471,11.342074091747,1,"RSL, nov/2022"]
["206-44-0","Fluoranthene",202.26,"PHYSPROP",3.6222403925000003E-4,8.8599999999999999E-6,"PHYSPROP",1.3,"CRC",2.7595746957609999E-2,"WATER9 (U.S. EPA, 2001)",7.1827105768400001E-6,"WATER9 (U.S. EPA, 2001)",55450,"EPI",0.26,"PHYSPROP",107.8,"PHYSPROP",0.308,"EPI","","",2.411,"Handbook of Environmental Degradation Rates. Lewis. Publishers, Chelsea, MI, 1989",5.16,"PHYSPROP",9.2199999999999998E-6,"PHYSPROP","","","",1.6847379934306901,1.42726543921932,5.7297979152854701,1,"RSL, nov/2022"]
["207-08-9","Benzo[k]fluoranthene",252.32,"PHYSPROP",2.3875715449999999E-5,5.8400000000000004E-7,"PHYSPROP",1.3,"",2.502243175992E-2,"WATER9 (U.S. EPA, 2001)",6.4337884593199996E-6,"WATER9 (U.S. EPA, 2001)",587400,"EPI",8.0000000000000004E-4,"PHYSPROP",217,"PHYSPROP",0.69099999999999995,"EPI","","",11.726000000000001,"Handbook of Environmental Degradation Rates. Lewis. Publishers, Chelsea, MI, 1989",6.11,"PHYSPROP",9.6500000000000008E-10,"EPI","","","",4.22163359670781,2.72170311040471,11.7971618300472,0.9,"RSL, nov/2022"]
["20859-73-8","Aluminum Phosphide",57.954999999999998,"PHYSPROP","","","",2.4,"CRC","","","","","","","","",2550,"CRC",1E-3,"RAGSE","","","","","","","","","","","",2.9280069760999998E-3,0.22202237784955001,0.53285370683892996,1,"RSL, nov/2022"]
["2104-64-5","Ethyl-p-nitrophenyl Phosphonate",323.31,"PHYSPROP",1.815208504E-5,4.4400000000000001E-7,"EPI",1.3,"CRC",2.1747491024230001E-2,"WATER9 (U.S. EPA, 2001)",5.4674210635900002E-6,"WATER9 (U.S. EPA, 2001)",15470,"EPI",3.11,"PHYSPROP",36,"PHYSPROP",3.61E-2,"EPI","","","","",4.78,"PHYSPROP",9.5000000000000001E-7,"PHYSPROP","","","",0.24965681329191999,6.7980561845348202,16.315334842883601,0.8,"RSL, nov/2022"]
["2104-96-3","Bromophos",366,"PHYSPROP",8.3810302534800003E-3,2.05E-4,"EPI",1.7,"LookChem",2.3467555135719999E-2,"WATER9 (U.S. EPA, 2001)",6.0543130687000001E-6,"WATER9 (U.S. EPA, 2001)",2019,"EPI",0.3,"PHYSPROP",53.5,"PHYSPROP",4.0099999999999997E-2,"EPI","","","","",5.21,"PHYSPROP",1.2750000000000001E-4,"PHYSPROP","","","",0.29506083516742998,11.788234040076301,28.291761696182999,0.8,"RSL, nov/2022"]
["21087-64-9","Metribuzin",214.29,"PHYSPROP",4.7833197056400002E-9,1.1700000000000001E-10,"EPI",1.3,"CRC",2.7339731310980001E-2,"WATER9 (U.S. EPA, 2001)",7.12907865079E-6,"WATER9 (U.S. EPA, 2001)",53.13,"EPI",1050,"PHYSPROP",126,"PHYSPROP",1.32E-3,"EPI","","","","",1.7,"PHYSPROP",4.3500000000000002E-7,"PHYSPROP","","","",7.4319287198599997E-3,1.6667587726153399,4.0002210542768202,1,"RSL, nov/2022"]
["21436-96-4","Dimethylaniline HCl, 2,4-",121.18,"PHYSPROP",9.4848732619999996E-5,2.3199999999999998E-6,"PHYSPROP","","",7.7588907274419999E-2,"WATER9 (U.S. EPA, 2001)",9.0656512710100003E-6,"WATER9 (U.S. EPA, 2001)",351.90000000000003,"EPI",3650,"PHYSPROP",156.87,"EPI",2.02E-5,"EPI","","","","",2.17,"PHYSPROP",0.17799999999999999,"PHYSPROP","","","",8.5525081269999999E-5,0.50171461195013001,1.2041150686803199,1,"RSL, nov/2022"]
["21564-17-0","TCMTB",238.35,"PHYSPROP",2.6533115290000001E-10,6.49E-12,"PHYSPROP","","",4.9424637963069999E-2,"WATER9 (U.S. EPA, 2001)",5.77487875147E-6,"WATER9 (U.S. EPA, 2001)",3374,"EPI",125,"PHYSPROP",153.22,"EPI",1.12E-2,"EPI","","","","",3.3000000000000003,"PHYSPROP",3.1199999999999999E-7,"PHYSPROP","","","",6.6504686848229994E-2,2.27304874734314,5.45531699362353,0.9,"RSL, nov/2022"]
["2164-17-2","Fluometuron",232.21,"PHYSPROP",1.0670482420299999E-7,2.6099999999999999E-9,"EPI","","",5.0292086669180003E-2,"WATER9 (U.S. EPA, 2001)",5.8762332844999999E-6,"WATER9 (U.S. EPA, 2001)",285.3,"EPI",110,"PHYSPROP",164,"PHYSPROP",3.16E-3,"EPI","","","","",2.42,"PHYSPROP",9.3799999999999996E-7,"PHYSPROP","","","",1.8520563399610002E-2,2.1000263768607201,5.0400633044657202,1,"RSL, nov/2022"]
["21725-46-2","Cyanazine",240.70000000000002,"PHYSPROP",1.0506950122999999E-10,2.5700000000000002E-12,"EPI","","",4.9102417440470003E-2,"WATER9 (U.S. EPA, 2001)",5.7372298272499999E-6,"WATER9 (U.S. EPA, 2001)",134.1,"EPI",170,"PHYSPROP",168,"PHYSPROP",2.0899999999999998E-3,"EPI","","","","",2.2200000000000002,"PHYSPROP",1.3799999999999999E-7,"PHYSPROP","","","",1.247127866019E-2,2.3429809074300501,5.6231541778321104,1,"RSL, nov/2022"]
["218-01-9","Chrysene",228.3,"PHYSPROP",2.1381847915000001E-4,5.2299999999999999E-6,"PHYSPROP",1.3,"CRC",2.6113777679239999E-2,"WATER9 (U.S. EPA, 2001)",6.7494732657100002E-6,"WATER9 (U.S. EPA, 2001)",180500,"EPI",2E-3,"PHYSPROP",258.2,"PHYSPROP",0.59599999999999997,"EPI","","",5.4794999999999998,"Handbook of Environmental Degradation Rates. Lewis. Publishers, Chelsea, MI, 1989",5.8100000000000005,"PHYSPROP",6.2300000000000002E-9,"PHYSPROP","","","",3.4635851385283298,1.99677324839304,8.5324002686394103,1,"RSL, nov/2022"]
["2212-67-1","Molinate",187.31,"PHYSPROP",1.6762060506999999E-4,4.0999999999999997E-6,"PHYSPROP",1.1000000000000001,"CRC",3.1556139141310002E-2,"WATER9 (U.S. EPA, 2001)",6.8179710363600002E-6,"WATER9 (U.S. EPA, 2001)",181.9,"EPI",970,"PHYSPROP",69.58,"EPI",1.89E-2,"EPI","","","","",3.21,"PHYSPROP",5.5999999999999999E-3,"PHYSPROP","","","",9.9487596309929996E-2,1.17702245855103,2.82485390052247,1,"RSL, nov/2022"]
["22224-92-6","Fenamiphos",303.36,"PHYSPROP",4.9468520032700002E-8,1.21E-9,"EPI",1.2,"CRC",2.143695544466E-2,"WATER9 (U.S. EPA, 2001)",5.3519923793999996E-6,"WATER9 (U.S. EPA, 2001)",398,"EPI",329,"PHYSPROP",49,"PHYSPROP",4.3600000000000002E-3,"EPI","","","","",3.23,"PHYSPROP",9.9999999999999995E-7,"PHYSPROP","","","",2.9207359695030001E-2,5.2561136797349697,12.614672831363899,0.9,"RSL, nov/2022"]
["22967-92-6","Methyl Mercury",216.6326,"ChemID","","","","","","","","","","","","","","","",1E-3,"RAGSE",7000,"EPA","","","","","","","","","",5.6609400812500004E-3,1.71787401155715,4.1228976277371698,1,"RSL, nov/2022"]
["2303-16-4","Diallate",270.22000000000003,"PHYSPROP",1.5535568274999999E-4,3.8E-6,"EPI","","",4.5457820338100002E-2,"WATER9 (U.S. EPA, 2001)",5.3113874289800004E-6,"WATER9 (U.S. EPA, 2001)",644.29999999999995,"EPI",14,"PHYSPROP",25,"PHYSPROP",4.5999999999999999E-2,"EPI","","",0.49320000000000003,"Handbook of Environmental Degradation Rates. Lewis. Publishers, Chelsea, MI, 1989",4.49,"PHYSPROP",1.4999999999999999E-4,"PHYSPROP","","","",0.29083269555662999,3.4283152426759398,8.2279565824222392,0.9,"RSL, nov/2022"]
["2303-17-5","Triallate",304.67,"PHYSPROP",4.9059689289000005E-4,1.2E-5,"EPI",1.3,"CRC",2.2457495897E-2,"WATER9 (U.S. EPA, 2001)",5.6737604835700003E-6,"WATER9 (U.S. EPA, 2001)",1008,"EPI",4,"PHYSPROP",29,"PHYSPROP",3.49E-2,"EPI","","","","",4.5999999999999996,"PHYSPROP",1.2E-4,"PHYSPROP","","","",0.23429710652763,5.3456528208549301,12.8295667700518,0.9,"RSL, nov/2022"]
["2312-35-8","Propargite",350.48,"PHYSPROP",2.6165167620000001E-5,6.4000000000000001E-7,"EPI",1.1000000000000001,"CRC",1.943980139679E-2,"WATER9 (U.S. EPA, 2001)",4.77869638613E-6,"WATER9 (U.S. EPA, 2001)",36650,"EPI",0.215,"PHYSPROP",173.22,"EPI",3.56E-2,"EPI","","","","",5,"PHYSPROP",2.9999999999999999E-7,"PHYSPROP","","","",0.25633521322373998,9.6502096757460905,23.160503221790599,0.8,"RSL, nov/2022"]
["23135-22-0","Oxamyl",219.26,"PHYSPROP",9.6892886345099993E-9,2.3700000000000001E-10,"EPI",0.97,"CRC",2.346960149344E-2,"WATER9 (U.S. EPA, 2001)",5.8716365638699998E-6,"WATER9 (U.S. EPA, 2001)",10,"EPI",280000,"PHYSPROP",101,"PHYSPROP",4.49E-5,"EPI","","","","",-0.47000000000000003,"PHYSPROP",2.3000000000000001E-4,"PHYSPROP","","","",2.5571293555999997E-4,1.7770708769587999,4.2649701047011099,1,"RSL, nov/2022"]
["23564-05-8","Thiophanate, Methyl",342.40000000000003,"PHYSPROP",4.9468520032700002E-8,1.21E-9,"EPI","","",3.8820795477900003E-2,"WATER9 (U.S. EPA, 2001)",4.5359034716299999E-6,"WATER9 (U.S. EPA, 2001)",327.39999999999998,"EPI",26.6,"PHYSPROP",172,"EPI",1.6000000000000001E-4,"EPI","","","","",1.4000000000000001,"PHYSPROP",7.1299999999999997E-8,"PHYSPROP","","","",1.13871099138E-3,8.6953836760127299,20.8689208224305,1,"RSL, nov/2022"]
["2385-85-5","Mirex",545.54999999999995,"PHYSPROP",3.3156173344240002E-2,8.1099999999999998E-4,"PHYSPROP",2.2999999999999998,"ChemNet",2.1880174002640002E-2,"WATER9 (U.S. EPA, 2001)",5.6296389961500001E-6,"WATER9 (U.S. EPA, 2001)",356600,"EPI",8.5000000000000006E-2,"PHYSPROP",485,"CRC",5.16E-2,"EPI","","","","",6.8900000000000006,"PHYSPROP",7.9999999999999996E-7,"PHYSPROP","","","",0.4635468494735,119.379223475842,286.51013634202099,0.5,"RSL, nov/2022"]
["23950-58-5","Pronamide",256.13,"PHYSPROP",3.9942763695800001E-7,9.7700000000000008E-9,"EPI","","",4.7110021374669998E-2,"WATER9 (U.S. EPA, 2001)",5.5044340764100001E-6,"WATER9 (U.S. EPA, 2001)",404.90000000000003,"EPI",15,"PHYSPROP",155,"PHYSPROP",1.09E-2,"EPI","","","","",3.43,"PHYSPROP",4.3500000000000002E-7,"PHYSPROP","","","",6.7093952165299994E-2,2.8587537652113499,6.8610090365072303,0.9,"RSL, nov/2022"]
["2425-06-1","Captafol",349.06,"PHYSPROP",2.01144726083E-7,4.9200000000000004E-9,"EPI","","",3.8325416043079999E-2,"WATER9 (U.S. EPA, 2001)",4.47802229556E-6,"WATER9 (U.S. EPA, 2001)",782.7,"EPI",1.4000000000000001,"PHYSPROP",160,"PHYSPROP",5.77E-3,"EPI","","","","",3.8000000000000003,"PHYSPROP",1.4999999999999999E-8,"EPI","","","",4.1462215767980003E-2,9.4751206700426192,22.740289608102302,0.9,"RSL, nov/2022"]
["24307-26-4","Mepiquat Chloride",149.66999999999999,"PHYSPROP",1.762060507E-10,4.31E-12,"PHYSPROP","","",6.7400599876749998E-2,"WATER9 (U.S. EPA, 2001)",7.8752279855999998E-6,"WATER9 (U.S. EPA, 2001)",66.16,"EPI",500000,"PHYSPROP",223,"PHYSPROP",3.0299999999999998E-6,"EPI","","","","",-2.82,"PHYSPROP",3.7099999999999997E-7,"PHYSPROP","","","",1.4257279379999999E-5,0.72443721049270005,1.7386493051824901,1,"RSL, nov/2022"]
["2439-10-3","Dodine",287.45,"PHYSPROP",3.6835650040899999E-9,9.0100000000000004E-11,"EPI","","",4.3622651435110002E-2,"WATER9 (U.S. EPA, 2001)",5.09696243084E-6,"WATER9 (U.S. EPA, 2001)",2482,"EPI",630,"PHYSPROP",136,"PHYSPROP",2.22E-4,"EPI","","","","",1.1499999999999999,"PHYSPROP",1.4999999999999999E-7,"PHYSPROP","","","",1.44764069433E-3,4.2812318691120899,10.274956485869,1,"RSL, nov/2022"]
["25013-15-4","Methyl Styrene (Mixed Isomers)",354.54,"PHYSPROP",0.10711365494685,2.6199999999999999E-3,"PHYSPROP",0.89,"HSDB",1.7396965404569999E-2,"WATER9 (U.S. EPA, 2001)",4.1793296817399997E-6,"WATER9 (U.S. EPA, 2001)",715.80000000000007,"EPI",89,"PHYSPROP",-86.3,"EPI",6.6000000000000003E-2,"EPI","","","","",3.44,"PHYSPROP",1.5,"PHYSPROP","","","",0.47797282733293001,10.1688712718174,24.4052910523619,0.8,"RSL, nov/2022"]
["25013-16-5","Butylated hydroxyanisole",360.5,"PHYSPROP",4.7833197059999999E-5,1.17E-6,"PHYSPROP","","",3.7510261192190003E-2,"WATER9 (U.S. EPA, 2001)",4.3827778866699999E-6,"WATER9 (U.S. EPA, 2001)",840.7,"EPI",212.8,"PHYSPROP",51,"PHYSPROP",3.2500000000000001E-2,"EPI","","","","",3.5,"PHYSPROP",2.48E-3,"PHYSPROP","","","",0.23733546932558999,10.981173405567899,26.354816173362899,0.8,"RSL, nov/2022"]
["25057-89-0","Bentazon",240.28,"PHYSPROP",8.9125102207699995E-8,2.1799999999999999E-9,"EPI","","",4.9159620181580002E-2,"WATER9 (U.S. EPA, 2001)",5.7439135159500002E-6,"WATER9 (U.S. EPA, 2001)",10,"EPI",500,"PHYSPROP",138,"PHYSPROP",2.5200000000000001E-3,"EPI","","","","",2.34,"PHYSPROP",3.45E-6,"PHYSPROP","","","",1.5024014859060001E-2,2.3303263696580601,5.5927832871793504,1,"RSL, nov/2022"]
["25167-70-8","Trimethylpentene, 2,4,4-",112.22,"PHYSPROP",30.498773507767801,0.746,"PHYSPROP",0.72,"PubChem",5.9521700348819997E-2,"WATER9 (U.S. EPA, 2001)",7.3082473542600004E-6,"WATER9 (U.S. EPA, 2001)",240.3,"EPI",4.04,"PHYSPROP",-84.49,"EPI",0.38800000000000001,"EPI","","","","",4.08,"PHYSPROP",71,"PHYSPROP","","","",1.5808603604651299,0.44697244406025,1.7840959447849201,1,"RSL, nov/2022"]
["25321-14-6","Dinitrotoluene, Technical grade",546.41,"PHYSPROP",3.78577269011E-6,9.2599999999999995E-8,"PHYSPROP","","",2.842766408887E-2,"WATER9 (U.S. EPA, 2001)",3.3215481198599998E-6,"WATER9 (U.S. EPA, 2001)",587.4,"EPI",270,"PHYSPROP",60,"EPI",4.1599999999999996E-3,"EPI","","","","",2.1800000000000002,"PHYSPROP",3.97E-4,"PHYSPROP","","","",3.7400663095730001E-2,120.710416833137,289.70500039952799,0.8,"RSL, nov/2022"]
["2602-46-2","Direct Blue 6",932.76,"PHYSPROP",3.7244480785000002E-42,9.1100000000000001E-44,"PHYSPROP","","",1.9902470633630001E-2,"WATER9 (U.S. EPA, 2001)",2.3254465687700001E-6,"WATER9 (U.S. EPA, 2001)",790800000,"EPI",1.3660000000000001E-4,"PHYSPROP",349.84000000000003,"EPI",1.73E-9,"EPI","","","","",2.6,"PHYSPROP",9.5400000000000002E-39,"PHYSPROP","","","",2.0321591266400002E-8,17591.576028213101,42219.782467711302,1,"RSL, nov/2022"]
["26399-36-0","Profluralin",347.3,"PHYSPROP",1.185609157809E-2,2.9E-4,"EPI",1.4,"HSDB",2.1804748547550001E-2,"WATER9 (U.S. EPA, 2001)",5.5052412257899999E-6,"WATER9 (U.S. EPA, 2001)",30520,"EPI",0.1,"PHYSPROP",32.299999999999997,"PHYSPROP",0.09,"EPI","","","","",5.58,"PHYSPROP",6.3E-5,"PHYSPROP","","","",0.64509184704526001,9.2625112744440408,36.547782265222502,0.8,"RSL, nov/2022"]
["26628-22-8","Sodium Azide",65.010000000000005,"EPI","","","",1.9,"CRC","","","","","","",408000,"CRC",300,"CRC",1E-3,"RAGSE","","","","","","","","","","","",3.10110688389E-3,0.24316706314430001,0.58360095154632996,1,"RSL, nov/2022"]
["2687-25-4","Toluenediamine, 2,3-",122.17,"PHYSPROP",3.0376124284499998E-7,7.4300000000000002E-9,"PHYSPROP","","",7.7169179924510001E-2,"WATER9 (U.S. EPA, 2001)",9.0166094438099997E-6,"WATER9 (U.S. EPA, 2001)",56.52,"EPI",24570,"PHYSPROP",63.5,"PHYSPROP",9.5200000000000005E-4,"EPI","","","","",0.71,"PHYSPROP",5.53E-4,"EPI","","","",4.0471181886800002E-3,0.50816031967269004,1.21958476721446,1,"RSL, nov/2022"]
["2691-41-0","Octahydro-1,3,5,7-tetranitro-1,3,5,7-tetrazocine (HMX)",296.16000000000003,"PHYSPROP",3.5445625511000003E-8,8.67E-10,"PHYSPROP","","",4.276311502756E-2,"WATER9 (U.S. EPA, 2001)",4.9965323874299999E-6,"WATER9 (U.S. EPA, 2001)",531.6,"EPI",5,"PHYSPROP",286,"CRC",4.3600000000000003E-5,"EPI","","","","",0.16,"PHYSPROP",3.2999999999999998E-14,"PHYSPROP","","","",2.8858671991000001E-4,4.7901018706865504,11.496244489647699,1,"RSL, nov/2022"]
["27314-13-2","Norflurazon",303.67,"PHYSPROP",1.40228945217E-8,3.43E-10,"EPI","","",4.2055132729439997E-2,"WATER9 (U.S. EPA, 2001)",4.91381024523E-6,"WATER9 (U.S. EPA, 2001)",3118,"EPI",33.700000000000003,"PHYSPROP",184,"PHYSPROP",1.0499999999999999E-3,"EPI","","","","",2.2999999999999998,"PHYSPROP",2.8900000000000001E-8,"PHYSPROP","","","",7.0374754983999997E-3,5.27716592632125,12.665198223171,1,"RSL, nov/2022"]
["2764-72-9","Diquat",184.24,"EPI",5.8100000000000003E-6,1.42E-7,"EPI","","",5.868101956631E-2,"WATER9 (U.S. EPA, 2001)",6.8564138651199999E-6,"WATER9 (U.S. EPA, 2001)",4041,"EPI",70,"EPI",95.29,"EPI",5.3800000000000002E-3,"EPI","","","","",2.3622000000000001,"EPI",1E-8,"EPI","","","",2.8086711296970001E-2,1.1313389766816,2.71521354403585,1,"RSL, nov/2022"]
["2795-39-3","Potassium perfluorooctanesulfonate",538.22,"Sax's",8.1766000000000003E-5,1.9999999999999999E-6,"Beach SA et al","","",2.8715323481049999E-2,"WATER9 (U.S. EPA, 2001)",3.3551588488399999E-6,"WATER9 (U.S. EPA, 2001)","","",680,"3M",400,"3M",2.8628631205899999E-7,"RAGSE","","","","",-1.08,"3M",2.48E-6,"3M","","","",2.5545073228299999E-6,108.61273493070399,260.67056383368799,1,"RSL, nov/2022"]
["28249-77-6","Thiobencarb",257.77999999999997,"PHYSPROP",1.091578087E-5,2.67E-7,"EPI",1.2,"CRC",2.3450125516459999E-2,"WATER9 (U.S. EPA, 2001)",5.9319438774400003E-6,"WATER9 (U.S. EPA, 2001)",1628,"EPI",28,"PHYSPROP",3.3000000000000003,"PHYSPROP",1.0200000000000001E-2,"EPI","","","","",3.4,"PHYSPROP",2.1999999999999999E-5,"PHYSPROP","","","",6.2987073906400001E-2,2.9202279248702698,7.0085470196886401,0.9,"RSL, nov/2022"]
["2921-88-2","Chlorpyrifos",350.59000000000003,"PHYSPROP",1.1978740801E-4,2.9299999999999999E-6,"PHYSPROP","","",3.8213831534159998E-2,"WATER9 (U.S. EPA, 2001)",4.4649845266199998E-6,"WATER9 (U.S. EPA, 2001)",7283,"EPI",1.1200000000000001,"PHYSPROP",42,"PHYSPROP",3.3399999999999999E-2,"EPI","","","","",4.96,"PHYSPROP",2.0250000000000001E-5,"PHYSPROP","","","",0.24053201031914001,9.6639071718912692,23.193377212539101,0.8,"RSL, nov/2022"]
["29232-93-7","Pirimiphos, Methyl",305.33999999999997,"PHYSPROP",2.8659035160000001E-5,7.0100000000000004E-7,"EPI",1.2,"CRC",2.1541962860799999E-2,"WATER9 (U.S. EPA, 2001)",5.3865794245199996E-6,"WATER9 (U.S. EPA, 2001)",374.7,"EPI",8.6,"PHYSPROP",15,"PHYSPROP",1.8700000000000001E-2,"EPI","","","","",4.2,"PHYSPROP",1.5E-5,"PHYSPROP","","","",0.12567824549432999,5.39203558415781,12.9408854019788,0.9,"RSL, nov/2022"]
["29420-49-3","Potassium perfluorobutanesulfonate",338.2,"3M",3.5936222403999998E-11,8.7899999999999999E-13,"3M",0.95,"3M",1.8441200004009999E-2,"WATER9 (U.S. EPA, 2001)",4.4737933513999998E-6,"WATER9 (U.S. EPA, 2001)","","",46200,"3M",280,"3M",1.2611610226199999E-6,"RAGSE",0.3,"3M","","",-1.8,"3M",9.1500000000000005E-8,"3M","","","",8.9203931115399999E-6,8.2369939996549792,19.768785599171899,1,"RSL, nov/2022"]
["298-00-0","Methyl Parathion",263.20999999999998,"PHYSPROP",4.0883074407200002E-6,9.9999999999999995E-8,"PHYSPROP",1.4,"CRC",2.4984641392469999E-2,"WATER9 (U.S. EPA, 2001)",6.4391746170800004E-6,"WATER9 (U.S. EPA, 2001)",729.30000000000007,"EPI",37.700000000000003,"PHYSPROP",35.5,"PHYSPROP",4.1599999999999996E-3,"EPI","","",0.1918,"Handbook of Environmental Degradation Rates. Lewis. Publishers, Chelsea, MI, 1989",2.86,"PHYSPROP",3.4999999999999999E-6,"PHYSPROP","","","",2.5957996841050001E-2,3.1320216079792198,7.5168518591501297,1,"RSL, nov/2022"]
["298-02-2","Phorate",260.38,"PHYSPROP",1.7865903516E-4,4.3699999999999997E-6,"EPI",1.2,"CRC",2.3326761705030001E-2,"WATER9 (U.S. EPA, 2001)",5.8963328484099999E-6,"WATER9 (U.S. EPA, 2001)",459.8,"EPI",50,"PHYSPROP",-15,"CRC",1.26E-2,"EPI","","","","",3.56,"PHYSPROP",6.38E-4,"PHYSPROP","","","",7.8198965625210004E-2,3.0197900486342899,7.2474961167222904,0.9,"RSL, nov/2022"]
["298-04-4","Disulfoton",274.41000000000003,"PHYSPROP",8.8307440719999998E-5,2.1600000000000001E-6,"EPI",1.1000000000000001,"CRC",2.2542109704319999E-2,"WATER9 (U.S. EPA, 2001)",5.6661416309500003E-6,"WATER9 (U.S. EPA, 2001)",837.9,"EPI",16.3,"PHYSPROP",-25,"PHYSPROP",2.12E-2,"EPI","","",0.11509999999999999,"Handbook of Environmental Degradation Rates. Lewis. Publishers, Chelsea, MI, 1989",4.0199999999999996,"PHYSPROP",9.7499999999999998E-5,"PHYSPROP","","","",0.13507111341983,3.6186347515144801,8.6847234036347398,0.9,"RSL, nov/2022"]
["299-84-3","Ronnel",321.55,"PHYSPROP",1.3082583810299999E-3,3.1999999999999999E-5,"EPI",1.4,"CRC",2.3157702624669999E-2,"WATER9 (U.S. EPA, 2001)",5.9148012838E-6,"WATER9 (U.S. EPA, 2001)",4457,"EPI",1,"PHYSPROP",41,"PHYSPROP",4.2999999999999997E-2,"EPI","","","","",4.88,"PHYSPROP",7.4999999999999993E-5,"PHYSPROP","","","",0.29656463767537999,6.6455166373384502,15.9492399296123,0.8,"RSL, nov/2022"]
["300-76-5","Naled",380.79,"PHYSPROP",2.6614881439099999E-3,6.5099999999999997E-5,"EPI",2,"CRC",2.4566668350260001E-2,"WATER9 (U.S. EPA, 2001)",6.4300462023900002E-6,"WATER9 (U.S. EPA, 2001)",126.7,"EPI",1.5,"PHYSPROP",27,"PHYSPROP",9.4400000000000004E-5,"EPI","","","","",1.3800000000000001,"PHYSPROP",2.0000000000000001E-4,"PHYSPROP","","","",7.0850254353999997E-4,14.2650319800319,34.236076752076499,1,"RSL, nov/2022"]
["301-04-2","Lead acetate",327.3,"PHYSPROP","","","",3.3,"CRC",3.3267868497239998E-2,"WATER9 (U.S. EPA, 2001)",9.5374919622899995E-6,"WATER9 (U.S. EPA, 2001)",1,"EPI",1600,"PHYSPROP",327.39999999999998,"PHYSPROP",2.0800000000000001E-5,"EPI","","","","",-0.08,"PHYSPROP",7.2199999999999999E-4,"PHYSPROP","","","",1.4473147549999999E-4,7.1569626309929602,17.176710314383101,1,"RSL, nov/2022"]
["302-01-2","Hydrazine",32.045000000000002,"PHYSPROP",2.4828E-5,6.0729999999999999E-7,"PHYSPROP",1,"CRC",0.17330340020516999,"WATER9 (U.S. EPA, 2001)",1.8998151330000001E-5,"WATER9 (U.S. EPA, 2001)",2,"PubChem",1000000,"PHYSPROP",2,"PHYSPROP",4.3617959509999997E-5,"RAGSE","","",3.8359999999999998E-2,"Handbook of Environmental Degradation Rates. Lewis. Publishers, Chelsea, MI, 1989",-2.0699999999999998,"PHYSPROP",14.38,"PHYSPROP","","","",9.4966872320000005E-5,0.15896472007248,0.38151532817396,1,"RSL, nov/2022"]
["302-17-0","Chloral Hydrate",165.4,"PHYSPROP",2.3344235486499999E-7,5.7100000000000003E-9,"PHYSPROP",1.9,"CRC",5.439905097219E-2,"WATER9 (U.S. EPA, 2001)",1.0435449179999999E-5,"WATER9 (U.S. EPA, 2001)",1,"EPI",793000,"PHYSPROP",57,"PHYSPROP",8.4099999999999995E-4,"EPI","","","","",0.99,"PHYSPROP",14.999000000000001,"PHYSPROP","","","",4.1599719325099999E-3,0.88733732403802001,2.12960957769124,1,"RSL, nov/2022"]
["30560-19-1","Acephate",183.17000000000002,"PHYSPROP",2.0482420277999999E-11,5.0099999999999999E-13,"EPI",1.4,"CRC",3.7348276993720002E-2,"WATER9 (U.S. EPA, 2001)",7.9755276573100005E-6,"WATER9 (U.S. EPA, 2001)",10,"EPI",818000,"PHYSPROP",88,"PHYSPROP",4.0000000000000003E-5,"EPI","","","","",-0.85,"PHYSPROP",1.7E-6,"PHYSPROP","","","",2.0821586432E-4,1.1158369782835,2.6780087478804,1,"RSL, nov/2022"]
["309-00-2","Aldrin",364.92,"PHYSPROP",1.79885527392E-3,4.3999999999999999E-5,"PHYSPROP",1.6,"PubChem",2.281156491601E-2,"WATER9 (U.S. EPA, 2001)",5.8401655942800002E-6,"WATER9 (U.S. EPA, 2001)",82020,"EPI",1.7000000000000001E-2,"PHYSPROP",104,"PHYSPROP",0.29299999999999998,"EPI","","",3.242,"Handbook of Environmental Degradation Rates. Lewis. Publishers, Chelsea, MI, 1989",6.5,"PHYSPROP",1.2E-4,"PHYSPROP","","","",2.15274755911009,11.6252084690171,47.726506161858701,1,"RSL, nov/2022"]
["31508-00-6","Pentachlorobiphenyl, 2,3',4,4',5- (PCB 118)",326.44,"PHYSPROP",1.177432542927E-2,2.8800000000000001E-4,"EPI",1.5,"LookChem",4.6705452982670002E-2,"WATER9 (U.S. EPA, 2001)",6.0595244406700004E-6,"WATER9 (U.S. EPA, 2001)",127900,"EPI",1.34E-2,"PHYSPROP",134.6,"EPI",1.24,"EPI","","","","",7.12,"PHYSPROP",8.9740000000000008E-6,"PHYSPROP","","","",8.6168795406313698,7.0780357134763596,31.882448216730701,0.3,"RSL, nov/2022"]
["3165-93-3","Chloro-2-methylaniline HCl, 4-",178.06,"PHYSPROP",6.3777596079999998E-5,1.5600000000000001E-6,"PHYSPROP","","",6.00310613274E-2,"WATER9 (U.S. EPA, 2001)",7.0141555866799999E-6,"WATER9 (U.S. EPA, 2001)",351.90000000000003,"EPI",953.9,"PHYSPROP",163.91,"EPI",1.8E-5,"EPI","","","","",2.27,"PHYSPROP",4.0800000000000003E-2,"PHYSPROP","","","",9.2380932480000001E-5,1.0446835341946801,2.5072404820672398,1,"RSL, nov/2022"]
["319-84-6","Hexachlorocyclohexane, Alpha-",290.83,"PHYSPROP",2.7391659853E-4,6.7000000000000002E-6,"PHYSPROP","","",4.3284007679819998E-2,"WATER9 (U.S. EPA, 2001)",5.0573945815400002E-6,"WATER9 (U.S. EPA, 2001)",2807,"EPI",2,"PHYSPROP",159.5,"PHYSPROP",2.06E-2,"EPI","","",0.73970000000000002,"Handbook of Environmental Degradation Rates. Lewis. Publishers, Chelsea, MI, 1989",3.8000000000000003,"PHYSPROP",3.5200000000000002E-5,"EPI","","","",0.13511808269875999,4.4719480484289003,10.7326753162294,0.9,"RSL, nov/2022"]
["319-85-7","Hexachlorocyclohexane, Beta-",290.83,"PHYSPROP",1.7988552739999998E-5,4.4000000000000002E-7,"PHYSPROP",1.9,"CRC",2.7667217305949999E-2,"WATER9 (U.S. EPA, 2001)",7.3954623781499997E-6,"WATER9 (U.S. EPA, 2001)",2807,"EPI",0.24,"PHYSPROP",112.5,"PHYSPROP",2.06E-2,"EPI","","",0.3397,"Handbook of Environmental Degradation Rates. Lewis. Publishers, Chelsea, MI, 1989",3.7800000000000002,"PHYSPROP",3.5999999999999999E-7,"PHYSPROP","","","",0.13511808269875999,4.4719480484289003,10.7326753162294,0.9,"RSL, nov/2022"]
["32534-81-9","Pentabromodiphenyl Ether",564.69000000000005,"PHYSPROP",4.4153720359800001E-3,1.08E-4,"PHYSPROP","","",2.7810803486240002E-2,"WATER9 (U.S. EPA, 2001)",3.2494728283899999E-6,"WATER9 (U.S. EPA, 2001)",21660,"EPI",2.3999999999999998E-3,"PHYSPROP",-5,"PHYSPROP",3.73E-2,"EPI","","","","",6.84,"PHYSPROP",3.1E-8,"EPI","","","",0.34091062140968997,152.796268967885,366.711045522924,0.6,"RSL, nov/2022"]
["32536-52-0","Octabromodiphenyl Ether",801.38,"PHYSPROP",3.0580539656600002E-6,7.4799999999999995E-8,"PHYSPROP","","",2.2022228672210001E-2,"WATER9 (U.S. EPA, 2001)",2.5731235606499998E-6,"WATER9 (U.S. EPA, 2001)",98980,"EPI",1.11E-8,"PHYSPROP",200,"PHYSPROP",3.0599999999999999E-2,"EPI","","","","",8.7100000000000009,"PHYSPROP",1.2699999999999999E-2,"EPI","","","",0.33317110428986002,3232.78445874205,7758.6827009809303,0.3,"RSL, nov/2022"]
["32598-13-3","Tetrachlorobiphenyl, 3,3',4,4'- (PCB 77)",291.99,"PHYSPROP",3.8430089943000001E-4,9.3999999999999998E-6,"PHYSPROP","","",4.9383888576890002E-2,"WATER9 (U.S. EPA, 2001)",5.0439912252899997E-6,"WATER9 (U.S. EPA, 2001)",78100,"EPI",5.6899999999999995E-4,"PHYSPROP",180,"CRC",0.91700000000000004,"EPI","","","","",6.63,"PHYSPROP",1.641E-5,"PHYSPROP","","","",6.0267055960712099,4.5393403832826502,20.1059669056527,0.6,"RSL, nov/2022"]
["32598-14-4","Pentachlorobiphenyl, 2,3,3',4,4'- (PCB 105)",326.44,"PHYSPROP",1.156991005724E-2,2.8299999999999999E-4,"EPI",1.5,"LookChem",4.6705452982670002E-2,"WATER9 (U.S. EPA, 2001)",6.0595244406700004E-6,"WATER9 (U.S. EPA, 2001)",130500,"EPI",3.3999999999999998E-3,"PHYSPROP",134.6,"EPI",0.751,"EPI","","","","",6.79,"PHYSPROP",6.5309999999999998E-6,"PHYSPROP","","","",5.2187713992049698,7.0780357134763596,31.096662612958699,0.5,"RSL, nov/2022"]
["32774-16-6","Hexachlorobiphenyl, 3,3',4,4',5,5'- (PCB 169)",360.88,"PHYSPROP",2.8004905968900002E-3,6.8499999999999998E-5,"PHYSPROP",1.6,"LookChem",4.4420952435710002E-2,"WATER9 (U.S. EPA, 2001)",5.8638594009900002E-6,"WATER9 (U.S. EPA, 2001)",209300,"EPI",5.1000000000000004E-4,"PHYSPROP",146.34,"EPI",1.24,"EPI","","","","",7.41,"PHYSPROP",5.8100000000000003E-7,"PHYSPROP","","","",9.0600322634847501,11.035112108210001,49.806591409712098,0.1,"RSL, nov/2022"]
["330-54-1","Diuron",233.1,"PHYSPROP",2.06050695012E-8,5.0400000000000002E-10,"EPI","","",5.0163991463670003E-2,"WATER9 (U.S. EPA, 2001)",5.8612663710200003E-6,"WATER9 (U.S. EPA, 2001)",109.10000000000001,"EPI",42,"PHYSPROP",158,"PHYSPROP",4.6600000000000001E-3,"EPI","","","","",2.68,"PHYSPROP",6.8999999999999996E-8,"PHYSPROP","","","",2.7364259828769999E-2,2.1242652739696601,5.09823665752719,1,"RSL, nov/2022"]
["330-55-2","Linuron",249.1,"PHYSPROP",2.5551921504500001E-7,6.2499999999999997E-9,"EPI","","",4.7992250516890003E-2,"WATER9 (U.S. EPA, 2001)",5.6075155867099996E-6,"WATER9 (U.S. EPA, 2001)",339.8,"EPI",75,"PHYSPROP",93,"PHYSPROP",8.3899999999999999E-3,"EPI","","",0.97529999999999994,"Handbook of Environmental Degradation Rates. Lewis. Publishers, Chelsea, MI, 1989",3.2,"PHYSPROP",1.4300000000000001E-6,"PHYSPROP","","","",5.0930211140390001E-2,2.6110112894116799,6.2664270945880398,0.9,"RSL, nov/2022"]
["33089-61-1","Amitraz",293.42,"PHYSPROP",4.035159444E-4,9.8700000000000004E-6,"PHYSPROP",1.1000000000000001,"CRC",2.1614311176069999E-2,"WATER9 (U.S. EPA, 2001)",5.3971365206999998E-6,"WATER9 (U.S. EPA, 2001)",257300,"EPI",1,"PHYSPROP",86,"PHYSPROP",0.16,"EPI","","","","",5.5,"PHYSPROP",1.9999999999999999E-6,"PHYSPROP","","","",1.0541234896163501,4.6238181949522996,17.888257463920699,0.9,"RSL, nov/2022"]
["333-41-5","Diazinon",304.35000000000002,"PHYSPROP",4.6197874080100004E-6,1.1300000000000001E-7,"PHYSPROP",1.1000000000000001,"CRC",2.1026401928520001E-2,"WATER9 (U.S. EPA, 2001)",5.2258834331299998E-6,"WATER9 (U.S. EPA, 2001)",3034,"EPI",40,"PHYSPROP",87.58,"EPI",1.04E-2,"EPI","","","","",3.81,"PHYSPROP",9.0099999999999995E-5,"PHYSPROP","","","",6.978251930104E-2,5.3236408589901796,12.776738061576401,0.9,"RSL, nov/2022"]
["3333-67-3","Nickel Carbonate",118.72,"PHYSPROP","","","","","",7.8657053860990006E-2,"WATER9 (U.S. EPA, 2001)",9.1904557669199999E-6,"WATER9 (U.S. EPA, 2001)","","",93,"PERRY","","",1.3200000000000001E-5,"EPI","","","","",-2.12,"PHYSPROP",3.5599999999999998E-6,"PHYSPROP","","","",5.5317497790000002E-5,0.48604977857200998,1.16651946857282,1,"RSL, nov/2022"]
["3337-71-1","Asulam",230.24,"PHYSPROP",6.9910057236E-11,1.71E-12,"PHYSPROP","","",5.0578554873499999E-2,"WATER9 (U.S. EPA, 2001)",5.90970483259E-6,"WATER9 (U.S. EPA, 2001)",27.8,"EPI",5000,"PHYSPROP",144,"PHYSPROP",5.2899999999999998E-5,"EPI","","","","",-0.27,"PHYSPROP",1.44E-6,"PHYSPROP","","","",3.0872564906000001E-4,2.04735309626354,4.9136474310324898,1,"RSL, nov/2022"]
["335-67-1","Perfluorooctanoic acid (PFOA)",414.40000000000003,"3M",1.4603399999999999E-4,3.5727000000000001E-6,"ATSDR Profile",1.8,"3M",2.2560846153160001E-2,"WATER9 (U.S. EPA, 2001)",5.7919222953000001E-6,"WATER9 (U.S. EPA, 2001)",114.8,"Higgins and Luthy (2006)",9500,"3M",53,"3M","","",15,"3M","","","","",0.03,"3M","","","","",22.003347093039999,52.808033023296097,0,"RSL, nov/2022"]
["33663-50-2","Trichloroaniline HCl, 2,4,6-",232.93,"EPI",2.9354047423999999E-12,7.1799999999999994E-14,"EPI","","",5.0188396053220001E-2,"WATER9 (U.S. EPA, 2001)",5.8641178546400004E-6,"WATER9 (U.S. EPA, 2001)",1271,"EPI",20.963999999999999,"EPI",176.57,"EPI",2.76E-5,"EPI","","","","",-0.67,"EPI",6.13E-8,"EPI","","","",1.6201247157999999E-4,2.1196138548506198,5.0870732516414803,1,"RSL, nov/2022"]
["33820-53-0","Isopropalin",309.37,"PHYSPROP",4.5380212591999997E-3,1.11E-4,"EPI",1.2,"ChemNet",2.1279010908080001E-2,"WATER9 (U.S. EPA, 2001)",5.3086594775499996E-6,"WATER9 (U.S. EPA, 2001)",11430,"EPI",0.11,"PHYSPROP",152.04,"EPI",0.20699999999999999,"EPI","","",0.57530000000000003,"Handbook of Environmental Degradation Rates. Lewis. Publishers, Chelsea, MI, 1989",5.8,"PHYSPROP",3.0000000000000001E-5,"PHYSPROP","","","",1.4003483891327699,5.6796392216619704,22.431119805956801,0.8,"RSL, nov/2022"]
["3383-96-8","Temephos",466.47,"PHYSPROP",8.0130825838099997E-8,1.9599999999999998E-9,"PHYSPROP",1.3,"CRC",1.8294313763009998E-2,"WATER9 (U.S. EPA, 2001)",4.4907812356599997E-6,"WATER9 (U.S. EPA, 2001)",95060,"EPI",0.27,"PHYSPROP",30,"PHYSPROP",3.4500000000000003E-2,"EPI","","","","",5.96,"PHYSPROP",7.91E-8,"PHYSPROP","","","",0.28658773905134,43.060666697928298,103.345600075028,0.7,"RSL, nov/2022"]
["3400-09-7","Dichloramine","","","","","","","","","","","","","","","","","","","","","","","","","","","","","","","","","",0,"RSL, nov/2022"]
["34014-18-1","Tebuthiuron",228.32,"PHYSPROP",4.9059689288600001E-9,1.2E-10,"PHYSPROP","","",5.0861710756150001E-2,"WATER9 (U.S. EPA, 2001)",5.9427893620299996E-6,"WATER9 (U.S. EPA, 2001)",42.35,"EPI",2500,"PHYSPROP",162.85,"PHYSPROP",1.2700000000000001E-3,"EPI","","","","",1.79,"PHYSPROP",2.9999999999999999E-7,"PHYSPROP","","","",7.3807815368499997E-3,1.9972882617138299,4.7934918281131802,1,"RSL, nov/2022"]
["34256-82-1","Acetochlor",269.77,"PHYSPROP",9.1169255927999997E-7,2.2300000000000001E-8,"PHYSPROP",1.1000000000000001,"PubChem",2.2390800678849999E-2,"WATER9 (U.S. EPA, 2001)",5.6126007882700004E-6,"WATER9 (U.S. EPA, 2001)",298.39999999999998,"EPI",223,"PHYSPROP",0,"EPI",4.9500000000000004E-3,"EPI","","","","",3.0300000000000002,"PHYSPROP",2.8E-5,"PHYSPROP","","","",3.1270057291090003E-2,3.4084799967980701,8.18035199231538,0.9,"RSL, nov/2022"]
["34465-46-8","Hexachlorodibenzo-p-dioxin, Mixture",390.87,"PHYSPROP",2.3303352412000001E-4,5.6999999999999996E-6,"EPI",1.8,"ChemNet",4.2682819875729999E-2,"WATER9 (U.S. EPA, 2001)",5.9684948705699997E-6,"WATER9 (U.S. EPA, 2001)",695200,"EPI",3.9999999999999998E-6,"PHYSPROP",250,"PHYSPROP",2.86,"EPI","","","","",8.2100000000000009,"PHYSPROP",4.4000000000000003E-11,"PHYSPROP","","","",21.7474757155859,16.245038674909601,75.114655789551804,0,"RSL, nov/2022"]
["35367-38-5","Diflubenzuron",310.69,"PHYSPROP",1.8806214227300001E-7,4.5999999999999998E-9,"EPI","","",4.1419236036890003E-2,"WATER9 (U.S. EPA, 2001)",4.8395107369399999E-6,"WATER9 (U.S. EPA, 2001)",463.2,"EPI",0.08,"PHYSPROP",239,"PHYSPROP",1.0699999999999999E-2,"EPI","","","","",3.88,"PHYSPROP",8.9999999999999999E-10,"PHYSPROP","","","",7.2539418074289999E-2,5.7771381043654699,13.865131450477101,0.9,"RSL, nov/2022"]
["355-46-4","Perfluorohexanesulfonic acid (PFHxS)",400.1,"3M","","","",1.8,"3M",2.3263362763010002E-2,"WATER9 (U.S. EPA, 2001)",6.0117777098300001E-6,"WATER9 (U.S. EPA, 2001)",112.2,"Guelfo and Higgins 2013","","",41,"3M",2.5807510932999999E-4,"RAGSE","","","","",2.2000000000000002,"3M","","","","","",1.9854412823499998E-3,18.298215988570899,43.915718372570097,1,"RSL, nov/2022"]
["35554-44-0","Imazalil",297.19,"PHYSPROP",1.05887162715E-7,2.5899999999999999E-9,"EPI",1.2,"CRC",2.2493203038949999E-2,"WATER9 (U.S. EPA, 2001)",5.6771965942199996E-6,"WATER9 (U.S. EPA, 2001)",8495,"EPI",180,"PHYSPROP",52.7,"PHYSPROP",1.1599999999999999E-2,"EPI","","","","",3.8200000000000003,"PHYSPROP",1.19E-6,"PHYSPROP","","","",7.6913351692920004E-2,4.8541450497610201,11.649948119426501,0.9,"RSL, nov/2022"]
["35572-78-2","Dinitrotoluene, 2-Amino-4,6-",197.15,"PHYSPROP",1.33687653312E-9,3.2700000000000001E-11,"PHYSPROP","","",5.6090470115739997E-2,"WATER9 (U.S. EPA, 2001)",6.5537286135200003E-6,"WATER9 (U.S. EPA, 2001)",283,"EPI",1220,"PHYSPROP",174.5,"PHYSPROP",2.0400000000000001E-3,"EPI","","","","",1.84,"PHYSPROP",1.0699999999999999E-5,"PHYSPROP","","","",1.1016793528290001E-2,1.3362531734440699,3.2070076162657601,1,"RSL, nov/2022"]
["36355-01-8","Polybrominated Biphenyls","","","","","","","","","","","","","","","","","","","","","","","","","","","","","","","","","",0,"RSL, nov/2022"]
["36734-19-7","Iprodione",330.17,"PHYSPROP",1.2755519214999999E-7,3.12E-9,"PHYSPROP","","",3.9773626806819999E-2,"WATER9 (U.S. EPA, 2001)",4.6472342900600002E-6,"WATER9 (U.S. EPA, 2001)",52.52,"EPI",13.9,"PHYSPROP",136,"PHYSPROP",2.1700000000000001E-3,"EPI","","","","",3,"PHYSPROP",3.7499999999999997E-9,"PHYSPROP","","","",1.5165446131290001E-2,7.4267832561756002,17.824279814821399,0.9,"RSL, nov/2022"]
["3689-24-5","Tetraethyl Dithiopyrophosphate",322.32,"PHYSPROP",1.8192968111E-4,4.4499999999999997E-6,"EPI",1.2,"CRC",2.116145668345E-2,"WATER9 (U.S. EPA, 2001)",5.2836997034299999E-6,"WATER9 (U.S. EPA, 2001)",265.60000000000002,"EPI",30,"PHYSPROP",-32.32,"EPI",1.09E-2,"EPI","","","","",3.99,"PHYSPROP",1.05E-4,"PHYSPROP","","","",7.5265643167520005E-2,6.7118269345310697,16.108384642874601,0.9,"RSL, nov/2022"]
["373-02-4","Nickel Acetate",176.8,"PHYSPROP","","","",1.8,"PERRY",4.6175668618460002E-2,"WATER9 (U.S. EPA, 2001)",9.6751170445400008E-6,"WATER9 (U.S. EPA, 2001)",1,"EPI",166000,"PHYSPROP","","",1.9400000000000001E-5,"EPI","","","","",-1.3800000000000001,"PHYSPROP",1.7900000000000001E-5,"PHYSPROP","","","",9.9213212519999998E-5,1.0278476555334899,2.4668343732803901,1,"RSL, nov/2022"]
["375-73-5","Perfluorobutanesulfonic acid (PFBS)",300.10000000000002,"3M","","","",1.8,"3M",2.6792467805000001E-2,"WATER9 (U.S. EPA, 2001)",7.1043945869699999E-6,"WATER9 (U.S. EPA, 2001)",61.660000000000004,"Guelfo and Higgins 2013",256600,"3M",-21,"3M",1.926976463E-5,"RAGSE","","","","",-0.34,"3M",0.05,"3M","","","",1.2839143703E-4,5.0397471695603402,12.0953932069448,1,"RSL, nov/2022"]
["375-95-1","Perfluorononanoic acid (PFNA)",464.1,"3M","","","",1.8,"3M",2.1339777797830001E-2,"WATER9 (U.S. EPA, 2001)",5.4258568744099996E-6,"WATER9 (U.S. EPA, 2001)",245.5,"Higgins and Luthy 2006","","",68,"3M",1.9883275267E-4,"RAGSE",4,"3M","","",2.57,"3M",9.5300000000000003E-3,"3M","","","",1.64748079727E-3,41.7646407078199,100.235137698768,1,"RSL, nov/2022"]
["3779-63-3","Hexamethylene diisocyanate isocyanurate",504.59000000000003,"EPI",5.2599999999999997E-16,1.2900000000000001E-17,"EPI","","",2.9977437626709999E-2,"WATER9 (U.S. EPA, 2001)",3.5026269227000001E-6,"WATER9 (U.S. EPA, 2001)",13110000,"EPI",5.0459000000000005E-7,"EPI",307.27,"EPI",7.68,"EPI","","","","",9.8140000000000001,"EPI",9.7499999999999994E-17,"EPI","","","",66.352484888567503,70.396772700219799,329.62586865766099,0,"RSL, nov/2022"]
["38380-08-4","Hexachlorobiphenyl, 2,3,3',4,4',5- (PCB 156)",360.88,"PHYSPROP",5.8462796402300003E-3,1.4300000000000001E-4,"EPI",1.6,"LookChem",4.4420952435710002E-2,"WATER9 (U.S. EPA, 2001)",5.8638594009900002E-6,"WATER9 (U.S. EPA, 2001)",213600,"EPI",5.3299999999999997E-3,"PHYSPROP",146.34,"EPI",1.6600000000000001,"EPI","","","","",7.6000000000000005,"PHYSPROP",1.61E-6,"PHYSPROP","","","",12.1287528688586,11.035112108210001,50.3149224728541,0,"RSL, nov/2022"]
["39148-24-8","Fosetyl-AL",354.11,"PHYSPROP",1.2878168438000001E-12,3.1499999999999998E-14,"PHYSPROP","","",3.7960169246050002E-2,"WATER9 (U.S. EPA, 2001)",4.4353460908499999E-6,"WATER9 (U.S. EPA, 2001)",6485,"EPI",111000,"PHYSPROP",215,"PHYSPROP",4.0999999999999999E-7,"EPI","","","","",-2.4,"PHYSPROP",7.5E-11,"PHYSPROP","","","",2.9674239969200001E-6,10.1126447165452,24.270347319708598,1,"RSL, nov/2022"]
["39196-18-4","Thiofanox",218.32,"PHYSPROP",3.8389206868399998E-7,9.39E-9,"EPI","","",5.2403213418180002E-2,"WATER9 (U.S. EPA, 2001)",6.1229017783300004E-6,"WATER9 (U.S. EPA, 2001)",72.400000000000006,"EPI",5200,"PHYSPROP",57,"PHYSPROP",6.2700000000000004E-3,"EPI","","","","",2.16,"PHYSPROP",1.7000000000000001E-4,"PHYSPROP","","","",3.5632061903609999E-2,1.7556613546484701,4.2135872511563299,1,"RSL, nov/2022"]
["39515-41-8","Fenpropathrin",349.43,"PHYSPROP",3.1234668847E-4,7.6399999999999997E-6,"EPI","","",3.8298356913180003E-2,"WATER9 (U.S. EPA, 2001)",4.4748606498600002E-6,"WATER9 (U.S. EPA, 2001)",22490,"EPI",0.33,"PHYSPROP",47,"PHYSPROP",0.16700000000000001,"EPI","","","","",5.7,"PHYSPROP",5.48E-6,"PHYSPROP","","","",1.2006687775209299,9.5204340649785895,37.143137683985898,0.8,"RSL, nov/2022"]
["39635-31-9","Heptachlorobiphenyl, 2,3,3',4,4',5,5'- (PCB 189)",395.33,"PHYSPROP",2.0727718724400002E-3,5.0699999999999999E-5,"PHYSPROP",1.7,"LookChem",4.2441369266430003E-2,"WATER9 (U.S. EPA, 2001)",5.6865206924000001E-6,"WATER9 (U.S. EPA, 2001)",349700,"EPI",7.5299999999999998E-4,"PHYSPROP",163.56,"EPI",2.96,"EPI","","","","",8.27,"PHYSPROP",1.3E-7,"PHYSPROP","","","",22.635925156536199,17.206666830223899,79.618094368859303,0,"RSL, nov/2022"]
["4035-89-6","Hexamethylene diisocyanate biuret",478.6,"EPI",1.2199999999999999E-14,2.9800000000000001E-16,"EPI","","",3.1053112601550002E-2,"WATER9 (U.S. EPA, 2001)",3.6283110513399999E-6,"WATER9 (U.S. EPA, 2001)",4393000,"EPI",6.8920999999999996E-7,"EPI",287.02,"EPI",0.35199999999999998,"EPI","","","","",7.5795000000000003,"EPI",2.5199999999999999E-15,"EPI","","","",2.9617995489309101,50.351075278402597,212.510556981658,0,"RSL, nov/2022"]
["40487-42-1","Pendimethalin",281.31,"PHYSPROP",3.4995911690000003E-5,8.5600000000000004E-7,"EPI",1.2,"CRC",2.2672723320820001E-2,"WATER9 (U.S. EPA, 2001)",5.7159555908999997E-6,"WATER9 (U.S. EPA, 2001)",5615,"EPI",0.33,"PHYSPROP",56,"PHYSPROP",0.115,"EPI","","","","",5.2,"PHYSPROP",1.4600000000000001E-5,"PHYSPROP","","","",0.74185166841424,3.95534845484547,15.2768740601116,0.9,"RSL, nov/2022"]
["420-45-1","Difluoropropane, 2,2-",80.078000000000003,"PHYSPROP",21.013900245298402,0.51400000000000001,"PHYSPROP",0.92,"CRC",8.9702399401100003E-2,"WATER9 (U.S. EPA, 2001)",1.04130539E-5,"WATER9 (U.S. EPA, 2001)",43.89,"EPI",159.19999999999999,"PHYSPROP",-104.8,"PHYSPROP",1.8499999999999999E-2,"EPI","","","","",2.29,"PHYSPROP",1800,"PHYSPROP","","","",6.3672952628649998E-2,0.29531502915483998,0.70875606997161,1,"RSL, nov/2022"]
["420-46-2","Trifluoroethane, 1,1,1-",84.040999999999997,"PHYSPROP",31.479967293540501,0.77,"PHYSPROP","","",9.9028331089880003E-2,"WATER9 (U.S. EPA, 2001)",1.157067869E-5,"WATER9 (U.S. EPA, 2001)",43.89,"EPI",760.9,"PHYSPROP",-111.3,"PHYSPROP",7.5700000000000003E-3,"EPI","","","","",1.74,"PHYSPROP",9536,"PHYSPROP","","","",2.6691202318329998E-2,0.31079809602747999,0.74591543046595998,1,"RSL, nov/2022"]
["42576-02-3","Bifenox",342.14,"PHYSPROP",4.4153720359799998E-6,1.08E-7,"EPI",1.2,"PubChem",2.016368018251E-2,"WATER9 (U.S. EPA, 2001)",4.9922767355199999E-6,"WATER9 (U.S. EPA, 2001)",3679,"EPI",0.39800000000000002,"PHYSPROP",85,"PHYSPROP",1.7899999999999999E-2,"EPI","","","","",4.4800000000000004,"PHYSPROP",9.9999999999999995E-8,"PHYSPROP","","","",0.12734491519505001,8.6662806587653805,20.7990735810369,0.9,"RSL, nov/2022"]
["42874-03-3","Oxyfluorfen",361.71,"PHYSPROP",3.352412101E-5,8.1999999999999998E-7,"EPI",1.4,"CRC",2.1124212942849999E-2,"WATER9 (U.S. EPA, 2001)",5.3021953350399998E-6,"WATER9 (U.S. EPA, 2001)",39900,"EPI",0.11600000000000001,"PHYSPROP",84,"PHYSPROP",2.0400000000000001E-2,"EPI","","","","",4.7300000000000004,"PHYSPROP",1.9999999999999999E-7,"PHYSPROP","","","",0.14922345025667999,11.153848714106999,26.769236913856901,0.8,"RSL, nov/2022"]
["43121-43-3","Triadimefon",293.76,"PHYSPROP",3.31561733442E-9,8.1099999999999997E-11,"EPI",1.2,"CRC",2.242914016312E-2,"WATER9 (U.S. EPA, 2001)",5.6531703730000004E-6,"WATER9 (U.S. EPA, 2001)",298.5,"EPI",71.5,"PHYSPROP",82.3,"PHYSPROP",2.4399999999999999E-3,"EPI","","","","",2.77,"PHYSPROP",1.4999999999999999E-8,"PHYSPROP","","","",1.6084694183669999E-2,4.6441340792212698,11.1459217901311,1,"RSL, nov/2022"]
["43222-48-6","Difenzoquat",360.44,"PHYSPROP","","","","","",3.751442379574E-2,"WATER9 (U.S. EPA, 2001)",4.3832642540300004E-6,"WATER9 (U.S. EPA, 2001)",78380,"EPI",817000,"PHYSPROP",157,"PHYSPROP",4.0200000000000001E-5,"EPI","","","","",0.65,"PHYSPROP",4.0899999999999997E-12,"PHYSPROP","","","",2.9354128809000002E-4,10.9726809022241,26.3344341653379,1,"RSL, nov/2022"]
["45187-15-3","Perfluorobutanesulfonate",299.10000000000002,"EPA SRS","","","",1.9,"LookChem",2.6999525755120001E-2,"WATER9 (U.S. EPA, 2001)",7.1746893856599996E-6,"WATER9 (U.S. EPA, 2001)",61.660000000000004,"Guelfo and Higgins",56600,"Australian CHR","","","","","","","","","","","","","","","","",4.9751794461325201,11.940430670718101,0,"RSL, nov/2022"]
["45285-51-6","Perfluorooctanoate",413.06299999999999,"3M",1.4603399999999999E-4,3.5727000000000001E-6,"ATSDR Profile",1.8,"3M",2.2598008188120002E-2,"WATER9 (U.S. EPA, 2001)",5.8031633815E-6,"WATER9 (U.S. EPA, 2001)",114.8,"Higgins and Luthy (2006)",9500,"3M",53,"3M","","",15,"3M","","","","",0.03,"3M","","","","",21.627262405876198,51.905429774102998,0,"RSL, nov/2022"]
["45298-90-6","Perfluorooctanesulfonate",499.13,"EPA SRS","","","",1.8,"LookChem",2.0769011067309998E-2,"WATER9 (U.S. EPA, 2001)",5.2595776539699998E-6,"WATER9 (U.S. EPA, 2001)",371.5,"Higgins and Luthy 2006",680,"OECD","","","","","","","","","","",2E-3,"HSDB","","","","",65.611013985887297,157.46643356612901,0,"RSL, nov/2022"]
["460-00-4","Bromo-4-fluorobenzene, 1-",175,"PHYSPROP",0.10220768601799,2.5000000000000001E-3,"PHYSPROP",1.6,"CRC",4.4806895278579999E-2,"WATER9 (U.S. EPA, 2001)",9.0527058245700003E-6,"WATER9 (U.S. EPA, 2001)",375.3,"EPI",136.4,"PHYSPROP",-17.399999999999999,"PHYSPROP",1.8200000000000001E-2,"EPI","","","","",3.08,"PHYSPROP",2.84,"PHYSPROP","","","",9.2601295887260002E-2,1.0042659767905999,2.4102383442974298,1,"RSL, nov/2022"]
["460-19-5","Cyanogen",52.036000000000001,"PHYSPROP",0.22076860179885999,5.4000000000000003E-3,"EPI",0.95,"CRC",0.12375331593579,"WATER9 (U.S. EPA, 2001)",1.377578856E-5,"WATER9 (U.S. EPA, 2001)","","",8000,"CRC",-27.900000000000002,"PHYSPROP",8.8999999999999995E-4,"RAGSE","","","","",7.0000000000000007E-2,"PHYSPROP",4302,"PHYSPROP","","","",2.4692701770200002E-3,0.20570760584277001,0.49369825402265,1,"RSL, nov/2022"]
["463-56-9","Thiocyanic Acid",59.09,"PHYSPROP","","","",1.1000000000000001,"PPRTV",0.12147512770016,"WATER9 (U.S. EPA, 2001)",1.410218514E-5,"WATER9 (U.S. EPA, 2001)","","","","",5,"PPRTV",1E-3,"RAGSE","","","","",0.57999999999999996,"PubChem",4.7300000000000004,"PPRTV","","","",2.9565392370700001E-3,0.22529562051002999,0.54070948922407003,1,"RSL, nov/2022"]
["463-58-1","Carbonyl Sulfide",60.075000000000003,"PHYSPROP",24.94,0.61,"EPI",1,"CRC",0.11575419377201,"WATER9 (U.S. EPA, 2001)",1.3220606309999999E-5,"WATER9 (U.S. EPA, 2001)",1,"EPI",1220,"PHYSPROP",-138.80000000000001,"PHYSPROP",9.4199999999999999E-5,"EPI","","","","",-1.33,"PHYSPROP",9412,"PHYSPROP","","","",2.8081767838000001E-4,0.22817536273861999,0.54762087057268005,1,"RSL, nov/2022"]
["470-90-6","Chlorfenvinphos",359.58,"PHYSPROP",1.1815208503699999E-6,2.8900000000000001E-8,"EPI","","",3.7574214955610002E-2,"WATER9 (U.S. EPA, 2001)",4.3902503790199999E-6,"WATER9 (U.S. EPA, 2001)",1264,"EPI",124,"PHYSPROP",-20,"PHYSPROP",5.1200000000000004E-3,"EPI","","","","",3.81,"PHYSPROP",7.5000000000000002E-6,"PHYSPROP","","","",3.734172506419E-2,10.851674279001699,26.044018269603999,0.9,"RSL, nov/2022"]
["479-45-8","Tetryl (Trinitrophenylmethylnitramine)",287.14999999999998,"PHYSPROP",1.10793131644E-7,2.7099999999999999E-9,"PHYSPROP",1.6,"CRC",2.5562607113559999E-2,"WATER9 (U.S. EPA, 2001)",6.6672427936E-6,"WATER9 (U.S. EPA, 2001)",4605,"EPI",74,"PHYSPROP",131.5,"PHYSPROP",4.7399999999999997E-4,"EPI","","","","",1.6400000000000001,"PHYSPROP",5.6599999999999997E-8,"PHYSPROP","","","",3.0892951600299998E-3,4.2647025870452699,10.235286208908599,1,"RSL, nov/2022"]
["492-80-8","Auramine",267.38,"PHYSPROP",1.4881439084199999E-7,3.6399999999999998E-9,"PHYSPROP","","",4.5779142652100001E-2,"WATER9 (U.S. EPA, 2001)",5.3489314046099998E-6,"WATER9 (U.S. EPA, 2001)",4456,"EPI",53.54,"PHYSPROP",136,"PHYSPROP",4.7600000000000003E-3,"EPI","","","","",2.98,"PHYSPROP",1.2899999999999999E-6,"PHYSPROP","","","",2.9936295992519998E-2,3.3050402253736002,7.93209654089664,0.9,"RSL, nov/2022"]
["496-72-0","Toluenediamine, 3,4-",122.17,"PHYSPROP",3.0621422731E-7,7.4899999999999996E-9,"PHYSPROP","","",7.7169179924510001E-2,"WATER9 (U.S. EPA, 2001)",9.0166094438099997E-6,"WATER9 (U.S. EPA, 2001)",55.39,"EPI",26910,"PHYSPROP",89.5,"PHYSPROP",8.8699999999999998E-4,"EPI","","","","",0.66,"PHYSPROP",6.29E-4,"EPI","","","",3.7707918417600001E-3,0.50816031967269004,1.21958476721446,1,"RSL, nov/2022"]
["50-00-0","Formaldehyde",30.026,"PHYSPROP",1.3777596079999999E-5,3.3700000000000001E-7,"PHYSPROP",0.82,"CRC",0.16708711276196,"WATER9 (U.S. EPA, 2001)",1.7436842659999999E-5,"WATER9 (U.S. EPA, 2001)",1,"EPI",400000,"PHYSPROP",-92,"PHYSPROP",1.82E-3,"EPI","","",3.8359999999999998E-2,"Handbook of Environmental Degradation Rates. Lewis. Publishers, Chelsea, MI, 1989",0.35000000000000003,"PHYSPROP",3890,"EPI","","","",3.8357189678099998E-3,0.15487964681818001,0.37171115236362001,1,"RSL, nov/2022"]
["50-01-1","Guanidine Chloride",95.531999999999996,"PHYSPROP",8.8716271464000001E-17,2.17E-18,"PHYSPROP",1.4,"CRC",9.1556098213670001E-2,"WATER9 (U.S. EPA, 2001)",1.180738293E-5,"WATER9 (U.S. EPA, 2001)","","",1000000,"PHYSPROP",182.3,"PHYSPROP",3.8600000000000002E-8,"EPI","","","","",-3.56,"PHYSPROP",1.7600000000000001E-6,"PHYSPROP","","","",1.4510700944299999E-7,0.360435824244,0.86504597818560003,1,"RSL, nov/2022"]
["50-29-3","DDT",354.49,"PHYSPROP",3.4014717906999999E-4,8.32E-6,"PHYSPROP","","",3.7933036477480003E-2,"WATER9 (U.S. EPA, 2001)",4.43217584105E-6,"WATER9 (U.S. EPA, 2001)",168600,"EPI",5.4999999999999997E-3,"PHYSPROP",108.5,"PHYSPROP",0.628,"EPI","","",30.821999999999999,"Handbook of Environmental Degradation Rates. Lewis. Publishers, Chelsea, MI, 1989",6.91,"PHYSPROP",1.6E-7,"PHYSPROP","","","",4.5476631647863996,10.1623172712118,44.266796804437,0.7,"RSL, nov/2022"]
["50-32-8","Benzo[a]pyrene",252.32,"PHYSPROP",1.8683564999999999E-5,4.5699999999999998E-7,"PHYSPROP",1.4,"IRIS Profile",2.547643760558E-2,"WATER9 (U.S. EPA, 2001)",6.58406296339E-6,"WATER9 (U.S. EPA, 2001)",587400,"EPI",1.6199999999999999E-3,"PHYSPROP",176.5,"PHYSPROP",0.71299999999999997,"EPI","","",2.9041000000000001,"Handbook of Environmental Degradation Rates. Lewis. Publishers, Chelsea, MI, 1989",6.13,"PHYSPROP",5.4899999999999999E-9,"EPI","","","",4.3560416128113797,2.72170311040471,11.8221045485476,1,"RSL, nov/2022"]
["50471-44-8","Vinclozolin",286.12,"PHYSPROP",7.1136549468499995E-7,1.74E-8,"EPI",1.5,"CRC",2.5148692464589999E-2,"WATER9 (U.S. EPA, 2001)",6.5272314114500003E-6,"WATER9 (U.S. EPA, 2001)",283.60000000000002,"EPI",2.6,"PHYSPROP",108,"PHYSPROP",4.4600000000000004E-3,"EPI","","","","",3.1,"PHYSPROP",1.1999999999999999E-7,"PHYSPROP","","","",2.901587147809E-2,4.2084362190893003,10.1002469258143,0.9,"RSL, nov/2022"]
["505-29-3","Dithiane, 1,4-",120.24000000000001,"PHYSPROP",1.7170891251E-3,4.1999999999999998E-5,"EPI",1.1000000000000001,"ChemNet",6.8209272451299999E-2,"WATER9 (U.S. EPA, 2001)",9.2765246259299997E-6,"WATER9 (U.S. EPA, 2001)",145.80000000000001,"EPI",3000,"PHYSPROP",112.3,"PHYSPROP",1.08E-3,"EPI","","","","",0.77,"PHYSPROP",7.9500000000000001E-2,"PHYSPROP","","","",4.5548585153300002E-3,0.49567013149792999,1.1896083155950301,1,"RSL, nov/2022"]
["506-61-6","Potassium Silver Cyanide",199.01,"PHYSPROP","","","","","","","","","","","","","","","",2E-3,"RAGSE","","","","","","","","","","","",1.085160801217E-2,1.36868891403454,3.2848533936828899,1,"RSL, nov/2022"]
["506-64-9","Silver Cyanide",133.88999999999999,"PHYSPROP","","","",4,"CRC","","","","","","",23,"PHYSPROP",320,"PHYSPROP",1E-3,"RAGSE","","","","","","","","","","","",4.4504171734499999E-3,0.59106160616345005,1.4185478547922801,1,"RSL, nov/2022"]
["506-68-3","Cyanogen Bromide",105.93,"PHYSPROP",1,2.4500000000000001E-2,"EPI",2,"CRC",9.8406465993769995E-2,"WATER9 (U.S. EPA, 2001)",1.408802192E-5,"WATER9 (U.S. EPA, 2001)","","","","",52,"PHYSPROP",2.5500000000000002E-4,"RAGSE","","","","","","",121.56,"PHYSPROP","","","",1.0094302577499999E-3,0.41215137173674998,0.98916329216819998,1,"RSL, nov/2022"]
["506-77-4","Cyanogen Chloride",61.470999999999997,"PHYSPROP",7.8718572587190005E-2,1.9411999999999999E-3,"YAWS",1.2,"CRC",0.12074541403757,"WATER9 (U.S. EPA, 2001)",1.420772875E-5,"WATER9 (U.S. EPA, 2001)","","",60000,"PHYSPROP",-6.55,"PHYSPROP",3.9399999999999998E-4,"RAGSE","","","","","","",1225,"PHYSPROP","","","",1.18811372531E-3,0.23231986658491,0.55756767980377997,1,"RSL, nov/2022"]
["506-93-4","Guanidine Nitrate",122.11,"PHYSPROP",3.6631234669E-17,8.9600000000000009E-19,"PHYSPROP","","",7.7194456433120007E-2,"WATER9 (U.S. EPA, 2001)",9.0195628042899997E-6,"WATER9 (U.S. EPA, 2001)",22.79,"EPI",1000000,"PHYSPROP",214,"PHYSPROP",2.6499999999999999E-8,"EPI","","","","",-8.35,"PHYSPROP",1.2499999999999999E-7,"PHYSPROP","","","",1.12628458875E-7,0.50776732403783997,1.2186415776908099,1,"RSL, nov/2022"]
["51-28-5","Dinitrophenol, 2,4-",184.11,"PHYSPROP",3.51594439902E-6,8.6000000000000002E-8,"PHYSPROP",1.7,"CRC",4.0669921011750002E-2,"WATER9 (U.S. EPA, 2001)",9.0756097778499994E-6,"WATER9 (U.S. EPA, 2001)",460.8,"EPI",2790,"PHYSPROP",114.8,"PHYSPROP",1.8699999999999999E-3,"EPI","","",1.4411,"Handbook of Environmental Degradation Rates. Lewis. Publishers, Chelsea, MI, 1989",1.67,"PHYSPROP",3.8999999999999999E-4,"PHYSPROP","","","",9.7590366179299993E-3,1.1294441221771601,2.7106658932251899,1,"RSL, nov/2022"]
["51-79-6","Urethane",89.094999999999999,"PHYSPROP",2.6287816843799999E-6,6.43E-8,"EPI",0.99,"CRC",8.4845629383749996E-2,"WATER9 (U.S. EPA, 2001)",1.0179788880000001E-5,"WATER9 (U.S. EPA, 2001)",12.13,"EPI",480000,"PHYSPROP",49,"PHYSPROP",3.9399999999999998E-4,"EPI","","","","",-0.15,"PHYSPROP",0.26200000000000001,"EPI","","","",1.4303737780600001E-3,0.33172694535737002,0.79614466885767998,1,"RSL, nov/2022"]
["510-15-6","Chlorobenzilate",325.19,"PHYSPROP",2.9599345870800002E-6,7.24E-8,"EPI",1.3,"CRC",2.1776687430309999E-2,"WATER9 (U.S. EPA, 2001)",5.4782388262000001E-6,"WATER9 (U.S. EPA, 2001)",1539,"EPI",13,"PHYSPROP",37,"PHYSPROP",3.3099999999999997E-2,"EPI","","",0.1918,"Handbook of Environmental Degradation Rates. Lewis. Publishers, Chelsea, MI, 1989",4.74,"PHYSPROP",2.2000000000000001E-6,"PHYSPROP","","","",0.22957428310788,6.9648657490346597,16.715677797683199,0.8,"RSL, nov/2022"]
["5103-71-9","Chlordane (alpha)",409.78000000000003,"PHYSPROP",1.9869174161899999E-3,4.8600000000000002E-5,"EPI",1.8,"LookChem",2.2738137691140001E-2,"WATER9 (U.S. EPA, 2001)",5.8466193523299998E-6,"WATER9 (U.S. EPA, 2001)",67540,"EPI",5.6000000000000001E-2,"PHYSPROP",106,"EPI",3.3836634095209997E-2,"RAGSE","","","","",6.1000000000000005,"PHYSPROP",3.6000000000000001E-5,"PHYSPROP","","","",0.26344453030692,20.730832832149101,49.753998797157898,0.7,"RSL, nov/2022"]
["5103-74-2","Chlordane (gamma)",409.78000000000003,"PHYSPROP",1.9869174161899999E-3,4.8600000000000002E-5,"EPI",1.8,"ChemNet",2.2738137691140001E-2,"WATER9 (U.S. EPA, 2001)",5.8466193523299998E-6,"WATER9 (U.S. EPA, 2001)",67540,"EPI",5.6000000000000001E-2,"PHYSPROP",106,"EPI",3.3836634095209997E-2,"RAGSE","","","","",6.22,"PHYSPROP",5.0300000000000003E-5,"PHYSPROP","","","",0.26344453030692,20.730832832149101,49.753998797157898,0.7,"RSL, nov/2022"]
["512-56-1","Trimethyl Phosphate",140.08000000000001,"PHYSPROP",2.94358135732E-7,7.2E-9,"PHYSPROP",1.2,"CRC",5.8254687379680002E-2,"WATER9 (U.S. EPA, 2001)",8.7915033686199993E-6,"WATER9 (U.S. EPA, 2001)",10.6,"EPI",500000,"PHYSPROP",-46,"PHYSPROP",9.48E-5,"EPI","","","","",-0.65,"PHYSPROP",0.85,"EPI","","","",4.3154198599999998E-4,0.64017211006949004,1.5364130641667899,1,"RSL, nov/2022"]
["51218-45-2","Metolachlor",283.8,"PHYSPROP",3.6794766966499998E-7,8.9999999999999995E-9,"PHYSPROP",1.1000000000000001,"CRC",2.1922311362829999E-2,"WATER9 (U.S. EPA, 2001)",5.4827084266799996E-6,"WATER9 (U.S. EPA, 2001)",488.5,"EPI",530,"PHYSPROP",-62.1,"PHYSPROP",3.3899999999999998E-3,"EPI","","","","",3.13,"PHYSPROP",3.1350000000000003E-5,"PHYSPROP","","","",2.1965067680860002E-2,4.0844045339620703,9.8025708815089807,1,"RSL, nov/2022"]
["51235-04-2","Hexazinone",252.32,"PHYSPROP",9.2395748159999995E-11,2.2600000000000001E-12,"EPI",1.3,"CRC",2.4566287263399999E-2,"WATER9 (U.S. EPA, 2001)",6.2841533404400002E-6,"WATER9 (U.S. EPA, 2001)",129.4,"EPI",33000,"PHYSPROP",116,"PHYSPROP",1.0200000000000001E-3,"EPI","","","","",1.85,"PHYSPROP",2.2499999999999999E-7,"EPI","","","",6.2316443829799999E-3,2.72170311040471,6.5320874649713101,1,"RSL, nov/2022"]
["513-37-1","Dimethylvinylchloride",90.552999999999997,"PHYSPROP",4.841700735895E-2,1.18428E-3,"CRC",0.92,"CRC",8.1171582337409995E-2,"WATER9 (U.S. EPA, 2001)",9.6606407081299994E-6,"WATER9 (U.S. EPA, 2001)",60.7,"EPI",1000,"PHYSPROP",-103.10000000000001,"EPI",2.53E-2,"EPI","","","","",2.58,"PHYSPROP",212,"PHYSPROP","","","",9.2597357824270005E-2,0.33802245342911003,0.81125388822986,1,"RSL, nov/2022"]
["51630-58-1","Fenvalerate",419.91,"PHYSPROP",1.4104660670500001E-6,3.4499999999999998E-8,"EPI",1.2,"CRC",1.8059257828650001E-2,"WATER9 (U.S. EPA, 2001)",4.4034872719799997E-6,"WATER9 (U.S. EPA, 2001)",317000,"EPI",2.4E-2,"PHYSPROP",39.5,"PHYSPROP",9.3799999999999994E-2,"EPI","","","","",6.2,"PHYSPROP",1.5E-9,"PHYSPROP","","","",0.73927768805717997,23.623527608981401,91.267056759344896,0.7,"RSL, nov/2022"]
["5216-25-1","Tetrachlorotoluene, p- alpha, alpha, alpha-",229.92000000000002,"PHYSPROP",7.8904333605899993E-3,1.93E-4,"PHYSPROP",1.5,"CRC",2.7587260445030001E-2,"WATER9 (U.S. EPA, 2001)",7.2523833604900001E-6,"WATER9 (U.S. EPA, 2001)",1606,"EPI",4.0389999999999997,"PHYSPROP",40.49,"EPI",8.3599999999999994E-2,"EPI","","","","",4.54,"PHYSPROP",3.8300000000000001E-2,"PHYSPROP","","","",0.48755240701467001,2.0389226463654802,4.8934143512771504,0.9,"RSL, nov/2022"]
["5234-68-4","Carboxin",235.31,"PHYSPROP",1.30825838103E-8,3.1999999999999998E-10,"EPI","","",4.9849408760979999E-2,"WATER9 (U.S. EPA, 2001)",5.8245098657599999E-6,"WATER9 (U.S. EPA, 2001)",169.4,"EPI",147,"PHYSPROP",91.5,"PHYSPROP",1.98E-3,"EPI","","","","",2.14,"PHYSPROP",1.4999999999999999E-7,"PHYSPROP","","","",1.1681860996060001E-2,2.1856707968404301,5.2456099124170201,1,"RSL, nov/2022"]
["526-73-8","Trimethylbenzene, 1,2,3-",120.2,"PHYSPROP",0.17825020441537001,4.3600000000000002E-3,"PHYSPROP",0.89,"CRC",6.125353674148E-2,"WATER9 (U.S. EPA, 2001)",8.0213629052599997E-6,"WATER9 (U.S. EPA, 2001)",626.9,"EPI",75.2,"PHYSPROP",-25.400000000000002,"PHYSPROP",8.9700000000000002E-2,"EPI","","","","",3.66,"PHYSPROP",1.6886000000000001,"PHYSPROP","","","",0.37824337403316999,0.49541454114276001,1.18899489874263,1,"RSL, nov/2022"]
["52645-53-1","Permethrin",391.3,"PHYSPROP",7.6451349139999996E-5,1.8700000000000001E-6,"EPI",1.2,"CRC",1.937569814041E-2,"WATER9 (U.S. EPA, 2001)",4.7830941512399996E-6,"WATER9 (U.S. EPA, 2001)",118800,"EPI",6.0000000000000001E-3,"PHYSPROP",34,"PHYSPROP",0.20799999999999999,"EPI","","","","",6.5,"PHYSPROP",2.18E-8,"PHYSPROP","","","",1.58250434438582,16.335361492585498,65.2088693544313,0.6,"RSL, nov/2022"]
["52663-72-6","Hexachlorobiphenyl, 2,3',4,4',5,5'- (PCB 167)",360.88,"PHYSPROP",2.8004905968900002E-3,6.8499999999999998E-5,"PHYSPROP",1.6,"LookChem",4.4420952435710002E-2,"WATER9 (U.S. EPA, 2001)",5.8638594009900002E-6,"WATER9 (U.S. EPA, 2001)",209300,"EPI",2.225E-3,"PHYSPROP",146.34,"EPI",1.43,"EPI","","","","",7.5,"PHYSPROP",5.8100000000000003E-7,"PHYSPROP","","","",10.448263013534801,11.035112108210001,50.069888045911704,0,"RSL, nov/2022"]
["528-29-0","Dinitrobenzene, 1,2-",168.11,"PHYSPROP",2.1790678658999999E-6,5.3300000000000001E-8,"EPI",1.3,"CRC",4.4717623491670001E-2,"WATER9 (U.S. EPA, 2001)",8.25384068503E-6,"WATER9 (U.S. EPA, 2001)",358.8,"EPI",133,"PHYSPROP",118.5,"PHYSPROP",2.3700000000000001E-3,"EPI","","","","",1.69,"PHYSPROP",4.5500000000000001E-5,"EPI","","","",1.181875614832E-2,0.91889259052981997,2.2053422172715602,1,"RSL, nov/2022"]
["53-70-3","Dibenz[a,h]anthracene",278.36,"PHYSPROP",5.7645134914099999E-6,1.4100000000000001E-7,"EPI",1.3,"PubChem",2.3619333430940002E-2,"WATER9 (U.S. EPA, 2001)",6.0150672880599997E-6,"WATER9 (U.S. EPA, 2001)",1912000,"EPI",2.49E-3,"PHYSPROP",269.5,"PHYSPROP",0.95299999999999996,"EPI","","",5.1506999999999996,"Handbook of Environmental Degradation Rates. Lewis. Publishers, Chelsea, MI, 1989",6.75,"PHYSPROP",9.5499999999999991E-10,"EPI","","","",6.1153732128582599,3.8077177598421001,16.878565185445101,0.6,"RSL, nov/2022"]
["53-96-3","Acetylaminofluorene, 2-",223.28,"PHYSPROP",7.8495502861800004E-9,1.9200000000000001E-10,"PHYSPROP","","",5.162424564662E-2,"WATER9 (U.S. EPA, 2001)",6.0318855439699997E-6,"WATER9 (U.S. EPA, 2001)",2206,"EPI",5.5339999999999998,"PHYSPROP",193,"PHYSPROP",1.04E-2,"EPI","","",1,"Handbook of Environmental Degradation Rates. Lewis. Publishers, Chelsea, MI, 1989",3.12,"PHYSPROP",9.4399999999999998E-8,"PHYSPROP","","","",5.9770226701930003E-2,1.87161600172434,4.4918784041384097,1,"RSL, nov/2022"]
["531-82-8","Furium",253.23000000000002,"EPI",5.4374488962000001E-14,1.3299999999999999E-15,"EPI","","",4.7469008907099999E-2,"WATER9 (U.S. EPA, 2001)",5.5463789354600002E-6,"WATER9 (U.S. EPA, 2001)",577.6,"EPI",4205.3,"EPI",189.65,"EPI",9.3499999999999996E-4,"EPI","","","","",1.8,"EPI",8.8200000000000006E-9,"EPI","","","",5.7226322814999996E-3,2.75382760835683,6.6091862600563802,1,"RSL, nov/2022"]
["532-27-4","Chloroacetophenone, 2-",154.6,"PHYSPROP",1.4145543744999999E-4,3.4599999999999999E-6,"PHYSPROP",1.3,"CRC",5.2239092563819998E-2,"WATER9 (U.S. EPA, 2001)",8.7272791776800002E-6,"WATER9 (U.S. EPA, 2001)",98.9,"EPI",1100,"PERRY",56.5,"PHYSPROP",4.0600000000000002E-3,"EPI","","",0.15340000000000001,"Handbook of Environmental Degradation Rates. Lewis. Publishers, Chelsea, MI, 1989",1.93,"PHYSPROP",5.4000000000000003E-3,"PHYSPROP","","","",1.9415895702159999E-2,0.77198480042770001,1.8527635210264799,1,"RSL, nov/2022"]
["534-52-1","Dinitro-o-cresol, 4,6-",198.14000000000001,"PHYSPROP",5.7236304169999997E-5,1.3999999999999999E-6,"PHYSPROP","","",5.5903478055090002E-2,"WATER9 (U.S. EPA, 2001)",6.53188006749E-6,"WATER9 (U.S. EPA, 2001)",754.4,"EPI",198,"PHYSPROP",86.600000000000009,"PHYSPROP",3.15E-3,"EPI","","",0.115,"Handbook of Environmental Degradation Rates. Lewis. Publishers, Chelsea, MI, 1989",2.13,"PHYSPROP",1.2E-4,"PHYSPROP","","","",1.7053883236139999E-2,1.35342049764434,3.2482091943464102,1,"RSL, nov/2022"]
["53469-21-9","Aroclor 1242",291.99,"PHYSPROP",1.402289452167E-2,3.4299999999999999E-4,"PHYSPROP",1.4,"ATSDR Profile",2.3856437800719998E-2,"WATER9 (U.S. EPA, 2001)",6.1091169135199998E-6,"WATER9 (U.S. EPA, 2001)",78100,"EPI",0.27700000000000002,"PHYSPROP",122.32000000000001,"EPI",0.54500000000000004,"EPI","","","","",6.34,"PHYSPROP",8.6299999999999997E-5,"EPI","","","",3.5818479278722002,4.5393403832826502,19.446178178515499,0.7,"RSL, nov/2022"]
["540-73-8","Dimethylhydrazine, 1,2-",60.098999999999997,"PHYSPROP",2.8413736712999999E-6,6.9499999999999994E-8,"PHYSPROP",0.83,"CRC",0.10577042202061999,"WATER9 (U.S. EPA, 2001)",1.1603278980000001E-5,"WATER9 (U.S. EPA, 2001)",14.870000000000001,"EPI",1000000,"PHYSPROP",-9,"PHYSPROP",3.1700000000000001E-4,"EPI","","",0.153,"Handbook of Environmental Degradation Rates. Lewis. Publishers, Chelsea, MI, 1989",-0.54,"PHYSPROP",69.900000000000006,"PHYSPROP","","","",9.4519091173000003E-4,0.22824598651051001,0.54779036762523003,1,"RSL, nov/2022"]
["540-88-5","Tert-Butyl Acetate",116.16,"PHYSPROP",3.524E-2,8.6200000000000003E-4,"EPI","","",7.9808509260140006E-2,"WATER9 (U.S. EPA, 2001)",9.3249942398699999E-6,"WATER9 (U.S. EPA, 2001)",12.13,"EPI",8333,"PHYSPROP",25,"PHYSPROP",5.1599999999999997E-3,"EPI","","","","",1.76,"PHYSPROP",47,"PHYSPROP","","","",2.1389698123130001E-2,0.47026726584027001,1.1286414380166501,1,"RSL, nov/2022"]
["541-25-3","Lewisite",207.32,"PHYSPROP",8.9099999999999995E-3,2.1800000000000001E-4,"EPI",1.9,"CRC",3.278409258211E-2,"WATER9 (U.S. EPA, 2001)",9.0549956379099995E-6,"WATER9 (U.S. EPA, 2001)",110.60000000000001,"EPI",500,"PHYSPROP",0.1,"PHYSPROP",5.4000000000000003E-3,"EPI","","","","",2.56,"PHYSPROP",0.57999999999999996,"PHYSPROP","","","",2.990480755318E-2,1.5234940050619199,3.6563856121486098,1,"RSL, nov/2022"]
["542-75-6","Dichloropropene, 1,3-",110.97,"PHYSPROP",0.14513491414554,3.5500000000000002E-3,"PHYSPROP",1.2,"LANGE",7.6272488447510001E-2,"WATER9 (U.S. EPA, 2001)",1.012331538E-5,"WATER9 (U.S. EPA, 2001)",72.17,"EPI",2800,"PHYSPROP",-50,"PHYSPROP",8.3400000000000002E-3,"EPI","","",3.0939999999999999E-2,"Handbook of Environmental Degradation Rates. Lewis. Publishers, Chelsea, MI, 1989",2.04,"PHYSPROP",34,"PHYSPROP","","","",3.3790568280720003E-2,0.43982584892449,1.0555820374187701,1,"RSL, nov/2022"]
["542-88-1","Bis(chloromethyl)ether",114.96000000000001,"PHYSPROP",0.17825020441537001,4.3600000000000002E-3,"EPI",1.3,"CRC",7.6300053515610006E-2,"WATER9 (U.S. EPA, 2001)",1.042028566E-5,"WATER9 (U.S. EPA, 2001)",9.6989999999999998,"EPI",22000,"PHYSPROP",-41.5,"PHYSPROP",8.5499999999999997E-4,"EPI","","",1.2099999999999999E-5,"Handbook of Environmental Degradation Rates. Lewis. Publishers, Chelsea, MI, 1989",0.56999999999999995,"PHYSPROP",29.400000000000002,"PHYSPROP","","","",3.5258687711999998E-3,0.46304665325632,1.1113119678151799,1,"RSL, nov/2022"]
["5436-43-1","Tetrabromodiphenyl ether, 2,2',4,4'- (BDE-47)",485.8,"PHYSPROP",1.2142273098999999E-4,2.9699999999999999E-6,"PHYSPROP","","",3.07455259911E-2,"WATER9 (U.S. EPA, 2001)",3.59237198422E-6,"WATER9 (U.S. EPA, 2001)",13230,"EPI",1.4610000000000001E-3,"PHYSPROP",161.72999999999999,"EPI",9.2899999999999996E-2,"EPI","","","","",6.7700000000000005,"PHYSPROP",7.0000000000000005E-8,"EPI","","","",0.78753727985394995,55.2495505742232,212.66558248201699,0.6,"RSL, nov/2022"]
["544-92-3","Copper Cyanide",89.563999999999993,"PHYSPROP","","","",2.9,"CRC","","","","","","","","",474,"PHYSPROP",1E-3,"RAGSE","","","","","","","","","","","",3.6399330249399999E-3,0.33373914547398997,0.80097394913759001,1,"RSL, nov/2022"]
["54749-90-5","Chlorozotocin",265.7,"PHYSPROP",1.5004088306999999E-20,3.67E-22,"PHYSPROP","","",4.5971911786139998E-2,"WATER9 (U.S. EPA, 2001)",5.3714549560600002E-6,"WATER9 (U.S. EPA, 2001)",10,"EPI",1830,"PHYSPROP",147,"EPI",9.91E-6,"EPI","","","","",-1.02,"PHYSPROP",3.9799999999999998E-14,"PHYSPROP","","","",6.2129246099999999E-5,3.2342139768814202,7.7621135445154099,1,"RSL, nov/2022"]
["55-18-5","Nitrosodiethylamine, N-",102.14,"PHYSPROP",1.4840556009999999E-4,3.63E-6,"PHYSPROP",0.94,"CRC",7.3841021349120003E-2,"WATER9 (U.S. EPA, 2001)",9.1251522530999997E-6,"WATER9 (U.S. EPA, 2001)",82.92,"EPI",106000,"PHYSPROP",-15.6,"EPI",8.7200000000000005E-4,"EPI","","",1,"Handbook of Environmental Degradation Rates. Lewis. Publishers, Chelsea, MI, 1989",0.48,"PHYSPROP",0.86,"PHYSPROP","","","",3.3895423440000001E-3,0.39249375371203998,0.94198500890889003,1,"RSL, nov/2022"]
["55-63-0","Nitroglycerin",227.09,"PHYSPROP",3.5404742436600001E-6,8.6599999999999995E-8,"EPI",1.6,"CRC",2.901499958769E-2,"WATER9 (U.S. EPA, 2001)",7.7428133100700005E-6,"WATER9 (U.S. EPA, 2001)",115.8,"EPI",1380,"PHYSPROP",13.5,"PHYSPROP",9.9400000000000009E-4,"EPI","","",3.8359999999999998E-2,"Handbook of Environmental Degradation Rates. Lewis. Publishers, Chelsea, MI, 1989",1.62,"PHYSPROP",4.0000000000000002E-4,"EPI","","","",5.7611879224799996E-3,1.9658607404698401,4.7180657771276104,1,"RSL, nov/2022"]
["55285-14-8","Carbosulfan",380.55,"PHYSPROP",2.09321341E-5,5.1200000000000003E-7,"EPI",1.1000000000000001,"CRC",1.8238820523020002E-2,"WATER9 (U.S. EPA, 2001)",4.4383657364200004E-6,"WATER9 (U.S. EPA, 2001)",11960,"EPI",0.3,"PHYSPROP",25,"PHYSPROP",5.79E-2,"EPI","","","","",5.57,"PHYSPROP",3.0699999999999998E-7,"PHYSPROP","","","",0.43442126800114,14.2209545890111,34.130291013626703,0.8,"RSL, nov/2022"]
["55290-64-7","Dimethipin",210.27,"PHYSPROP",9.4031071136999999E-10,2.3000000000000001E-11,"EPI","","",5.3732295088010001E-2,"WATER9 (U.S. EPA, 2001)",6.2781944786999998E-6,"WATER9 (U.S. EPA, 2001)",10,"EPI",4600,"PHYSPROP",165,"PHYSPROP",7.9800000000000002E-5,"EPI","","","","",-0.17,"PHYSPROP",3.8299999999999998E-7,"PHYSPROP","","","",4.4505962814000001E-4,1.5825620592052201,3.7981489420925301,1,"RSL, nov/2022"]
["556-88-7","Nitroguanidine",104.07000000000001,"PHYSPROP",1.8192968111000001E-14,4.4500000000000003E-16,"PHYSPROP",2,"ChemNet",9.9693736350210005E-2,"WATER9 (U.S. EPA, 2001)",1.417406553E-5,"WATER9 (U.S. EPA, 2001)",20.650000000000002,"EPI",4400,"PHYSPROP",239,"EPI",1.05E-4,"EPI","","","","",-0.89,"PHYSPROP",1.43E-11,"PHYSPROP","","","",4.1198246178000001E-4,0.40238404269610001,0.96572170247065003,1,"RSL, nov/2022"]
["557-21-1","Zinc Cyanide",117.41,"PHYSPROP","","","",1.9,"CRC","","","","","","",4.7,"CRC",80,"PERRY",5.9999999999999995E-4,"RAGSE","","","","","","","","","","","",2.5005206558399999E-3,0.47790849421004999,1.1469803861041199,1,"RSL, nov/2022"]
["5598-13-0","Chlorpyrifos Methyl",322.54000000000002,"PHYSPROP",1.5331152903000001E-4,3.7500000000000001E-6,"EPI","","",4.039843549259E-2,"WATER9 (U.S. EPA, 2001)",4.7202382522899999E-6,"WATER9 (U.S. EPA, 2001)",2193,"EPI",4.76,"PHYSPROP",43,"PHYSPROP",1.78E-2,"EPI","","","","",4.3099999999999996,"PHYSPROP",4.1999999999999998E-5,"PHYSPROP","","","",0.12295280616716001,6.7308939751504502,16.1541455403611,0.9,"RSL, nov/2022"]
["56-23-5","Carbon Tetrachloride",153.82,"PHYSPROP",1.12837285363859,2.76E-2,"PHYSPROP",1.6,"CRC",5.714346500735E-2,"WATER9 (U.S. EPA, 2001)",9.7849154555900008E-6,"WATER9 (U.S. EPA, 2001)",43.89,"EPI",793,"PHYSPROP",-23,"PHYSPROP",1.6299999999999999E-2,"EPI","","",0.98629999999999995,"Handbook of Environmental Degradation Rates. Lewis. Publishers, Chelsea, MI, 1989",2.83,"PHYSPROP",115,"PHYSPROP","","","",7.7753627552890003E-2,0.76425933063897,1.83422239353354,1,"RSL, nov/2022"]
["56-35-9","Tributyltin Oxide",596.08000000000004,"PHYSPROP",1.2346688470000001E-5,3.0199999999999998E-7,"EPI",1.2,"CRC",1.51247916464E-2,"WATER9 (U.S. EPA, 2001)",3.6057910661899999E-6,"WATER9 (U.S. EPA, 2001)",25930000,"EPI",19.5,"PHYSPROP",-45,"PHYSPROP",2.52E-4,"EPI","","","","",4.05,"PHYSPROP",7.5000000000000002E-6,"PHYSPROP","","","",2.3663526574500002E-3,229.032308022747,549.67753925459203,1,"RSL, nov/2022"]
["56-38-2","Parathion",291.26,"PHYSPROP",1.2183156170000001E-5,2.9799999999999999E-7,"PHYSPROP",1.3,"CRC",2.2948916377980001E-2,"WATER9 (U.S. EPA, 2001)",5.8156112230099997E-6,"WATER9 (U.S. EPA, 2001)",2422,"EPI",11,"PHYSPROP",6.1000000000000005,"PHYSPROP",1.2800000000000001E-2,"EPI","","","","",3.83,"PHYSPROP",6.6800000000000004E-6,"PHYSPROP","","","",8.4018910241129993E-2,4.4968121904181899,10.7923492570037,0.9,"RSL, nov/2022"]
["56-49-5","Methylcholanthrene, 3-",268.36,"PHYSPROP",2.1422730988999999E-4,5.2399999999999998E-6,"EPI",1.3,"CRC",2.405620615055E-2,"WATER9 (U.S. EPA, 2001)",6.1428100117500001E-6,"WATER9 (U.S. EPA, 2001)",961600,"EPI",2.8999999999999998E-3,"PHYSPROP",180,"PHYSPROP",0.90300000000000002,"EPI","","",7.67,"Handbook of Environmental Degradation Rates. Lewis. Publishers, Chelsea, MI, 1989",6.42,"PHYSPROP",4.3000000000000001E-8,"EPI","","","",5.6894894171974997,3.34706964863806,14.7783887000507,0.8,"RSL, nov/2022"]
["56-53-1","Diethylstilbestrol",268.36,"PHYSPROP",2.3712183156000002E-10,5.8000000000000003E-12,"PHYSPROP","","",4.5667623524180002E-2,"WATER9 (U.S. EPA, 2001)",5.33590127493E-6,"WATER9 (U.S. EPA, 2001)",274100,"EPI",12,"PHYSPROP",170.5,"PHYSPROP",0.114,"EPI","","",0.98629999999999995,"Handbook of Environmental Degradation Rates. Lewis. Publishers, Chelsea, MI, 1989",5.07,"PHYSPROP",1.4100000000000001E-8,"PHYSPROP","","","",0.71827441147343996,3.34706964863806,12.965617150014999,0.9,"RSL, nov/2022"]
["56-55-3","Benz[a]anthracene",228.3,"PHYSPROP",4.9059689289000005E-4,1.2E-5,"PHYSPROP",1.3,"PubChem",2.6113777679239999E-2,"WATER9 (U.S. EPA, 2001)",6.7494732657100002E-6,"WATER9 (U.S. EPA, 2001)",176900,"EPI",9.4000000000000004E-3,"PHYSPROP",84,"PHYSPROP",0.55200000000000005,"EPI","","",3.726,"Handbook of Environmental Degradation Rates. Lewis. Publishers, Chelsea, MI, 1989",5.76,"PHYSPROP",2.1E-7,"PHYSPROP","","","",3.2078842222611401,1.99677324839304,8.4818237910935093,1,"RSL, nov/2022"]
["563-12-2","Ethion",384.48,"PHYSPROP",1.5494685200000001E-5,3.7899999999999999E-7,"EPI",1.2,"CRC",1.9477411232470002E-2,"WATER9 (U.S. EPA, 2001)",4.81020314453E-6,"WATER9 (U.S. EPA, 2001)",882,"EPI",2,"PHYSPROP",-13,"PHYSPROP",2.5499999999999998E-2,"EPI","","","","",5.07,"PHYSPROP",1.5E-6,"PHYSPROP","","","",0.19231081535926001,14.9601776111286,35.904426266708597,0.8,"RSL, nov/2022"]
["563-68-8","Thallium Acetate",263.42,"PHYSPROP","","","",3.7,"CRC",3.8883008188120002E-2,"WATER9 (U.S. EPA, 2001)",1.170553359E-5,"WATER9 (U.S. EPA, 2001)",1.508,"EPI",28030,"PHYSPROP",131,"CRC",3.9900000000000001E-5,"EPI","","","","",-0.17,"PHYSPROP",14.700000000000001,"PHYSPROP","","","",2.4907143357999999E-4,3.14051411457304,7.5372338749752901,1,"RSL, nov/2022"]
["56425-91-3","Flurprimidol",312.29000000000002,"PHYSPROP",5.35568274734E-8,1.31E-9,"EPI","","",4.1277642227729998E-2,"WATER9 (U.S. EPA, 2001)",4.8229666181899997E-6,"WATER9 (U.S. EPA, 2001)",2189,"EPI",114,"PHYSPROP",95,"PHYSPROP",4.5900000000000003E-3,"EPI","","","","",3.34,"PHYSPROP",3.6399999999999998E-7,"PHYSPROP","","","",3.1197398211669999E-2,5.8975651827364599,14.154156438567499,0.9,"RSL, nov/2022"]
["57-12-5","Cyanide (CN-)",26.018000000000001,"PHYSPROP",4.15E-3,1.01E-4,"Ma  et al 2010",0.7,"CHEM GUIDE",0.21095487716243,"WATER9 (U.S. EPA, 2001)",2.464841196E-5,"WATER9 (U.S. EPA, 2001)","","",95400,"PHYSPROP","","",1E-3,"RAGSE",9.9,"SSL","","","","",308,"PHYSPROP","","","",1.9618400974699998E-3,0.14707862110785999,0.35298869065886002,1,"RSL, nov/2022"]
["57-14-7","Dimethylhydrazine, 1,1-",60.098999999999997,"PHYSPROP",5.2739165985000004E-4,1.29E-5,"PHYSPROP",0.79,"CRC",0.10378569927441,"WATER9 (U.S. EPA, 2001)",1.129424786E-5,"WATER9 (U.S. EPA, 2001)",11.950000000000001,"EPI",1000000,"PHYSPROP",-58,"PHYSPROP",1.16E-4,"EPI","","","","",-1.19,"PHYSPROP",163,"PHYSPROP","","","",3.4587427684999999E-4,0.22824598651051001,0.54779036762523003,1,"RSL, nov/2022"]
["57-24-9","Strychnine",334.42,"PHYSPROP",3.0907604251999999E-12,7.5600000000000001E-14,"PHYSPROP",1.4,"CRC",2.2081697590089999E-2,"WATER9 (U.S. EPA, 2001)",5.5823848189000003E-6,"WATER9 (U.S. EPA, 2001)",5403,"EPI",160,"PHYSPROP",287,"PHYSPROP",3.9899999999999999E-4,"EPI","","",0.15340000000000001,"Handbook of Environmental Degradation Rates. Lewis. Publishers, Chelsea, MI, 1989",1.93,"PHYSPROP",2.93E-9,"PHYSPROP","","","",2.80637478097E-3,7.8451409293394798,18.828338230414701,1,"RSL, nov/2022"]
["57-55-6","Propylene Glycol",76.096000000000004,"PHYSPROP",5.2739165985300003E-7,1.29E-8,"EPI",1,"CRC",9.8068553756100005E-2,"WATER9 (U.S. EPA, 2001)",1.1526452859999999E-5,"WATER9 (U.S. EPA, 2001)",1,"EPI",1000000,"PHYSPROP",-60,"PHYSPROP",1.4300000000000001E-4,"EPI","","","","",-0.92,"PHYSPROP",0.129,"PHYSPROP","","","",4.7978161698999998E-4,0.28053454612762002,0.67328291070627999,1,"RSL, nov/2022"]
["57-97-6","Dimethylbenz(a)anthracene, 7,12-",256.35000000000002,"PHYSPROP",1.5372035976999999E-4,3.76E-6,"EPI","","",4.7083064251739998E-2,"WATER9 (U.S. EPA, 2001)",5.5012843494100004E-6,"WATER9 (U.S. EPA, 2001)",493600,"EPI",6.0999999999999999E-2,"PHYSPROP",122.5,"PHYSPROP",0.40799999999999997,"EPI","","",0.153,"Handbook of Environmental Degradation Rates. Lewis. Publishers, Chelsea, MI, 1989",5.8,"PHYSPROP",6.7999999999999995E-7,"PHYSPROP","","","",2.5124849906820099,2.86687494811635,11.932626949096001,0.9,"RSL, nov/2022"]
["57465-28-8","Pentachlorobiphenyl, 3,3',4,4',5- (PCB 126)",326.44,"EPI",7.7677841373699997E-3,1.9000000000000001E-4,"EPI",1.5,"LookChem",4.6705452982670002E-2,"WATER9 (U.S. EPA, 2001)",6.0595244406700004E-6,"WATER9 (U.S. EPA, 2001)",127900,"EPI",7.3282E-3,"EPI",134.6,"EPI",1,"EPI","","","","",6.98,"EPI",2.2199999999999999E-6,"EPI","","","",6.9490964037349796,7.0780357134763596,31.578828198548599,0.4,"RSL, nov/2022"]
["576-26-1","Dimethylphenol, 2,6-",122.17,"PHYSPROP",2.7187244481000002E-4,6.6499999999999999E-6,"PHYSPROP","","",7.7169179924510001E-2,"WATER9 (U.S. EPA, 2001)",9.0166094438099997E-6,"WATER9 (U.S. EPA, 2001)",501.90000000000003,"EPI",6050,"PHYSPROP",45.7,"PHYSPROP",1.2E-2,"EPI","","","","",2.36,"PHYSPROP",0.17100000000000001,"EPI","","","",5.1014094815279999E-2,0.50816031967269004,1.21958476721446,1,"RSL, nov/2022"]
["57835-92-4","Nitropyrene, 4-",249.27,"PHYSPROP",1.0016353229800001E-6,2.4500000000000001E-8,"PHYSPROP","","",4.7970427834049999E-2,"WATER9 (U.S. EPA, 2001)",5.6049657785100001E-6,"WATER9 (U.S. EPA, 2001)",86110,"EPI",6.7900000000000002E-2,"PHYSPROP",190,"PHYSPROP",9.2200000000000004E-2,"EPI","","","","",4.75,"PHYSPROP",5.5199999999999998E-8,"PHYSPROP","","","",0.55987693951121997,2.6167410631644898,6.2801785515947799,0.9,"RSL, nov/2022"]
["57837-19-1","Metalaxyl",279.33999999999997,"PHYSPROP",1.20605069501E-7,2.9499999999999999E-9,"EPI","","",4.446294059421E-2,"WATER9 (U.S. EPA, 2001)",5.1951435852200003E-6,"WATER9 (U.S. EPA, 2001)",38.57,"EPI",8400,"PHYSPROP",71,"PHYSPROP",5.8E-4,"EPI","","","","",1.6500000000000001,"PHYSPROP",5.6200000000000004E-6,"PHYSPROP","","","",3.72838893138E-3,3.8561396157007199,9.2547350776817296,1,"RSL, nov/2022"]
["57964-39-3","Styrene-Acrylonitrile (SAN) Trimer (THNA isomer)",210,"PPRTV","","","",1.1000000000000001,"PPRTV",2.5513078058659999E-2,"WATER9 (U.S. EPA, 2001)",6.5085688327599997E-6,"WATER9 (U.S. EPA, 2001)","","",4.37E-4,"EPI",119,"EPI",1.193100835962E-2,"RAGSE","","","","",2.7600000000000002,"EPI","","","","","",6.6498745038920004E-2,1.57706193560966,3.78494864546317,1,"RSL, nov/2022"]
["57964-40-6","Styrene-Acrylonitrile (SAN) Trimer (THNP isomer)",210,"PPRTV","","","",1.1000000000000001,"PPRTV",2.5513078058659999E-2,"WATER9 (U.S. EPA, 2001)",6.5085688327599997E-6,"WATER9 (U.S. EPA, 2001)","","",84.9,"PPRTV","","",1.193100835962E-2,"RAGSE","","","","",3.1,"NTP",1.14E-7,"ChemIndex","","","",6.6498745038920004E-2,1.57706193560966,3.78494864546317,1,"RSL, nov/2022"]
["58-89-9","Hexachlorocyclohexane, Gamma- (Lindane)",290.83,"PHYSPROP",2.1013900245E-4,5.1399999999999999E-6,"PHYSPROP","","",4.3284007679819998E-2,"WATER9 (U.S. EPA, 2001)",5.0573945815400002E-6,"WATER9 (U.S. EPA, 2001)",2807,"EPI",7.3,"PHYSPROP",112.5,"PHYSPROP",2.06E-2,"EPI","","",0.65810000000000002,"Handbook of Environmental Degradation Rates. Lewis. Publishers, Chelsea, MI, 1989",3.72,"PHYSPROP",4.1999999999999998E-5,"PHYSPROP","","","",0.13511808269875999,4.4719480484289003,10.7326753162294,0.9,"RSL, nov/2022"]
["58-90-2","Tetrachlorophenol, 2,3,4,6-",231.89000000000001,"PHYSPROP",3.6140637775999997E-4,8.8400000000000001E-6,"EPI","","",5.0338343568569997E-2,"WATER9 (U.S. EPA, 2001)",5.8816380380099999E-6,"WATER9 (U.S. EPA, 2001)",280,"SSL",23,"PHYSPROP",70,"PHYSPROP",7.0999999999999994E-2,"EPI","","",3.8359999999999998E-2,"Handbook of Environmental Degradation Rates. Lewis. Publishers, Chelsea, MI, 1989",4.45,"PHYSPROP",6.6600000000000003E-4,"EPI","","","",0.41583975954843999,2.0913790325471999,5.0193096781132898,0.9,"RSL, nov/2022"]
["58138-08-2","Tridiphane",320.43,"PHYSPROP",1.6762060509999998E-5,4.0999999999999999E-7,"PHYSPROP","","",4.0575587905200002E-2,"WATER9 (U.S. EPA, 2001)",4.7409371131300001E-6,"WATER9 (U.S. EPA, 2001)",3447,"EPI",1.1419999999999999,"PHYSPROP",42.800000000000004,"PHYSPROP",6.8900000000000003E-2,"EPI","","","","",5.18,"PHYSPROP",3.8999999999999999E-4,"PHYSPROP","","","",0.47436480423826,6.5502330143373904,15.7205592344097,0.8,"RSL, nov/2022"]
["584-84-9","Toluene-2,4-diisocyanate",174.16,"PHYSPROP",4.53802E-4,1.11E-5,"PHYSPROP",1.2,"CRC",4.025674508128E-2,"WATER9 (U.S. EPA, 2001)",7.7527666880000008E-6,"WATER9 (U.S. EPA, 2001)",7424,"EPI",37.57,"PHYSPROP",20.5,"PHYSPROP",0.505,"EPI","","","","",3.74,"PHYSPROP",8.0000000000000002E-3,"PHYSPROP","","","",2.5632575081825899,0.99344710748800003,4.1421548251470499,1,"RSL, nov/2022"]
["59-50-7","Cresol, p-chloro-m-",142.59,"PHYSPROP",1.001635323E-4,2.4499999999999998E-6,"EPI","","",6.9613620541200003E-2,"WATER9 (U.S. EPA, 2001)",8.1338019790200006E-6,"WATER9 (U.S. EPA, 2001)",491.8,"EPI",3834,"PHYSPROP",67,"PHYSPROP",2.8500000000000001E-2,"EPI","","","","",3.1,"PHYSPROP",0.05,"PHYSPROP","","","",0.13089288695352999,0.66123030501421998,1.5869527320341199,1,"RSL, nov/2022"]
["59-87-0","Nitrofurazone",198.14000000000001,"PHYSPROP",1.2673753065999999E-11,3.0999999999999999E-13,"PHYSPROP","","",5.5903478055090002E-2,"WATER9 (U.S. EPA, 2001)",6.53188006749E-6,"WATER9 (U.S. EPA, 2001)",349.7,"EPI",210,"PHYSPROP",238,"EPI",1.7200000000000001E-4,"EPI","","","","",0.23,"PHYSPROP",4.3100000000000002E-6,"PHYSPROP","","","",9.3119616401000005E-4,1.35342049764434,3.2482091943464102,1,"RSL, nov/2022"]
["59-89-2","Nitrosomorpholine [N-]",116.12,"PHYSPROP",1.0016353229800001E-6,2.4500000000000001E-8,"PHYSPROP","","",7.9826836031990006E-2,"WATER9 (U.S. EPA, 2001)",9.3271355784699992E-6,"WATER9 (U.S. EPA, 2001)",22.51,"EPI",1000000,"PHYSPROP",29,"PHYSPROP",1.7799999999999999E-4,"EPI","","",1,"Handbook of Environmental Degradation Rates. Lewis. Publishers, Chelsea, MI, 1989",-0.44,"PHYSPROP",3.5999999999999997E-2,"PHYSPROP","","","",7.3773462620000004E-4,0.47002477437293999,1.1280594584950601,1,"RSL, nov/2022"]
["5902-51-2","Terbacil",216.67000000000002,"PHYSPROP",4.9059689288600001E-9,1.2E-10,"EPI",1.3,"CRC",2.7467710554500001E-2,"WATER9 (U.S. EPA, 2001)",7.1788582916299998E-6,"WATER9 (U.S. EPA, 2001)",50.1,"EPI",710,"PHYSPROP",176,"PHYSPROP",1.72E-3,"EPI","","","","",1.8900000000000001,"PHYSPROP",4.7E-7,"PHYSPROP","","","",9.7376573978400008E-3,1.71870266197127,4.1248863887310501,1,"RSL, nov/2022"]
["591-27-5","Aminophenol, m-",109.13,"PHYSPROP",8.0948487326200002E-9,1.9799999999999999E-10,"PHYSPROP","","",8.3200160513259999E-2,"WATER9 (U.S. EPA, 2001)",9.7212819126000001E-6,"WATER9 (U.S. EPA, 2001)",90.2,"EPI",27000,"PHYSPROP",123,"PHYSPROP",5.2700000000000002E-4,"EPI","","","","",0.21,"PHYSPROP",9.5499999999999995E-3,"PHYSPROP","","","",2.1174313794E-3,0.42951343172396,1.0308322361375,1,"RSL, nov/2022"]
["591-78-6","Hexanone, 2-",100.16,"PHYSPROP",3.8103025347500001E-3,9.3200000000000002E-5,"EPI",0.81,"CRC",7.0356352958099999E-2,"WATER9 (U.S. EPA, 2001)",8.4404201890599996E-6,"WATER9 (U.S. EPA, 2001)",14.98,"EPI",17200,"PHYSPROP",-55.5,"PHYSPROP",3.5500000000000002E-3,"EPI","","","","",1.3800000000000001,"PHYSPROP",11.6,"PHYSPROP","","","",1.366476486503E-2,0.38259980964473,0.91823954314735001,1,"RSL, nov/2022"]
["592-01-8","Calcium Cyanide",92.116,"PHYSPROP","","","","","","","","","","","","","","","",1E-3,"RAGSE","","","","","","","","","","","",3.6914261768199999E-3,0.34490409412506001,0.82776982590014003,1,"RSL, nov/2022"]
["593-60-2","Vinyl Bromide",106.95,"PHYSPROP",0.50286181520850004,1.23E-2,"PHYSPROP",1.5,"CRC",8.6223753129309993E-2,"WATER9 (U.S. EPA, 2001)",1.1701769449999999E-5,"WATER9 (U.S. EPA, 2001)",21.73,"EPI",7600,"PHYSPROP",-137.80000000000001,"PHYSPROP",4.3499999999999997E-3,"EPI","","",7.8766999999999996,"Handbook of Environmental Degradation Rates. Lewis. Publishers, Chelsea, MI, 1989",1.57,"PHYSPROP",1033,"PHYSPROP","","","",1.7302398228779999E-2,0.41760794219396002,1.0022590612655,1,"RSL, nov/2022"]
["59756-60-4","Fluridone",329.32,"PHYSPROP",3.3115290269799998E-7,8.0999999999999997E-9,"EPI","","",3.9842036572640002E-2,"WATER9 (U.S. EPA, 2001)",4.65522743112E-6,"WATER9 (U.S. EPA, 2001)",56770,"EPI",12,"PHYSPROP",154.5,"PHYSPROP",2.8E-3,"EPI","","",1.0521,"Handbook of Environmental Degradation Rates. Lewis. Publishers, Chelsea, MI, 1989",3.16,"PHYSPROP",9.7500000000000006E-8,"PHYSPROP","","","",1.9543112711079998E-2,7.3458279042953496,17.629986970308799,0.9,"RSL, nov/2022"]
["598-77-6","Trichloropropane, 1,1,2-",147.43,"PHYSPROP",1.295993458708E-2,3.1700000000000001E-4,"EPI",1.4,"CRC",5.7157722843600003E-2,"WATER9 (U.S. EPA, 2001)",9.1734504411299997E-6,"WATER9 (U.S. EPA, 2001)",94.94,"EPI",1900,"PHYSPROP",-65.45,"EPI",9.5999999999999992E-3,"EPI","","","","",2.4300000000000002,"PHYSPROP",3.0979999999999999,"PHYSPROP","","","",4.4832279157300002E-2,0.70381213342263005,1.6891491202143201,1,"RSL, nov/2022"]
["60-11-7","Dimethylamino azobenzene [p-]",225.3,"PHYSPROP",1.6353229762900001E-8,4.0000000000000001E-10,"PHYSPROP","","",5.131521345877E-2,"WATER9 (U.S. EPA, 2001)",5.9957775725500003E-6,"WATER9 (U.S. EPA, 2001)",2028,"EPI",0.23,"PHYSPROP",117,"PHYSPROP",9.4299999999999995E-2,"EPI","","",0.153,"Handbook of Environmental Degradation Rates. Lewis. Publishers, Chelsea, MI, 1989",4.58,"PHYSPROP",7.0000000000000005E-8,"EPI","","","",0.54440103302925003,1.92100612514793,4.6104147003550402,1,"RSL, nov/2022"]
["60-29-7","Ethyl Ether",74.123999999999995,"PHYSPROP",5.0286181520850001E-2,1.23E-3,"PHYSPROP",0.71,"CRC",8.5244567392969997E-2,"WATER9 (U.S. EPA, 2001)",9.3635900031999996E-6,"WATER9 (U.S. EPA, 2001)",9.6989999999999998,"EPI",60400,"PHYSPROP",-116.3,"PHYSPROP",2.3500000000000001E-3,"EPI","","","","",0.89,"PHYSPROP",538,"PHYSPROP","","","",7.7816902188899998E-3,0.27349106952802998,0.65637856686726004,1,"RSL, nov/2022"]
["60-34-4","Methyl Hydrazine",46.072000000000003,"PHYSPROP",1.2391659852999999E-4,3.0309999999999999E-6,"PHYSPROP",0.87,"LANGE",0.12908942647905999,"WATER9 (U.S. EPA, 2001)",1.398686127E-5,"WATER9 (U.S. EPA, 2001)",13.31,"EPI",1000000,"PHYSPROP",-52.4,"PHYSPROP",1.73E-4,"EPI","","","","",-1.05,"PHYSPROP",50,"PHYSPROP","","","",4.5163884482000001E-4,0.19048112597659,0.45715470234382999,1,"RSL, nov/2022"]
["60-51-5","Dimethoate",229.26,"PHYSPROP",9.9345870809500007E-9,2.4299999999999999E-10,"EPI",1.3,"CRC",2.6085182765359999E-2,"WATER9 (U.S. EPA, 2001)",6.7420091419399999E-6,"WATER9 (U.S. EPA, 2001)",12.77,"EPI",23300,"PHYSPROP",52,"PHYSPROP",2.6699999999999998E-4,"EPI","","",0.30680000000000002,"Handbook of Environmental Degradation Rates. Lewis. Publishers, Chelsea, MI, 1989",0.78,"PHYSPROP",1.8749999999999998E-5,"PHYSPROP","","","",1.5548985459399999E-3,2.0216443184705,4.8519463643291996,1,"RSL, nov/2022"]
["60-57-1","Dieldrin",380.91,"PHYSPROP",4.0883074407E-4,1.0000000000000001E-5,"PHYSPROP",1.8,"CRC",2.3286453600050001E-2,"WATER9 (U.S. EPA, 2001)",6.0062191756200001E-6,"WATER9 (U.S. EPA, 2001)",20090,"EPI",0.19500000000000001,"PHYSPROP",175.5,"PHYSPROP",3.2599999999999997E-2,"EPI","","",5.9177999999999997,"Handbook of Environmental Degradation Rates. Lewis. Publishers, Chelsea, MI, 1989",5.4,"PHYSPROP",5.8900000000000004E-6,"PHYSPROP","","","",0.24471209735466001,14.287121880278701,34.289092512668802,0.8,"RSL, nov/2022"]
["60207-90-1","Propiconazole",342.23,"PHYSPROP",7.0318887980400002E-8,1.7200000000000001E-9,"EPI",1.3,"CRC",2.1110900591200001E-2,"WATER9 (U.S. EPA, 2001)",5.2840042440900001E-6,"WATER9 (U.S. EPA, 2001)",1556,"EPI",110,"PHYSPROP",172.86,"EPI",5.5799999999999999E-3,"EPI","","","","",3.72,"PHYSPROP",4.2E-7,"PHYSPROP","","","",3.9702686053739999E-2,8.6763437404766002,20.823224977143798,0.9,"RSL, nov/2022"]
["60238-56-4","Chlorthiophos",361.25,"PHYSPROP",4.9059689290000002E-5,1.1999999999999999E-6,"PHYSPROP","","",3.7458325894599999E-2,"WATER9 (U.S. EPA, 2001)",4.37670965716E-6,"WATER9 (U.S. EPA, 2001)",12790,"EPI",0.3,"PHYSPROP",85.960000000000008,"EPI",0.106,"EPI","","","","",5.8,"PHYSPROP",0.39700000000000002,"PHYSPROP","","","",0.77488355681819998,11.087885936695701,42.7090787631195,0.8,"RSL, nov/2022"]
["60348-60-9","Pentabromodiphenyl ether, 2,2',4,4',5- (BDE-99)",564.69000000000005,"PHYSPROP",4.8242027800000003E-5,1.1799999999999999E-6,"PHYSPROP",2.2999999999999998,"IRIS Profile",2.1640032048369999E-2,"WATER9 (U.S. EPA, 2001)",5.5583593619899997E-6,"WATER9 (U.S. EPA, 2001)",21660,"EPI",7.8609999999999994E-5,"PHYSPROP",-5,"EPI",3.73E-2,"EPI","","","","",7.66,"PHYSPROP",3.1E-8,"EPI","","","",0.34091062140968997,152.796268967885,366.711045522924,0.6,"RSL, nov/2022"]
["60568-05-0","Furmecyclox",251.33,"PHYSPROP",2.8168438266600002E-7,6.89E-9,"PHYSPROP","","",4.7707945390419997E-2,"WATER9 (U.S. EPA, 2001)",5.5742967772000004E-6,"WATER9 (U.S. EPA, 2001)",429,"EPI",0.3,"PHYSPROP",33,"PHYSPROP",4.99E-2,"EPI","","","","",4.38,"PHYSPROP",8.3700000000000002E-5,"PHYSPROP","","","",0.30426315428624001,2.6871799450215001,6.4492318680515899,0.9,"RSL, nov/2022"]
["606-20-2","Dinitrotoluene, 2,6-",182.14000000000001,"PHYSPROP",3.0539656579999998E-5,7.4700000000000001E-7,"EPI",1.3,"CRC",3.7025583727249997E-2,"WATER9 (U.S. EPA, 2001)",7.7629267596600005E-6,"WATER9 (U.S. EPA, 2001)",587.4,"EPI",182,"PHYSPROP",66,"PHYSPROP",3.7000000000000002E-3,"EPI","","",0.98629999999999995,"Handbook of Environmental Degradation Rates. Lewis. Publishers, Chelsea, MI, 1989",2.1,"PHYSPROP",5.6700000000000001E-4,"PHYSPROP","","","",1.9205739865649999E-2,1.1011151793496901,2.64267643043926,1,"RSL, nov/2022"]
["608-73-1","Hexachlorocyclohexane, Technical",290.83,"PHYSPROP",2.1013900245E-4,5.1399999999999999E-6,"EPI","","",4.3284007679819998E-2,"WATER9 (U.S. EPA, 2001)",5.0573945815400002E-6,"WATER9 (U.S. EPA, 2001)",2807,"EPI",8,"PHYSPROP",112.5,"EPI",2.06E-2,"EPI","","","","",4.1399999999999997,"EPI",3.5200000000000002E-5,"EPI","","","",0.13511808269875999,4.4719480484289003,10.7326753162294,0.9,"RSL, nov/2022"]
["608-93-5","Pentachlorobenzene",250.34,"PHYSPROP",2.8740801308260001E-2,7.0299999999999996E-4,"PHYSPROP",1.8,"CRC",2.9433217290019999E-2,"WATER9 (U.S. EPA, 2001)",7.9473371280199994E-6,"WATER9 (U.S. EPA, 2001)",3708,"EPI",0.83099999999999996,"PHYSPROP",86,"PHYSPROP",0.16800000000000001,"EPI","","",1.8904000000000001,"Handbook of Environmental Degradation Rates. Lewis. Publishers, Chelsea, MI, 1989",5.17,"PHYSPROP",1.01E-3,"EPI","","","",1.0223534283917599,2.6530946852068702,10.247658742406299,0.9,"RSL, nov/2022"]
["615-45-2","Methyl-1,4-benzenediamine dihydrochloride, 2-",195.09,"PHYSPROP",2.6083401471999999E-16,6.3799999999999999E-18,"PHYSPROP","","",5.6484626556840001E-2,"WATER9 (U.S. EPA, 2001)",6.5997826818999997E-6,"WATER9 (U.S. EPA, 2001)",201.5,"EPI",1000000,"PHYSPROP",240.01,"EPI",5.3900000000000001E-6,"EPI","","","","",-2.06,"PHYSPROP",4.1200000000000002E-12,"PHYSPROP","","","",2.8955623540000001E-5,1.30122605157616,3.1229425237827702,1,"RSL, nov/2022"]
["615-50-9","Methylbenzene-1,4-diamine sulfate, 2-",220.25,"ChemicalBook","","","","","",5.2096633051700002E-2,"WATER9 (U.S. EPA, 2001)",6.0870802828800003E-6,"WATER9 (U.S. EPA, 2001)","","","","","","","","","","","","","","","","","","","","",1.79990154443851,4.3197637066524202,0,"RSL, nov/2022"]
["615-54-3","Tribromobenzene, 1,2,4-",314.8,"PHYSPROP",1.394112837285E-2,3.4099999999999999E-4,"PHYSPROP",2.2999999999999998,"ChemNet",2.896888695206E-2,"WATER9 (U.S. EPA, 2001)",7.8945268929500001E-6,"WATER9 (U.S. EPA, 2001)",614.29999999999995,"EPI",4.8979999999999997,"PHYSPROP",44.5,"PHYSPROP",3.3700000000000001E-2,"EPI","","","","",4.66,"PHYSPROP",5.4799999999999996E-3,"PHYSPROP","","","",0.22997144535892999,6.0915631332310598,14.619751519754599,0.9,"RSL, nov/2022"]
["616-23-9","Dichloropropanol, 2,3-",128.99,"PHYSPROP",1.47179067866E-7,3.6E-9,"PHYSPROP",1.4,"CRC",6.8016553963669998E-2,"WATER9 (U.S. EPA, 2001)",9.8899837217600002E-6,"WATER9 (U.S. EPA, 2001)",5.5679999999999996,"EPI",64220,"PHYSPROP",-24.89,"EPI",9.8299999999999993E-4,"EPI","","","","",0.78,"PHYSPROP",0.184,"PHYSPROP","","","",4.29396194532E-3,0.55487192290192,1.33169261496462,1,"RSL, nov/2022"]
["617-84-5","Diethylformamide",101.15,"PHYSPROP",5.3147996729399999E-6,1.3E-7,"PHYSPROP",0.91,"CRC",7.330096118354E-2,"WATER9 (U.S. EPA, 2001)",8.9772588626199998E-6,"WATER9 (U.S. EPA, 2001)",2.06,"EPI",1000000,"PHYSPROP",-7.6000000000000005,"EPI",4.57E-4,"EPI","","","","",0.05,"PHYSPROP",1.21,"EPI","","","",1.7677701474999999E-3,0.38751520674286999,0.93003649618288997,1,"RSL, nov/2022"]
["618-87-1","Dinitroaniline, 3,5-",183.12,"PHYSPROP",1.21013900245E-9,2.96E-11,"PHYSPROP",1.6,"CRC",4.0334656406699997E-2,"WATER9 (U.S. EPA, 2001)",8.8361911638499997E-6,"WATER9 (U.S. EPA, 2001)",169.4,"EPI",1293,"PHYSPROP",163,"PHYSPROP",2.65E-3,"EPI","","","","",1.8900000000000001,"PHYSPROP",2.6800000000000001E-5,"PHYSPROP","","","",1.3792418164219999E-2,1.1151178034571101,2.67628272829706,1,"RSL, nov/2022"]
["62-38-4","Phenylmercuric Acetate",336.74,"PHYSPROP",2.3139820114500001E-8,5.6600000000000001E-10,"EPI","","",3.9254591528379998E-2,"WATER9 (U.S. EPA, 2001)",4.5865891154200003E-6,"WATER9 (U.S. EPA, 2001)",56.44,"EPI",4370,"PHYSPROP",153,"PHYSPROP",5.9899999999999999E-5,"EPI","","","","",0.71,"PHYSPROP",6.0000000000000002E-6,"PHYSPROP","","","",4.2276675473E-4,8.0833754238503808,19.4001010172409,1,"RSL, nov/2022"]
["62-44-2","Phenacetin",179.22,"PHYSPROP",8.7080948487300004E-9,2.1299999999999999E-10,"EPI","","",5.9771747382419999E-2,"WATER9 (U.S. EPA, 2001)",6.9838567994200003E-6,"WATER9 (U.S. EPA, 2001)",40.99,"EPI",766,"PHYSPROP",137.5,"PHYSPROP",1.73E-3,"EPI","","",0.153,"Handbook of Environmental Degradation Rates. Lewis. Publishers, Chelsea, MI, 1989",1.58,"PHYSPROP",6.92E-7,"PHYSPROP","","","",8.9077083997500008E-3,1.0604269332212899,2.5450246397310901,1,"RSL, nov/2022"]
["62-53-3","Aniline",93.129000000000005,"PHYSPROP",8.2583810299999996E-5,2.0200000000000001E-6,"PHYSPROP",1,"CRC",8.3012168301240002E-2,"WATER9 (U.S. EPA, 2001)",1.0125461899999999E-5,"WATER9 (U.S. EPA, 2001)",70.23,"EPI",36000,"PHYSPROP",-6.0200000000000005,"PHYSPROP",1.8600000000000001E-3,"EPI","","","","",0.9,"PHYSPROP",0.66700000000000004,"PHYSPROP","","","",6.9037024668999998E-3,0.34943881957314998,0.83865316697556003,1,"RSL, nov/2022"]
["62-73-7","Dichlorvos",220.98000000000002,"PHYSPROP",2.3466884710000001E-5,5.7400000000000003E-7,"EPI",1.4,"CRC",2.7876753126080001E-2,"WATER9 (U.S. EPA, 2001)",7.3301667440699999E-6,"WATER9 (U.S. EPA, 2001)",53.96,"EPI",8000,"PHYSPROP",-60,"PHYSPROP",8.0400000000000003E-4,"EPI","","","","",1.43,"PHYSPROP",1.575E-2,"PHYSPROP","","","",4.5968378583400001E-3,1.8169239498176,4.3606174795622303,1,"RSL, nov/2022"]
["62-74-8","Sodium Fluoroacetate",100.03,"PHYSPROP",4.4562551099999997E-5,1.0899999999999999E-6,"PHYSPROP","","",8.8172554209410003E-2,"WATER9 (U.S. EPA, 2001)",1.030226686E-5,"WATER9 (U.S. EPA, 2001)",1.44,"EPI",1110000,"PHYSPROP",201,"PHYSPROP",1.3200000000000001E-6,"EPI","","","","",-3.7800000000000002,"PHYSPROP",6.5400000000000001E-7,"PHYSPROP","","","",5.0776845582800001E-6,0.38195900172804997,0.91670160414732005,1,"RSL, nov/2022"]
["62-75-9","Nitrosodimethylamine, N-",74.082999999999998,"PHYSPROP",7.440719542E-5,1.8199999999999999E-6,"PHYSPROP",1,"CRC",9.8767426778219994E-2,"WATER9 (U.S. EPA, 2001)",1.1499750310000001E-5,"WATER9 (U.S. EPA, 2001)",22.79,"EPI",1000000,"PHYSPROP",-39.07,"EPI",2.5099999999999998E-4,"EPI","","",1,"Handbook of Environmental Degradation Rates. Lewis. Publishers, Chelsea, MI, 1989",-0.56999999999999995,"PHYSPROP",2.7,"PHYSPROP","","","",8.3092084468999999E-4,0.27334652024992001,0.65603164859981,1,"RSL, nov/2022"]
["62037-80-3","Ammonium perfluoro-2-methyl-3-oxahexanoate",347.08,"EPA OW","","","","","",3.8471035412449998E-2,"WATER9 (U.S. EPA, 2001)",4.49503676924E-6,"WATER9 (U.S. EPA, 2001)",12,"EPA OW",739000,"EPA OW","","","","","","","","","","","","","","","","",9.2362727570406609,22.167054616897602,0,"RSL, nov/2022"]
["621-64-7","Nitroso-di-N-propylamine, N-",130.19,"PHYSPROP",2.1995094031000001E-4,5.3800000000000002E-6,"PHYSPROP",0.92,"CRC",5.6439915177989998E-2,"WATER9 (U.S. EPA, 2001)",7.7579648454100007E-6,"WATER9 (U.S. EPA, 2001)",275.39999999999998,"EPI",13000,"PHYSPROP",6.8100000000000005,"EPI",2.33E-3,"EPI","","",1,"Handbook of Environmental Degradation Rates. Lewis. Publishers, Chelsea, MI, 1989",1.36,"PHYSPROP",8.5999999999999993E-2,"PHYSPROP","","","",1.0225189998379999E-2,0.56352443158719001,1.3524586358092601,1,"RSL, nov/2022"]
["624-83-9","Methyl Isocyanate",57.052,"PHYSPROP",3.7857726901059999E-2,9.2599999999999996E-4,"PHYSPROP",0.96,"CRC",0.11654940800983001,"WATER9 (U.S. EPA, 2001)",1.307814243E-5,"WATER9 (U.S. EPA, 2001)",39.6,"EPI",29200,"PHYSPROP",-45,"PHYSPROP",2.5000000000000001E-3,"EPI","","","","",0.79,"PHYSPROP",348,"PHYSPROP","","","",7.2627667637799997E-3,0.2194522053703,0.52668529288873001,1,"RSL, nov/2022"]
["62476-59-9","Sodium Acifluorfen",383.65000000000003,"PHYSPROP",2.4734260016399999E-9,6.0499999999999998E-11,"PHYSPROP","","",3.5985714709219997E-2,"WATER9 (U.S. EPA, 2001)",4.2046466660300002E-6,"WATER9 (U.S. EPA, 2001)",3880,"EPI",250000,"PHYSPROP",277.47000000000003,"EPI",1.95E-5,"EPI","","","","",0.37,"PHYSPROP",9.7499999999999996E-9,"EPI","","","",1.4690239106E-4,14.8009213078836,35.522211138920703,1,"RSL, nov/2022"]
["63-25-2","Carbaryl",201.23000000000002,"PHYSPROP",1.3368765331199999E-7,3.2700000000000001E-9,"EPI",1.2,"CRC",2.742439078822E-2,"WATER9 (U.S. EPA, 2001)",7.1215602902799997E-6,"WATER9 (U.S. EPA, 2001)",354.8,"EPI",110,"PHYSPROP",145,"PHYSPROP",4.3099999999999996E-3,"EPI","","",0.16439999999999999,"Handbook of Environmental Degradation Rates. Lewis. Publishers, Chelsea, MI, 1989",2.36,"PHYSPROP",1.3599999999999999E-6,"PHYSPROP","","","",2.3515287118259998E-2,1.4084348078365201,3.3802435388076399,1,"RSL, nov/2022"]
["630-20-6","Tetrachloroethane, 1,1,1,2-",167.85,"PHYSPROP",0.10220768601799,2.5000000000000001E-3,"PHYSPROP",1.5,"CRC",4.8176070236370001E-2,"WATER9 (U.S. EPA, 2001)",9.0977269942199995E-6,"WATER9 (U.S. EPA, 2001)",86.03,"EPI",1070,"PHYSPROP",-70.2,"PHYSPROP",1.5900000000000001E-2,"EPI","","",0.18310000000000001,"Handbook of Environmental Degradation Rates. Lewis. Publishers, Chelsea, MI, 1989",2.93,"PHYSPROP",12,"PHYSPROP","","","",7.9229050112039998E-2,0.91581710267245997,2.1979610464139001,1,"RSL, nov/2022"]
["631-64-1","Dibromoacetic acid",217.85,"PHYSPROP",1.8070318887999999E-7,4.42E-9,"PHYSPROP","","",5.2478557806950002E-2,"WATER9 (U.S. EPA, 2001)",6.1317051753399998E-6,"WATER9 (U.S. EPA, 2001)",2.2519999999999998,"EPI",2110000,"PHYSPROP",49,"PHYSPROP",2.7399999999999999E-4,"EPI","","","","",0.70000000000000007,"PHYSPROP",2.3E-2,"PHYSPROP","","","",1.5554497912999999E-3,1.7450535139812799,4.1881284335550797,1,"RSL, nov/2022"]
["634-93-5","Trichloroaniline, 2,4,6-",196.46,"PHYSPROP",5.4783319709999997E-5,1.3400000000000001E-6,"PHYSPROP","","",5.6221726027999998E-2,"WATER9 (U.S. EPA, 2001)",6.5690648306400003E-6,"WATER9 (U.S. EPA, 2001)",4440,"EPI",40,"PHYSPROP",78.5,"PHYSPROP",2.7E-2,"EPI","","","","",3.52,"PHYSPROP",4.4400000000000004E-3,"PHYSPROP","","","",0.14555511979798999,1.3244170090499701,3.1786008217199302,1,"RSL, nov/2022"]
["636-21-5","Methylaniline Hydrochloride, 2-",143.62,"PHYSPROP",8.5854456260000005E-5,2.0999999999999998E-6,"PHYSPROP","","",6.9280389293189998E-2,"WATER9 (U.S. EPA, 2001)",8.0948665384699997E-6,"WATER9 (U.S. EPA, 2001)",115,"EPI",8292,"PHYSPROP",215,"PHYSPROP",1.0499999999999999E-5,"EPI","","","","",1.62,"PHYSPROP",0.29299999999999998,"PHYSPROP","","","",4.8397553909999998E-5,0.67007088752721999,1.6081701300653299,1,"RSL, nov/2022"]
["6369-59-1","Benzenediamine-2-methyl sulfate, 1,4-",220.24,"EPI",8.8600000000000003E-22,2.1700000000000001E-23,"EPI","","",5.2098210005289997E-2,"WATER9 (U.S. EPA, 2001)",6.0872645374599996E-6,"WATER9 (U.S. EPA, 2001)",38.380000000000003,"EPI",1000000,"EPI",235.86,"EPI",3.0400000000000002E-7,"EPI","","","","",-3.7267000000000001,"EPI",2.9000000000000003E-14,"EPI","","","",1.7351951887899999E-6,1.79966947151908,4.3192067316457798,1,"RSL, nov/2022"]
["637-92-3","Ethyl Tertiary Butyl Ether (ETBE)",102.18,"EPI",6.7048241999999994E-2,1.64E-3,"EPI",0.74,"CRC",6.6110361242539994E-2,"WATER9 (U.S. EPA, 2001)",7.8664524374700001E-6,"WATER9 (U.S. EPA, 2001)",21.07,"EPI",12000,"EPI",-94,"EPI",7.9000000000000008E-3,"EPI","","","","",1.9202999999999999,"EPI",124,"EPI","","","",3.0714022104669999E-2,0.39269624598786002,0.94247099037086002,1,"RSL, nov/2022"]
["64-18-6","Formic Acid",46.026000000000003,"PHYSPROP",6.8274734260000002E-6,1.67E-7,"PHYSPROP",1.2,"CRC",0.14787006297229999,"WATER9 (U.S. EPA, 2001)",1.719039002E-5,"WATER9 (U.S. EPA, 2001)",1,"EPI",1000000,"PHYSPROP",8.3000000000000007,"PHYSPROP",3.7800000000000003E-4,"EPI","","",3.8359999999999998E-2,"Handbook of Environmental Degradation Rates. Lewis. Publishers, Chelsea, MI, 1989",-0.54,"PHYSPROP",42.59,"PHYSPROP","","","",9.8632506193999992E-4,0.190368176375,0.45688362330000998,1,"RSL, nov/2022"]
["6423-43-4","Propylene Glycol Dinitrate",166.09,"PHYSPROP",3.8511856090000001E-5,9.4200000000000004E-7,"PHYSPROP","","",6.2881748735540005E-2,"WATER9 (U.S. EPA, 2001)",7.3472359048899999E-6,"WATER9 (U.S. EPA, 2001)",60.7,"EPI",3261.9,"EPI",-9.6300000000000008,"EPI",2.0799999999999998E-3,"EPI","","","","",1.83,"PHYSPROP",0.378,"PHYSPROP","","","",1.031007274465E-2,0.89526735692687998,2.1486416566245099,1,"RSL, nov/2022"]
["64742-95-6","Naphtha, High Flash Aromatic (HFAN)","","",1.7988552739170001E-2,4.4000000000000002E-4,"EPI","","","","","","","","",31,"EPI","","","","","","","","","","",8.5000000000000006E-2,"EPI","","","","","","",0,"RSL, nov/2022"]
["64902-72-3","Chlorsulfuron",357.78000000000003,"PHYSPROP",1.3982011447E-14,3.4199999999999999E-16,"EPI","","",3.7700134053589997E-2,"WATER9 (U.S. EPA, 2001)",4.4049630315199999E-6,"WATER9 (U.S. EPA, 2001)",322,"EPI",31000,"PHYSPROP",176,"PHYSPROP",3.28E-4,"EPI","","","","",2,"PHYSPROP",2.25E-11,"PHYSPROP","","","",2.3862092539300001E-3,10.6027067444723,25.446496186733501,1,"RSL, nov/2022"]
["65-85-0","Benzoic Acid",122.12,"PHYSPROP",1.5576451349100001E-6,3.8099999999999997E-8,"EPI",1.3,"CRC",7.0193910355E-2,"WATER9 (U.S. EPA, 2001)",9.7867689198599998E-6,"WATER9 (U.S. EPA, 2001)",0.6,"SSL",3400,"PHYSPROP",122.4,"PHYSPROP",5.6499999999999996E-3,"EPI","","","","",1.87,"PHYSPROP",6.9999999999999999E-4,"PHYSPROP","","","",2.4014220700619999E-2,0.50783280219766003,1.2187987252743699,1,"RSL, nov/2022"]
["65195-55-3","Avermectin B1",875.12,"PHYSPROP",5.3965658217000002E-26,1.3200000000000001E-27,"PHYSPROP","","",2.076706846724E-2,"WATER9 (U.S. EPA, 2001)",2.4264679998599998E-6,"WATER9 (U.S. EPA, 2001)",876700,"EPI",3.5E-4,"PHYSPROP",349.84000000000003,"EPI",1.8099999999999999E-5,"EPI","","","","",4.4800000000000004,"PHYSPROP",1.4600000000000001E-30,"PHYSPROP","","","",2.0593920485000001E-4,8366.0556593865094,20078.533582527602,1,"RSL, nov/2022"]
["6533-73-9","Thallium Carbonate",468.75,"PHYSPROP","","","",7.1,"CRC",3.934489979598E-2,"WATER9 (U.S. EPA, 2001)",1.229783788E-5,"WATER9 (U.S. EPA, 2001)",2.8769999999999998,"EPI",52000,"PHYSPROP",272,"PHYSPROP",9.8200000000000008E-7,"EPI","","","","",-0.86,"PHYSPROP",9.9999999999999995E-7,"PubChem","","","",8.1772783318899994E-6,44.345417663313498,106.429002391952,1,"RSL, nov/2022"]
["65510-44-3","Pentachlorobiphenyl, 2',3,4,4',5- (PCB 123)",326.44,"EPI",7.7677841373699997E-3,1.9000000000000001E-4,"EPI",1.5,"LookChem",4.6705452982670002E-2,"WATER9 (U.S. EPA, 2001)",6.0595244406700004E-6,"WATER9 (U.S. EPA, 2001)",130500,"EPI",1.6E-2,"EPI",98,"EPI",1,"EPI","","","","",6.98,"EPI",5.4700000000000001E-6,"EPI","","","",6.9490964037349796,7.0780357134763596,31.578828198548599,0.4,"RSL, nov/2022"]
["66-27-3","Methyl methanesulfonate",110.13,"PHYSPROP",1.6475878986000001E-4,4.0300000000000004E-6,"PHYSPROP",1.3,"CRC",7.8905600937119999E-2,"WATER9 (U.S. EPA, 2001)",1.0552354160000001E-5,"WATER9 (U.S. EPA, 2001)",4.3319999999999999,"EPI",200000,"LANGE",20,"PHYSPROP",1.3799999999999999E-4,"EPI","","","","",-0.66,"PHYSPROP",0.31,"PHYSPROP","","","",5.5700431302999997E-4,0.43508764362292002,1.044210344695,1,"RSL, nov/2022"]
["66215-27-8","Cyromazine",166.19,"PHYSPROP",2.309893704E-12,5.6499999999999999E-14,"EPI","","",6.2856521362600004E-2,"WATER9 (U.S. EPA, 2001)",7.3442882855200002E-6,"WATER9 (U.S. EPA, 2001)",28.73,"EPI",13000,"PHYSPROP",224.9,"PHYSPROP",7.9699999999999997E-4,"EPI","","","","",-6.0999999999999999E-2,"PHYSPROP",3.36E-9,"PHYSPROP","","","",3.9517313954999999E-3,0.89642250190769002,2.1514140045784602,1,"RSL, nov/2022"]
["66332-96-5","Flutolanil",323.32,"PHYSPROP",1.3000817661500001E-7,3.1800000000000002E-9,"EPI","","",4.0333435981080003E-2,"WATER9 (U.S. EPA, 2001)",4.71264357253E-6,"WATER9 (U.S. EPA, 2001)",2558,"EPI",6.53,"PHYSPROP",104.5,"PHYSPROP",6.9100000000000003E-3,"EPI","","","","",3.7,"PHYSPROP",4.88E-8,"PHYSPROP","","","",4.7788234316130003E-2,6.7989328148106303,16.317438755545499,0.9,"RSL, nov/2022"]
["66841-25-6","Tralomethrin",665.02,"PHYSPROP",1.6107931316400001E-8,3.9399999999999998E-10,"EPI","","",2.4938124947649999E-2,"WATER9 (U.S. EPA, 2001)",2.9138230202000002E-6,"WATER9 (U.S. EPA, 2001)",191100,"EPI",0.08,"PHYSPROP",143,"PHYSPROP",3.0499999999999999E-2,"EPI","","","","",7.5600000000000005,"PHYSPROP",3.5999999999999998E-11,"PHYSPROP","","","",0.30251286221370999,557.13539423694203,1337.12494616866,0.5,"RSL, nov/2022"]
["67-20-9","Nitrofurantoin",238.16,"PHYSPROP",5.4374488962000003E-11,1.33E-12,"PHYSPROP","","",4.9450921226519999E-2,"WATER9 (U.S. EPA, 2001)",5.7779497433100004E-6,"WATER9 (U.S. EPA, 2001)",116.8,"EPI",79.5,"PHYSPROP",263,"PHYSPROP",3.5200000000000002E-5,"EPI","","","","",-0.47000000000000003,"PHYSPROP",2.7800000000000002E-10,"PHYSPROP","","","",2.0893140574999999E-4,2.2674867064841,5.4419680955618404,1,"RSL, nov/2022"]
["67-45-8","Furazolidone",225.16,"PHYSPROP",1.3327882256699999E-9,3.2600000000000002E-11,"PHYSPROP","","",5.1336482439640001E-2,"WATER9 (U.S. EPA, 2001)",5.9982626850500002E-6,"WATER9 (U.S. EPA, 2001)",858.4,"EPI",40,"PHYSPROP",255,"PHYSPROP",8.03E-5,"EPI","","","","",-0.04,"PHYSPROP",2.6000000000000001E-6,"PHYSPROP","","","",4.6343391944999999E-4,1.9175414018216199,4.6020993643718899,1,"RSL, nov/2022"]
["67-56-1","Methanol",32.042000000000002,"PHYSPROP",1.8601798854999999E-4,4.5499999999999996E-6,"PHYSPROP",0.79,"CRC",0.15827406993500001,"WATER9 (U.S. EPA, 2001)",1.647698057E-5,"WATER9 (U.S. EPA, 2001)",1,"EPI",1000000,"PHYSPROP",-97.600000000000009,"PHYSPROP",3.19E-4,"EPI","","",1.9179999999999999E-2,"Handbook of Environmental Degradation Rates. Lewis. Publishers, Chelsea, MI, 1989",-0.77,"PHYSPROP",127,"PHYSPROP","","","",6.9450782474999998E-4,0.15895857089087001,0.38150057013809002,1,"RSL, nov/2022"]
["67-63-0","Isopropanol",60.097000000000001,"PHYSPROP",3.3115290270000001E-4,8.1000000000000004E-6,"PHYSPROP",0.78,"CRC",0.10322609319999999,"WATER9 (U.S. EPA, 2001)",1.120772199E-5,"WATER9 (U.S. EPA, 2001)",1.53,"EPI",1000000,"PHYSPROP",-89.5,"PHYSPROP",7.7800000000000005E-4,"EPI","","",3.8399999999999997E-2,"Handbook of Environmental Degradation Rates. Lewis. Publishers, Chelsea, MI, 1989",0.05,"PHYSPROP",45.42,"PHYSPROP","","","",2.3197043956999998E-3,0.22824010036138001,0.54777624086732002,1,"RSL, nov/2022"]
["67-64-1","Acetone",58.081000000000003,"PHYSPROP",1.43090760425E-3,3.4999999999999997E-5,"PHYSPROP",0.78,"CRC",0.10592149838195999,"WATER9 (U.S. EPA, 2001)",1.147115345E-5,"WATER9 (U.S. EPA, 2001)",2.3639999999999999,"EPI",1000000,"PHYSPROP",-94.8,"PHYSPROP",5.1199999999999998E-4,"EPI","","",3.8359999999999998E-2,"Handbook of Environmental Degradation Rates. Lewis. Publishers, Chelsea, MI, 1989",-0.24,"PHYSPROP",231.5,"PHYSPROP","","","",1.50076832709E-3,0.22238339169509,0.53372014006821,1,"RSL, nov/2022"]
["67-66-3","Chloroform",119.38,"PHYSPROP",0.15004088307440999,3.6700000000000001E-3,"PHYSPROP",1.5,"CRC",7.6919657359430002E-2,"WATER9 (U.S. EPA, 2001)",1.089076763E-5,"WATER9 (U.S. EPA, 2001)",31.82,"EPI",7950,"PHYSPROP",-63.6,"PHYSPROP",6.8300000000000001E-3,"EPI","","",4.9314999999999998,"Handbook of Environmental Degradation Rates. Lewis. Publishers, Chelsea, MI, 1989",1.97,"PHYSPROP",197,"PHYSPROP","","","",2.8702064957770002E-2,0.49020388588490998,1.1764893261237901,1,"RSL, nov/2022"]
["67-72-1","Hexachloroethane",236.74,"PHYSPROP",0.15903515944398999,3.8899999999999998E-3,"PHYSPROP",2.1,"CRC",3.2093777507060002E-2,"WATER9 (U.S. EPA, 2001)",8.89039803366E-6,"WATER9 (U.S. EPA, 2001)",196.8,"EPI",50,"PHYSPROP",187,"PHYSPROP",4.1500000000000002E-2,"EPI","","",0.98629999999999995,"Handbook of Environmental Degradation Rates. Lewis. Publishers, Chelsea, MI, 1989",4.1399999999999997,"PHYSPROP",0.21,"PHYSPROP","","","",0.2455899385142,2.2263464612227,5.3432315069344902,1,"RSL, nov/2022"]
["67485-29-4","Hydramethylnon",494.49,"PHYSPROP",8.9942763699999995E-5,2.2000000000000001E-6,"EPI","","",3.0384254987960001E-2,"WATER9 (U.S. EPA, 2001)",3.55016031965E-6,"WATER9 (U.S. EPA, 2001)",179700000,"EPI",6.0000000000000001E-3,"PHYSPROP",190,"PHYSPROP",9.0199999999999997E-5,"EPI","","","","",2.31,"PHYSPROP",2.03E-8,"PHYSPROP","","","",7.7145739466000002E-4,61.800608267231198,148.32145984135499,1,"RSL, nov/2022"]
["67747-09-5","Prochloraz",376.67,"PHYSPROP",6.7048242027799997E-7,1.6400000000000001E-8,"EPI","","",3.6428915826410002E-2,"WATER9 (U.S. EPA, 2001)",4.2564312176099997E-6,"WATER9 (U.S. EPA, 2001)",2425,"EPI",34,"PHYSPROP",48,"PHYSPROP",6.4000000000000003E-3,"EPI","","","","",4.0999999999999996,"PHYSPROP",1.13E-6,"PHYSPROP","","","",4.7773509036710002E-2,13.5269769384225,32.464744652214002,0.9,"RSL, nov/2022"]
["68-12-2","Dimethylformamide",73.094999999999999,"PHYSPROP",3.02125919869E-6,7.3900000000000007E-8,"PHYSPROP",0.95,"CRC",9.7184647197839993E-2,"WATER9 (U.S. EPA, 2001)",1.1170184499999999E-5,"WATER9 (U.S. EPA, 2001)",1,"EPI",1000000,"PHYSPROP",-60.4,"PHYSPROP",1.2999999999999999E-4,"EPI","","","","",-1.01,"PHYSPROP",3.87,"PHYSPROP","","","",4.2747806961000002E-4,0.26988624419982998,0.6477269860796,1,"RSL, nov/2022"]
["680-31-9","Hexamethylphosphoramide",179.20000000000002,"PHYSPROP",8.1766148814400002E-7,2E-8,"PHYSPROP",1,"CRC",3.483682704827E-2,"WATER9 (U.S. EPA, 2001)",6.8702304219299998E-6,"WATER9 (U.S. EPA, 2001)",10,"EPI",1000000,"PHYSPROP",7.2,"PHYSPROP",2.3699999999999999E-4,"EPI","","","","",0.28000000000000003,"PHYSPROP",4.5999999999999999E-2,"PHYSPROP","","","",1.22023646947E-3,1.06015349547732,2.5443683891455602,1,"RSL, nov/2022"]
["68359-37-5","Cyfluthrin",434.3,"PHYSPROP",1.18560915781E-6,2.9000000000000002E-8,"EPI","","",3.31304281246E-2,"WATER9 (U.S. EPA, 2001)",3.8710289703499997E-6,"WATER9 (U.S. EPA, 2001)",130600,"EPI",3.0000000000000001E-3,"PHYSPROP",60,"PHYSPROP",5.1499999999999997E-2,"EPI","","","","",5.95,"PHYSPROP",1.5E-10,"PHYSPROP","","","",0.41278964638150001,28.4399448323421,68.255867597621105,0.7,"RSL, nov/2022"]
["684-93-5","Nitroso-N-methylurea, N-",103.08,"PHYSPROP",4.0515126737499996E-9,9.9099999999999999E-11,"PHYSPROP","","",8.6424589956760001E-2,"WATER9 (U.S. EPA, 2001)",1.009803104E-5,"WATER9 (U.S. EPA, 2001)",11,"EPI",14400,"PHYSPROP",123.5,"EPI",3.9500000000000001E-4,"EPI","","",3.9950000000000001E-4,"Handbook of Environmental Degradation Rates. Lewis. Publishers, Chelsea, MI, 1989",-0.03,"PHYSPROP",2.93E-2,"PHYSPROP","","","",1.54244949473E-3,0.39728004336551997,0.95347210407724003,1,"RSL, nov/2022"]
["68631-49-2","Hexabromodiphenyl ether, 2,2',4,4',5,5'- (BDE-153)",643.58356000000003,"PubChem","","","","","",2.5488853811400002E-2,"WATER9 (U.S. EPA, 2001)",2.97817134007E-6,"WATER9 (U.S. EPA, 2001)","","",8.9999999999999998E-4,"IRIS Profile","","","","","","","","","","",5.8000000000000004E-6,"IRIS Profile","","","","",422.58753794750498,1014.2100910740101,0,"RSL, nov/2022"]
["688-73-3","Tri-n-butyltin",291.05,"PHYSPROP",62.142273098936997,1.52,"PHYSPROP",1.1000000000000001,"CRC",2.1473848558709999E-2,"WATER9 (U.S. EPA, 2001)",5.35101929341E-6,"WATER9 (U.S. EPA, 2001)",8091,"EPI",7.3000000000000001E-3,"PHYSPROP",28.89,"EPI",1.9300000000000001E-2,"EPI","","","","",4.0999999999999996,"PHYSPROP",3.9899999999999998E-2,"PHYSPROP","","","",0.12663908467085999,4.4846520135219796,10.7631648324528,0.9,"RSL, nov/2022"]
["69409-94-5","Fluvalinate",502.93,"PHYSPROP",5.9280457890399999E-7,1.4500000000000001E-8,"PHYSPROP","","",3.0043364908409999E-2,"WATER9 (U.S. EPA, 2001)",3.5103300050900002E-6,"WATER9 (U.S. EPA, 2001)",730000,"EPI",5.0000000000000001E-3,"PHYSPROP",156.16999999999999,"EPI",7.9200000000000007E-2,"EPI","","","","",6.8100000000000005,"PHYSPROP",9.9999999999999995E-8,"PHYSPROP","","","",0.68313353403667998,68.9059539574111,268.69259129351701,0.6,"RSL, nov/2022"]
["69782-90-7","Hexachlorobiphenyl, 2,3,3',4,4',5'- (PCB 157)",360.88,"PHYSPROP",6.6230580539699997E-3,1.6200000000000001E-4,"EPI",1.6,"l",4.4420952435710002E-2,"WATER9 (U.S. EPA, 2001)",5.8638594009900002E-6,"WATER9 (U.S. EPA, 2001)",213600,"EPI",1.6469E-3,"EPI",146.34,"EPI",1.6600000000000001,"EPI","","","","",7.6000000000000005,"PHYSPROP",5.8100000000000003E-7,"EPI","","","",12.1287528688586,11.035112108210001,50.3149224728541,0,"RSL, nov/2022"]
["69806-40-2","Haloxyfop, Methyl",375.73,"PHYSPROP",1.304170074E-5,3.1899999999999998E-7,"EPI","","",3.6489649009790001E-2,"WATER9 (U.S. EPA, 2001)",4.2635274106200002E-6,"WATER9 (U.S. EPA, 2001)",5454,"EPI",9.3000000000000007,"PHYSPROP",56,"PHYSPROP",6.0000000000000001E-3,"EPI","","","","",4.07,"PHYSPROP",6.0000000000000002E-6,"PHYSPROP","","","",4.4731744813750002E-2,13.3640086976453,32.073620874348599,0.9,"RSL, nov/2022"]
["70-25-7","Methyl-N-nitro-N-nitrosoguanidine, N-",147.09,"PHYSPROP",4.9877350777E-11,1.2200000000000001E-12,"PHYSPROP","","",6.8186463922020005E-2,"WATER9 (U.S. EPA, 2001)",7.9670499950999993E-6,"WATER9 (U.S. EPA, 2001)",72.02,"EPI",267000,"PHYSPROP",118,"EPI",5.7200000000000001E-5,"EPI","","","","",-0.92,"PHYSPROP",1.2E-4,"PHYSPROP","","","",2.6681746570000002E-4,0.70073328909862997,1.68175989383671,1,"RSL, nov/2022"]
["70-30-4","Hexachlorophene",406.91,"PHYSPROP",2.2403924775E-11,5.4799999999999999E-13,"PHYSPROP","","",3.4600950218259999E-2,"WATER9 (U.S. EPA, 2001)",4.0428478676099998E-6,"WATER9 (U.S. EPA, 2001)",668600,"EPI",140,"PHYSPROP",166.5,"PHYSPROP",0.83599999999999997,"EPI","","",1.7971999999999999,"Handbook of Environmental Degradation Rates. Lewis. Publishers, Chelsea, MI, 1989",7.54,"PHYSPROP",1.0300000000000001E-10,"PHYSPROP","","","",6.4860771616398196,19.977666073084698,88.826751936589901,0,"RSL, nov/2022"]
["70362-50-4","Tetrachlorobiphenyl, 3,4,4',5- (PCB 81)",291.99,"EPI",9.1169255927999997E-3,2.23E-4,"EPI",1.4,"LookChem",4.9383888576890002E-2,"WATER9 (U.S. EPA, 2001)",6.26973771548E-6,"WATER9 (U.S. EPA, 2001)",78100,"EPI",3.2245000000000003E-2,"EPI",122.32000000000001,"EPI",0.58399999999999996,"EPI","","","","",6.34,"EPI",8.4500000000000004E-6,"EPI","","","",3.8381636511511301,4.5393403832826502,19.5449768255951,0.7,"RSL, nov/2022"]
["709-98-8","Propanil",218.08,"PHYSPROP",6.9910057236300001E-8,1.7100000000000001E-9,"EPI",1.3,"CRC",2.6510787168079999E-2,"WATER9 (U.S. EPA, 2001)",6.8588021650399999E-6,"WATER9 (U.S. EPA, 2001)",175.9,"EPI",152,"PHYSPROP",92,"PHYSPROP",1.03E-2,"EPI","","","","",3.0700000000000003,"PHYSPROP",9.0800000000000003E-7,"PHYSPROP","","","",5.8502145816099999E-2,1.7502365527877199,4.2005677266905304,1,"RSL, nov/2022"]
["71-36-3","Butanol, N-",74.123999999999995,"PHYSPROP",3.6017988552999999E-4,8.8100000000000004E-6,"PHYSPROP",0.81,"CRC",9.0038707026769998E-2,"WATER9 (U.S. EPA, 2001)",1.009779559E-5,"WATER9 (U.S. EPA, 2001)",3.4710000000000001,"EPI",63200,"PHYSPROP",-89.8,"PHYSPROP",2.31E-3,"EPI","","",0.1479,"Handbook of Environmental Degradation Rates. Lewis. Publishers, Chelsea, MI, 1989",0.88,"PHYSPROP",6.7,"PHYSPROP","","","",7.6492359172899999E-3,0.27349106952802998,0.65637856686726004,1,"RSL, nov/2022"]
["71-43-2","Benzene",78.114999999999995,"PHYSPROP",0.22690106295994,5.5500000000000002E-3,"PHYSPROP",0.88,"CRC",8.9534039512060001E-2,"WATER9 (U.S. EPA, 2001)",1.026318746E-5,"WATER9 (U.S. EPA, 2001)",145.80000000000001,"EPI",1790,"PHYSPROP",5.5,"PHYSPROP",1.49E-2,"EPI","","",1.9725999999999999,"Handbook of Environmental Degradation Rates. Lewis. Publishers, Chelsea, MI, 1989",2.13,"PHYSPROP",94.8,"PHYSPROP","","","",5.065008038978E-2,0.28793386679265998,0.69104128030237,1,"RSL, nov/2022"]
["71-55-6","Trichloroethane, 1,1,1-",133.41,"PHYSPROP",0.70318887980375999,1.72E-2,"PHYSPROP",1.3,"CRC",6.4817409072139995E-2,"WATER9 (U.S. EPA, 2001)",9.5990242153400001E-6,"WATER9 (U.S. EPA, 2001)",43.89,"EPI",1290,"PHYSPROP",-30.41,"PHYSPROP",1.26E-2,"EPI","","",1.496,"Handbook of Environmental Degradation Rates. Lewis. Publishers, Chelsea, MI, 1989",2.4900000000000002,"PHYSPROP",124,"PHYSPROP","","","",5.5974650327540003E-2,0.58741461764628999,1.4097950823510901,1,"RSL, nov/2022"]
["72-20-8","Endrin",380.91,"PHYSPROP",2.6001635323E-4,6.3600000000000001E-6,"PHYSPROP","","",3.615807917628E-2,"WATER9 (U.S. EPA, 2001)",4.22478609323E-6,"WATER9 (U.S. EPA, 2001)",20090,"EPI",0.25,"PHYSPROP",226,"PHYSPROP",3.2599999999999997E-2,"EPI","","","","",5.2,"PHYSPROP",3.0000000000000001E-6,"PHYSPROP","","","",0.24471209735466001,14.287121880278701,34.289092512668802,0.8,"RSL, nov/2022"]
["72-43-5","Methoxychlor",345.66,"PHYSPROP",8.2992641046599993E-6,2.03E-7,"PHYSPROP",1.4,"CRC",2.208485798774E-2,"WATER9 (U.S. EPA, 2001)",5.5926000699000002E-6,"WATER9 (U.S. EPA, 2001)",26890,"EPI",0.1,"PHYSPROP",87,"PHYSPROP",4.2799999999999998E-2,"EPI","","",1,"Handbook of Environmental Degradation Rates. Lewis. Publishers, Chelsea, MI, 1989",5.08,"PHYSPROP",2.5799999999999999E-6,"PHYSPROP","","","",0.30605183225013999,9.0686940341139906,21.764865681873601,0.8,"RSL, nov/2022"]
["72-54-8","DDD, p,p`- (DDD)",320.05,"PHYSPROP",2.6982829108999998E-4,6.6000000000000003E-6,"PHYSPROP","","",4.0607698875089998E-2,"WATER9 (U.S. EPA, 2001)",4.7446890264600002E-6,"WATER9 (U.S. EPA, 2001)",117500,"EPI",0.09,"PHYSPROP",109.5,"PHYSPROP",0.251,"EPI","","",30.821999999999999,"Handbook of Environmental Degradation Rates. Lewis. Publishers, Chelsea, MI, 1989",6.0200000000000005,"PHYSPROP",1.35E-6,"PHYSPROP","","","",1.72706741087775,6.5182160246292398,26.2267968690931,0.8,"RSL, nov/2022"]
["72-55-9","DDE, p,p'-",318.02999999999997,"PHYSPROP",1.7007358953399999E-3,4.1600000000000002E-5,"PHYSPROP",1.4,"LookChem",2.299592570658E-2,"WATER9 (U.S. EPA, 2001)",5.85921893614E-6,"WATER9 (U.S. EPA, 2001)",117500,"EPI",0.04,"PHYSPROP",89,"PHYSPROP",0.54500000000000004,"EPI","","",30.821999999999999,"Handbook of Environmental Degradation Rates. Lewis. Publishers, Chelsea, MI, 1989",6.51,"PHYSPROP",6.0000000000000002E-6,"EPI","","","",3.7381540857667899,6.3506291076779702,27.291554395341301,0.8,"RSL, nov/2022"]
["72007-68-2","Perfluorononanoate",463.07,"3M","","","",1.8,"3M",2.1364012346660001E-2,"WATER9 (U.S. EPA, 2001)",5.4330948501200003E-6,"WATER9 (U.S. EPA, 2001)",245.5,"Higgins and Luthy 2006","","",68,"3M",1.9883300000000001E-4,"RAGSE",4,"3M","","",2.57,"3M",9.5300000000000003E-3,"3M","","","",1.64565366116E-3,41.2136187798774,98.912685071705695,1,"RSL, nov/2022"]
["72178-02-0","Fomesafen",438.77,"PHYSPROP",3.0784955029000002E-11,7.5300000000000002E-13,"PHYSPROP",1.3,"CRC",1.86063527546E-2,"WATER9 (U.S. EPA, 2001)",4.5735728149699997E-6,"WATER9 (U.S. EPA, 2001)",1546,"EPI",50,"PHYSPROP",220,"PHYSPROP",4.57E-4,"EPI","","","","",2.9,"PHYSPROP",7.5000000000000002E-7,"EPI","","","",3.6818095091699999E-3,30.127337289961702,72.305609495908001,1,"RSL, nov/2022"]
["7287-19-6","Prometryn",241.36,"PHYSPROP",4.8650858544600005E-7,1.1900000000000001E-8,"EPI",1.2,"CRC",2.4245965207600001E-2,"WATER9 (U.S. EPA, 2001)",6.1613035904199999E-6,"WATER9 (U.S. EPA, 2001)",656.4,"EPI",33,"PHYSPROP",119,"PHYSPROP",1.49E-2,"EPI","","","","",3.5100000000000002,"PHYSPROP",1.24E-6,"PHYSPROP","","","",8.9031885120150006E-2,2.3630055932763101,5.67121342386314,0.9,"RSL, nov/2022"]
["732-11-6","Phosmet",317.32,"PHYSPROP",3.4260016353200003E-7,8.3799999999999996E-9,"EPI","","",4.0840273066770003E-2,"WATER9 (U.S. EPA, 2001)",4.7718634846400004E-6,"WATER9 (U.S. EPA, 2001)",10,"EPI",24.400000000000002,"PHYSPROP",72,"PHYSPROP",1.83E-3,"EPI","","","","",2.7800000000000002,"PHYSPROP",4.8999999999999997E-7,"PHYSPROP","","","",1.2537948007420001E-2,6.2927539308781304,15.102609434107499,1,"RSL, nov/2022"]
["74-11-3","Chlorobenzoic Acid, p-",156.57,"PHYSPROP",3.2829108748999998E-6,8.0299999999999998E-8,"PHYSPROP",1.5,"PERRY",5.4688537701709998E-2,"WATER9 (U.S. EPA, 2001)",9.4869852169799999E-6,"WATER9 (U.S. EPA, 2001)",26.560000000000002,"EPI",72,"PHYSPROP",243,"PHYSPROP",1.2E-2,"EPI","","","","",2.65,"PHYSPROP",2.33E-3,"PHYSPROP","","","",5.7751354398929998E-2,0.79184604081846999,1.90043049796434,1,"RSL, nov/2022"]
["74-31-7","N,N'-Diphenyl-1,4-benzenediamine",260.33999999999997,"PHYSPROP",8.3810302534799997E-9,2.0499999999999999E-10,"PHYSPROP","","",4.6600760114210001E-2,"WATER9 (U.S. EPA, 2001)",5.44493091861E-6,"WATER9 (U.S. EPA, 2001)",51890,"EPI",7.3529999999999998,"PHYSPROP",144,"PHYSPROP",2.6200000000000001E-2,"EPI","","","","",4.04,"PHYSPROP",6.3499999999999998E-9,"EPI","","","",0.16259170812282001,3.0182329057644601,7.2437589738347103,0.9,"RSL, nov/2022"]
["74-83-9","Bromomethane",94.938999999999993,"PHYSPROP",0.30008176614880999,7.3400000000000002E-3,"PHYSPROP",1.7,"CRC",0.10049762980352001,"WATER9 (U.S. EPA, 2001)",1.3467644350000001E-5,"WATER9 (U.S. EPA, 2001)",13.22,"EPI",15200,"PHYSPROP",-93.7,"PHYSPROP",2.8400000000000001E-3,"EPI","","",0.1041,"Handbook of Environmental Degradation Rates. Lewis. Publishers, Chelsea, MI, 1989",1.19,"PHYSPROP",1616,"PHYSPROP","","","",1.0643079802969999E-2,0.35769028904016997,0.85845669369641997,1,"RSL, nov/2022"]
["74-87-3","Chloromethane",50.488,"PHYSPROP",0.36058871627146,8.8199999999999997E-3,"PHYSPROP",0.91,"CRC",0.12396507727202,"WATER9 (U.S. EPA, 2001)",1.3648027769999999E-5,"WATER9 (U.S. EPA, 2001)",13.22,"EPI",5320,"PHYSPROP",-97.7,"PHYSPROP",3.2799999999999999E-3,"EPI","","",0.15340000000000001,"Handbook of Environmental Degradation Rates. Lewis. Publishers, Chelsea, MI, 1989",0.91,"PHYSPROP",4300,"PHYSPROP","","","",8.9638499759099998E-3,0.20164225687262999,0.4839414164943,1,"RSL, nov/2022"]
["74-90-8","Hydrogen Cyanide",27.026,"PHYSPROP",5.4374488961599996E-3,1.3300000000000001E-4,"PHYSPROP",0.69,"CRC",0.1678035776048,"WATER9 (U.S. EPA, 2001)",1.6771258970000002E-5,"WATER9 (U.S. EPA, 2001)","","",1000000,"PHYSPROP",-13.4,"PHYSPROP",1E-3,"RAGSE",9.9,"SSL",0.98629999999999995,"Handbook of Environmental Degradation Rates. Lewis. Publishers, Chelsea, MI, 1989",-0.25,"PHYSPROP",741.9,"PHYSPROP","","","",1.99948218149E-3,0.14900277256714001,0.35760665416114001,1,"RSL, nov/2022"]
["74-95-3","Dibromomethane (Methylene Bromide)",173.84,"PHYSPROP",3.3605887162709999E-2,8.2200000000000003E-4,"PHYSPROP",2.5,"CRC",5.5137259510489998E-2,"WATER9 (U.S. EPA, 2001)",1.1902073650000001E-5,"WATER9 (U.S. EPA, 2001)",21.73,"EPI",11900,"PHYSPROP",-52.5,"PHYSPROP",2.2300000000000002E-3,"EPI","","",0.15340000000000001,"Handbook of Environmental Degradation Rates. Lewis. Publishers, Chelsea, MI, 1989",1.7,"PHYSPROP",44.4,"PHYSPROP","","","",1.1308535656669999E-2,0.98935635925247001,2.3744552622059301,1,"RSL, nov/2022"]
["74-97-5","Bromochloromethane",129.38,"PHYSPROP",5.968928863451E-2,1.4599999999999999E-3,"EPI",1.9,"CRC",7.8691968046819993E-2,"WATER9 (U.S. EPA, 2001)",1.2192120700000001E-5,"WATER9 (U.S. EPA, 2001)",21.73,"EPI",16700,"PHYSPROP",-87.9,"PHYSPROP",2.5500000000000002E-3,"EPI","","","","",1.41,"PHYSPROP",142.5,"PHYSPROP","","","",1.115579193903E-2,0.55766931619935001,1.3384063588784401,1,"RSL, nov/2022"]
["74051-80-2","Sethoxydim",327.49,"PHYSPROP",8.8307440719999997E-10,2.1599999999999998E-11,"PHYSPROP",1,"CRC",1.9632869824089998E-2,"WATER9 (U.S. EPA, 2001)",4.8208490230799999E-6,"WATER9 (U.S. EPA, 2001)",4374,"EPI",25,"PHYSPROP",161.06,"EPI",1.8499999999999999E-2,"EPI","","","","",4.38,"PHYSPROP",1.6E-7,"PHYSPROP","","","",0.12876487246783,7.1745183319663504,17.218843996719201,0.9,"RSL, nov/2022"]
["74115-24-5","Clofentezine",303.14999999999998,"PHYSPROP",1.5944399018800001E-8,3.9E-10,"EPI","","",4.2103211066479997E-2,"WATER9 (U.S. EPA, 2001)",4.91942781935E-6,"WATER9 (U.S. EPA, 2001)",30210,"EPI",1,"PHYSPROP",182,"PHYSPROP",3.5799999999999998E-3,"EPI","","","","",3.1,"PHYSPROP",9.7500000000000005E-10,"PHYSPROP","","","",2.3973887606770002E-2,5.2419002170806301,12.580560520993499,0.9,"RSL, nov/2022"]
["74223-64-6","Metsulfuron-methyl",381.37,"PHYSPROP",5.3965658217E-15,1.32E-16,"EPI","","",3.6128997948279999E-2,"WATER9 (U.S. EPA, 2001)",4.22138818133E-6,"WATER9 (U.S. EPA, 2001)",92.5,"EPI",9500,"PHYSPROP",162,"PHYSPROP",3.2899999999999997E-4,"EPI","","","","",2.2000000000000002,"PHYSPROP",2.4999999999999998E-12,"PHYSPROP","","","",2.4711312531100001E-3,14.372117184687299,34.493081243249499,1,"RSL, nov/2022"]
["7429-90-5","Aluminum",26.981999999999999,"CRC","","","",2.7,"CRC","","","","","","","","",660.32,"CRC",1E-3,"RAGSE",1500,"BAES","","","","",0,"NIOSH","","","",1.9978538781300001E-3,0.14891825878305001,0.35740382107931001,1,"RSL, nov/2022"]
["7439-89-6","Iron",55.847000000000001,"PHYSPROP","","","",7.9,"CRC","","","","","","","","",1538,"CRC",1E-3,"RAGSE",25,"BAES","","","","",0,"NIOSH","","","",2.8742634765399999E-3,0.21606874510213001,0.51856498824511998,1,"RSL, nov/2022"]
["7439-91-0","Lanthanum",138.91,"EPI","","","",6.2,"CRC","","","","","","","","",920,"CRC",1E-3,"RAGSE","","","","","","","","","","","",4.53308025167E-3,0.63058661726125997,1.51340788142702,1,"RSL, nov/2022"]
["7439-92-1","Lead and Compounds",207.20000000000002,"EPI","","","",11,"CRC","","","","","","","","",327.5,"EPI",1E-4,"RAGSE",2138,"Soares, M.R., 2004.Coeficiente de distribuição de metais pesados em solo de São Paulo.Piracicaba,SP.Tese.Usp,SP","","","","",0,"NIOSH",1E-3,0.03,"Bockting e Van den Berg, 1992 apud Otte et al., 2001 - RIVM 711701 025",5.5363243739999998E-4,1.52113846901482,3.6507323256355702,1,"RSL, nov/2022"]
["7439-93-2","Lithium",6.94,"EPI","","","",0.53,"CRC","","","","","","","","",180.5,"CRC",1E-3,"RAGSE",300,"BAES","","","","","","","","","",1.01322614402E-3,0.11500394800006999,0.27600947520017999,1,"RSL, nov/2022"]
["7439-96-5-A","Manganese (Diet)",54.938000000000002,"PHYSPROP","","","",7.3,"CRC","","","","","","","","",1244,"PHYSPROP",1E-3,"RAGSE",65,"BAES","","","","",0,"NIOSH","","","",2.8507758728000001E-3,0.21355097057962999,0.51252232939109998,1,"RSL, nov/2022"]
["7439-96-5-B","Manganese (Non-diet)",54.938000000000002,"PHYSPROP","","","",7.3,"CRC","","","","","","","","",1244,"PHYSPROP",1E-3,"RAGSE",65,"BAES","","","","",0,"NIOSH","","","",2.8507758728000001E-3,0.21355097057962999,0.51252232939109998,1,"RSL, nov/2022"]
["7439-97-6","Mercury (elemental)",200.59,"PHYSPROP",0.35199999999999998,8.6219999999999995E-3,"PHYSPROP VP/S",14,"CRC",3.0700000000000002E-2,"WATER9 (U.S. EPA, 2001)",6.2999999999999998E-6,"WATER9 (U.S. EPA, 2001)","","",0.06,"PHYSPROP",-38.799999999999997,"PHYSPROP",1E-3,"RAGSE",104.71,"Braz, A.M.S., 2011. Coeficiente de distribuição de metais pesados em solos paraenses. Tese, Piracicaba, SP.","","",0.62,"PHYSPROP",1.9580000000000001E-3,"PHYSPROP",1.4999999999999999E-2,0.03,"Bockting e Van den Berg, 1992 apud Otte et al., 2001 - RIVM 711701 025",5.4472999663199998E-3,1.3968595767048499,3.35246298409163,1,"RSL, nov/2022"]
["7439-98-7","Molybdenum",95.94,"PHYSPROP","","","",10,"CRC","","","","","","","","",2622,"PHYSPROP",1E-3,"RAGSE",20,"BAES","","","","",0,"NIOSH",1.4999999999999999E-2,0.3,"Bockting e Van den Berg, 1992 apud Otte et al., 2001 - RIVM 711701 025",3.7672679347599998E-3,0.36233705455365001,0.86960893092876002,1,"RSL, nov/2022"]
["7440-02-0","Nickel Soluble Salts",58.71,"PHYSPROP","","","",8.9,"CRC","","","","","","","","",1455,"CRC",2.0000000000000001E-4,"RAGSE",118,"Soares, M.R., 2004.Coeficiente de distribuição de metais pesados em solo de São Paulo.Piracicaba,SP.Tese.Usp,SP","","","","",0,"NIOSH",7.0000000000000007E-2,0.1,"Bockting e Van den Berg, 1992 apud Otte et al., 2001 - RIVM 711701 025",5.8940346936999996E-4,0.22419439440901001,0.53806654658162001,1,"RSL, nov/2022"]
["7440-22-4","Silver",107.87,"PHYSPROP","","","",11,"CRC","","","","","","","","",960.5,"PHYSPROP",5.9999999999999995E-4,"RAGSE",0.42,"SSL (pH 5,5)","","","","",0,"NIOSH",0.1,0.4,"Kreule et al., 1995 - RIVM 715810010",2.3967803848100001E-3,0.42259149241587002,1.0142195817980899,1,"RSL, nov/2022"]
["7440-24-6","Strontium, Stable",87.62,"PHYSPROP","","","",2.6,"CRC","","","","","","","","",777,"PHYSPROP",1E-3,"RAGSE",35,"BAES","","","","","","","","","",3.6002136688699999E-3,0.32547733370361998,0.7811456008887,1,"RSL, nov/2022"]
["7440-28-0","Thallium (Soluble Salts)",204.38,"EPI","","","",12,"CRC","","","","","","","","",303.5,"PHYSPROP",1E-3,"RAGSE",51,"SSL (pH 5,5)","","","","","","",3,3,"Bockting e Van den Berg, 1992 apud Berg et al., 1994 - RIVM 725201011",5.4985205110700004E-3,1.46681975246134,3.5203674059072099,1,"RSL, nov/2022"]
["7440-31-5","Tin",118.71000000000001,"CRC","","","",7.3,"CRC","","","","","","","","",13.200000000000001,"CRC",1E-3,"RAGSE",250,"BAES","","","","",0,"NIOSH",1.4999999999999999E-2,0.03,"Bockting e Van den Berg, 1992 apud Kreule e Swartjes, 1998 -  RIVM 711701005",4.1905430301500003E-3,0.48598710903796999,1.16636906169113,1,"RSL, nov/2022"]
["7440-33-7","Tungsten",183.85,"PHYSPROP","","","",19,"CRC","","","","","","","","",3410,"PHYSPROP",1E-3,"RAGSE",150,"BAES","","","","",0,"NIOSH","","","",5.2150499098399996E-3,1.1256639288018799,2.7015934291244998,1,"RSL, nov/2022"]
["7440-36-0","Antimony (metallic)",121.76,"CRC","","","",6.7,"CRC","","","","","","","","",630,"PHYSPROP",1E-3,"RAGSE",45,"SSL","","","","",0,"NIOSH",0.6,0.9,"Van den Berg et al., 1994 - RIVM 715810004",4.2440351458899999E-3,0.50548089946876995,1.2131541587250401,1,"RSL, nov/2022"]
["7440-38-2","Arsenic, Inorganic",74.921999999999997,"CRC","","","",4.9000000000000004,"CRC","","","","","","","","",270,"CRC",1E-3,"RAGSE",26,"SSL (pH 5,5)","","","","","","",1.4999999999999999E-2,0.03,"Bockting e Van den Berg, 1992 apud Otte et al., 2001 - RIVM 711701 021",3.32913443626E-3,0.27631976420125998,0.66316743408303003,1,"RSL, nov/2022"]
["7440-39-3","Barium",137.33000000000001,"EPI","","","",3.6,"CRC","","","","","","","","",710,"PHYSPROP",1E-3,"RAGSE",21,"SSL (pH 5,5)","","","","","","",5.0000000000000001E-3,3.6999999999999998E-2,"Bockting e Van den Berg, 1992 apud Otte et al., 2001 - RIVM 711701 021/ Brand et al. RIVM 607711006/2012",4.5072262820299996E-3,0.61786948865683999,1.4828867727764099,1,"RSL, nov/2022"]
["7440-41-7","Beryllium and compounds",9.01,"EPI","","","",1.9,"CRC","","","","","","","","",986,"PHYSPROP",1E-3,"RAGSE",42,"SSL (pH 5,5)","","","","",0,"NIOSH",5.0000000000000001E-3,0.01,"Van den Berg et al., 1994 - RIVM 715810004",1.1544870015200001E-3,0.11811491713783,0.28347580113079002,1,"RSL, nov/2022"]
["7440-42-8","Boron And Borates Only",13.84,"EPI","","","",2.2999999999999998,"CRC","","","","","","","","",2075,"CRC",1E-3,"RAGSE",3,"BAES","","","","","","",0.6,2.1,"Van den Berg et al., 1994 - RIVM 715810004",1.4308519413600001E-3,0.12570505708895999,0.30169213701350001,1,"RSL, nov/2022"]
["7440-43-9-A","Cadmium (Diet)",112.4,"PHYSPROP","","","",8.6999999999999993,"CRC","","","","","","","","",321,"PHYSPROP",1E-3,"RAGSE",223,"Soares, M.R., 2004.Coeficiente de distribuição de metais pesados em solo de São Paulo.Piracicaba,SP.Tese.Usp,SP","","","","",0,"NIOSH",0.159,0.37,"Swartjes et al., 2007 - RIVM 711701040/2007",4.0776487017499998E-3,0.44801107455104,1.07522657892249,1,"RSL, nov/2022"]
["7440-43-9-B","Cadmium (Water)",112.4,"PHYSPROP","","","",8.6999999999999993,"CRC","","","","","","","","",321,"PHYSPROP",1E-3,"RAGSE",223,"Soares, M.R., 2004.Coeficiente de distribuição de metais pesados em solo de São Paulo.Piracicaba,SP.Tese.Usp,SP","","","","",0,"NIOSH",0.159,0.37,"Swartjes et al., 2007 - RIVM 711701040/2007",4.0776487017499998E-3,0.44801107455104,1.07522657892249,1,"RSL, nov/2022"]
["7440-47-3","Chromium, Total",51.996000000000002,"PHYSPROP","","","",7.2,"CRC","","","","","","","","",1900,"PHYSPROP",1E-3,"RAGSE",21000,"SSL (pH 5,5)","","","","","","",2E-3,0.02,"Bockting e Van den Berg, 1992 apud Otte et al., 2001 - RIVM 711701 025",2.7733943059600002E-3,0.20560153352432001,0.49344368045836001,1,"RSL, nov/2022"]
["7440-48-4","Cobalt",58.93,"EPI","","","",8.9,"CRC","","","","","","","","",1495,"CRC",4.0000000000000002E-4,"RAGSE",85,"Soares, M.R., 2004.Coeficiente de distribuição de metais pesados em solo de São Paulo.Piracicaba,SP.Tese.Usp,SP","","","","",0,"NIOSH",1.4999999999999999E-2,0.03,"Bockting e Van den Berg, 1992 apud Otte et al., 2001 - RIVM 711701 025",1.1810135051799999E-3,0.22483128860585,0.53959509265405003,1,"RSL, nov/2022"]
["7440-50-8","Copper",63.545999999999999,"PHYSPROP","","","",9,"CRC","","","","","","","","",1083,"PHYSPROP",1E-3,"RAGSE",813,"Soares, M.R., 2004.Coeficiente de distribuição de metais pesados em solo de São Paulo.Piracicaba,SP.Tese.Usp,SP","","","","",0,"NIOSH",0.1,0.1,"Bockting e Van den Berg, 1992 apud Otte et al., 2001 - RIVM 711701 025",3.0659901920899999E-3,0.23861972980983001,0.57268735154359995,1,"RSL, nov/2022"]
["7440-61-1","Uranium",238.03,"CRC","","","",19,"CRC","","","","","","","","",1132.3,"CRC",1E-3,"RAGSE",450,"BAES","","","","",0,"NIOSH","","","",5.9339311136499999E-3,2.2636889434015099,5.4328534641636201,1,"RSL, nov/2022"]
["7440-62-2","Vanadium and Compounds",50.94,"EPI","","","",6,"CRC","","","","","","","","",1910,"CRC",1E-3,"RAGSE",1000,"SSL","","","","","","","","","",2.7450870584699999E-3,0.20282092058974999,0.48677020941540999,1,"RSL, nov/2022"]
["7440-66-6","Zinc and Compounds",65.37,"PHYSPROP","","","",7.1,"CRC","","","","","","","","",419.5,"PHYSPROP",5.9999999999999995E-4,"RAGSE",138,"Soares, M.R., 2004.Coeficiente de distribuição de metais pesados em solo de São Paulo.Piracicaba,SP.Tese.Usp,SP","","","","","","",0.1,0.4,"Bockting e Van den Berg, 1992 apud Otte et al., 2001 - RIVM 711701 025",1.8658088336000001E-3,0.24429847143290001,0.58631633143895001,1,"RSL, nov/2022"]
["7440-67-7","Zirconium",91.22,"EPI","","","",6.5,"CRC","","","","","","","","",1854.7,"CRC",1E-3,"RAGSE",3000,"BAES","","","","",0,"NIOSH","","","",3.6734293024700002E-3,0.34094219247518998,0.81826126194045001,1,"RSL, nov/2022"]
["7446-11-9","Sulfur Trioxide",80.061999999999998,"PHYSPROP","","","",1.9,"CRC",0.12078220754305,"WATER9 (U.S. EPA, 2001)",1.6086620499999999E-5,"WATER9 (U.S. EPA, 2001)","","","","",16.8,"PHYSPROP",1E-3,"RAGSE","","","","","","",263.10000000000002,"PHYSPROP","","","",3.4414373631200001E-3,0.29525410851602002,0.70860986043843999,1,"RSL, nov/2022"]
["7446-18-6","Thallium Sulfate",504.8,"PHYSPROP","","","",6.8,"CRC","","","","","","",54700,"CRC",632,"PHYSPROP",1E-3,"RAGSE","","","","","","","","",3,3,"Bockting e Van den Berg, 1992 apud Berg et al., 1994 - RIVM 725201011",8.6414441046099993E-3,70.587654223775303,169.41037013706099,0.9,"RSL, nov/2022"]
["7446-27-7","Lead Phosphate",811.51,"PHYSPROP","","","",7,"CRC","","","","","","",0,"CRC",1014,"PHYSPROP",1E-3,"RAGSE","","","","","","","","","","","",1.0956544071379999E-2,3683.8738478729001,8841.2972348949606,0.8,"RSL, nov/2022"]
["7446-34-6","Selenium Sulfide",111.02,"EPI","","","","","","","","","","","","","","","",1E-3,"RAGSE","","","","","","","","","","","",4.0525395646500003E-3,0.44010950655919001,1.0562628157420499,1,"RSL, nov/2022"]
["74472-37-0","Pentachlorobiphenyl, 2,3,4,4',5- (PCB 114)",326.44,"PHYSPROP",3.7775960752200002E-3,9.2399999999999996E-5,"PHYSPROP",1.5,"LookChem",4.6705452982670002E-2,"WATER9 (U.S. EPA, 2001)",6.0595244406700004E-6,"WATER9 (U.S. EPA, 2001)",130500,"EPI",1.5980000000000001E-2,"PHYSPROP",98,"PHYSPROP",1,"EPI","","","","",6.98,"PHYSPROP",5.4700000000000001E-6,"PHYSPROP","","","",6.9490964037349796,7.0780357134763596,31.578828198548599,0.4,"RSL, nov/2022"]
["74612-12-7","Methylbenzene,1-4-diamine monohydrochloride, 2-",158.62863999999999,"PubChem","","","","","",6.4838436486839998E-2,"WATER9 (U.S. EPA, 2001)",7.5758594210899996E-6,"WATER9 (U.S. EPA, 2001)","","","","","","","","","","","","","","","","","","","","",0.81314713022142004,1.9515531125314001,0,"RSL, nov/2022"]
["7487-94-7","Mercuric Chloride (and other Mercury salts)",271.5,"PHYSPROP","","","",5.6,"CRC","","","","","","",69000,"PHYSPROP",277,"PHYSPROP",1E-3,"RAGSE","","","","",-0.22,"PHYSPROP","","","","","",6.3374065589600001E-3,3.4853688835921401,8.3648853206211395,1,"RSL, nov/2022"]
["75-00-3","Ethyl Chloride (Chloroethane)",64.515000000000001,"PHYSPROP",0.45380212591987001,1.11E-2,"PHYSPROP",0.89,"CRC",0.10375966598687,"WATER9 (U.S. EPA, 2001)",1.161897734E-5,"WATER9 (U.S. EPA, 2001)",21.73,"EPI",6710,"PHYSPROP",-138.69999999999999,"PHYSPROP",6.0699999999999999E-3,"EPI","","",0.15340000000000001,"Handbook of Environmental Degradation Rates. Lewis. Publishers, Chelsea, MI, 1989",1.43,"PHYSPROP",1008,"PHYSPROP","","","",1.8751917943330001E-2,0.24161992746596,0.57988782591830002,1,"RSL, nov/2022"]
["75-01-4","Vinyl Chloride",62.499000000000002,"PHYSPROP",1.1365494685200299,2.7799999999999998E-2,"PHYSPROP",0.91,"CRC",0.10712015187484999,"WATER9 (U.S. EPA, 2001)",1.2004512220000001E-5,"WATER9 (U.S. EPA, 2001)",21.73,"EPI",8800,"PHYSPROP",-153.69999999999999,"PHYSPROP",8.3800000000000003E-3,"EPI","","",7.8766999999999996,"Handbook of Environmental Degradation Rates. Lewis. Publishers, Chelsea, MI, 1989",1.3800000000000001,"CRC",2980,"EPI","","","",2.548045653103E-2,0.23541988846799999,0.56500773232319002,1,"RSL, nov/2022"]
["75-05-8","Acetonitrile",41.052999999999997,"PHYSPROP",1.4104660670500001E-3,3.4499999999999998E-5,"PHYSPROP",0.79,"CRC",0.13399392452093001,"WATER9 (U.S. EPA, 2001)",1.413900617E-5,"WATER9 (U.S. EPA, 2001)",4.67,"EPI",1000000,"PHYSPROP",-43.800000000000004,"PHYSPROP",5.4799999999999998E-4,"EPI","","",0.98629999999999995,"Handbook of Environmental Degradation Rates. Lewis. Publishers, Chelsea, MI, 1989",-0.34,"PHYSPROP",88.8,"PHYSPROP","","","",1.35045357885E-3,0.17854411896729,0.42850588552149999,1,"RSL, nov/2022"]
["75-07-0","Acetaldehyde",44.054000000000002,"PHYSPROP",2.72690106296E-3,6.6699999999999995E-5,"PHYSPROP",0.78,"CRC",0.12770256772378,"WATER9 (U.S. EPA, 2001)",1.3529155969999999E-5,"WATER9 (U.S. EPA, 2001)",1,"EPI",1000000,"PHYSPROP",-123.37,"PHYSPROP",5.2700000000000002E-4,"EPI","","","","",-0.34,"PHYSPROP",902,"PHYSPROP","","","",1.34533345144E-3,0.18558853759571001,0.44541249022968998,1,"RSL, nov/2022"]
["75-09-2","Methylene Chloride",84.933000000000007,"PHYSPROP",0.13286999182338999,3.2499999999999999E-3,"PHYSPROP",1.3,"CRC",9.9936173679349996E-2,"WATER9 (U.S. EPA, 2001)",1.251612491E-5,"WATER9 (U.S. EPA, 2001)",21.73,"EPI",13000,"PHYSPROP",-95.100000000000009,"PHYSPROP",3.5400000000000002E-3,"EPI","","",0.15340000000000001,"Handbook of Environmental Degradation Rates. Lewis. Publishers, Chelsea, MI, 1989",1.25,"PHYSPROP",435,"PHYSPROP","","","",1.254781613522E-2,0.31439349353999002,0.75454438449597006,1,"RSL, nov/2022"]
["75-15-0","Carbon Disulfide",76.138999999999996,"PHYSPROP",0.58871627146361005,1.44E-2,"PHYSPROP",1.3,"CRC",0.10643732214763001,"WATER9 (U.S. EPA, 2001)",1.297749113E-5,"WATER9 (U.S. EPA, 2001)",21.73,"EPI",2160,"PHYSPROP",-111.5,"PHYSPROP",1.14E-2,"EPI","","","","",1.94,"PHYSPROP",359,"PHYSPROP","","","",3.8259129784069999E-2,0.28069013514085001,0.67365632433805001,1,"RSL, nov/2022"]
["75-21-8","Ethylene Oxide",44.054000000000002,"PHYSPROP",6.0506950122600003E-3,1.4799999999999999E-4,"PHYSPROP",0.88,"CRC",0.1339637663264,"WATER9 (U.S. EPA, 2001)",1.4527512449999999E-5,"WATER9 (U.S. EPA, 2001)",3.2370000000000001,"EPI",1000000,"PHYSPROP",-111.7,"PHYSPROP",5.5999999999999995E-4,"EPI","","",3.2530000000000003E-2,"Handbook of Environmental Degradation Rates. Lewis. Publishers, Chelsea, MI, 1989",-0.3,"PHYSPROP",1314,"PHYSPROP","","","",1.4295763430900001E-3,0.18558853759571001,0.44541249022968998,1,"RSL, nov/2022"]
["75-25-2","Bromoform",252.73000000000002,"PHYSPROP",2.187244480785E-2,5.3499999999999999E-4,"PHYSPROP",2.9,"CRC",3.5732406462540001E-2,"WATER9 (U.S. EPA, 2001)",1.035629921E-5,"WATER9 (U.S. EPA, 2001)",31.82,"EPI",3100,"PHYSPROP",8,"PHYSPROP",2.3500000000000001E-3,"EPI","","",0.98629999999999995,"Handbook of Environmental Degradation Rates. Lewis. Publishers, Chelsea, MI, 1989",2.4,"PHYSPROP",5.4,"EPI","","","",1.4368879839439999E-2,2.7361301368477902,6.5667123284346998,1,"RSL, nov/2022"]
["75-27-4","Bromodichloromethane",163.83000000000001,"PHYSPROP",8.6672117743249996E-2,2.1199999999999999E-3,"PHYSPROP",2,"CRC",5.6262890151910001E-2,"WATER9 (U.S. EPA, 2001)",1.0730867369999999E-5,"WATER9 (U.S. EPA, 2001)",31.82,"EPI",3032,"PHYSPROP",-57,"PHYSPROP",4.0200000000000001E-3,"EPI","","","","",2,"PHYSPROP",50,"PHYSPROP","","","",1.9790165255210001E-2,0.86955438523746997,2.0869305245699201,1,"RSL, nov/2022"]
["75-34-3","Dichloroethane, 1,1-",98.960000000000008,"PHYSPROP",0.22976287816843999,5.62E-3,"PHYSPROP",1.2,"CRC",8.3644611321010004E-2,"WATER9 (U.S. EPA, 2001)",1.0621206939999999E-5,"WATER9 (U.S. EPA, 2001)",31.82,"EPI",5040,"PHYSPROP",-96.9,"PHYSPROP",6.7499999999999999E-3,"EPI","","",0.98629999999999995,"Handbook of Environmental Degradation Rates. Lewis. Publishers, Chelsea, MI, 1989",1.79,"PHYSPROP",227.3,"PHYSPROP","","","",2.582618562439E-2,0.37672526722851002,0.90414064134842997,1,"RSL, nov/2022"]
["75-35-4","Dichloroethylene, 1,1-",96.944000000000003,"PHYSPROP",1.0670482420278,2.6100000000000002E-2,"PHYSPROP",1.2,"CRC",8.6310687359099997E-2,"WATER9 (U.S. EPA, 2001)",1.095659708E-5,"WATER9 (U.S. EPA, 2001)",31.82,"EPI",2420,"PHYSPROP",-122.5,"PHYSPROP",1.17E-2,"EPI","","",0.36159999999999998,"Handbook of Environmental Degradation Rates. Lewis. Publishers, Chelsea, MI, 1989",2.13,"PHYSPROP",600,"PHYSPROP","","","",4.4307064899399999E-2,0.36705838514296002,0.88094012434309998,1,"RSL, nov/2022"]
["75-37-6","Difluoroethane, 1,1-",66.051000000000002,"PHYSPROP",0.82992641046606996,2.0299999999999999E-2,"PHYSPROP",0.9,"CRC",0.10231447051697,"WATER9 (U.S. EPA, 2001)",1.1500823520000001E-5,"WATER9 (U.S. EPA, 2001)",31.82,"EPI",3200,"PHYSPROP",-117,"PHYSPROP",2.0999999999999999E-3,"EPI","","","","",0.75,"PHYSPROP",4550,"PHYSPROP","","","",6.56425804854E-3,0.24645313650952,0.59148752762283996,1,"RSL, nov/2022"]
["75-44-5","Phosgene",98.917000000000002,"PHYSPROP",0.68274734260016001,1.67E-2,"PHYSPROP",1.4,"CRC",8.9328226972470004E-2,"WATER9 (U.S. EPA, 2001)",1.165474252E-5,"WATER9 (U.S. EPA, 2001)",1,"EPI",6825.5,"YAWS",-118,"PHYSPROP",1.47E-4,"EPI","","",1.142E-4,"Handbook of Environmental Degradation Rates. Lewis. Publishers, Chelsea, MI, 1989",-0.71,"PHYSPROP",1418,"PHYSPROP","","","",5.6231472333000002E-4,0.37651644509602,0.90363946823045005,1,"RSL, nov/2022"]
["75-45-6","Chlorodifluoromethane",86.468999999999994,"PHYSPROP",1.6598528209321299,4.0599999999999997E-2,"PHYSPROP",1.5,"CRC",0.10337879493502999,"WATER9 (U.S. EPA, 2001)",1.328081168E-5,"WATER9 (U.S. EPA, 2001)",31.82,"EPI",2770,"PHYSPROP",-157.4,"PHYSPROP",2.6800000000000001E-3,"EPI","","","","",1.08,"PHYSPROP",7252,"PHYSPROP","","","",9.5849900037899994E-3,0.32068241801799002,0.76963780324317999,1,"RSL, nov/2022"]
["75-52-5","Nitromethane",61.040999999999997,"PHYSPROP",1.16925592805E-3,2.8600000000000001E-5,"PHYSPROP",1.1000000000000001,"CRC",0.11928374653942,"WATER9 (U.S. EPA, 2001)",1.3911628880000001E-5,"WATER9 (U.S. EPA, 2001)",10.32,"EPI",111000,"PHYSPROP",-28.5,"PHYSPROP",4.17E-4,"EPI","","","","",-0.35000000000000003,"PHYSPROP",35.840000000000003,"PHYSPROP","","","",1.2530647901000001E-3,0.23103530456516999,0.55448473095641004,1,"RSL, nov/2022"]
["75-56-9","Propylene Oxide",58.081000000000003,"PHYSPROP",2.8454619787400002E-3,6.9599999999999998E-5,"EPI",0.83,"PERRY",0.1085105424214,"WATER9 (U.S. EPA, 2001)",1.187440712E-5,"WATER9 (U.S. EPA, 2001)",5.194,"EPI",590000,"PHYSPROP",-111.9,"PHYSPROP",7.7399999999999995E-4,"EPI","","","","",0.03,"PHYSPROP",538,"PHYSPROP","","","",2.2687396194700001E-3,0.22238339169509,0.53372014006821,1,"RSL, nov/2022"]
["75-60-5","Cacodylic Acid",138,"PHYSPROP",7.3589533933000004E-13,1.7999999999999999E-14,"PHYSPROP","","",7.1148794054279998E-2,"WATER9 (U.S. EPA, 2001)",8.3131748842400003E-6,"WATER9 (U.S. EPA, 2001)",43.89,"EPI",2000000,"PHYSPROP",195,"PHYSPROP",4.6000000000000001E-4,"EPI","","","","",0.36,"PHYSPROP",9.9999999999999995E-8,"PHYSPROP","","","",2.07837556048E-3,0.62323057273858995,1.4957533745726099,1,"RSL, nov/2022"]
["75-65-0","Butyl Alcohol, t-",74.123999999999995,"PHYSPROP",3.6999182339000002E-4,9.0499999999999997E-6,"PHYSPROP",0.79,"CRC",8.9030987241509998E-2,"WATER9 (U.S. EPA, 2001)",9.9413088784600001E-6,"WATER9 (U.S. EPA, 2001)",2.1110000000000002,"EPI",1000000,"PHYSPROP",25.400000000000002,"PHYSPROP",1.0300000000000001E-3,"EPI","","","","",0.35000000000000003,"PHYSPROP",40.700000000000003,"PHYSPROP","","","",3.4106982661499998E-3,0.27349106952802998,0.65637856686726004,1,"RSL, nov/2022"]
["75-68-3","Chloro-1,1-difluoroethane, 1-",100.5,"PHYSPROP",2.4039247751430901,5.8799999999999998E-2,"PHYSPROP",1.1000000000000001,"CRC",8.0392453499910005E-2,"WATER9 (U.S. EPA, 2001)",1.014987531E-5,"WATER9 (U.S. EPA, 2001)",43.89,"EPI",1400,"PHYSPROP",-130.80000000000001,"PHYSPROP",9.8899999999999995E-3,"EPI","","","","",2.0499999999999998,"PHYSPROP",2544,"PHYSPROP","","","",3.8133439118369999E-2,0.38428085615787999,0.92227405477891,1,"RSL, nov/2022"]
["75-69-4","Trichlorofluoromethane",137.37,"PHYSPROP",3.96565821749796,9.7000000000000003E-2,"PHYSPROP",1.5,"CRC",6.5355970052699996E-2,"WATER9 (U.S. EPA, 2001)",1.0048028980000001E-5,"WATER9 (U.S. EPA, 2001)",43.89,"EPI",1100,"PHYSPROP",-111.10000000000001,"PHYSPROP",1.2699999999999999E-2,"EPI","","",2,"Handbook of Environmental Degradation Rates. Lewis. Publishers, Chelsea, MI, 1989",2.5299999999999998,"PHYSPROP",802.80000000000007,"PHYSPROP","","","",5.7250109557790002E-2,0.61818825500084995,1.4836518120020299,1,"RSL, nov/2022"]
["75-71-8","Dichlorodifluoromethane",120.91,"PHYSPROP",14.022894521668,0.34300000000000003,"PHYSPROP",1.5,"PERRY",7.6029265276299995E-2,"WATER9 (U.S. EPA, 2001)",1.0839412020000001E-5,"WATER9 (U.S. EPA, 2001)",43.89,"EPI",280,"PHYSPROP",-158,"PHYSPROP",8.9499999999999996E-3,"EPI","","",0.98629999999999995,"Handbook of Environmental Degradation Rates. Lewis. Publishers, Chelsea, MI, 1989",2.16,"PHYSPROP",4848,"PHYSPROP","","","",3.7851299827990001E-2,0.49997092527485998,1.19993022065967,1,"RSL, nov/2022"]
["75-85-4","Amyl Alcohol, tert-",88.150999999999996,"PHYSPROP",5.6418642681999997E-4,1.38E-5,"PHYSPROP",0.81,"CRC",7.8544700905240003E-2,"WATER9 (U.S. EPA, 2001)",9.1011804495899999E-6,"WATER9 (U.S. EPA, 2001)",4.1379999999999999,"EPI",110000,"PHYSPROP",-9.1,"PHYSPROP",1.9599999999999999E-3,"EPI","","","","",0.89,"PHYSPROP",16.7,"PHYSPROP","","","",7.0777683608900001E-3,0.32771351306433,0.78651243135438997,1,"RSL, nov/2022"]
["75-86-5","Acetone Cyanohydrin",85.105999999999995,"PHYSPROP",8.0539656582199998E-8,1.97E-9,"PHYSPROP",0.93,"CRC",8.5949080037279996E-2,"WATER9 (U.S. EPA, 2001)",1.0114518460000001E-5,"WATER9 (U.S. EPA, 2001)",1,"EPI",1000000,"PHYSPROP",-19,"PHYSPROP",4.95E-4,"EPI","","","","",-0.03,"PHYSPROP",0.34100000000000003,"PHYSPROP","","","",1.7563535403999999E-3,0.31509560790477997,0.75622945897145999,1,"RSL, nov/2022"]
["75-99-0","Dalapon",142.97,"PHYSPROP",2.3139820114500001E-6,5.6599999999999997E-8,"EPI",1.4,"CRC",6.0081261370549997E-2,"WATER9 (U.S. EPA, 2001)",9.4133925287300005E-6,"WATER9 (U.S. EPA, 2001)",3.2309999999999999,"EPI",502000,"PHYSPROP",-5,"PHYSPROP",8.1499999999999997E-4,"EPI","","",0.32879999999999998,"Handbook of Environmental Degradation Rates. Lewis. Publishers, Chelsea, MI, 1989",0.78,"PHYSPROP",0.151,"EPI","","","",3.7480615946699999E-3,0.66447821882841995,1.5947477251882101,1,"RSL, nov/2022"]
["7550-45-0","Titanium Tetrachloride",189.679,"CRC","","","",1.7,"CRC",3.7971613154699997E-2,"WATER9 (U.S. EPA, 2001)",9.0633318675000008E-6,"WATER9 (U.S. EPA, 2001)","","","","",-24.12,"CRC",1E-3,"RAGSE","","","","","","",10,"ATSDR Profile","","","",5.2970768984999996E-3,1.21353176738375,2.9124762417209999,1,"RSL, nov/2022"]
["7553-56-2","Iodine",253.81,"PHYSPROP","","","",4.9000000000000004,"CRC","","","","","","",330,"PHYSPROP",113.60000000000001,"PHYSPROP",1E-3,"RAGSE",60,"BAES","","",2.4900000000000002,"PHYSPROP",0.23300000000000001,"PHYSPROP","","","",6.1274675020099997E-3,2.7745001307486001,6.6588003137966396,1,"RSL, nov/2022"]
["756-79-6","Dimethyl methylphosphonate",124.08,"PHYSPROP",5.5600981193800001E-6,1.36E-7,"PHYSPROP",1.2,"CRC",6.6579624336659995E-2,"WATER9 (U.S. EPA, 2001)",9.2385886322500003E-6,"WATER9 (U.S. EPA, 2001)",5.407,"EPI",1000000,"PHYSPROP",-48.25,"EPI",1.2400000000000001E-4,"EPI","","","","",-0.61,"PHYSPROP",0.83299999999999996,"PHYSPROP","","","",5.3125035050000005E-4,0.5208309088127,1.24999418115048,1,"RSL, nov/2022"]
["759-73-9","Nitroso-N-ethylurea, N-",117.11,"PHYSPROP",5.3965658217500004E-9,1.3200000000000001E-10,"PHYSPROP","","",7.9376317522609999E-2,"WATER9 (U.S. EPA, 2001)",9.2744960473800006E-6,"WATER9 (U.S. EPA, 2001)",20.98,"EPI",13000,"PHYSPROP",99,"EPI",4.8999999999999998E-4,"EPI","","",3.9950000000000001E-4,"Handbook of Environmental Degradation Rates. Lewis. Publishers, Chelsea, MI, 1989",0.23,"PHYSPROP",1.83E-2,"PHYSPROP","","","",2.0394812761399999E-3,0.47606335137630001,1.14255204330311,1,"RSL, nov/2022"]
["759-94-4","EPTC",189.32,"PHYSPROP",6.5004088306999999E-4,1.59E-5,"EPI",0.96,"CRC",2.912620987223E-2,"WATER9 (U.S. EPA, 2001)",6.35106755259E-6,"WATER9 (U.S. EPA, 2001)",164.1,"EPI",375,"PHYSPROP",60.53,"EPI",1.84E-2,"EPI","","","","",3.21,"PHYSPROP",2.4E-2,"PHYSPROP","","","",9.7373935494100006E-2,1.2079271689426501,2.8990252054623502,1,"RSL, nov/2022"]
["76-01-7","Pentachloroethane",202.3,"PHYSPROP",7.9313164349959997E-2,1.9400000000000001E-3,"EPI",1.7,"CRC",3.1516669035570002E-2,"WATER9 (U.S. EPA, 2001)",8.5663884011900001E-6,"WATER9 (U.S. EPA, 2001)",136.19999999999999,"EPI",490,"PHYSPROP",-28.78,"PHYSPROP",1.5800000000000002E-2,"EPI","","","","",3.22,"PHYSPROP",3.5,"PHYSPROP","","","",8.6433416587330003E-2,1.42800178272608,3.4272042785425798,1,"RSL, nov/2022"]
["76-03-9","Trichloroacetic Acid",163.38999999999999,"PHYSPROP",5.5192150449700001E-7,1.35E-8,"PHYSPROP",1.6,"CRC",5.1748813278470002E-2,"WATER9 (U.S. EPA, 2001)",9.5028195213799992E-6,"WATER9 (U.S. EPA, 2001)",3.2309999999999999,"EPI",54600,"PHYSPROP",57.5,"PHYSPROP",1.4499999999999999E-3,"EPI","","","","",1.33,"PHYSPROP",0.06,"EPI","","","",7.1286516127899999E-3,0.86463487663544003,2.0751237039250499,1,"RSL, nov/2022"]
["76-06-2","Chloropicrin",164.38,"PHYSPROP",8.3810302534749997E-2,2.0500000000000002E-3,"PHYSPROP",1.7,"CRC",5.1763701953169997E-2,"WATER9 (U.S. EPA, 2001)",9.6198236986200002E-6,"WATER9 (U.S. EPA, 2001)",44.19,"EPI",1620,"PHYSPROP",-64,"PHYSPROP",4.5900000000000003E-3,"EPI","","","","",2.09,"PHYSPROP",24,"PHYSPROP","","","",2.2634131025469999E-2,0.87574315127758995,2.1017835630662098,1,"RSL, nov/2022"]
["76-13-1","Trichloro-1,2,2-trifluoroethane, 1,1,2-",187.38,"PHYSPROP",21.504497138184799,0.52600000000000002,"EPI",1.6,"CRC",3.7565816171520001E-2,"WATER9 (U.S. EPA, 2001)",8.5920453798899992E-6,"WATER9 (U.S. EPA, 2001)",196.8,"EPI",170,"PHYSPROP",-35,"PHYSPROP",1.7500000000000002E-2,"EPI","","",2,"Handbook of Environmental Degradation Rates. Lewis. Publishers, Chelsea, MI, 1989",3.16,"PHYSPROP",362.5,"PHYSPROP","","","",9.2135355952899997E-2,1.1780853343537501,2.8274048024490002,1,"RSL, nov/2022"]
["76-44-8","Heptachlor",373.32,"PHYSPROP",1.201962387572E-2,2.9399999999999999E-4,"PHYSPROP",1.6,"CRC",2.2344145812679999E-2,"WATER9 (U.S. EPA, 2001)",5.6959059373100003E-6,"WATER9 (U.S. EPA, 2001)",41260,"EPI",0.18,"PHYSPROP",95.5,"PHYSPROP",0.14299999999999999,"EPI","","",1.477E-2,"Handbook of Environmental Degradation Rates. Lewis. Publishers, Chelsea, MI, 1989",6.1000000000000005,"PHYSPROP",4.0000000000000002E-4,"PHYSPROP","","","",1.06268198441491,12.9550994026929,50.142248344350897,0.8,"RSL, nov/2022"]
["7601-89-0","Sodium Perchlorate",122.44,"PHYSPROP","","","",2.5,"CRC","","","","","","",2100000,"PHYSPROP",480,"EPI",1E-3,"RAGSE","","","","","","","","","","","",4.2558695980400001E-3,0.50993256748455995,1.2238381619629399,1,"RSL, nov/2022"]
["7631-86-9","Silica (crystalline, respirable)",60.08,"EPI","","","",2.2999999999999998,"PERRY","","","","","","","","",1710,"PERRY",1E-3,"RAGSE","","","","","","","","","","","",2.98120344232E-3,0.22819007422213999,0.54765617813314005,1,"RSL, nov/2022"]
["7637-07-2","Boron Trifluoride",67.805999999999997,"PHYSPROP","","","",2.8,"CRC",0.1563359188673,"WATER9 (U.S. EPA, 2001)",2.2293151139999999E-5,"WATER9 (U.S. EPA, 2001)","","",3320000,"PHYSPROP",-126.8,"PHYSPROP",1E-3,"RAGSE","","","","",0.22,"PHYSPROP",36555,"PHYSPROP","","","",3.16709225833E-3,0.25209390730280001,0.60502537752672003,1,"RSL, nov/2022"]
["764-41-0","Dichloro-2-butene, 1,4-",125,"PHYSPROP",0.34791496320523002,8.5100000000000002E-3,"PHYSPROP",1.2,"LANGE",6.6504724839259996E-2,"WATER9 (U.S. EPA, 2001)",9.2899981635400007E-6,"WATER9 (U.S. EPA, 2001)",131.5,"EPI",580,"PHYSPROP",3.5,"PHYSPROP",1.66E-2,"EPI","","","","",2.6,"PHYSPROP",3,"EPI","","","",7.1382170050950003E-2,0.52704627669473003,1.26491106406735,1,"RSL, nov/2022"]
["7647-01-0","Hydrogen Chloride",35.450000000000003,"EPI",2E-8,4.8999999999999996E-10,"HSDB",1.5,"CRC",0.1879912254345,"WATER9 (U.S. EPA, 2001)",2.266803053E-5,"WATER9 (U.S. EPA, 2001)","","",673000,"HSDB",-114.17,"CRC",1E-3,"RAGSE","","","","","","",35424,"HSDB","","","",2.2899962533199998E-3,0.16609966235179999,0.39863918964431999,1,"RSL, nov/2022"]
["765-34-4","Glycidaldehyde",72.063999999999993,"PHYSPROP",2.089125102E-5,5.1099999999999996E-7,"PHYSPROP",1.1000000000000001,"CRC",0.10624690417936999,"WATER9 (U.S. EPA, 2001)",1.26139826E-5,"WATER9 (U.S. EPA, 2001)",1,"EPI",1000000,"PHYSPROP",-62,"PHYSPROP",5.1599999999999997E-4,"EPI","","",0.98629999999999995,"Handbook of Environmental Degradation Rates. Lewis. Publishers, Chelsea, MI, 1989",-0.12,"PHYSPROP",45.300000000000004,"PHYSPROP","","","",1.6847502748899999E-3,0.2663220650216,0.63917295605184998,1,"RSL, nov/2022"]
["76578-14-8","Quizalofop-ethyl",372.81,"PHYSPROP",4.3336058871599999E-7,1.0600000000000001E-8,"EPI","","",3.6679935691789997E-2,"WATER9 (U.S. EPA, 2001)",4.2857609071499997E-6,"WATER9 (U.S. EPA, 2001)",7736,"EPI",0.3,"PHYSPROP",92,"PHYSPROP",8.8599999999999998E-3,"EPI","","","","",4.28,"PHYSPROP",6.4899999999999997E-9,"PHYSPROP","","","",6.5796705772649997E-2,12.8701838141548,30.888441153971499,0.9,"RSL, nov/2022"]
["7664-38-2","Phosphoric Acid",97.995000000000005,"PHYSPROP","","","",1.8,"PERRY","","","","","","",5480000,"CRC",42.35,"PHYSPROP",1E-3,"RAGSE","","","","","","",0.03,"NIOSH","","","",3.8074009212500002E-3,0.37206665480577,0.89295997153383999,1,"RSL, nov/2022"]
["7664-39-3","Hydrogen Fluoride",20.006,"PHYSPROP",4.2518397383500004E-3,1.0399999999999999E-4,"PHYSPROP",0.82,"CRC",0.21909962798401,"WATER9 (U.S. EPA, 2001)",2.2296032820000001E-5,"WATER9 (U.S. EPA, 2001)","","",1000000,"PHYSPROP",-83.55,"PHYSPROP",1E-3,"RAGSE","","","","",0.23,"PHYSPROP",917.2,"PHYSPROP","","","",1.7203102788800001E-3,0.13610759170264,0.32665822008633,1,"RSL, nov/2022"]
["7664-41-7","Ammonia",17.030999999999999,"PHYSPROP",6.5821749795999995E-4,1.6099999999999998E-5,"PHYSPROP",0.7,"CRC",0.23054714356385,"WATER9 (U.S. EPA, 2001)",2.2289135579999999E-5,"WATER9 (U.S. EPA, 2001)","","",482000,"PHYSPROP",-77.7,"PHYSPROP",1E-3,"RAGSE","","","","",0.23,"PHYSPROP",7508,"PHYSPROP","","","",1.5872550829099999E-3,0.13098523681482999,0.31436456835558002,1,"RSL, nov/2022"]
["7664-93-9","Sulfuric Acid",98.078000000000003,"PHYSPROP","","","",1.8,"CRC","","","","","","",1000000,"PHYSPROP",10.31,"PHYSPROP",1E-3,"RAGSE","","","","","","",5.9330000000000003E-5,"PHYSPROP","","","",3.80901297998E-3,0.37246506916133998,0.89391616598721002,1,"RSL, nov/2022"]
["76738-62-0","Paclobutrazol",293.8,"PHYSPROP",3.38511856092E-9,8.2800000000000001E-11,"EPI",1.2,"CRC",2.2427541478410001E-2,"WATER9 (U.S. EPA, 2001)",5.6527085629799998E-6,"WATER9 (U.S. EPA, 2001)",922.9,"EPI",26,"PHYSPROP",165.5,"PHYSPROP",4.7099999999999998E-3,"EPI","","","","",3.2,"PHYSPROP",7.4999999999999993E-9,"PHYSPROP","","","",3.1050847257109999E-2,4.6465300441761999,11.1516721060229,0.9,"RSL, nov/2022"]
["7681-49-4","Sodium Fluoride",41.988,"PHYSPROP","","","",2.8,"CRC","","","","","","",42200,"PHYSPROP",993,"PHYSPROP",1E-3,"RAGSE",150,"BAES","","","","",0,"NIOSH","","","",2.4922364662200002E-3,0.18070973524181999,0.43370336458037001,1,"RSL, nov/2022"]
["77-47-4","Hexachlorocyclopentadiene",272.77,"PHYSPROP",1.1038430089942799,2.7E-2,"PHYSPROP",1.7,"CRC",2.7238182724500001E-2,"WATER9 (U.S. EPA, 2001)",7.2169589045999997E-6,"WATER9 (U.S. EPA, 2001)",1404,"EPI",1.8,"PHYSPROP",-9,"PHYSPROP",0.10299999999999999,"EPI","","",0.15340000000000001,"Handbook of Environmental Degradation Rates. Lewis. Publishers, Chelsea, MI, 1989",5.04,"PHYSPROP",0.06,"PHYSPROP","","","",0.65427779078521997,3.54291513503897,13.931294722020301,0.9,"RSL, nov/2022"]
["77-73-6","Dicyclopentadiene",132.21,"PHYSPROP",2.5551921504497099,6.25E-2,"PHYSPROP",0.93,"LANGE",5.5745477572459998E-2,"WATER9 (U.S. EPA, 2001)",7.7553777716799992E-6,"WATER9 (U.S. EPA, 2001)",1513,"EPI",26.47,"PHYSPROP",-1,"PHYSPROP",3.5999999999999997E-2,"EPI","","","","",3.16,"PHYSPROP",2.29,"EPI","","","",0.15920668714212,0.57839529249169996,1.38814870198009,1,"RSL, nov/2022"]
["77182-82-2","Glufosinate, Ammonium",198.16,"PHYSPROP",1.8070318888000001E-12,4.4199999999999997E-14,"PHYSPROP","","",5.589971648744E-2,"WATER9 (U.S. EPA, 2001)",6.5314405580099999E-6,"WATER9 (U.S. EPA, 2001)",10,"EPI",1370000,"PHYSPROP",215,"PHYSPROP",3.4200000000000002E-8,"EPI","","","","",-4.8099999999999996,"PHYSPROP",9.1199999999999999E-12,"PHYSPROP","","","",1.8516579105600001E-7,1.3537695756307799,3.2490469815138598,1,"RSL, nov/2022"]
["7723-14-0","Phosphorus, White",30.974,"YAWS",8.5999999999999993E-2,2.1099999999999999E-3,"ATSDR Profile",1.8,"ATSDR Profile",0.21936552744178001,"WATER9 (U.S. EPA, 2001)",2.7742487329999999E-5,"WATER9 (U.S. EPA, 2001)",1122,"ATSDR Profile",3,"ATSDR Profile",44.1,"ATSDR Profile",1E-3,"RAGSE",3.5,"BAES","","",3.08,"ATSDR Profile",2.5000000000000001E-2,"ATSDR Profile","","","",2.1405496169700001E-3,0.15678450876742001,0.37628282104180999,1,"RSL, nov/2022"]
["77501-63-4","Lactofen",461.78000000000003,"PHYSPROP",1.9296811119999999E-5,4.7199999999999999E-7,"EPI","","",3.1802665499969997E-2,"WATER9 (U.S. EPA, 2001)",3.7158903899999999E-6,"WATER9 (U.S. EPA, 2001)",23030,"EPI",0.1,"PHYSPROP",45,"PHYSPROP",6.3099999999999996E-3,"EPI","","","","",4.8099999999999996,"PHYSPROP",7.0000000000000005E-8,"PHYSPROP","","","",5.2152312573889997E-2,40.533746737697101,97.280992170472999,0.9,"RSL, nov/2022"]
["7758-19-2","Chlorite (Sodium Salt)",90.44,"EPI","","","","","","","","","","","",640000,"CRC",180,"CRC",1E-3,"RAGSE","","","","","","","","","","","",3.6576902855300002E-3,0.33753028772498,0.81007269053995001,1,"RSL, nov/2022"]
["7773-06-0","Ammonium Sulfamate",114.124,"CRC","","","",1.8,"PubChem","","","","","","",1340000,"PERRY",131,"CRC",1E-3,"RAGSE","","","","","","",0,"NIOSH","","","",4.1088013484100001E-3,0.45808191856281999,1.0993966045507699,1,"RSL, nov/2022"]
["7778-74-7","Potassium Perchlorate",138.55000000000001,"PHYSPROP","","","",2.5,"CRC","","","","","","",15000,"PHYSPROP",525,"PHYSPROP",2E-3,"RAGSE","","","","","","","","","","","",9.0544049236099995E-3,0.62766621042751003,1.50639890502603,1,"RSL, nov/2022"]
["7782-41-4","Fluorine (Soluble Fluoride)",37.997,"PHYSPROP","","","",1.6,"CRC","","","","","","",1.69,"PHYSPROP",-219.61,"PHYSPROP",1E-3,"RAGSE",150,"BAES","","","","","","","","","",2.3708348715500002E-3,0.17164531326564,0.41194875183752999,1,"RSL, nov/2022"]
["7782-49-2","Selenium",78.959999999999994,"PHYSPROP","","","",4.8,"CRC","","","","","","","","",221,"PHYSPROP",1E-3,"RAGSE",133.46,"Mouta, E.R.,2007. Adsorção e coeficientes de distribuição de selênio em solos do estado de São Paulo, Tese, Jaboticabal, SP.","","","","",1.42E-10,"EPI",0.2,0.37,"Kreule e Swartjes, 1998 - RIVM 711701005",3.4176707525400002E-3,0.29108829990245999,0.69861191976590997,1,"RSL, nov/2022"]
["7782-50-5","Chlorine",70.906000000000006,"PHYSPROP",0.47833100000000001,1.17E-2,"PHYSPROP",2.9,"CRC",0.15420876499097999,"WATER9 (U.S. EPA, 2001)",2.228980705E-5,"WATER9 (U.S. EPA, 2001)","","",6300,"PHYSPROP",-101,"PHYSPROP",1E-3,"RAGSE",0.25,"BAES","","",0.85,"PHYSPROP",5854,"PHYSPROP","","","",3.23868078922E-3,0.26237493839330001,0.62969985214391,1,"RSL, nov/2022"]
["7783-00-8","Selenious Acid",128.97,"PHYSPROP","","","",3,"CRC","","","","","","",900000,"PERRY",70,"EPI",1E-3,"RAGSE","","","","","","","","","","","",4.3678830532500003E-3,0.55472884569213998,1.33134922966113,1,"RSL, nov/2022"]
["7783-06-4","Hydrogen Sulfide",34.08,"PHYSPROP",0.34995900000000002,8.5599999999999999E-3,"PHYSPROP",1.4,"CRC",0.18806688009761999,"WATER9 (U.S. EPA, 2001)",2.2291281890000001E-5,"WATER9 (U.S. EPA, 2001)","","",3740,"PHYSPROP",-85.49,"PHYSPROP",1E-3,"RAGSE","","","","",0.23,"PhysProp",15640,"PHYSPROP","","","",2.2453106952800002E-3,0.16319120513652,0.39165889232764001,1,"RSL, nov/2022"]
["7784-42-1","Arsine",77.945999999999998,"PHYSPROP","","","",3.2,"CRC","","","","","","",200000,"PERRY",-117,"PHYSPROP",1E-3,"RAGSE","","","","","","","","","","","",3.3956550727000001E-3,0.28730709411576,0.68953702587782995,1,"RSL, nov/2022"]
["7790-98-9","Ammonium Perchlorate",117.49000000000001,"PHYSPROP","","","",2,"CRC","","","","","","",245000,"PHYSPROP","","",1E-3,"RAGSE","","","","","","","","","","","",4.1689540072800003E-3,0.47840173896024002,1.14816417350457,1,"RSL, nov/2022"]
["7791-03-9","Lithium Perchlorate",106.392,"CRC","","","",2.4,"CRC","","","","","","",587000,"CRC",236,"CRC",1E-3,"RAGSE","","","","","","","","","","","",3.9671729907400002E-3,0.41461398765875002,0.99507357038100996,1,"RSL, nov/2022"]
["7791-12-0","Thallium Chloride",239.82,"PHYSPROP","","","",7,"CRC",5.2455269907260002E-2,"WATER9 (U.S. EPA, 2001)",1.8212838069999999E-5,"WATER9 (U.S. EPA, 2001)","","",2900,"PHYSPROP",430,"PHYSPROP",1E-3,"RAGSE","","","","","","","","","","","",5.9562010846599999E-3,2.3165450459591699,5.5597081103020098,1,"RSL, nov/2022"]
["78-00-2","Tetraethyl Lead",323.44,"PHYSPROP",23.221586263287001,0.56799999999999995,"PHYSPROP",1.7,"CRC",2.4640050180560001E-2,"WATER9 (U.S. EPA, 2001)",6.4026424058199998E-6,"WATER9 (U.S. EPA, 2001)",647.9,"EPI",0.28999999999999998,"PHYSPROP",-134,"PHYSPROP",1.37E-2,"EPI","","",0.15340000000000001,"Handbook of Environmental Degradation Rates. Lewis. Publishers, Chelsea, MI, 1989",4.1500000000000004,"PHYSPROP",0.26,"PHYSPROP","","","",9.4764152586219993E-2,6.8094611997363597,16.342706879367299,0.9,"RSL, nov/2022"]
["78-11-5","Pentaerythritol tetranitrate (PETN)",316.14,"PHYSPROP",5.39656582175E-8,1.32E-9,"PHYSPROP",1.8,"CRC",2.575597654184E-2,"WATER9 (U.S. EPA, 2001)",6.7696987567500001E-6,"WATER9 (U.S. EPA, 2001)",647.9,"EPI",43,"PHYSPROP",140.5,"PHYSPROP",1.01E-3,"EPI","","","","",2.38,"PHYSPROP",5.45E-9,"EPI","","","",6.9069728724199999E-3,6.1977313850137996,14.8745553240331,1,"RSL, nov/2022"]
["78-42-2","Tris(2-ethylhexyl)phosphate",434.65000000000003,"PHYSPROP",3.2134096484099998E-6,7.8600000000000002E-8,"EPI",0.99,"CRC",1.6451123701110001E-2,"WATER9 (U.S. EPA, 2001)",3.9424761790100001E-6,"WATER9 (U.S. EPA, 2001)",2468000,"EPI",0.6,"PHYSPROP",-74,"PHYSPROP",11.6,"EPI","","","","",9.49,"PHYSPROP",8.2500000000000004E-8,"PHYSPROP","","","",93.015319728214706,28.568586268004701,134.01228515897299,0,"RSL, nov/2022"]
["78-48-8","Tribufos",314.51,"PHYSPROP",1.201962388E-5,2.9400000000000001E-7,"PHYSPROP",1.1000000000000001,"CRC",2.0189730325010001E-2,"WATER9 (U.S. EPA, 2001)",4.9789307831799999E-6,"WATER9 (U.S. EPA, 2001)",2350,"EPI",2.2999999999999998,"PHYSPROP",-25,"CRC",0.16500000000000001,"EPI","","","","",5.7,"PHYSPROP",5.3000000000000001E-6,"PHYSPROP","","","",1.1254541982536901,6.0688268894980997,23.5714114653092,0.9,"RSL, nov/2022"]
["78-59-1","Isophorone",138.21,"PHYSPROP",2.7146361406E-4,6.64E-6,"EPI",0.93,"CRC",5.2504777514610003E-2,"WATER9 (U.S. EPA, 2001)",7.5296353640500002E-6,"WATER9 (U.S. EPA, 2001)",65.150000000000006,"EPI",12000,"PHYSPROP",-8.1,"PHYSPROP",3.5400000000000002E-3,"EPI","","",0.15340000000000001,"Handbook of Environmental Degradation Rates. Lewis. Publishers, Chelsea, MI, 1989",1.7,"PHYSPROP",0.438,"PHYSPROP","","","",1.6006620468310001E-2,0.62492046840691995,1.4998091241766001,1,"RSL, nov/2022"]
["78-83-1","Isobutyl Alcohol",74.123999999999995,"PHYSPROP",3.9983646770000002E-4,9.7799999999999995E-6,"PHYSPROP",0.8,"CRC",8.9667746126829997E-2,"WATER9 (U.S. EPA, 2001)",1.004005505E-5,"WATER9 (U.S. EPA, 2001)",2.919,"EPI",85000,"PHYSPROP",-108,"PHYSPROP",1.92E-3,"EPI","","",3.95E-2,"Handbook of Environmental Degradation Rates. Lewis. Publishers, Chelsea, MI, 1989",0.76,"PHYSPROP",10.450000000000001,"PHYSPROP","","","",6.3578064767100002E-3,0.27349106952802998,0.65637856686726004,1,"RSL, nov/2022"]
["78-87-5","Dichloropropane, 1,2-",112.99000000000001,"PHYSPROP",0.11529026982829001,2.82E-3,"PHYSPROP",1.2,"PERRY",7.3340244461150006E-2,"WATER9 (U.S. EPA, 2001)",9.7251840234299995E-6,"WATER9 (U.S. EPA, 2001)",60.7,"EPI",2800,"PHYSPROP",-100,"PHYSPROP",7.5300000000000002E-3,"EPI","","",7.0629999999999997,"Handbook of Environmental Degradation Rates. Lewis. Publishers, Chelsea, MI, 1989",1.98,"PHYSPROP",53.300000000000004,"PHYSPROP","","","",3.0785175414410001E-2,0.45143242470886003,1.0834378193012699,1,"RSL, nov/2022"]
["78-92-2","Butyl alcohol, sec-",74.123999999999995,"PHYSPROP",3.7040065413000001E-4,9.0599999999999997E-6,"PHYSPROP",0.81,"CRC",8.9884836284520001E-2,"WATER9 (U.S. EPA, 2001)",1.0073826320000001E-5,"WATER9 (U.S. EPA, 2001)",2.919,"EPI",181000,"PHYSPROP",-114.7,"PHYSPROP",1.5299999999999999E-3,"EPI","","",3.8399999999999997E-2,"Handbook of Environmental Degradation Rates. Lewis. Publishers, Chelsea, MI, 1989",0.61,"PHYSPROP",18.329999999999998,"PHYSPROP","","","",5.0663770361300004E-3,0.27349106952802998,0.65637856686726004,1,"RSL, nov/2022"]
["78-93-3","Methyl Ethyl Ketone (2-Butanone)",72.108000000000004,"PHYSPROP",2.3262469337699998E-3,5.6900000000000001E-5,"PHYSPROP",0.8,"CRC",9.1446171641679994E-2,"WATER9 (U.S. EPA, 2001)",1.019302571E-5,"WATER9 (U.S. EPA, 2001)",4.51,"EPI",223000,"PHYSPROP",-86.600000000000009,"PHYSPROP",9.6199999999999996E-4,"EPI","","",3.8359999999999998E-2,"Handbook of Environmental Degradation Rates. Lewis. Publishers, Chelsea, MI, 1989",0.28999999999999998,"PHYSPROP",90.600000000000009,"PHYSPROP","","","",3.1419078917099999E-3,0.26647320757247001,0.63953569817392997,1,"RSL, nov/2022"]
["78-97-7","Lactonitrile",71.078999999999994,"PHYSPROP",4.0065412919000002E-4,9.7999999999999993E-6,"PHYSPROP",0.99,"CRC",0.10109056427792,"WATER9 (U.S. EPA, 2001)",1.1668150399999999E-5,"WATER9 (U.S. EPA, 2001)",1,"EPI",465600,"PHYSPROP",-40,"PHYSPROP",1.4799999999999999E-4,"EPI","","","","",-0.94000000000000006,"PHYSPROP",0.11890000000000001,"PHYSPROP","","","",4.7990914080999999E-4,0.26296088313131,0.63110611951515005,1,"RSL, nov/2022"]
["7803-51-2","Phosphine",33.997999999999998,"PHYSPROP",0.998,2.4400000000000002E-2,"PHYSPROP",1.4,"CRC",0.18820167702978,"WATER9 (U.S. EPA, 2001)",2.2294272309999999E-5,"WATER9 (U.S. EPA, 2001)","","",260000,"PERRY",-133,"PHYSPROP",1E-3,"RAGSE","","","","",-0.27,"PHYSPROP",29300,"PHYSPROP","","","",2.2426078437500002E-3,0.16301874658349,0.39124499180036998,1,"RSL, nov/2022"]
["78587-05-0","Hexythiazox",352.89,"PHYSPROP",9.6892886345100009E-7,2.37E-8,"EPI","","",3.8047608699349998E-2,"WATER9 (U.S. EPA, 2001)",4.4455627006599997E-6,"WATER9 (U.S. EPA, 2001)",2120,"EPI",0.5,"PHYSPROP",108.25,"PHYSPROP",8.2799999999999999E-2,"EPI","","","","",5.57,"PHYSPROP",2.55E-8,"PHYSPROP","","","",0.59824167624403002,9.9548048248833503,23.891531579719999,0.8,"RSL, nov/2022"]
["79-00-5","Trichloroethane, 1,1,2-",133.41,"PHYSPROP",3.3687653311530001E-2,8.2399999999999997E-4,"PHYSPROP",1.4,"CRC",6.6890387936720003E-2,"WATER9 (U.S. EPA, 2001)",1.0025867109999999E-5,"WATER9 (U.S. EPA, 2001)",60.7,"EPI",4590,"PHYSPROP",-36.6,"PHYSPROP",5.0400000000000002E-3,"EPI","","",2,"Handbook of Environmental Degradation Rates. Lewis. Publishers, Chelsea, MI, 1989",1.8900000000000001,"PHYSPROP",23,"PHYSPROP","","","",2.2389860131009999E-2,0.58741461764628999,1.4097950823510901,1,"RSL, nov/2022"]
["79-01-6","Trichloroethylene",131.38999999999999,"PHYSPROP",0.40269828291088,9.8499999999999994E-3,"PHYSPROP",1.5,"CRC",6.8661810409549995E-2,"WATER9 (U.S. EPA, 2001)",1.022102912E-5,"WATER9 (U.S. EPA, 2001)",60.7,"EPI",1280,"PHYSPROP",-84.7,"PHYSPROP",1.1599999999999999E-2,"EPI","","",4.5,"Handbook of Environmental Degradation Rates. Lewis. Publishers, Chelsea, MI, 1989",2.42,"PHYSPROP",69,"PHYSPROP","","","",5.1140597474600001E-2,0.57231186493427,1.37354847584226,1,"RSL, nov/2022"]
["79-06-1","Acrylamide",71.078999999999994,"PHYSPROP",6.95012264922E-8,1.6999999999999999E-9,"EPI",1.2,"LANGE",0.11040039383069999,"WATER9 (U.S. EPA, 2001)",1.325774647E-5,"WATER9 (U.S. EPA, 2001)",5.694,"EPI",390000,"PHYSPROP",84.5,"PHYSPROP",2.24E-4,"EPI","","","","",-0.67,"PHYSPROP",7.0000000000000001E-3,"PHYSPROP","","","",7.2634896986999999E-4,0.26296088313131,0.63110611951515005,1,"RSL, nov/2022"]
["79-08-3","Bromoacetic acid",138.94999999999999,"PHYSPROP",2.6655764513500001E-7,6.5199999999999998E-9,"PHYSPROP",1.9,"CRC",7.1976088238339994E-2,"WATER9 (U.S. EPA, 2001)",1.1677856840000001E-5,"WATER9 (U.S. EPA, 2001)",1.44,"EPI",1750000,"PHYSPROP",50,"PHYSPROP",4.8700000000000002E-4,"EPI","","","","",0.41000000000000003,"PHYSPROP",0.11849999999999999,"PHYSPROP","","","",2.2079279072199998E-3,0.63091194452577004,1.5141886668618401,1,"RSL, nov/2022"]
["79-10-7","Acrylic Acid",72.063999999999993,"PHYSPROP",1.5126737530000001E-5,3.7E-7,"EPI",1.1000000000000001,"CRC",0.10271734733047,"WATER9 (U.S. EPA, 2001)",1.201232779E-5,"WATER9 (U.S. EPA, 2001)",1.44,"EPI",1000000,"PHYSPROP",12.5,"PHYSPROP",1.0499999999999999E-3,"EPI","","",0.49320000000000003,"Handbook of Environmental Degradation Rates. Lewis. Publishers, Chelsea, MI, 1989",0.35000000000000003,"PHYSPROP",3.97,"PHYSPROP","","","",3.4282709082199998E-3,0.2663220650216,0.63917295605184998,1,"RSL, nov/2022"]
["79-11-8","Chloroacetic Acid",94.498000000000005,"PHYSPROP",3.7857726901099998E-7,9.2599999999999999E-9,"PHYSPROP",1.4,"CRC",9.3822300166769998E-2,"WATER9 (U.S. EPA, 2001)",1.214770226E-5,"WATER9 (U.S. EPA, 2001)",1.44,"EPI",858000,"PHYSPROP",63,"PHYSPROP",6.4700000000000001E-4,"EPI","","",3.8359999999999998E-2,"Handbook of Environmental Degradation Rates. Lewis. Publishers, Chelsea, MI, 1989",0.22,"PHYSPROP",6.5000000000000002E-2,"PHYSPROP","","","",2.4190354966399999E-3,0.35566206820418,0.85358896369004,1,"RSL, nov/2022"]
["79-20-9","Methyl Acetate",74.08,"PHYSPROP",4.7015535568300003E-3,1.15E-4,"PHYSPROP",0.93,"CRC",9.5776335687030006E-2,"WATER9 (U.S. EPA, 2001)",1.100816943E-5,"WATER9 (U.S. EPA, 2001)",3.0640000000000001,"EPI",243000,"PHYSPROP",-98,"PHYSPROP",7.9199999999999995E-4,"EPI","","","","",0.18,"PHYSPROP",216.20000000000002,"PHYSPROP","","","",2.6218166699600001E-3,0.27333594647357001,0.65600627153657998,1,"RSL, nov/2022"]
["79-34-5","Tetrachloroethane, 1,1,2,2-",167.85,"PHYSPROP",1.5004088307439999E-2,3.6699999999999998E-4,"PHYSPROP",1.6,"CRC",4.8920615325250001E-2,"WATER9 (U.S. EPA, 2001)",9.2901854476699995E-6,"WATER9 (U.S. EPA, 2001)",94.94,"EPI",2830,"PHYSPROP",-43.800000000000004,"PHYSPROP",6.94E-3,"EPI","","",0.1205,"Handbook of Environmental Degradation Rates. Lewis. Publishers, Chelsea, MI, 1989",2.39,"PHYSPROP",4.62,"PHYSPROP","","","",3.4581736338209997E-2,0.91581710267245997,2.1979610464139001,1,"RSL, nov/2022"]
["79-43-6","Dichloroacetic Acid",128.94,"PHYSPROP",3.4260016353200003E-7,8.3799999999999996E-9,"PHYSPROP",1.6,"CRC",7.2234340447509995E-2,"WATER9 (U.S. EPA, 2001)",1.0751801470000001E-5,"WATER9 (U.S. EPA, 2001)",2.2519999999999998,"EPI",1000000,"PHYSPROP",13.5,"PHYSPROP",1.2099999999999999E-3,"EPI","","","","",0.92,"PHYSPROP",0.1787,"PHYSPROP","","","",5.2845237647399998E-3,0.55451429904952998,1.33083431771886,1,"RSL, nov/2022"]
["79-46-9","Nitropropane, 2-",89.094999999999999,"PHYSPROP",4.86508585446E-3,1.1900000000000001E-4,"EPI",0.98,"CRC",8.4693369062779994E-2,"WATER9 (U.S. EPA, 2001)",1.015437502E-5,"WATER9 (U.S. EPA, 2001)",30.8,"EPI",17000,"PHYSPROP",-91.3,"PHYSPROP",2.0600000000000002E-3,"EPI","","",1,"Handbook of Environmental Degradation Rates. Lewis. Publishers, Chelsea, MI, 1989",0.93,"PHYSPROP",17.21,"PHYSPROP","","","",7.4786040172800002E-3,0.33172694535737002,0.79614466885767998,1,"RSL, nov/2022"]
["791-28-6","Triphenylphosphine Oxide",278.29000000000002,"PHYSPROP",2.1504497138200001E-8,5.2600000000000004E-10,"PHYSPROP",1.2,"CRC",2.300486133541E-2,"WATER9 (U.S. EPA, 2001)",5.8178265292899999E-6,"WATER9 (U.S. EPA, 2001)",1954,"EPI",62.76,"PHYSPROP",156.5,"PHYSPROP",3.2699999999999999E-3,"EPI","","","","",2.83,"PHYSPROP",2.6000000000000001E-9,"EPI","","","",2.0980856098669998E-2,3.8042824135624098,9.1302777925497693,1,"RSL, nov/2022"]
["79277-27-3","Thifensulfuron-methyl",387.40000000000003,"PHYSPROP",1.6680294358E-12,4.08E-14,"PHYSPROP","","",3.5753112603159998E-2,"WATER9 (U.S. EPA, 2001)",4.1774689462600002E-6,"WATER9 (U.S. EPA, 2001)",50.76,"EPI",2240,"PHYSPROP",176,"PHYSPROP",1.1400000000000001E-4,"EPI","","","","",1.56,"PHYSPROP",1.28E-10,"PHYSPROP","","","",8.6300102505000001E-4,15.534194895768101,37.282067749843499,1,"RSL, nov/2022"]
["80-05-7","Bisphenol A",228.29,"PHYSPROP",4.0883074406999999E-10,9.9999999999999994E-12,"PHYSPROP",1.2,"PubChem",2.5346941694000001E-2,"WATER9 (U.S. EPA, 2001)",6.4953174556400001E-6,"WATER9 (U.S. EPA, 2001)",37670,"EPI",120,"PHYSPROP",153,"PHYSPROP",1.32E-2,"EPI","","",0.98629999999999995,"Handbook of Environmental Degradation Rates. Lewis. Publishers, Chelsea, MI, 1989",3.3200000000000003,"PHYSPROP",3.9099999999999999E-7,"PHYSPROP","","","",7.6708594829460006E-2,1.9965157915345599,4.7916378996829501,1,"RSL, nov/2022"]
["80-07-9","Sulfonylbis(4-chlorobenzene), 1,1'-",287.17,"PHYSPROP",5.6009811937899998E-6,1.37E-7,"PHYSPROP","","",4.365100248934E-2,"WATER9 (U.S. EPA, 2001)",5.1002750277000001E-6,"WATER9 (U.S. EPA, 2001)",2855,"EPI",2.391,"PHYSPROP",147.9,"PHYSPROP",1.49E-2,"EPI","","","","",3.9,"PHYSPROP",8.09E-7,"PHYSPROP","","","",9.7114136854130007E-2,4.2658025510212996,10.2379261224511,0.9,"RSL, nov/2022"]
["80-62-6","Methyl Methacrylate",100.12,"PHYSPROP",1.30417007359E-2,3.19E-4,"EPI",0.94,"CRC",7.5044667464600007E-2,"WATER9 (U.S. EPA, 2001)",9.2086849834600006E-6,"WATER9 (U.S. EPA, 2001)",9.14,"EPI",15000,"PHYSPROP",-47.550000000000004,"PHYSPROP",3.5500000000000002E-3,"EPI","","",0.15340000000000001,"Handbook of Environmental Degradation Rates. Lewis. Publishers, Chelsea, MI, 1989",1.3800000000000001,"PHYSPROP",38.5,"PHYSPROP","","","",1.366203600532E-2,0.38240252355663001,0.91776605653590004,1,"RSL, nov/2022"]
["8001-35-2","Toxaphene",448.26,"PHYSPROP",2.4529844644000001E-4,6.0000000000000002E-6,"PHYSPROP",1.7,"ATSDR Profile",2.083036168457E-2,"WATER9 (U.S. EPA, 2001)",5.2582852998400003E-6,"WATER9 (U.S. EPA, 2001)",77200,"EPI",0.55000000000000004,"PHYSPROP",77,"PHYSPROP",5.1799999999999999E-2,"EPI","","","","",5.9,"PHYSPROP",6.6900000000000003E-6,"PHYSPROP","","","",0.42181440336665998,34.049030432443402,81.717673037864103,0.8,"RSL, nov/2022"]
["8012-95-1","Mineral oils",170.34,"EPI",334.423548650859,8.18,"EPI",0.88,"ChemNet",3.6194044102260001E-2,"WATER9 (U.S. EPA, 2001)",6.4310449015000002E-6,"WATER9 (U.S. EPA, 2001)",4818,"EPI",3.7000000000000002E-3,"EPI",-9.6,"EPI",1.96,"EPI","","","","",6.1000000000000005,"EPI",0.13500000000000001,"EPI","","","",9.8387753603645205,0.94569860762913005,4.2817373398877798,1,"RSL, nov/2022"]
["8018-01-7","Mancozeb",541.03,"PHYSPROP",6.2142273099000002E-10,1.52E-11,"PHYSPROP",1.9,"PubChem",2.0356633602679999E-2,"WATER9 (U.S. EPA, 2001)",5.1442219763399998E-6,"WATER9 (U.S. EPA, 2001)",607.6,"EPI",6.2,"PHYSPROP",172,"PhysProp",7.7099999999999998E-4,"EPI","","","","",1.33,"PHYSPROP",1.3200000000000001E-10,"PHYSPROP","","","",6.8974999140000003E-3,112.62031808179201,270.28876339630102,0.9,"RSL, nov/2022"]
["8065-48-3","Demeton",516.67999999999995,"PHYSPROP",1.5617334423999999E-4,3.8199999999999998E-6,"PHYSPROP",1.1000000000000001,"PubChem",1.596418670504E-2,"WATER9 (U.S. EPA, 2001)",3.8270980998300001E-6,"WATER9 (U.S. EPA, 2001)","","",666,"PHYSPROP","","",7.5598445400300003E-3,"RAGSE","","","","",3.21,"PHYSPROP",3.4000000000000002E-4,"PHYSPROP","","","",6.6092220374739996E-2,82.272889351911701,197.45493444458799,0.8,"RSL, nov/2022"]
["81-81-2","Warfarin",308.33999999999997,"PHYSPROP",1.13246116108E-7,2.7700000000000002E-9,"EPI","","",4.1629419562210002E-2,"WATER9 (U.S. EPA, 2001)",4.8640690225299997E-6,"WATER9 (U.S. EPA, 2001)",426.1,"EPI",17,"PHYSPROP",161,"PHYSPROP",1.82E-3,"EPI","","",0.15340000000000001,"Handbook of Environmental Degradation Rates. Lewis. Publishers, Chelsea, MI, 1989",2.7,"PHYSPROP",1.1600000000000001E-7,"PHYSPROP","","","",1.22917289264E-2,5.6047048824482797,13.4512917178759,1,"RSL, nov/2022"]
["811-97-2","Tetrafluoroethane, 1,1,1,2-",102.03,"PHYSPROP",2.0441537203597702,0.05,"PHYSPROP",1.2,"CRC",8.2306639888049996E-2,"WATER9 (U.S. EPA, 2001)",1.0595039389999999E-5,"WATER9 (U.S. EPA, 2001)",86.03,"EPI",2040,"PHYSPROP",-101,"PHYSPROP",5.4799999999999996E-3,"EPI","","","","",1.68,"PHYSPROP",4990,"PHYSPROP","","","",2.128977902948E-2,0.39193743817808002,0.94064985162739001,1,"RSL, nov/2022"]
["81335-37-7","Imazaquin",311.33999999999997,"PHYSPROP",2.8250204414999999E-16,6.9100000000000002E-18,"PHYSPROP","","",4.1361567293099998E-2,"WATER9 (U.S. EPA, 2001)",4.8327725995100002E-6,"WATER9 (U.S. EPA, 2001)",2386,"EPI",90,"PHYSPROP",221,"PHYSPROP",4.8299999999999998E-4,"EPI","","","","",1.86,"PHYSPROP",1.03E-13,"PHYSPROP","","","",3.27786636071E-3,5.8257621503152297,13.9818291607566,1,"RSL, nov/2022"]
["81335-77-5","Imazethapyr",289.33999999999997,"PHYSPROP",4.2518397383000001E-15,1.04E-16,"PHYSPROP","","",4.3432478786170001E-2,"WATER9 (U.S. EPA, 2001)",5.07474225817E-6,"WATER9 (U.S. EPA, 2001)",339.1,"EPI",1400,"PHYSPROP",171,"PHYSPROP",2E-3,"EPI","","","","",1.49,"PHYSPROP",2.15E-11,"PHYSPROP","","","",1.30846131235E-2,4.3868496447658201,10.528439147438,1,"RSL, nov/2022"]
["82-68-8","Pentachloronitrobenzene",295.33999999999997,"PHYSPROP",1.8070318887999999E-3,4.4199999999999997E-5,"EPI",1.7,"CRC",2.627423995484E-2,"WATER9 (U.S. EPA, 2001)",6.9197802827099996E-6,"WATER9 (U.S. EPA, 2001)",5996,"EPI",0.44,"PHYSPROP",144,"PHYSPROP",4.1799999999999997E-2,"EPI","","",1.9151,"Handbook of Environmental Degradation Rates. Lewis. Publishers, Chelsea, MI, 1989",4.6399999999999997,"PHYSPROP",5.0000000000000002E-5,"PHYSPROP","","","",0.27628930189784001,4.7397206900280899,11.3753296560674,0.9,"RSL, nov/2022"]
["82097-50-5","Triasulfuron",401.83,"PHYSPROP",1.3205233034000001E-11,3.2299999999999999E-13,"PHYSPROP","","",3.4891959740929998E-2,"WATER9 (U.S. EPA, 2001)",4.0768500328900003E-6,"WATER9 (U.S. EPA, 2001)",427.2,"EPI",32,"PHYSPROP",186,"PHYSPROP",4.6900000000000002E-5,"EPI","","","","",1.1000000000000001,"PHYSPROP",5.5300000000000001E-12,"PHYSPROP","","","",3.6159354865E-4,18.7109892655156,44.906374237237401,1,"RSL, nov/2022"]
["822-06-0","Hexamethylene Diisocyanate, 1,6-",168.20000000000002,"PHYSPROP",1.9623875715499999E-3,4.8000000000000001E-5,"PHYSPROP",1.1000000000000001,"CRC",4.0425453426679997E-2,"WATER9 (U.S. EPA, 2001)",7.2307559303799996E-6,"WATER9 (U.S. EPA, 2001)",4818,"EPI",117,"PHYSPROP",-67,"PHYSPROP",2.3699999999999999E-2,"EPI","","","","",3.2,"PHYSPROP",0.03,"PHYSPROP","","","",0.11821919391812,0.91995958704036995,2.2079030088968801,1,"RSL, nov/2022"]
["82558-50-7","Isoxaben",332.40000000000003,"PHYSPROP",5.19215044971E-8,1.27E-9,"EPI","","",3.9595538845609998E-2,"WATER9 (U.S. EPA, 2001)",4.6264261177500003E-6,"WATER9 (U.S. EPA, 2001)",1262,"EPI",1.42,"PHYSPROP",177.5,"PHYSPROP",8.8699999999999994E-3,"EPI","","","","",3.94,"PHYSPROP",4.1299999999999996E-9,"PHYSPROP","","","",6.2198624340270001E-2,7.6434380436989002,18.3442513048773,0.9,"RSL, nov/2022"]
["82657-04-3","Biphenthrin",422.88,"PHYSPROP",4.088307441E-5,9.9999999999999995E-7,"EPI",1.2,"CRC",1.837554330311E-2,"WATER9 (U.S. EPA, 2001)",4.4983188069899998E-6,"WATER9 (U.S. EPA, 2001)",2272000,"EPI",1E-3,"PHYSPROP",69,"PHYSPROP",1.74,"EPI","","","","",6,"PHYSPROP",1.8E-7,"PHYSPROP","","","",13.7620925201273,24.5457750393862,112.32910068906099,0,"RSL, nov/2022"]
["83-32-9","Acenaphthene",154.21,"PHYSPROP",7.5224856909199998E-3,1.84E-4,"PHYSPROP",1.2,"CRC",5.0614313354230001E-2,"WATER9 (U.S. EPA, 2001)",8.3300378125399998E-6,"WATER9 (U.S. EPA, 2001)",5027,"EPI",3.9,"PHYSPROP",93.4,"PHYSPROP",8.5999999999999993E-2,"EPI","","",0.55889999999999995,"Handbook of Environmental Degradation Rates. Lewis. Publishers, Chelsea, MI, 1989",3.92,"PHYSPROP",2.15E-3,"PHYSPROP","","","",0.41075359376748,0.76811235300464997,1.84346964721115,1,"RSL, nov/2022"]
["83-79-4","Rotenone",394.43,"PHYSPROP",4.5789043336E-12,1.12E-13,"PHYSPROP","","",3.5327017589210002E-2,"WATER9 (U.S. EPA, 2001)",4.1276831077899998E-6,"WATER9 (U.S. EPA, 2001)",261100,"EPI",0.2,"PHYSPROP",176,"PHYSPROP",5.0899999999999999E-3,"EPI","","","","",4.0999999999999996,"PHYSPROP",6.9399999999999998E-10,"PHYSPROP","","","",3.8880281815510002E-2,17.008137164282498,40.819529194277997,0.9,"RSL, nov/2022"]
["83055-99-6","Bensulfuron-methyl",410.41,"PHYSPROP",1.5453802126000001E-13,3.7799999999999999E-15,"EPI","","",3.4403950290079997E-2,"WATER9 (U.S. EPA, 2001)",4.0198299812600004E-6,"WATER9 (U.S. EPA, 2001)",27.76,"EPI",120,"PHYSPROP",187,"PHYSPROP",2.1900000000000001E-4,"EPI","","","","",2.1800000000000002,"PHYSPROP",2.0999999999999999E-14,"PHYSPROP","","","",1.70639564467E-3,20.899926057816199,50.159822538759002,1,"RSL, nov/2022"]
["834-12-8","Ametryn",227.33,"PHYSPROP",9.9345870809500004E-8,2.4300000000000001E-9,"EPI","","",5.1009268981549998E-2,"WATER9 (U.S. EPA, 2001)",5.9600303757399996E-6,"WATER9 (U.S. EPA, 2001)",428.2,"EPI",209,"PHYSPROP",88,"PHYSPROP",7.9399999999999991E-3,"EPI","","","","",2.98,"PHYSPROP",2.74E-6,"PHYSPROP","","","",4.6044263479920002E-2,1.9719538625600399,4.7326892701440997,1,"RSL, nov/2022"]
["84-65-1","Anthraquinone, 9,10-",208.22,"PHYSPROP",9.6099999999999999E-7,2.3499999999999999E-8,"EPI","","",5.4084394614179999E-2,"WATER9 (U.S. EPA, 2001)",6.3193345285999997E-6,"WATER9 (U.S. EPA, 2001)",5012,"EPI",1.35,"PHYSPROP",286,"PHYSPROP",1.9E-2,"EPI","","","","",3.39,"PHYSPROP",1.1600000000000001E-7,"PHYSPROP","","","",0.10544875925492,1.54127718454638,3.69906524291132,0.9,"RSL, nov/2022"]
["84-66-2","Diethyl Phthalate",222.24,"PHYSPROP",2.493867539E-5,6.0999999999999998E-7,"EPI",1.2,"CRC",2.6074058665390001E-2,"WATER9 (U.S. EPA, 2001)",6.7227174593399998E-6,"WATER9 (U.S. EPA, 2001)",104.9,"EPI",1080,"PHYSPROP",-40.5,"PHYSPROP",3.5999999999999999E-3,"EPI","","",0.30680000000000002,"Handbook of Environmental Degradation Rates. Lewis. Publishers, Chelsea, MI, 1989",2.42,"PHYSPROP",2.0999999999999999E-3,"PHYSPROP","","","",2.06414530932E-2,1.8466846940203501,4.4320432656488498,1,"RSL, nov/2022"]
["84-72-0","Ethylphthalyl Ethyl Glycolate",280.27999999999997,"PHYSPROP",2.7146361406400001E-7,6.6400000000000002E-9,"PHYSPROP","","",4.4363472060180001E-2,"WATER9 (U.S. EPA, 2001)",5.1835214722899999E-6,"WATER9 (U.S. EPA, 2001)",1019,"EPI",216.8,"PHYSPROP",22.830000000000002,"EPI",1.1900000000000001E-3,"EPI","","",0.98629999999999995,"Handbook of Environmental Degradation Rates. Lewis. Publishers, Chelsea, MI, 1989",2.19,"PHYSPROP",2.1599999999999999E-4,"PHYSPROP","","","",7.6624855376900003E-3,3.90316355167533,9.3675925240207807,1,"RSL, nov/2022"]
["84-74-2","Dibutyl Phthalate",278.35000000000002,"PHYSPROP",7.3998364680000003E-5,1.81E-6,"PHYSPROP",1.1000000000000001,"CRC",2.143624375833E-2,"WATER9 (U.S. EPA, 2001)",5.3255022901000004E-6,"WATER9 (U.S. EPA, 2001)",1157,"EPI",11.200000000000001,"PHYSPROP",-35,"PHYSPROP",4.2000000000000003E-2,"EPI","","",6.3009999999999997E-2,"Handbook of Environmental Degradation Rates. Lewis. Publishers, Chelsea, MI, 1989",4.5,"PHYSPROP",2.0100000000000001E-5,"PHYSPROP","","","",0.26950793425651998,3.80722680622321,9.1373443349356993,0.9,"RSL, nov/2022"]
["85-44-9","Phthalic Anhydride",148.12,"PHYSPROP",6.6639411283699996E-7,1.63E-8,"EPI",1.5,"CRC",5.9479502944019998E-2,"WATER9 (U.S. EPA, 2001)",9.7545439936800008E-6,"WATER9 (U.S. EPA, 2001)",10,"EPI",6200,"PHYSPROP",130.80000000000001,"PHYSPROP",2.6700000000000001E-3,"EPI","","",5.1369999999999998E-5,"Handbook of Environmental Degradation Rates. Lewis. Publishers, Chelsea, MI, 1989",1.6,"PHYSPROP",5.1699999999999999E-4,"EPI","","","",1.249812215481E-2,0.71010202252615995,1.7042448540627899,1,"RSL, nov/2022"]
["85-68-7","Butyl Benzyl Phthalate",312.37,"PHYSPROP",5.1512673750000002E-5,1.26E-6,"EPI",1.1000000000000001,"CRC",2.0831911275269999E-2,"WATER9 (U.S. EPA, 2001)",5.1733067781500001E-6,"WATER9 (U.S. EPA, 2001)",7155,"EPI",2.69,"PHYSPROP",61.050000000000004,"EPI",3.85E-2,"EPI","","",0.49320000000000003,"Handbook of Environmental Degradation Rates. Lewis. Publishers, Chelsea, MI, 1989",4.7300000000000004,"PHYSPROP",8.2500000000000006E-6,"PHYSPROP","","","",0.26171103822649,5.9036520029133799,14.168764806992099,0.9,"RSL, nov/2022"]
["85-70-1","Butylphthalyl Butylglycolate",336.39,"PHYSPROP",8.4219133278800001E-7,2.0599999999999999E-8,"PHYSPROP",1.1000000000000001,"LANGE",1.9866296243100001E-2,"WATER9 (U.S. EPA, 2001)",4.8978055220599998E-6,"WATER9 (U.S. EPA, 2001)",11240,"EPI",8.8000000000000007,"PHYSPROP",-35,"PHYSPROP",1.1599999999999999E-2,"EPI","","",3.8359999999999998E-2,"Handbook of Environmental Degradation Rates. Lewis. Publishers, Chelsea, MI, 1989",4.1500000000000004,"PHYSPROP",7.0700000000000001E-6,"PHYSPROP","","","",8.1828799490370002E-2,8.0469768072101004,19.312744337304199,0.9,"RSL, nov/2022"]
["85509-19-9","Flusilazole",315.39999999999998,"PHYSPROP",9.1986917416200007E-8,2.2499999999999999E-9,"PHYSPROP","","",4.10058490165E-2,"WATER9 (U.S. EPA, 2001)",4.7912097271899999E-6,"WATER9 (U.S. EPA, 2001)",81060,"EPI",54,"PHYSPROP",54,"PHYSPROP",7.6600000000000001E-3,"EPI","","","","",3.7,"PHYSPROP",2.9299999999999999E-7,"PHYSPROP","","","",5.2322232481370003E-2,6.13887442421834,14.733298618124,0.9,"RSL, nov/2022"]
["86-30-6","Nitrosodiphenylamine, N-",198.23000000000002,"PHYSPROP",4.946852003E-5,1.2100000000000001E-6,"PHYSPROP","","",5.5886555982009999E-2,"WATER9 (U.S. EPA, 2001)",6.5299028568500002E-6,"WATER9 (U.S. EPA, 2001)",2632,"EPI",35,"PHYSPROP",66.5,"PHYSPROP",1.4500000000000001E-2,"EPI","","",0.18629999999999999,"Handbook of Environmental Degradation Rates. Lewis. Publishers, Chelsea, MI, 1989",3.13,"PHYSPROP",0.1,"PHYSPROP","","","",7.8519828931950003E-2,1.35499205776265,3.25198093863037,1,"RSL, nov/2022"]
["86-50-0","Azinphos-methyl",317.33,"PHYSPROP",9.7710547833199996E-7,2.3899999999999999E-8,"EPI",1.4,"CRC",2.3316243930070001E-2,"WATER9 (U.S. EPA, 2001)",5.9618711789000003E-6,"WATER9 (U.S. EPA, 2001)",51.93,"EPI",20.900000000000002,"PHYSPROP",73,"PHYSPROP",1.75E-3,"EPI","","","","",2.75,"PHYSPROP",1.5999999999999999E-6,"PHYSPROP","","","",1.1990029912710001E-2,6.2935654008725299,15.104556962094099,1,"RSL, nov/2022"]
["86-73-7","Fluorene",166.22,"PHYSPROP",3.9329517579699998E-3,9.6199999999999994E-5,"PHYSPROP",1.2,"CRC",4.3974282206059999E-2,"WATER9 (U.S. EPA, 2001)",7.8889859242199994E-6,"WATER9 (U.S. EPA, 2001)",9160,"EPI",1.69,"PHYSPROP",114.8,"PHYSPROP",0.11,"EPI","","",0.32879999999999998,"Handbook of Environmental Degradation Rates. Lewis. Publishers, Chelsea, MI, 1989",4.18,"PHYSPROP",5.9999999999999995E-4,"PHYSPROP","","","",0.54545757350781998,0.89676933595412001,2.1522464062898998,1,"RSL, nov/2022"]
["87-61-6","Trichlorobenzene, 1,2,3-",181.45000000000002,"PHYSPROP",5.1103843008989999E-2,1.25E-3,"PHYSPROP",1.5,"CRC",3.9530010679209998E-2,"WATER9 (U.S. EPA, 2001)",8.3836039221799997E-6,"WATER9 (U.S. EPA, 2001)",1383,"EPI",18,"PHYSPROP",53.5,"PHYSPROP",7.3800000000000004E-2,"EPI","","","","",4.05,"PHYSPROP",0.21,"PHYSPROP","","","",0.38235035708382997,1.0913618028648799,2.61926832687571,1,"RSL, nov/2022"]
["87-68-3","Hexachlorobutadiene",260.76,"PHYSPROP",0.42109566639411,1.03E-2,"PHYSPROP",1.6,"CRC",2.674452464823E-2,"WATER9 (U.S. EPA, 2001)",7.0264011970200003E-6,"WATER9 (U.S. EPA, 2001)",845.2,"EPI",3.2,"PHYSPROP",-21,"PHYSPROP",8.1000000000000003E-2,"EPI","","",0.98629999999999995,"Handbook of Environmental Degradation Rates. Lewis. Publishers, Chelsea, MI, 1989",4.78,"PHYSPROP",0.22,"PHYSPROP","","","",0.50307432956283005,3.0346230315459599,7.28309527571031,0.9,"RSL, nov/2022"]
["87-82-1","Hexabromobenzene",551.49,"PHYSPROP",1.1488143908400001E-3,2.8099999999999999E-5,"PHYSPROP",3,"LookChem",2.4756835792630001E-2,"WATER9 (U.S. EPA, 2001)",6.5882769047300003E-6,"WATER9 (U.S. EPA, 2001)",2807,"EPI",1.6000000000000001E-4,"PHYSPROP",326,"PHYSPROP",1.3599999999999999E-2,"EPI","","","","",6.07,"PHYSPROP",1.63E-8,"PHYSPROP","","","",0.12283846515122999,128.88214325897201,309.31714382153399,0.7,"RSL, nov/2022"]
["87-84-3","Cyclohexane, 1,2,3,4,5-pentabromo-6-chloro-",513.09,"PHYSPROP",3.9206868359999999E-5,9.5900000000000005E-7,"PHYSPROP","","",2.964544000647E-2,"WATER9 (U.S. EPA, 2001)",3.4638356218099999E-6,"WATER9 (U.S. EPA, 2001)",2807,"EPI",5.4960000000000002E-2,"PHYSPROP",204,"CRC",2.8300000000000001E-3,"EPI","","","","",4.72,"PHYSPROP",3.4599999999999999E-6,"PHYSPROP","","","",2.4655275672579999E-2,78.551186546903295,188.52284771256799,0.9,"RSL, nov/2022"]
["87-86-5","Pentachlorophenol",266.33999999999997,"PHYSPROP",1.0016353229800001E-6,2.4500000000000001E-8,"PHYSPROP",2,"CRC",2.9519689785330001E-2,"WATER9 (U.S. EPA, 2001)",8.0120879260399998E-6,"WATER9 (U.S. EPA, 2001)",592,"SSL",14,"PHYSPROP",174,"PHYSPROP",0.127,"EPI","","",4.2,"Handbook of Environmental Degradation Rates. Lewis. Publishers, Chelsea, MI, 1989",5.12,"PHYSPROP",1.1E-4,"PHYSPROP","","","",0.79716563913217997,3.2610146481414501,12.5468979093956,0.9,"RSL, nov/2022"]
["88-06-2","Trichlorophenol, 2,4,6-",197.45000000000002,"PHYSPROP",1.0629599346E-4,2.6000000000000001E-6,"EPI",1.5,"CRC",3.1394761881899998E-2,"WATER9 (U.S. EPA, 2001)",8.0895942184600003E-6,"WATER9 (U.S. EPA, 2001)",381,"SSL",800,"PHYSPROP",69,"PHYSPROP",3.4599999999999999E-2,"EPI","","",5,"Handbook of Environmental Degradation Rates. Lewis. Publishers, Chelsea, MI, 1989",3.69,"PHYSPROP",8.0000000000000002E-3,"EPI","","","",0.18699557077942999,1.34143226979738,3.21943744751372,1,"RSL, nov/2022"]
["88-72-2","Nitrotoluene, o-",137.13999999999999,"PHYSPROP",5.1103843008999997E-4,1.2500000000000001E-5,"PHYSPROP",1.2,"CRC",5.8753531680989998E-2,"WATER9 (U.S. EPA, 2001)",8.6675241326199996E-6,"WATER9 (U.S. EPA, 2001)",370.6,"EPI",650,"PHYSPROP",-10,"PHYSPROP",8.9899999999999997E-3,"EPI","","","","",2.2999999999999998,"PHYSPROP",0.188,"EPI","","","",4.0491924306260002E-2,0.61635759176264004,1.4792582202303399,1,"RSL, nov/2022"]
["88-73-3","Chloronitrobenzene, o-",157.56,"PHYSPROP",3.8021259198999999E-4,9.3000000000000007E-6,"PHYSPROP",1.4,"CRC",5.1345276438320001E-2,"WATER9 (U.S. EPA, 2001)",8.7994564595799998E-6,"WATER9 (U.S. EPA, 2001)",370.6,"EPI",441,"PHYSPROP",32.5,"PHYSPROP",6.3E-3,"EPI","","","","",2.2400000000000002,"PHYSPROP",1.8200000000000001E-2,"EPI","","","",3.041516575152E-2,0.80201917115753996,1.92484601077808,1,"RSL, nov/2022"]
["88-74-4","Nitroaniline, 2-",138.13,"PHYSPROP",2.4121013900200001E-6,5.8999999999999999E-8,"PHYSPROP",0.9,"CRC",5.1919344592810002E-2,"WATER9 (U.S. EPA, 2001)",7.4144408199100002E-6,"WATER9 (U.S. EPA, 2001)",111.3,"EPI",1470,"PHYSPROP",71,"PHYSPROP",4.4600000000000004E-3,"EPI","","","","",1.85,"PHYSPROP",2.7699999999999999E-3,"PHYSPROP","","","",2.016069579726E-2,0.62427615900078004,1.4982627816018601,1,"RSL, nov/2022"]
["88-85-7","Dinoseb",240.22,"PHYSPROP",1.8642681929999999E-5,4.5600000000000001E-7,"EPI",1.3,"CRC",2.534582295187E-2,"WATER9 (U.S. EPA, 2001)",6.5186939156999999E-6,"WATER9 (U.S. EPA, 2001)",4294,"EPI",52,"PHYSPROP",40,"PHYSPROP",1.6299999999999999E-2,"EPI","","",0.67400000000000004,"Handbook of Environmental Degradation Rates. Lewis. Publishers, Chelsea, MI, 1989",3.56,"PHYSPROP",7.4999999999999993E-5,"PHYSPROP","","","",9.7167009736150001E-2,2.3285241665823602,5.5884579997976598,0.9,"RSL, nov/2022"]
["88-89-1","Picric Acid (2,4,6-Trinitrophenol)",229.11,"PHYSPROP",6.9501226491999997E-10,1.6999999999999999E-11,"EPI",1.8,"PERRY",3.023644087746E-2,"WATER9 (U.S. EPA, 2001)",8.1845862885599995E-6,"WATER9 (U.S. EPA, 2001)",2251,"EPI",12700,"PHYSPROP",122.5,"PHYSPROP",6.2100000000000002E-4,"EPI","","","","",1.44,"PHYSPROP",7.5000000000000002E-7,"PHYSPROP","","","",3.6152661500599998E-3,2.0177378907591801,4.8425709378220398,1,"RSL, nov/2022"]
["886-50-0","Terbutryn",241.36,"PHYSPROP",8.7898609975500001E-7,2.1500000000000001E-8,"EPI",1.1000000000000001,"CRC",2.382617706996E-2,"WATER9 (U.S. EPA, 2001)",6.0261163649300001E-6,"WATER9 (U.S. EPA, 2001)",607,"EPI",25,"PHYSPROP",104,"PHYSPROP",2.12E-2,"EPI","","","","",3.74,"PHYSPROP",1.6899999999999999E-6,"PHYSPROP","","","",0.12667623923134999,2.3630055932763101,5.67121342386314,0.9,"RSL, nov/2022"]
["88671-89-0","Myclobutanil",274.76,"PHYSPROP",1.74979558463E-7,4.2800000000000001E-9,"EPI","","",4.4955682548880001E-2,"WATER9 (U.S. EPA, 2001)",5.2527165925500003E-6,"WATER9 (U.S. EPA, 2001)",6075,"EPI",142,"PHYSPROP",65.5,"PHYSPROP",3.3700000000000002E-3,"EPI","","","","",2.94,"PHYSPROP",1.5999999999999999E-6,"PHYSPROP","","","",2.1484898521919999E-2,3.6350027990728502,8.7240067177748397,1,"RSL, nov/2022"]
["90-12-0","Methylnaphthalene, 1-",142.19999999999999,"PHYSPROP",2.1013900245300001E-2,5.1400000000000003E-4,"PHYSPROP",1,"CRC",5.2770484233419998E-2,"WATER9 (U.S. EPA, 2001)",7.8477146847200006E-6,"WATER9 (U.S. EPA, 2001)",2528,"EPI",25.8,"PHYSPROP",-30.400000000000002,"PHYSPROP",9.3100000000000002E-2,"EPI","","","","",3.87,"PHYSPROP",6.7000000000000004E-2,"PHYSPROP","","","",0.42699828547527002,0.65791342676832998,1.57899222424399,1,"RSL, nov/2022"]
["90-43-7","Phenylphenol, 2-",170.21,"PHYSPROP",4.2927228130000002E-5,1.0499999999999999E-6,"EPI",1.2,"CRC",4.2092150503960001E-2,"WATER9 (U.S. EPA, 2001)",7.81622781554E-6,"WATER9 (U.S. EPA, 2001)",6722,"EPI",700,"PHYSPROP",59,"PHYSPROP",1.9599999999999999E-2,"EPI","","",3.8359999999999998E-2,"Handbook of Environmental Degradation Rates. Lewis. Publishers, Chelsea, MI, 1989",3.09,"PHYSPROP",2E-3,"EPI","","","",9.8350202678310003E-2,0.94411467805237004,2.2658752273256901,1,"RSL, nov/2022"]
["90-98-2","Dichlorobenzophenone, 4,4'-",251.11,"PHYSPROP",4.3744889620000001E-5,1.0699999999999999E-6,"PHYSPROP",1.5,"CRC",2.639293422685E-2,"WATER9 (U.S. EPA, 2001)",6.88928526648E-6,"WATER9 (U.S. EPA, 2001)",2927,"EPI",0.82930000000000004,"PHYSPROP",147.5,"PHYSPROP",5.4199999999999998E-2,"EPI","","","","",4.4400000000000004,"PHYSPROP",6.3899999999999998E-6,"PHYSPROP","","","",0.33033754934745002,2.6795677958252,6.4309627099804896,0.9,"RSL, nov/2022"]
["9004-70-0","Nitrocellulose",387.3,"PHYSPROP",1.3450531479999999E-21,3.2900000000000002E-23,"PHYSPROP","","",3.575926658788E-2,"WATER9 (U.S. EPA, 2001)",4.1781879907899996E-6,"WATER9 (U.S. EPA, 2001)",10,"EPI",1000000,"PHYSPROP",261.99,"EPI",9.8600000000000003E-9,"EPI","","","","",-4.5599999999999996,"PHYSPROP",1.41E-17,"PHYSPROP","","","",7.4632384146000005E-8,15.5141772732446,37.234025455787098,1,"RSL, nov/2022"]
["9016-87-9","Polymeric Methylene Diphenyl Diisocyanate (PMDI)",512.53,"EPI",5.3965658217000002E-10,1.32E-11,"EPI","","",2.9667030189409999E-2,"WATER9 (U.S. EPA, 2001)",3.4663582642400002E-6,"WATER9 (U.S. EPA, 2001)",10000000000,"EPI",1.7630000000000001E-6,"EPI",253.05,"EPI",18.600000000000001,"EPI","","","","",10.46,"EPI",5.4100000000000002E-13,"EPI","","","",161.95682034667399,77.986018713625398,366.53305300538898,0,"RSL, nov/2022"]
["90982-32-4","Chlorimuron, Ethyl-",414.83,"PHYSPROP",7.4407195420999997E-14,1.82E-15,"EPI","","",3.4159132269579999E-2,"WATER9 (U.S. EPA, 2001)",3.9912249283399997E-6,"WATER9 (U.S. EPA, 2001)",71.790000000000006,"EPI",1200,"PHYSPROP",181,"PHYSPROP",3.3799999999999998E-4,"EPI","","","","",2.5,"PHYSPROP",3.9999999999999999E-12,"PHYSPROP","","","",2.6477588636399998E-3,22.125686248244001,53.1016469957857,1,"RSL, nov/2022"]
["91-08-7","Toluene-2,6-diisocyanate",174.16,"PHYSPROP",4.53802E-4,1.11E-5,"PHYSPROP","","",6.0923941195189998E-2,"WATER9 (U.S. EPA, 2001)",7.1184815501800003E-6,"WATER9 (U.S. EPA, 2001)",7576,"EPI",37.57,"PHYSPROP",18.3,"PHYSPROP",5.0500000000000003E-2,"EPI","","","","",3.74,"PHYSPROP",2.0899999999999998E-2,"PHYSPROP","","","",0.25632575081825998,0.99344710748800003,2.3842730579712001,1,"RSL, nov/2022"]
["91-20-3","Naphthalene",128.18,"PHYSPROP",1.7988552739170001E-2,4.4000000000000002E-4,"PHYSPROP",1,"CRC",6.0499398843050001E-2,"WATER9 (U.S. EPA, 2001)",8.3770322160000004E-6,"WATER9 (U.S. EPA, 2001)",1544,"EPI",31,"PHYSPROP",80.2,"PHYSPROP",4.6600000000000003E-2,"EPI","","",0.70699999999999996,"Handbook of Environmental Degradation Rates. Lewis. Publishers, Chelsea, MI, 1989",3.3000000000000003,"PHYSPROP",8.5000000000000006E-2,"PHYSPROP","","","",0.20291899482685,0.54910670856167998,1.31785610054804,1,"RSL, nov/2022"]
["91-22-5","Quinoline",129.16,"PHYSPROP",6.8274734260000001E-5,1.6700000000000001E-6,"EPI",1.1000000000000001,"CRC",6.1800427638409997E-2,"WATER9 (U.S. EPA, 2001)",8.6873065798599994E-6,"WATER9 (U.S. EPA, 2001)",1544,"EPI",6110,"PHYSPROP",-14.780000000000001,"PHYSPROP",6.5900000000000004E-3,"EPI","","",5.4789999999999998E-2,"Handbook of Environmental Degradation Rates. Lewis. Publishers, Chelsea, MI, 1989",2.0299999999999998,"PHYSPROP",0.06,"PHYSPROP","","","",2.8805544225139999E-2,0.55608957009974003,1.33461496823937,1,"RSL, nov/2022"]
["91-57-6","Methylnaphthalene, 2-",142.19999999999999,"PHYSPROP",2.1177432542929999E-2,5.1800000000000001E-4,"PHYSPROP",1,"CRC",5.2431868394069998E-2,"WATER9 (U.S. EPA, 2001)",7.7810640904800008E-6,"WATER9 (U.S. EPA, 2001)",2478,"EPI",24.6,"PHYSPROP",34.4,"PHYSPROP",9.1700000000000004E-2,"EPI","","","","",3.86,"PHYSPROP",5.5E-2,"PHYSPROP","","","",0.42057725862600998,0.65791342676832998,1.57899222424399,1,"RSL, nov/2022"]
["91-58-7","Chloronaphthalene, Beta-",162.62,"PHYSPROP",1.3082583810300001E-2,3.2000000000000003E-4,"PHYSPROP",1.1000000000000001,"CRC",4.4691406733480002E-2,"WATER9 (U.S. EPA, 2001)",7.7300811363000005E-6,"WATER9 (U.S. EPA, 2001)",2478,"EPI",11.700000000000001,"PHYSPROP",61,"PHYSPROP",7.4899999999999994E-2,"EPI","","","","",3.9,"PHYSPROP",1.2200000000000001E-2,"EPI","","","",0.36736302970183998,0.85609261292810002,2.05462227102743,1,"RSL, nov/2022"]
["91-59-8","Naphthylamine, 2-",143.19,"PHYSPROP",3.3115290269800002E-6,8.0999999999999997E-8,"PHYSPROP",1.6,"CRC",6.4451187870329996E-2,"WATER9 (U.S. EPA, 2001)",1.0395677920000001E-5,"WATER9 (U.S. EPA, 2001)",2478,"EPI",189,"PHYSPROP",113,"PHYSPROP",8.0700000000000008E-3,"EPI","","","","",2.2799999999999998,"PHYSPROP",2.5599999999999999E-4,"PHYSPROP","","","",3.7141251311239999E-2,0.66636587673627001,1.5992781041670501,1,"RSL, nov/2022"]
["91-94-1","Dichlorobenzidine, 3,3'-",253.13,"PHYSPROP",1.16107931316E-9,2.84E-11,"PHYSPROP","","",4.7481509962950003E-2,"WATER9 (U.S. EPA, 2001)",5.5478395851399997E-6,"WATER9 (U.S. EPA, 2001)",3190,"EPI",3.1,"PHYSPROP",132,"PHYSPROP",1.2800000000000001E-2,"EPI","","",0.98629999999999995,"Handbook of Environmental Degradation Rates. Lewis. Publishers, Chelsea, MI, 1989",3.5100000000000002,"PHYSPROP",2.5600000000000002E-7,"PHYSPROP","","","",7.8326447806829999E-2,2.7502789801898202,6.6006695524555701,1,"RSL, nov/2022"]
["92-52-4","Biphenyl, 1,1'-",154.21,"PHYSPROP",1.2591986917420001E-2,3.0800000000000001E-4,"PHYSPROP",1,"CRC",4.705923501776E-2,"WATER9 (U.S. EPA, 2001)",7.5617837409600001E-6,"WATER9 (U.S. EPA, 2001)",5129,"EPI",7.48,"PHYSPROP",69,"PHYSPROP",9.4299999999999995E-2,"EPI","","",3.8359999999999998E-2,"Handbook of Environmental Degradation Rates. Lewis. Publishers, Chelsea, MI, 1989",4.01,"PHYSPROP",8.9300000000000004E-3,"PHYSPROP","","","",0.45039609177062001,0.76811235300464997,1.84346964721115,1,"RSL, nov/2022"]
["92-67-1","Aminobiphenyl, 4-",169.23,"PHYSPROP",5.9689288634499997E-6,1.4600000000000001E-7,"PHYSPROP","","",6.2101491573080002E-2,"WATER9 (U.S. EPA, 2001)",7.25606901538E-6,"WATER9 (U.S. EPA, 2001)",2471,"EPI",223.9,"PHYSPROP",53.5,"PHYSPROP",1.4E-2,"EPI","","","","",2.86,"PHYSPROP",1.17E-4,"PHYSPROP","","","",7.0047616940570004E-2,0.93225935396905002,2.2374224495257198,1,"RSL, nov/2022"]
["92-84-2","Phenothiazine",199.28,"PHYSPROP",1.1447260834E-6,2.7999999999999999E-8,"PHYSPROP",1.3,"PubChem",2.8997471669230002E-2,"WATER9 (U.S. EPA, 2001)",7.5484263476900002E-6,"WATER9 (U.S. EPA, 2001)",1475,"EPI",1.59,"PHYSPROP",187.5,"PHYSPROP",6.83E-2,"EPI","","","","",4.1500000000000004,"PHYSPROP",8.8999999999999995E-7,"PHYSPROP","","","",0.37083371590522002,1.37346232084951,3.2963095700388299,1,"RSL, nov/2022"]
["92-87-5","Benzidine",184.24,"PHYSPROP",2.1136549468499998E-9,5.17E-11,"PHYSPROP",1.2,"Yaws 2008",3.5127260502119999E-2,"WATER9 (U.S. EPA, 2001)",7.4755584233699998E-6,"WATER9 (U.S. EPA, 2001)",1190,"EPI",322,"PHYSPROP",120,"PHYSPROP",1.1299999999999999E-3,"EPI","","",4.3839999999999997E-2,"Handbook of Environmental Degradation Rates. Lewis. Publishers, Chelsea, MI, 1989",1.34,"PHYSPROP",8.9800000000000002E-7,"PHYSPROP","","","",5.8992534880300002E-3,1.1313389766816,2.71521354403585,1,"RSL, nov/2022"]
["924-16-3","Nitroso-di-N-butylamine, N-",158.25,"PHYSPROP",5.3965658217000004E-4,1.3200000000000001E-5,"PHYSPROP",0.9,"PubChem",4.2166252340190002E-2,"WATER9 (U.S. EPA, 2001)",6.8307987849499997E-6,"WATER9 (U.S. EPA, 2001)",914.6,"EPI",1270,"PHYSPROP",28.17,"EPI",1.1299999999999999E-2,"EPI","","",0.98629999999999995,"Handbook of Environmental Degradation Rates. Lewis. Publishers, Chelsea, MI, 1989",2.63,"PHYSPROP",4.6899999999999997E-2,"EPI","","","",5.4673509833509999E-2,0.80918672540379999,1.9420481409691199,1,"RSL, nov/2022"]
["93-65-2","MCPP",214.65,"PHYSPROP",7.4407195421100005E-7,1.8200000000000001E-8,"PHYSPROP",1.3,"PubChem",2.7025805603780002E-2,"WATER9 (U.S. EPA, 2001)",7.0235910646900004E-6,"WATER9 (U.S. EPA, 2001)",48.51,"EPI",620,"PHYSPROP",94.5,"PHYSPROP",1.3100000000000001E-2,"EPI","","",0.49320000000000003,"Handbook of Environmental Degradation Rates. Lewis. Publishers, Chelsea, MI, 1989",3.13,"PHYSPROP",7.5000000000000002E-7,"PHYSPROP","","","",7.3818190318470006E-2,1.6745138717889001,4.0188332922933503,1,"RSL, nov/2022"]
["93-72-1","Trichlorophenoxypropionic acid, -2,4,5",269.51,"PHYSPROP",3.7040065412900002E-7,9.0599999999999997E-9,"PHYSPROP",1.2,"PubChem",2.3358549298540001E-2,"WATER9 (U.S. EPA, 2001)",5.9193610978500004E-6,"WATER9 (U.S. EPA, 2001)",175.3,"EPI",71,"PHYSPROP",181.6,"PHYSPROP",1.61E-2,"EPI","","","","",3.8000000000000003,"PHYSPROP",9.9699999999999994E-6,"PHYSPROP","","","",0.10165762755271,3.39707198355448,8.1529727605307496,0.9,"RSL, nov/2022"]
["93-76-5","Trichlorophenoxyacetic Acid, 2,4,5-",255.49,"PHYSPROP",3.5486508585400002E-7,8.6800000000000006E-9,"PHYSPROP",1.8,"PubChem",2.888534623817E-2,"WATER9 (U.S. EPA, 2001)",7.76266654376E-6,"WATER9 (U.S. EPA, 2001)",107,"EPI",278,"PHYSPROP",153,"PHYSPROP",9.1400000000000006E-3,"EPI","","",0.5,"Handbook of Environmental Degradation Rates. Lewis. Publishers, Chelsea, MI, 1989",3.31,"PHYSPROP",3.7499999999999997E-5,"EPI","","","",5.619009947222E-2,2.8352590777776498,6.8046217866663703,0.9,"RSL, nov/2022"]
["930-55-2","Nitrosopyrrolidine, N-",100.12,"PHYSPROP",1.9991823385100002E-6,4.8900000000000001E-8,"PHYSPROP",1.1000000000000001,"CRC",7.9971167221800005E-2,"WATER9 (U.S. EPA, 2001)",1.005118137E-5,"WATER9 (U.S. EPA, 2001)",91.91,"EPI",1000000,"PHYSPROP",-3.09,"EPI",3.21E-4,"EPI","","",1,"Handbook of Environmental Degradation Rates. Lewis. Publishers, Chelsea, MI, 1989",-0.19,"PHYSPROP",0.06,"PHYSPROP","","","",1.2353559317499999E-3,0.38240252355663001,0.91776605653590004,1,"RSL, nov/2022"]
["94-58-6","Dihydrosafrole",164.21,"PHYSPROP",4.9877350776999997E-4,1.22E-5,"PHYSPROP",1.1000000000000001,"PubChem",4.2585836329720003E-2,"WATER9 (U.S. EPA, 2001)",7.3865522728E-6,"WATER9 (U.S. EPA, 2001)",207.20000000000002,"EPI",56.870000000000005,"PHYSPROP",43.51,"EPI",4.5199999999999997E-2,"EPI","","","","",3.58,"PHYSPROP",5.6000000000000001E-2,"PHYSPROP","","","",0.22277419724596001,0.87382557135613004,2.0971813712546998,1,"RSL, nov/2022"]
["94-59-7","Safrole",162.19,"PHYSPROP",3.7080948486999999E-4,9.0699999999999996E-6,"PHYSPROP",1.1000000000000001,"CRC",4.4227163745570001E-2,"WATER9 (U.S. EPA, 2001)",7.5873992687099998E-6,"WATER9 (U.S. EPA, 2001)",207.20000000000002,"EPI",121,"PHYSPROP",11.200000000000001,"PHYSPROP",1.1285040707299999E-2,"RAGSE","","",0.153,"Handbook of Environmental Degradation Rates. Lewis. Publishers, Chelsea, MI, 1989",3.45,"PHYSPROP",7.4999999999999997E-2,"CRC","","","",5.5276663219169998E-2,0.85135903558876003,2.0432616854130101,1,"RSL, nov/2022"]
["94-74-6","MCPA",200.62,"PHYSPROP",5.4374488961600001E-8,1.33E-9,"EPI",1.6,"PubChem",3.062313615228E-2,"WATER9 (U.S. EPA, 2001)",8.2361072801999997E-6,"WATER9 (U.S. EPA, 2001)",29.63,"EPI",630,"PHYSPROP",120,"PHYSPROP",1.6899999999999998E-2,"EPI","","",0.5,"Handbook of Environmental Degradation Rates. Lewis. Publishers, Chelsea, MI, 1989",3.25,"PHYSPROP",5.9000000000000003E-6,"PHYSPROP","","","",9.2066253317919997E-2,1.3974000344223301,3.3537600826135998,1,"RSL, nov/2022"]
["94-75-7","Dichlorophenoxy Acetic Acid, 2,4-",221.04,"PHYSPROP",1.44726083401E-6,3.5399999999999999E-8,"EPI",1.4,"PubChem",2.791789773469E-2,"WATER9 (U.S. EPA, 2001)",7.3445003361699996E-6,"WATER9 (U.S. EPA, 2001)",29.63,"EPI",677,"PHYSPROP",140.5,"PHYSPROP",6.6400000000000001E-3,"EPI","","",0.49320000000000003,"Handbook of Environmental Degradation Rates. Lewis. Publishers, Chelsea, MI, 1989",2.81,"PHYSPROP",8.25E-5,"PHYSPROP","","","",3.7969088143360002E-2,1.8183301907223199,4.36399245773356,1,"RSL, nov/2022"]
["94-81-5","MCPB",228.68,"PHYSPROP",1.10793131644E-7,2.7099999999999999E-9,"EPI","","",5.080831729983E-2,"WATER9 (U.S. EPA, 2001)",5.93655075819E-6,"WATER9 (U.S. EPA, 2001)",98.4,"EPI",48,"PHYSPROP",100,"PHYSPROP",1.7299999999999999E-2,"EPI","","","","",2.79,"PHYSPROP",4.3300000000000003E-7,"PHYSPROP","","","",0.10062058708027,2.00658124927882,4.8157949982691797,0.9,"RSL, nov/2022"]
["944-22-9","Fonofos",246.33,"PHYSPROP",2.8536385936E-4,6.9800000000000001E-6,"EPI",1.2,"CRC",2.4016873936779998E-2,"WATER9 (U.S. EPA, 2001)",6.0958767975200003E-6,"WATER9 (U.S. EPA, 2001)",855.80000000000007,"EPI",15.700000000000001,"PHYSPROP",0.66,"EPI",2.7E-2,"EPI","","","","",3.94,"PHYSPROP",3.3799999999999998E-4,"PHYSPROP","","","",0.16298553771105001,2.5193978222253302,6.0465547733407998,0.9,"RSL, nov/2022"]
["95-47-6","Xylene, o-",106.17,"PHYSPROP",0.21177432542926999,5.1799999999999997E-3,"PHYSPROP",0.88,"CRC",6.9084689612440006E-2,"WATER9 (U.S. EPA, 2001)",8.5589304967799996E-6,"WATER9 (U.S. EPA, 2001)",382.90000000000003,"EPI",178,"PHYSPROP",-25.2,"PHYSPROP",4.7100000000000003E-2,"EPI","","",1,"Handbook of Environmental Degradation Rates. Lewis. Publishers, Chelsea, MI, 1989",3.12,"PHYSPROP",6.61,"PHYSPROP","","","",0.18665879928915999,0.41342882164758998,0.99222917195421001,1,"RSL, nov/2022"]
["95-48-7","Cresol, o-",108.14,"PHYSPROP",4.9059689290000002E-5,1.1999999999999999E-6,"PHYSPROP",1,"CRC",7.2834975402760002E-2,"WATER9 (U.S. EPA, 2001)",9.3167503556200001E-6,"WATER9 (U.S. EPA, 2001)",306.5,"EPI",25900,"PHYSPROP",29.8,"PHYSPROP",7.6600000000000001E-3,"EPI","","",3.8359999999999998E-2,"Handbook of Environmental Degradation Rates. Lewis. Publishers, Chelsea, MI, 1989",1.95,"PHYSPROP",0.29899999999999999,"EPI","","","",3.06371670288E-2,0.42406531242651002,1.01775674982362,1,"RSL, nov/2022"]
["95-49-8","Chlorotoluene, o-",126.59,"PHYSPROP",0.14595257563368999,3.5699999999999998E-3,"PHYSPROP",1.1000000000000001,"CRC",6.2902546250539995E-2,"WATER9 (U.S. EPA, 2001)",8.7194456435199999E-6,"WATER9 (U.S. EPA, 2001)",382.90000000000003,"EPI",374,"PHYSPROP",-35.6,"PHYSPROP",5.7200000000000001E-2,"EPI","","",0.98629999999999995,"Handbook of Environmental Degradation Rates. Lewis. Publishers, Chelsea, MI, 1989",3.42,"PHYSPROP",3.43,"PHYSPROP","","","",0.24752688742841999,0.53796342464476998,1.29111221914746,1,"RSL, nov/2022"]
["95-50-1","Dichlorobenzene, 1,2-",147,"PHYSPROP",7.8495502861819999E-2,1.92E-3,"PHYSPROP",1.3,"CRC",5.6170340489030003E-2,"WATER9 (U.S. EPA, 2001)",8.9212831562199998E-6,"WATER9 (U.S. EPA, 2001)",382.90000000000003,"EPI",156,"PHYSPROP",-16.7,"PHYSPROP",4.4600000000000001E-2,"EPI","","","","",3.43,"PHYSPROP",1.36,"PHYSPROP","","","",0.20797933158577001,0.69992055777343998,1.67980933865626,1,"RSL, nov/2022"]
["95-53-4","Toluidine, o- (Methylaniline, 2-)",107.16,"PHYSPROP",8.0948487330000001E-5,1.9800000000000001E-6,"PHYSPROP",1,"CRC",7.2397367274429997E-2,"WATER9 (U.S. EPA, 2001)",9.1798353554499992E-6,"WATER9 (U.S. EPA, 2001)",115,"EPI",16600,"PHYSPROP",-14.4,"PHYSPROP",2.96E-3,"EPI","","","","",1.32,"PHYSPROP",0.26,"PHYSPROP","","","",1.178513917293E-2,0.41874029012976999,1.0049766963114399,1,"RSL, nov/2022"]
["95-54-5","Phenylenediamine, o-",108.14,"PHYSPROP",2.94358135732E-7,7.2E-9,"EPI","","",8.3707176050039994E-2,"WATER9 (U.S. EPA, 2001)",9.7805226753199997E-6,"WATER9 (U.S. EPA, 2001)",34.520000000000003,"EPI",40400,"PHYSPROP",102.5,"PHYSPROP",4.8700000000000002E-4,"EPI","","","","",0.15,"PHYSPROP",2.0600000000000002E-3,"EPI","","","",1.94781988812E-3,0.42406531242651002,1.01775674982362,1,"RSL, nov/2022"]
["95-55-6","Aminophenol, o-",109.13,"PHYSPROP",8.0948487326200002E-9,1.9799999999999999E-10,"PHYSPROP",1.3,"CRC",8.0487640228980001E-2,"WATER9 (U.S. EPA, 2001)",1.0775169820000001E-5,"WATER9 (U.S. EPA, 2001)",92.04,"EPI",20000,"PHYSPROP",174,"PHYSPROP",9.8799999999999995E-4,"EPI","","","","",0.62,"PHYSPROP",9.5499999999999995E-3,"PHYSPROP","","","",3.96968159932E-3,0.42951343172396,1.0308322361375,1,"RSL, nov/2022"]
["95-57-8","Chlorophenol, 2-",128.56,"PHYSPROP",4.5789043335999998E-4,1.1199999999999999E-5,"PHYSPROP",1.3,"CRC",6.6117503717829998E-2,"WATER9 (U.S. EPA, 2001)",9.4783507706700002E-6,"WATER9 (U.S. EPA, 2001)",388,"SSL",11300,"PHYSPROP",9.8000000000000007,"PHYSPROP",7.9900000000000006E-3,"EPI","","","","",2.15,"PHYSPROP",2.5299999999999998,"PHYSPROP","","","",3.4843868272809997E-2,0.55180387965424005,1.3243293111701799,1,"RSL, nov/2022"]
["95-63-6","Trimethylbenzene, 1,2,4-",120.2,"PHYSPROP",0.25183973834832002,6.1599999999999997E-3,"PHYSPROP",0.88,"CRC",6.0675405634019998E-2,"WATER9 (U.S. EPA, 2001)",7.9208548604900001E-6,"WATER9 (U.S. EPA, 2001)",614.29999999999995,"EPI",57,"PHYSPROP",-43.800000000000004,"PHYSPROP",8.5699999999999998E-2,"EPI","","",0.15340000000000001,"Handbook of Environmental Degradation Rates. Lewis. Publishers, Chelsea, MI, 1989",3.63,"PHYSPROP",2.1,"PHYSPROP","","","",0.36137633394251001,0.49541454114276001,1.18899489874263,1,"RSL, nov/2022"]
["95-65-8","Dimethylphenol, 3,4-",122.17,"PHYSPROP",1.6966475880000001E-5,4.15E-7,"PHYSPROP",0.98,"CRC",6.2761837538529999E-2,"WATER9 (U.S. EPA, 2001)",8.4066920325000004E-6,"WATER9 (U.S. EPA, 2001)",491.8,"EPI",4760,"PHYSPROP",60.800000000000004,"PHYSPROP",9.7999999999999997E-3,"EPI","","","","",2.23,"PHYSPROP",3.56E-2,"EPI","","","",4.1661510765809998E-2,0.50816031967269004,1.21958476721446,1,"RSL, nov/2022"]
["95-68-1","Dimethylaniline, 2,4-",121.18,"PHYSPROP",1.0220768602E-4,2.5000000000000002E-6,"PHYSPROP",0.97,"CRC",6.3024861132469995E-2,"WATER9 (U.S. EPA, 2001)",8.39253911652E-6,"WATER9 (U.S. EPA, 2001)",184.5,"EPI",6069,"PHYSPROP",-14.3,"PHYSPROP",4.28E-3,"EPI","","","","",1.68,"PHYSPROP",0.1331,"PHYSPROP","","","",1.8121155833930001E-2,0.50171461195013001,1.2041150686803199,1,"RSL, nov/2022"]
["95-69-2","Chloro-2-methylaniline, 4-",141.6,"PHYSPROP",8.1357318069999999E-5,1.99E-6,"PHYSPROP","","",6.9937713886169997E-2,"WATER9 (U.S. EPA, 2001)",8.1716697277500003E-6,"WATER9 (U.S. EPA, 2001)",184.5,"EPI",953.9,"PHYSPROP",30.3,"PHYSPROP",8.0800000000000004E-3,"EPI","","","","",2.27,"PHYSPROP",4.0800000000000003E-2,"PHYSPROP","","","",3.698023268542E-2,0.65284299668175005,1.5668231920361999,1,"RSL, nov/2022"]
["95-70-5","Toluene-2,5-diamine",122.17,"PHYSPROP",3.0376124284499998E-7,7.4300000000000002E-9,"PHYSPROP","","",7.7169179924510001E-2,"WATER9 (U.S. EPA, 2001)",9.0166094438099997E-6,"WATER9 (U.S. EPA, 2001)",55.39,"EPI",77200,"PHYSPROP",64,"PHYSPROP",4.0999999999999999E-4,"EPI","","","","",0.16,"PHYSPROP",3.3999999999999998E-3,"PHYSPROP","","","",1.7429815728600001E-3,0.50816031967269004,1.21958476721446,1,"RSL, nov/2022"]
["95-94-3","Tetrachlorobenzene, 1,2,4,5-",215.89000000000001,"PHYSPROP",4.0883074407200001E-2,1E-3,"PHYSPROP",1.9,"CRC",3.1895837522179997E-2,"WATER9 (U.S. EPA, 2001)",8.7530554873799994E-6,"WATER9 (U.S. EPA, 2001)",2220,"EPI",0.59499999999999997,"PHYSPROP",139.5,"PHYSPROP",0.11700000000000001,"EPI","","",1,"Handbook of Environmental Degradation Rates. Lewis. Publishers, Chelsea, MI, 1989",4.6399999999999997,"PHYSPROP",5.4000000000000003E-3,"EPI","","","",0.66119380668605998,1.7015031193332499,6.6750776208917202,1,"RSL, nov/2022"]
["95-95-4","Trichlorophenol, 2,4,5-",197.45000000000002,"PHYSPROP",6.6230580540000005E-5,1.6199999999999999E-6,"EPI",1.5,"PERRY",3.1393813646519997E-2,"WATER9 (U.S. EPA, 2001)",8.0892684804699997E-6,"WATER9 (U.S. EPA, 2001)",1597,"SSL",1200,"PHYSPROP",69,"PHYSPROP",3.6200000000000003E-2,"EPI","","",5,"Handbook of Environmental Degradation Rates. Lewis. Publishers, Chelsea, MI, 1989",3.72,"PHYSPROP",7.4999999999999997E-3,"EPI","","","",0.19564276480390999,1.34143226979738,3.21943744751372,1,"RSL, nov/2022"]
["950-10-7","Mephosfolan",269.32,"PHYSPROP",4.86508585446E-9,1.19E-10,"PHYSPROP","","",4.5559036452220002E-2,"WATER9 (U.S. EPA, 2001)",5.3232137328400004E-6,"WATER9 (U.S. EPA, 2001)",636.29999999999995,"EPI",57,"PHYSPROP",83.56,"EPI",2.3699999999999999E-4,"EPI","","","","",1.04,"PHYSPROP",3.18E-5,"PHYSPROP","","","",1.4959232114100001E-3,3.3887595119474798,8.1330228286739601,1,"RSL, nov/2022"]
["950-37-8","Methidathion",302.33,"PHYSPROP",2.9313164350000001E-7,7.1699999999999998E-9,"EPI","","",4.2179306823169997E-2,"WATER9 (U.S. EPA, 2001)",4.9283190077600002E-6,"WATER9 (U.S. EPA, 2001)",21.240000000000002,"EPI",187,"PHYSPROP",39,"PHYSPROP",9.1299999999999997E-4,"EPI","","","","",2.2000000000000002,"PHYSPROP",3.3699999999999999E-6,"PHYSPROP","","","",6.1057364114200001E-3,5.1867671261861403,12.448241102846699,1,"RSL, nov/2022"]
["957-51-7","Diphenamid",239.32,"PHYSPROP",1.4840556009799999E-9,3.63E-11,"EPI",1.2,"CRC",2.4482885855909998E-2,"WATER9 (U.S. EPA, 2001)",6.2344176408000002E-6,"WATER9 (U.S. EPA, 2001)",4798,"EPI",260,"PHYSPROP",135,"PHYSPROP",5.6299999999999996E-3,"EPI","","","","",2.17,"PHYSPROP",2.9999999999999997E-8,"PHYSPROP","","","",3.3498437012020002E-2,2.3016577705807699,5.5239786493938396,1,"RSL, nov/2022"]
["96-12-8","Dibromo-3-chloropropane, 1,2-",236.33,"PHYSPROP",6.0098119378600001E-3,1.47E-4,"EPI",2.1,"CRC",3.2135053870100003E-2,"WATER9 (U.S. EPA, 2001)",8.9047554209699996E-6,"WATER9 (U.S. EPA, 2001)",115.8,"EPI",1230,"PHYSPROP",6,"PHYSPROP",6.8500000000000002E-3,"EPI","","",0.98629999999999995,"Handbook of Environmental Degradation Rates. Lewis. Publishers, Chelsea, MI, 1989",2.96,"PHYSPROP",0.57999999999999996,"PHYSPROP","","","",4.0502016943349997E-2,2.2146074145907599,5.3150577950178297,1,"RSL, nov/2022"]
["96-18-4","Trichloropropane, 1,2,3-",147.43,"PHYSPROP",1.402289452167E-2,3.4299999999999999E-4,"PHYSPROP",1.4,"CRC",5.7466054964980001E-2,"WATER9 (U.S. EPA, 2001)",9.2410823201399999E-6,"WATER9 (U.S. EPA, 2001)",115.8,"EPI",1750,"PHYSPROP",-14.700000000000001,"PHYSPROP",7.5199999999999998E-3,"EPI","","",2,"Handbook of Environmental Degradation Rates. Lewis. Publishers, Chelsea, MI, 1989",2.27,"PHYSPROP",3.69,"PHYSPROP","","","",3.5118618673219998E-2,0.70381213342263005,1.6891491202143201,1,"RSL, nov/2022"]
["96-19-5","Trichloropropene, 1,2,3-",145.41999999999999,"PHYSPROP",0.71954210956664,1.7600000000000001E-2,"PHYSPROP",1.4,"CRC",5.906315230577E-2,"WATER9 (U.S. EPA, 2001)",9.4101837835499999E-6,"WATER9 (U.S. EPA, 2001)",115.8,"EPI",334.2,"PHYSPROP",-56.49,"EPI",1.6899999999999998E-2,"EPI","","","","",2.7800000000000002,"PHYSPROP",4.4000000000000004,"PHYSPROP","","","",7.8383639874660002E-2,0.68580516188263996,1.6459323885183399,1,"RSL, nov/2022"]
["96-33-3","Methyl Acrylate",86.090999999999994,"PHYSPROP",8.1357318070300003E-3,1.9900000000000001E-4,"EPI",0.95,"CRC",8.5997237679010005E-2,"WATER9 (U.S. EPA, 2001)",1.018332345E-5,"WATER9 (U.S. EPA, 2001)",5.8440000000000003,"EPI",49400,"PHYSPROP",-76.5,"PHYSPROP",1.75E-3,"EPI","","",3.8359999999999998E-2,"Handbook of Environmental Degradation Rates. Lewis. Publishers, Chelsea, MI, 1989",0.8,"PHYSPROP",86.56,"PHYSPROP","","","",6.24516010828E-3,0.31912317899590997,0.76589562959018997,1,"RSL, nov/2022"]
["96-45-7","Ethylene Thiourea",102.16,"PHYSPROP",5.5600981194000004E-10,1.36E-11,"PHYSPROP","","",8.6942677657990006E-2,"WATER9 (U.S. EPA, 2001)",1.015856549E-5,"WATER9 (U.S. EPA, 2001)",12.97,"EPI",20000,"PHYSPROP",203,"PHYSPROP",1.5200000000000001E-4,"EPI","","",0.15340000000000001,"Handbook of Environmental Degradation Rates. Lewis. Publishers, Chelsea, MI, 1989",-0.66,"PHYSPROP",2.0200000000000001E-6,"PHYSPROP","","","",5.9089549933000001E-4,0.39259498679478999,0.9422279683075,1,"RSL, nov/2022"]
["96-91-3","Picramic Acid (2-Amino-4,6-dinitrophenol)",199.12,"PHYSPROP",3.9860997547000002E-10,9.7500000000000003E-12,"PHYSPROP","","",5.5719902167100002E-2,"WATER9 (U.S. EPA, 2001)",6.5104306742599998E-6,"WATER9 (U.S. EPA, 2001)",226.5,"EPI",1400,"PHYSPROP",169,"PHYSPROP",4.9600000000000002E-4,"EPI","","","","",0.93,"PHYSPROP",4.1600000000000002E-7,"PHYSPROP","","","",2.6919424455499998E-3,1.37063162945253,3.2895159106860801,1,"RSL, nov/2022"]
["961-11-5","Stirofos (Tetrachlorovinphos)",365.97,"PHYSPROP",7.5224856909199998E-8,1.8400000000000001E-9,"EPI","","",3.7135557108919998E-2,"WATER9 (U.S. EPA, 2001)",4.3389966727300002E-6,"WATER9 (U.S. EPA, 2001)",1375,"EPI",11,"PHYSPROP",97.5,"PHYSPROP",3.0699999999999998E-3,"EPI","","","","",3.5300000000000002,"PHYSPROP",4.1999999999999999E-8,"PHYSPROP","","","",2.2588519669470002E-2,11.783674828751201,28.280819589002999,0.9,"RSL, nov/2022"]
["97-63-2","Ethyl Methacrylate",114.15,"PHYSPROP",2.342600163532E-2,5.7300000000000005E-4,"EPI",0.91,"CRC",6.5344090272240002E-2,"WATER9 (U.S. EPA, 2001)",8.3793697201900005E-6,"WATER9 (U.S. EPA, 2001)",16.66,"EPI",5400,"PHYSPROP",-75,"PHYSPROP",6.9800000000000001E-3,"EPI","","","","",1.94,"PHYSPROP",20.59,"PHYSPROP","","","",2.8682700134090001E-2,0.45823551919930999,1.09976524607834,1,"RSL, nov/2022"]
["98-01-1","Furfural",96.085999999999999,"PHYSPROP",1.5412919052000001E-4,3.7699999999999999E-6,"EPI",1.2,"CRC",8.5321272147970001E-2,"WATER9 (U.S. EPA, 2001)",1.0720515779999999E-5,"WATER9 (U.S. EPA, 2001)",6.0830000000000002,"EPI",74100,"PHYSPROP",-38.1,"PHYSPROP",8.4800000000000001E-4,"EPI","","","","",0.41000000000000003,"PHYSPROP",2.21,"PHYSPROP","","","",3.1970730637799999E-3,0.36301983045656999,0.87124759309576005,1,"RSL, nov/2022"]
["98-06-6","Butylbenzene, tert-",134.22,"PHYSPROP",0.53965658217498003,1.32E-2,"EPI",0.87,"CRC",5.2952546104589999E-2,"WATER9 (U.S. EPA, 2001)",7.3661841390799998E-6,"WATER9 (U.S. EPA, 2001)",1001,"EPI",29.5,"PHYSPROP",-57.800000000000004,"PHYSPROP",0.14899999999999999,"EPI","","","","",4.1100000000000003,"PHYSPROP",2.2044000000000001,"PHYSPROP","","","",0.66392884546035003,0.59358203670076004,2.3266564190159502,1,"RSL, nov/2022"]
["98-07-7","Benzotrichloride",195.48000000000002,"PHYSPROP",1.0629599345869999E-2,2.5999999999999998E-4,"PHYSPROP",1.4,"CRC",3.12555432717E-2,"WATER9 (U.S. EPA, 2001)",7.7460413560299999E-6,"WATER9 (U.S. EPA, 2001)",1001,"EPI",53,"PHYSPROP",-5,"PHYSPROP",4.87E-2,"EPI","","",5.7077999999999998E-6,"Handbook of Environmental Degradation Rates. Lewis. Publishers, Chelsea, MI, 1989",3.9,"PHYSPROP",0.41399999999999998,"EPI","","","",0.26188268105976997,1.3077861979538601,3.1386868750892698,1,"RSL, nov/2022"]
["98-56-6","Chlorobenzotrifluoride, 4-",180.56,"PHYSPROP",1.41864268192968,3.4700000000000002E-2,"PHYSPROP",1.3,"CRC",3.8499520148579998E-2,"WATER9 (U.S. EPA, 2001)",7.9871592145799999E-6,"WATER9 (U.S. EPA, 2001)",1606,"EPI",29,"PHYSPROP",-33,"PHYSPROP",3.7499999999999999E-2,"EPI","","","","",3.6,"PHYSPROP",7.63,"PHYSPROP","","","",0.19380665806431999,1.0789088353506799,2.58938120484164,1,"RSL, nov/2022"]
["98-66-8","Chlorobenzene sulfonic acid, p-",192.62,"PHYSPROP",7.6042518397399999E-8,1.86E-9,"PHYSPROP","","",5.696647523692E-2,"WATER9 (U.S. EPA, 2001)",6.6560828961000002E-6,"WATER9 (U.S. EPA, 2001)",16.059999999999999,"EPI",306300,"PHYSPROP",67,"PHYSPROP",5.8600000000000001E-5,"EPI","","","","",-0.52,"PHYSPROP",4.2799999999999997E-6,"PHYSPROP","","","",3.1280591539999998E-4,1.2604358572543299,3.0250460574103899,1,"RSL, nov/2022"]
["98-82-8","Cumene",120.2,"PHYSPROP",0.47015535568275002,1.15E-2,"PHYSPROP",0.86,"CRC",6.0304449968449997E-2,"WATER9 (U.S. EPA, 2001)",7.8566487323800006E-6,"WATER9 (U.S. EPA, 2001)",697.80000000000007,"EPI",61.300000000000004,"PHYSPROP",-96,"PHYSPROP",8.9700000000000002E-2,"EPI","","",4.3839999999999997E-2,"Handbook of Environmental Degradation Rates. Lewis. Publishers, Chelsea, MI, 1989",3.66,"PHYSPROP",4.5,"PHYSPROP","","","",0.37824337403316999,0.49541454114276001,1.18899489874263,1,"RSL, nov/2022"]
["98-83-9","Methylstyrene, Alpha-",118.18,"PHYSPROP",0.10425183973835001,2.5500000000000002E-3,"EPI",0.91,"CRC",6.2902043562859999E-2,"WATER9 (U.S. EPA, 2001)",8.1910950917400005E-6,"WATER9 (U.S. EPA, 2001)",697.80000000000007,"EPI",116,"PHYSPROP",-23.2,"PHYSPROP",6.9900000000000004E-2,"EPI","","","","",3.48,"PHYSPROP",1.9000000000000001,"EPI","","","",0.29226433428435,0.48267716096861002,1.15842518632467,1,"RSL, nov/2022"]
["98-86-2","Acetophenone",120.15,"PHYSPROP",4.2518397383000002E-4,1.04E-5,"PHYSPROP",1,"CRC",6.5222113909880003E-2,"WATER9 (U.S. EPA, 2001)",8.7228563799600003E-6,"WATER9 (U.S. EPA, 2001)",51.85,"EPI",6130,"PHYSPROP",20,"PHYSPROP",3.7200000000000002E-3,"EPI","","","","",1.58,"PHYSPROP",0.39700000000000002,"PHYSPROP","","","",1.568308439353E-2,0.49509523852638998,1.1882285724633299,1,"RSL, nov/2022"]
["98-95-3","Nitrobenzene",123.11,"PHYSPROP",9.8119378577000006E-4,2.4000000000000001E-5,"PHYSPROP",1.2,"CRC",6.8054005688140004E-2,"WATER9 (U.S. EPA, 2001)",9.4494543019000005E-6,"WATER9 (U.S. EPA, 2001)",226.4,"EPI",2090,"PHYSPROP",5.7,"PHYSPROP",5.4099999999999999E-3,"EPI","","",1.079,"Handbook of Environmental Degradation Rates. Lewis. Publishers, Chelsea, MI, 1989",1.85,"PHYSPROP",0.245,"PHYSPROP","","","",2.308716372459E-2,0.51435711250659999,1.2344570700158399,1,"RSL, nov/2022"]
["99-08-1","Nitrotoluene, m-",137.13999999999999,"PHYSPROP",3.8021259198999999E-4,9.3000000000000007E-6,"PHYSPROP",1.2,"CRC",5.8686007152479999E-2,"WATER9 (U.S. EPA, 2001)",8.6540803161600003E-6,"WATER9 (U.S. EPA, 2001)",363.2,"EPI",500,"PHYSPROP",15.5,"PHYSPROP",1.1299999999999999E-2,"EPI","","","","",2.4500000000000002,"PHYSPROP",0.20500000000000002,"EPI","","","",5.0896412086840002E-2,0.61635759176264004,1.4792582202303399,1,"RSL, nov/2022"]
["99-35-4","Trinitrobenzene, 1,3,5-",213.11,"PHYSPROP",2.6573998364700002E-7,6.5000000000000003E-9,"EPI",1.5,"CRC",2.896845941775E-2,"WATER9 (U.S. EPA, 2001)",7.6882229312099996E-6,"WATER9 (U.S. EPA, 2001)",1683,"EPI",278,"PHYSPROP",121.5,"PHYSPROP",6.0700000000000001E-4,"EPI","","","","",1.18,"PHYSPROP",6.4400000000000002E-6,"EPI","","","",3.4081386751799998E-3,1.64159019560513,3.9398164694523201,1,"RSL, nov/2022"]
["99-55-8","Methyl-5-Nitroaniline, 2-",152.15,"PHYSPROP",3.3892068683599999E-7,8.2900000000000001E-9,"PHYSPROP","","",6.6666189093659997E-2,"WATER9 (U.S. EPA, 2001)",7.78941788358E-6,"WATER9 (U.S. EPA, 2001)",178.6,"EPI",10000,"PHYSPROP",105.5,"PHYSPROP",3.8400000000000001E-3,"EPI","","",0.15340000000000001,"Handbook of Environmental Degradation Rates. Lewis. Publishers, Chelsea, MI, 1989",1.87,"PHYSPROP",9.7499999999999996E-4,"PHYSPROP","","","",1.821771294891E-2,0.74797787135728,1.7951468912574799,1,"RSL, nov/2022"]
["99-59-2","Methoxy-5-nitroaniline, 2-",168.15,"PHYSPROP",5.1103843009000003E-7,1.2499999999999999E-8,"PHYSPROP",1.2,"CRC",4.3046343097539998E-2,"WATER9 (U.S. EPA, 2001)",7.8493705120499999E-6,"WATER9 (U.S. EPA, 2001)",71.31,"EPI",115,"PHYSPROP",118,"PHYSPROP",1.6900000000000001E-3,"EPI","","",0.15340000000000001,"Handbook of Environmental Degradation Rates. Lewis. Publishers, Chelsea, MI, 1989",1.47,"PHYSPROP",3.19E-4,"PHYSPROP","","","",8.4287232129200002E-3,0.91936665833377995,2.2064799800010699,1,"RSL, nov/2022"]
["99-65-0","Dinitrobenzene, 1,3-",168.11,"PHYSPROP",2.00327064595E-6,4.9000000000000002E-8,"PHYSPROP",1.6,"CRC",4.8498714626700003E-2,"WATER9 (U.S. EPA, 2001)",9.2108672163200004E-6,"WATER9 (U.S. EPA, 2001)",351.6,"EPI",533,"PHYSPROP",90,"PHYSPROP",1.74E-3,"EPI","","",0.98629999999999995,"Handbook of Environmental Degradation Rates. Lewis. Publishers, Chelsea, MI, 1989",1.49,"PHYSPROP",8.9999999999999998E-4,"EPI","","","",8.67706147598E-3,0.91889259052981997,2.2053422172715602,1,"RSL, nov/2022"]
["99-94-5","Toluic Acid, p-",136.15,"EPI",1.148E-5,2.8098060000000002E-7,"YAWS",1.2,"PPRTV",6.0847201118910003E-2,"WATER9 (U.S. EPA, 2001)",9.0116486519500006E-6,"WATER9 (U.S. EPA, 2001)",27,"PPRTV",340,"EPI",179.6,"EPI",8.6999999999999994E-3,"EPI","","","","",2.27,"EPI",5.0800000000000002E-5,"EPI","","","",3.904403806324E-2,0.60853946678263005,1.4604947202783201,1,"RSL, nov/2022"]
["99-99-0","Nitrotoluene, p-",137.13999999999999,"PHYSPROP",2.3017170891E-4,5.6300000000000003E-6,"PHYSPROP",1.1000000000000001,"CRC",5.7443176786500003E-2,"WATER9 (U.S. EPA, 2001)",8.4082868310900004E-6,"WATER9 (U.S. EPA, 2001)",363.2,"EPI",442,"PHYSPROP",51.6,"PHYSPROP",0.01,"EPI","","","","",2.37,"PHYSPROP",1.5699999999999999E-2,"EPI","","","",4.504107264322E-2,0.61635759176264004,1.4792582202303399,1,"RSL, nov/2022"]
["993-13-5","Methyl Phosphonic Acid",96.022999999999996,"PHYSPROP",4.9877350777000001E-10,1.2200000000000001E-11,"PHYSPROP","","",9.0608739217449996E-2,"WATER9 (U.S. EPA, 2001)",1.058691585E-5,"WATER9 (U.S. EPA, 2001)",1.407,"EPI",20000,"PHYSPROP",108.5,"PHYSPROP",9.8400000000000007E-5,"EPI","","","","",-0.70000000000000007,"PHYSPROP",3.2699999999999998E-4,"EPI","","","",3.7085948049000002E-4,0.36272505031253999,0.87054012075009002,1,"RSL, nov/2022"]
["E1615210","Dinitrotoluene Mixture, 2,4/2,6-",182.14000000000001,"EPI",1.6230580539999999E-5,3.9700000000000002E-7,"EPI","","",5.9131202749660002E-2,"WATER9 (U.S. EPA, 2001)",6.9090142160100002E-6,"WATER9 (U.S. EPA, 2001)",587.4,"EPI",270,"EPI",60,"EPI",4.1599999999999996E-3,"EPI","","","","",2.1800000000000002,"EPI",2.15E-3,"EPI","","","",2.1593480497589999E-2,1.1011151793496901,2.64267643043926,1,"RSL, nov/2022"]
["E17136615","Diesel Engine Exhaust","","","","","","","","","","","","","","","","","","","","","","","","","","","","","","","","","",0,"RSL, nov/2022"]
["E1737665","JP-7","","",0.40899999999999997,0.01,"EPA HCD",0.78,"ATSDR Profile","","","","","","",10.4,"EPA HCD",-55,"EPA HCD","","","","","","",8,"EPA HCD",10.5,"EPA HCD","","","","","","",0,"RSL, nov/2022"]
["E1790661","Dibutyltin Compounds","","","","","","","","","","","","","","","","","","","","","","","","","","","","","","","","","",0,"RSL, nov/2022"]
["E1790665","Thiocyanates","","","","","","","","","","","","","","","","","",1E-3,"RAGSE","","","","","","","","","","","","","","",0,"RSL, nov/2022"]
["E1790666","Total Petroleum Hydrocarbons (Aliphatic Low)",90.183666669999994,"SURROGATE",6.1324611610000002,0.15,"SURROGATE",0.71,"CRC",7.2446395900620006E-2,"WATER9 (U.S. EPA, 2001)",8.2600994345200005E-6,"WATER9 (U.S. EPA, 2001)",172.33333329999999,"EPI",22.633333329999999,"SURROGATE",-59.766666669999999,"SURROGATE",0.28000000000000003,"EPI","","","","",4,"SURROGATE",98.053333330000001,"SURROGATE","","","",1.02270087557727,0.33641649594308998,1.2994407885661501,1,"RSL, nov/2022"]
["E1790668","Total Petroleum Hydrocarbons (Aliphatic Medium)",128.26,"SURROGATE",139.00245298446401,3.4,"EPI",0.72,"CRC",5.1431994696579997E-2,"WATER9 (U.S. EPA, 2001)",6.7690362122699998E-6,"WATER9 (U.S. EPA, 2001)",796,"EPI",0.22,"SURROGATE",-53.5,"SURROGATE",1.7,"EPI","","","","",5.65,"SURROGATE",4.45,"SURROGATE","","","",7.4049339860175696,0.54967343630260002,2.4597368290978299,1,"RSL, nov/2022"]
["E1790669","Midrange Aliphatic Hydrocarbon Streams",128.26,"PHYSPROP",139.00245298446401,3.4,"EPI",0.72,"CRC",5.1431994696579997E-2,"WATER9 (U.S. EPA, 2001)",6.7690362122699998E-6,"WATER9 (U.S. EPA, 2001)",796,"EPI",0.22,"PHYSPROP",-53.5,"PHYSPROP",1.7,"EPI","","","","",5.65,"PHYSPROP",4.45,"PHYSPROP","","","",7.4049339860175696,0.54967343630260002,2.4597368290978299,1,"RSL, nov/2022"]
["E1790670","Total Petroleum Hydrocarbons (Aliphatic High)",170.34,"EPI",334.423548650859,8.18,"EPI",0.88,"ChemNet",3.6194044102260001E-2,"WATER9 (U.S. EPA, 2001)",6.4310449015000002E-6,"WATER9 (U.S. EPA, 2001)",4818,"EPI",3.7000000000000002E-3,"EPI",-9.6,"EPI",1.96,"EPI","","","","",6.1000000000000005,"EPI",0.13500000000000001,"EPI","","","",9.8387753603645205,0.94569860762913005,4.2817373398877798,1,"RSL, nov/2022"]
["E1790674","Total Petroleum Hydrocarbons (Aromatic Medium)",120.2,"SURROGATE",0.26287816800000002,6.43E-3,"SURROGATE",0.88,"CRC",6.072024173019E-2,"WATER9 (U.S. EPA, 2001)",7.9286302722500004E-6,"WATER9 (U.S. EPA, 2001)",614.43333329999996,"EPI",60.133333329999999,"SURROGATE",-37.966666670000002,"SURROGATE",7.9166666999999996E-2,"EPI","","","","",3.5700000000000003,"SURROGATE",2.0895333329999999,"SURROGATE","","","",0.33382683653334,0.49541454114276001,1.18899489874263,1,"RSL, nov/2022"]
["E1790676","Total Petroleum Hydrocarbons (Aromatic High)",252.32,"SURROGATE",1.8683564999999999E-5,4.5699999999999998E-7,"SURROGATE",1.4,"SURROGATE",2.547643760558E-2,"WATER9 (U.S. EPA, 2001)",6.58406296339E-6,"WATER9 (U.S. EPA, 2001)",587400,"EPI",1.6199999999999999E-3,"SURROGATE",176.5,"SURROGATE",0.71299999999999997,"EPI","","","","",6.13,"SURROGATE",5.4899999999999999E-9,"EPI","","","",4.3560416128113797,2.72170311040471,11.8221045485476,1,"RSL, nov/2022"]
["E1790679","Tributyltin Compounds","","","","","","","","","","","","","","","","","","","","","","","","","","","","","","","","","",0,"RSL, nov/2022"]
["E1841606","Toxaphene, Weathered",448.26,"PHYSPROP",2.4529800000000002E-4,6.0000000000000002E-6,"PHYSPROP",1.7,"SURROGATE",2.083036168457E-2,"WATER9 (U.S. EPA, 2001)",5.2582852998400003E-6,"WATER9 (U.S. EPA, 2001)",77200,"EPI",0.55000000000000004,"PHYSPROP",77,"PHYSPROP",5.1799999999999999E-2,"EPI","","","","",5.9,"PHYSPROP",6.6900000000000003E-6,"PHYSPROP","","","",0.42181440336665998,34.049030432443402,81.717673037864103,0.8,"RSL, nov/2022"]
["E5241997","Hexane, Commercial",86.177999999999997,"PHYSPROP",73.589533932951795,1.8,"EPI",0.66,"CRC",7.3107790633359995E-2,"WATER9 (U.S. EPA, 2001)",8.1657685595900006E-6,"WATER9 (U.S. EPA, 2001)",131.5,"EPI",9.5,"PHYSPROP",-95.3,"PHYSPROP",0.20100000000000001,"EPI","","","","",3.9,"PHYSPROP",151.30000000000001,"PHYSPROP","","","",0.71766359267313995,0.31948137846739,1.2376933948698701,1,"RSL, nov/2022"]
["E649830","Coke Oven Emissions","","",0.45,1.0999999999999999E-2,"Toxnet HSDB","","",0.10397984740435,"WATER9 (U.S. EPA, 2001)",1.214922428E-5,"WATER9 (U.S. EPA, 2001)",16000,"","","","","","","","","","","","","",95,"Toxnet HSDB","","","","","","",0,"RSL, nov/2022"]
["E701177","Nitrate + Nitrite (measured as nitrogen)","","","","","","","","","","","","","","","","","",1E-3,"RAGSE","","","","","","","","","","","","","","",0,"RSL, nov/2022"]
["E701235","Chloramines, Organic","","","","","","","","","","","","","","","","","","","","","","","","","","","","","","","","","",0,"RSL, nov/2022"]
["E715532","Nickel Refinery Dust","","","","","","","","","","","","","","","","","",2.0000000000000001E-4,"RAGSE",150,"BAES","","","","","","","","","","","","",0,"RSL, nov/2022"]
["E715557","Refractory Ceramic Fibers (units in fibers)","","","","","","","","","","","","","","","","","",1E-3,"RAGSE","","","","","","","","","","","","","","",0,"RSL, nov/2022"]

{"sheet":"FatTox","index":16,"n_rows":823,"n_cols":22,"rows_kept":823,"cut":false,"hidden":false,"merged":[[1,0,2,0],[0,2,0,20],[1,18,2,18],[1,19,2,19],[1,20,2,20],[0,0,0,1],[1,1,2,1],[1,3,2,3],[1,17,2,17],[1,13,2,13],[1,5,2,5],[1,7,2,7],[1,9,2,9],[1,10,2,10],[1,11,2,11],[1,14,2,14],[1,16,2,16],[1,12,2,12],[1,21,2,21]]}
["BANCO DE DADOS TOXICOLÓGICOS",null,"Informações Toxicológicas Específicas"]
["CAS N°","Analito","SFO","key","IUR","key","RfDo","key","RfCi","key","voc","Mutagenico","ABSGI (RAGS E)","ABSd (RAGS E)","Classe de Cancer","Csat","CARCINOGÊNICO","TIPO","MCL","Potabilidade","Inorgânico ou Orgânico?","Biodisponibilidade"]
[null,null,"(mg/kg-day)-1",null,"(ug/m3)-1",null,"(mg/kg-day)",null,"(mg/m3)",null,null,null,null,null,null,"mg/kg"]
["100-00-5","Chloronitrobenzene, p-",0.06,"P","","",6.9999999999999999E-4,"P",2E-3,"P","","",1,0.1,"","","C","","","","",1]
["100-01-6","Nitroaniline, 4-",0.02,"P","","",4.0000000000000001E-3,"P",6.0000000000000001E-3,"P","","",1,0.1,"","","C","","","","",1]
["100-21-0","Phthalic Acid, p-","","","","",0.5,"X","","","","",1,0.1,"","","NC","","","","",1]
["100-25-4","Dinitrobenzene, 1,4-","","","","",1E-4,"P","","","","",1,0.1,"","","NC","","","","",1]
["100-41-4","Ethylbenzene",1.0999999999999999E-2,"C",2.5000000000000002E-6,"C",0.05,"P",1,"I","V","",1,"","",480,"C","",700,300,"",1]
["100-42-5","Styrene","","","","",0.2,"I",1,"I","V","",1,"","",867,"NC","",100,20,"",1]
["100-44-7","Benzyl Chloride",0.17,"I",4.8999999999999998E-5,"C",2E-3,"P",1E-3,"P","V","",1,"","",1460,"C","","","","",1]
["100-51-6","Benzyl Alcohol","","","","",0.1,"P","","","","",1,0.1,"","","NC","","","","",1]
["100-52-7","Benzaldehyde",4.0000000000000001E-3,"P","","",0.1,"I","","","V","",1,"","",1160,"C","","","","",1]
["100-61-8","Monomethylaniline","","","","",2E-3,"P","","","","",1,0.1,"","","NC","","","","",1]
["100-75-4","Nitrosopiperidine [N-]",9.4,"C",2.7000000000000001E-3,"C","","","","","","",1,0.1,"","","C","","","","",1]
["10025-84-0","Lanthanum Chloride Heptahydrate","","","","",1.9000000000000001E-5,"P","","","","",1,"","","","NC","","","","",1]
["10025-85-1","Trichloramine","","","","","","","","","","",1,0.1,"","","NC","",40000,"","",1]
["10034-93-2","Hydrazine Sulfate",3,"I",4.8999999999999998E-3,"I","","","","","","",1,"","","","C","","","","INORGANICO",1]
["10049-04-4","Chlorine Dioxide","","","","",0.03,"I",2.0000000000000001E-4,"I","V","",1,"","","","NC","",8000,"","INORGANICO",1]
["100587-90-4","Lanthanum Acetate Hydrate","","","","",2.0999999999999999E-5,"P","","","","",1,0.1,"","","NC","","","","",1]
["10099-58-8","Lanthanum Chloride, Anhydrous","","","","",2.8E-5,"P","","","","",1,"","","","NC","","","","",1]
["101-14-4","Methylene-bis(2-chloroaniline), 4,4'-",0.1,"P",4.2999999999999999E-4,"C",2E-3,"P","","","","M",1,0.1,"","","C","","","","",1]
["101-21-3","Chlorpropham","","","","",5.0000000000000001E-3,"O","","","","",1,0.1,"","","NC","","","","",1]
["101-61-1","Methylene-bis(N,N-dimethyl) Aniline, 4,4'-",4.5999999999999999E-2,"I",1.2999999999999999E-5,"C","","","","","","",1,0.1,"","","C","","","","",1]
["101-68-8","Methylenediphenyl Diisocyanate","","","","","","",5.9999999999999995E-4,"I","","",1,0.1,"","","NC","","","","",1]
["101-77-9","Methylenebisbenzenamine, 4,4'-",1.6,"C",4.6000000000000001E-4,"C","","",0.02,"C","","",1,0.1,"","","C","","","","",1]
["101-84-8","Diphenyl Ether","","","","","","",4.0000000000000002E-4,"X","V","",1,"","","","NC","","","","",1]
["10102-45-1","Thallium (I) Nitrate","","","","",1.0000000000000001E-5,"X","","","","",1,"","","","NC","METAL","","","INORGANICO",1]
["101200-48-0","Tribenuron-methyl","","","","",8.0000000000000002E-3,"I","","","","",1,0.1,"","","NC","","","","",1]
["10159-46-3","Pentamethylphosphoramide (PMPA)","","","","",1E-4,"X","","","","",1,0.1,"","","NC","","","","",1]
["102-76-1","Triacetin","","","","",80,"X","","","","",1,0.1,"","","NC","","","","",1]
["10213-10-2","Sodium Tungstate Dihydrate","","","","",8.0000000000000004E-4,"P","","","","",1,"","","","NC","","","","INORGANICO",1]
["1024-57-3","Heptachlor Epoxide",9.1,"I",2.5999999999999999E-3,"I",1.2999999999999999E-5,"I","","","V","",1,"","","","C","",0.2,"","",1]
["10265-92-6","Methamidophos","","","","",5.0000000000000002E-5,"I","","","","",1,0.1,"","","NC","","",7,"",1]
["10277-43-7","Lanthanum Nitrate Hexahydrate","","","","",1.5999999999999999E-5,"P","","","","",1,"","","","NC","","","","",1]
["10294-34-5","Boron Trichloride","","","","",2,"P",0.02,"P","V","",1,"","","","NC","","","","INORGANICO",1]
["103-23-1","Di(2-ethylhexyl)adipate",1.1999999999999999E-3,"I","","",0.6,"I","","","","",1,0.1,"","","C","",400,"","",1]
["103-33-3","Azobenzene",0.11,"I",3.1000000000000001E-5,"I","","","","","V","",1,"","","","C","","","","",1]
["103-65-1","Propyl benzene","","","","",0.1,"X",1,"X","V","",1,"","",264,"NC","","","","",1]
["103-72-0","Phenyl Isothiocyanate","","","","",2.0000000000000001E-4,"X","","","V","",1,"","",129,"NC","","","","",1]
["1031-07-8","Endosulfan Sulfate","","","","",6.0000000000000001E-3,"P","","","","",1,0.1,"","","NC","","","","",1]
["104-51-8","Butylbenzene, n-","","","","",0.05,"P","","","V","",1,"","",108,"NC","","","","",1]
["104-76-7","Hexanol, 1-,2-ethyl- (2-Ethyl-1-hexanol)",9.4999999999999998E-3,"P","","",7.0000000000000007E-2,"P",4.0000000000000002E-4,"P","V","",1,"","",274,"C","","","","",1]
["10453-86-8","Resmethrin","","","","",0.03,"I","","","","",1,0.1,"","","NC","","","","",1]
["105-60-2","Caprolactam","","","","",0.5,"I",2.2000000000000001E-3,"C","","",1,0.1,"","","NC","","","","",1]
["105-67-9","Dimethylphenol, 2,4-","","","","",0.02,"I","","","","",1,0.1,"","","NC","","","","",1]
["10595-95-6","Nitrosomethylethylamine, N-",22,"I",6.3E-3,"C","","","","","V","",1,"","",108000,"C","","","","",1]
["10599-90-3","Monochloramine","","","","",0.1,"I","","","","",1,"","","","NC","",40000,4000,"",1]
["106-37-6","Dibromobenzene, 1,4-","","","","",0.01,"I","","","V","",1,"","","","NC","","","","",1]
["106-42-3","Xylene, p-","","","","",0.2,"G",0.1,"G","V","",1,"","",390,"NC","","","","",1]
["106-43-4","Chlorotoluene, p-","","","","",0.02,"X","","","V","",1,"","",253,"NC","","","","",1]
["106-44-5","Cresol, p-","","","","",0.02,"P",0.6,"C","","",1,0.1,"","","NC","","","","",1]
["106-46-7","Dichlorobenzene, 1,4-",5.4000000000000003E-3,"C",1.1E-5,"C",7.0000000000000007E-2,"A",0.8,"I","V","",1,"","","","C","",75,0.3,"",1]
["106-47-8","Chloroaniline, p-",0.2,"P","","",5.0000000000000001E-4,"P","","","","",1,0.1,"","","C","","","","",1]
["106-49-0","Toluidine, p-",0.03,"P","","",4.0000000000000001E-3,"X","","","","",1,0.1,"","","C","","","","",1]
["106-50-3","Phenylenediamine, p-","","","","",1E-3,"X","","","","",1,0.1,"","","NC","","","","",1]
["106-88-7","Epoxybutane, 1,2-","","","","","","",0.02,"I","V","",1,"","",15300,"NC","","","","",1]
["106-89-8","Epichlorohydrin",9.9000000000000008E-3,"I",1.1999999999999999E-6,"I",6.0000000000000001E-3,"P",1E-3,"I","V","",1,"","",10500,"C","","",0.4,"",1]
["106-93-4","Dibromoethane, 1,2-",2,"I",5.9999999999999995E-4,"I",8.9999999999999993E-3,"I",8.9999999999999993E-3,"I","V","",1,"","",1340,"C","",0.05,"","",1]
["106-94-5","Bromopropane, 1-","","","","","","",0.1,"A","V","",1,"","",966,"NC","","","","",1]
["106-99-0","Butadiene, 1,3-",0.6,"C",3.0000000000000001E-5,"I","","",2E-3,"I","V","",1,"","",667,"C","","","","",1]
["107-02-8","Acrolein","","","","",5.0000000000000001E-4,"I",2.0000000000000002E-5,"I","V","",1,"","",22700,"NC","","","","",1]
["107-04-0","Bromo-2-chloroethane, 1-","","","","",1E-4,"X",6.0000000000000002E-5,"X","V","",1,"","",2380,"NC","","","","",1]
["107-05-1","Allyl Chloride",2.1000000000000001E-2,"C",6.0000000000000002E-6,"C","","",1E-3,"I","V","",1,"","",1420,"C","","","","",1]
["107-06-2","Dichloroethane, 1,2-",9.0999999999999998E-2,"I",2.5999999999999998E-5,"I",6.0000000000000001E-3,"X",7.0000000000000001E-3,"P","V","",1,"","",2980,"C","",5,5,"",1]
["107-07-3","Chloroethanol, 2-","","","","",0.02,"P","","","V","",1,"","",111000,"NC","","","","",1]
["107-13-1","Acrylonitrile",0.54,"I",6.7999999999999999E-5,"I",0.01,"A",2E-3,"I","V","",1,"","",11300,"C","","","","",1]
["107-15-3","Ethylene Diamine","","","","",0.09,"P","","","V","",1,"","",189000,"NC","","","","",1]
["107-18-6","Allyl Alcohol","","","","",4.0000000000000001E-3,"P",1E-4,"X","V","",1,"","",111000,"NC","","","","",1]
["107-19-7","Propargyl Alcohol","","","","",2E-3,"I","","","V","",1,"","",111000,"NC","","","","",1]
["107-20-0","Chloroacetaldehyde, 2-",0.27,"X","","","","","","","V","",1,"","",11800,"C","","","","",1]
["107-21-1","Ethylene Glycol","","","","",0.8,"A",0.4,"C","","",1,0.1,"","","NC","","","","",1]
["107-30-2","Chloromethyl Methyl Ether",2.4,"C",6.8999999999999997E-4,"C","","","","","V","",1,"","",9320,"C","","","","",1]
["107-98-2","Propylene Glycol Monomethyl Ether","","","","",0.7,"H",2,"I","V","",1,"","",106000,"NC","","","","",1]
["1071-83-6","Glyphosate","","","","",0.1,"I","","","","",1,0.1,"","","NC","",700,500,"",1]
["1073-06-9","Bromo-3-fluorobenzene, 1-","","","","",2.9999999999999997E-4,"X","","","V","",1,"","",896,"NC","","","","",1]
["108-05-4","Vinyl Acetate","","","","",1,"H",0.2,"I","V","",1,"","",2750,"NC","","","","",1]
["108-10-1","Methyl Isobutyl Ketone (4-methyl-2-pentanone)","","","","","","",3,"I","V","",1,"","",3360,"NC","","","","",1]
["108-11-2","Methyl-2-Pentanol, 4-","","","","","","",3,"X","V","",1,"","",2450,"NC","","","","",1]
["108-20-3","Diisopropyl Ether","","","","","","",0.7,"P","V","",1,"","",2260,"NC","","","","",1]
["108-31-6","Maleic Anhydride","","","","",0.1,"I",6.9999999999999999E-4,"C","","",1,0.1,"","","NC","","","","",1]
["108-36-1","Dibromobenzene, 1,3-","","","","",4.0000000000000002E-4,"X","","","V","",1,"","",159,"NC","","","","",1]
["108-38-3","Xylene, m-","","","","",0.2,"G",0.1,"G","V","",1,"","",388,"NC","","","","",1]
["108-39-4","Cresol, m-","","","","",0.05,"I",0.6,"C","","",1,0.1,"","","NC","","","","",1]
["108-45-2","Phenylenediamine, m-","","","","",6.0000000000000001E-3,"I","","","","",1,0.1,"","","NC","","","","",1]
["108-60-1","Bis(2-chloro-1-methylethyl) ether","","","","",0.04,"I","","","V","",1,"","",1020,"NC","","","","",1]
["108-67-8","Trimethylbenzene, 1,3,5-","","","","",0.01,"I",0.06,"I","V","",1,"","",182,"NC","","","","",1]
["108-86-1","Bromobenzene","","","","",8.0000000000000002E-3,"I",0.06,"I","V","",1,"","",679,"NC","","","","",1]
["108-88-3","Toluene","","","","",0.08,"I",5,"I","V","",1,"","",818,"NC","",1000,30,"",1]
["108-90-7","Chlorobenzene","","","","",0.02,"I",0.05,"P","V","",1,"","",761,"NC","",100,20,"",1]
["108-91-8","Cyclohexylamine","","","","",0.2,"I","","","V","",1,"","",293000,"NC","","","","",1]
["108-94-1","Cyclohexanone","","","","",5,"I",0.7,"P","V","",1,"","",5110,"NC","","","","",1]
["108-95-2","Phenol","","","","",0.3,"I",0.2,"C","","",1,0.1,"","","NC","","","","",1]
["108-98-5","Benzenethiol","","","","",1E-3,"P","","","V","",1,"","",1260,"NC","","","","",1]
["108427-53-8","Perfluorohexanesulfonate","","","","",2.0000000000000002E-5,"A","","","","",1,0.1,"","","NC","","","","",1]
["109-66-0","Pentane, n-","","","","","","",1,"P","V","",1,"","",388,"NC","","","","",1]
["109-69-3","Chlorobutane, 1-","","","","",0.04,"P","","","V","",1,"","",728,"NC","","","","",1]
["109-77-3","Malononitrile","","","","",1E-4,"P","","","","",1,0.1,"","","NC","","","","",1]
["109-78-4","Ethylene Cyanohydrin","","","","",7.0000000000000007E-2,"P","","","","",1,0.1,"","","NC","","","","",1]
["109-86-4","Methoxyethanol, 2-","","","","",5.0000000000000001E-3,"P",7.0000000000000001E-3,"P","V","",1,"","",106000,"NC","","","","",1]
["109-99-9","Tetrahydrofuran","","","","",0.9,"I",2,"I","V","",1,"","",165000,"NC","","","","",1]
["110-00-9","Furan","","","","",1E-3,"I","","","V","",1,"","",6220,"NC","","","","",1]
["110-49-6","Methoxyethanol Acetate, 2-","","","","",8.0000000000000002E-3,"P",1E-3,"P","V","",1,"","",115000,"NC","","","","",1]
["110-54-3","Hexane, N-","","","","","","",0.7,"I","V","",1,"","",141,"NC","","","","",1]
["110-57-6","Dichloro-2-butene, trans-1,4-","","",4.1999999999999997E-3,"P","","","","","V","",1,"","",760,"C","","","","",1]
["110-80-5","Ethoxyethanol, 2-","","","","",0.09,"P",0.04,"P","V","",1,"","",106000,"NC","","","","",1]
["110-82-7","Cyclohexane","","","","","","",6,"I","V","",1,"","",117,"NC","","","","",1]
["110-83-8","Cyclohexene","","","","",5.0000000000000001E-3,"P",1,"X","V","",1,"","",283,"NC","","","","",1]
["110-86-1","Pyridine","","","","",1E-3,"I","","","V","",1,"","",530000,"NC","","","","",1]
["11096-82-5","Aroclor 1260",2,"G",5.6999999999999998E-4,"G","","","","","V","",1,0.14000000000000001,"","","C","","","","",1]
["11097-69-1","Aroclor 1254",2,"G",5.6999999999999998E-4,"G",2.0000000000000002E-5,"I","","","V","",1,0.14000000000000001,"","","C","","","","",1]
["111-15-9","Ethoxyethanol Acetate, 2-","","","","",0.1,"P",0.06,"P","V","",1,"","",23800,"NC","","","","",1]
["111-30-8","Glutaraldehyde","","","","",0.1,"A",8.0000000000000007E-5,"C","","",1,0.1,"","","NC","","","","",1]
["111-42-2","Diethanolamine","","","","",2E-3,"P",2.0000000000000001E-4,"P","","",1,0.1,"","","NC","","","","",1]
["111-44-4","Bis(2-chloroethyl)ether",1.1000000000000001,"I",3.3E-4,"I","","","","","V","",1,"","",5050,"C","","","","",1]
["111-48-8","Thiodiglycol","","","","",7.0000000000000007E-2,"X","","","","",1,7.4999999999999997E-3,"","","NC","","","","",1]
["111-69-3","Adiponitrile","","","","","","",6.0000000000000001E-3,"P","","",1,0.1,"","","NC","","","","",1]
["111-71-7","Heptanal, n-","","","","","","",3.0000000000000001E-3,"X","V","",1,"","",209,"NC","","","","",1]
["111-76-2","Ethylene Glycol Monobutyl Ether","","","","",0.1,"I",1.6,"I","","",1,0.1,"","","NC","","","","",1]
["111-77-3","Ethanol, 2-(2-methoxyethoxy)-","","","","",0.04,"P","","","","",1,0.1,"","","NC","","","","",1]
["111-84-2","Nonane, n-","","","","",2.9999999999999997E-4,"X",0.02,"P","V","",1,"","",6.86,"NC","","","","",1]
["111-90-0","Diethylene Glycol Monoethyl Ether","","","","",0.06,"P",2.9999999999999997E-4,"P","","",1,0.1,"","","NC","","","","",1]
["111-91-1","Bis(2-chloroethoxy)methane","","","","",3.0000000000000001E-3,"P","","","","",1,0.1,"","","NC","","","","",1]
["11104-28-2","Aroclor 1221",2,"G",5.6999999999999998E-4,"G","","","","","V","",1,0.14000000000000001,"","","C","","","","",1]
["11126-42-4","Aroclor 5460","","","","",5.9999999999999995E-4,"X","","","V","",1,0.14000000000000001,"","","NC","","","","",1]
["1114-71-2","Pebulate","","","","",0.05,"H","","","V","",1,"","","","NC","","","","",1]
["11141-16-5","Aroclor 1232",2,"G",5.6999999999999998E-4,"G","","","","","V","",1,0.14000000000000001,"","","C","","","","",1]
["1116-54-7","Nitrosodiethanolamine, N-",2.8,"I",8.0000000000000004E-4,"C","","","","","","",1,0.1,"","","C","","","","",1]
["112-27-6","Triethylene Glycol","","","","",2,"P","","","","",1,0.1,"","","NC","","","","",1]
["112-34-5","Diethylene Glycol Monobutyl Ether","","","","",0.03,"P",1E-4,"P","","",1,0.1,"","","NC","","","","",1]
["113-00-8","Guanidine","","","","",0.01,"X","","","V","",1,"","","","NC","","","","",1]
["114-26-1","Phenol, 2-(1-methylethoxy)-, methylcarbamate","","","","",4.0000000000000001E-3,"I","","","","",1,0.1,"","","NC","","","","",1]
["115-07-1","Propylene","","","","","","",3,"C","V","",1,"","",349,"NC","","","","",1]
["115-29-7","Endosulfan","","","","",6.0000000000000001E-3,"I","","","V","",1,"","","","NC","","",20,"",1]
["115-96-8","Tris(2-chloroethyl)phosphate",0.02,"P","","",7.0000000000000001E-3,"P","","","","",1,0.1,"","","C","","","","",1]
["116-06-3","Aldicarb","","","","",1E-3,"I","","","","",1,0.1,"","","NC","",3,10,"",1]
["1163-19-5","Decabromodiphenyl ether, 2,2',3,3',4,4',5,5',6,6'- (BDE-209)",6.9999999999999999E-4,"I","","",7.0000000000000001E-3,"I","","","","",1,0.1,"","","C","","","","",1]
["117-81-7","Bis(2-ethylhexyl)phthalate",1.4E-2,"I",2.3999999999999999E-6,"C",0.02,"I","","","","",1,0.1,"","","C","",6,8,"",1]
["117-84-0","Octyl Phthalate, di-N-","","","","",0.01,"P","","","","",1,0.1,"","","NC","","","","",1]
["118-74-1","Hexachlorobenzene",1.6,"I",4.6000000000000001E-4,"I",1.0000000000000001E-5,"P","","","V","",1,"","","","C","",1,"","",1]
["118-75-2","Chloranil",0.4,"H","","","","","","","","",1,0.1,"","","C","","","","",1]
["118-79-6","Tribromophenol, 2,4,6-","","","","",8.9999999999999993E-3,"X","","","","",1,0.1,"","","NC","","","","",1]
["118-96-7","Trinitrotoluene, 2,4,6-",0.03,"I","","",5.0000000000000001E-4,"I","","","","",1,3.2000000000000001E-2,"","","C","","","","",1]
["119-90-4","Dimethoxybenzidine, 3,3'-",1.6,"P","","","","","","","","",1,0.1,"","","C","","","","",1]
["119-93-7","Dimethylbenzidine, 3,3'-",11,"P","","","","","","","","",1,0.1,"","","C","","","","",1]
["120-12-7","Anthracene","","","","",0.3,"I","","","V","",1,0.13,"","","NC","","","","",1]
["120-61-6","Dimethylterephthalate","","","","",0.1,"I","","","V","",1,"","","","NC","","","","",1]
["120-82-1","Trichlorobenzene, 1,2,4-",2.9000000000000001E-2,"P","","",0.01,"I",2E-3,"P","V","",1,"","",404,"C","",70,20,"",1]
["120-83-2","Dichlorophenol, 2,4-","","","","",3.0000000000000001E-3,"I","","","","",1,0.1,"","","NC","","",200,"",1]
["12035-72-2","Nickel Subsulfide",1.7,"C",4.8000000000000001E-4,"I",1.0999999999999999E-2,"C",1.4E-5,"C","","",0.04,"","","","C","","","","INORGANICO",1]
["12039-52-0","Thallium Selenite","","","","",1.0000000000000001E-5,"G","","","","",1,"","","","NC","","","","INORGANICO",1]
["12054-48-7","Nickel Hydroxide","","",2.5999999999999998E-4,"C",1.0999999999999999E-2,"C",1.4E-5,"C","","",0.04,"","","","C","","","","INORGANICO",1]
["121-14-2","Dinitrotoluene, 2,4-",0.31,"C",8.8999999999999995E-5,"C",2E-3,"I","","","","",1,0.10199999999999999,"","","C","","","","",1]
["121-44-8","Triethylamine","","","","","","",7.0000000000000001E-3,"I","V","",1,"","",27900,"NC","","","","",1]
["121-69-7","Dimethylaniline, N,N-",2.7E-2,"P","","",2E-3,"I","","","V","",1,"","",830,"C","","","","",1]
["121-75-5","Malathion","","","","",0.02,"I","","","","",1,0.1,"","","NC","","",60,"",1]
["121-82-4","Hexahydro-1,3,5-trinitro-1,3,5-triazine (RDX)",0.08,"I","","",4.0000000000000001E-3,"I","","","","",1,1.4999999999999999E-2,"","","C","","","","",1]
["12122-67-7","Zineb","","","","",0.05,"I","","","","",1,0.1,"","","NC","","","","",1]
["122-34-9","Simazine",0.12,"H","","",5.0000000000000001E-3,"I","","","","",1,0.1,"","","C","",4,2,"",1]
["122-39-4","Diphenylamine","","","","",0.1,"O","","","","",1,0.1,"","","NC","","","","",1]
["122-42-9","Propham","","","","",0.02,"I","","","","",1,0.1,"","","NC","","","","",1]
["122-66-7","Diphenylhydrazine, 1,2-",0.8,"I",2.2000000000000001E-4,"I","","","","","","",1,0.1,"","","C","","","","",1]
["123-30-8","Aminophenol, p-","","","","",0.02,"P","","","","",1,0.1,"","","NC","","","","",1]
["123-31-9","Hydroquinone",0.06,"P","","",0.04,"P","","","","",1,0.1,"","","C","","","","",1]
["123-33-1","Maleic Hydrazide","","","","",0.5,"I","","","","",1,0.1,"","","NC","","","","",1]
["123-38-6","Propionaldehyde","","","","","","",8.0000000000000002E-3,"I","V","",1,"","",32600,"NC","","","","",1]
["123-73-9","Crotonaldehyde, trans-",1.9,"H","","",1E-3,"P","","","V","",1,"","",16600,"C","","","","",1]
["123-77-3","Azodicarbonamide","","","","",1,"P",6.9999999999999999E-6,"P","","",1,0.1,"","","NC","","","","",1]
["123-91-1","Dioxane, 1,4-",0.1,"I",5.0000000000000004E-6,"I",0.03,"I",0.03,"I","V","",1,"","",116000,"C","","",48,"",1]
["124-04-9","Hexanedioic Acid","","","","",2,"P","","","","",1,0.1,"","","NC","","","","",1]
["124-48-1","Dibromochloromethane",8.4000000000000005E-2,"I","","",0.02,"I","","","V","",1,"","",802,"C","",800,100,"",1]
["124-58-3","Methylarsonic acid","","","","",0.01,"A","","","","",1,0.1,"","","NC","","","","",1]
["12427-38-2","Maneb","","","","",5.0000000000000001E-3,"I","","","","",1,0.1,"","","NC","","","","",1]
["126-33-0","Sulfolane","","","","",1E-3,"P",2E-3,"X","","",1,0.1,"","","NC","","","","",1]
["126-72-7","Tris(2,3-dibromopropyl)phosphate",2.2999999999999998,"C",6.6E-4,"C","","","","","V","",1,"","",467,"C","","","","",1]
["126-73-8","Tributyl Phosphate",8.9999999999999993E-3,"P","","",0.01,"P","","","","",1,0.1,"","","C","","","","",1]
["126-98-7","Methacrylonitrile","","","","",1E-4,"I",0.03,"P","V","",1,"","",4580,"NC","","","","",1]
["126-99-8","Chloro-1,3-butadiene, 2-","","",2.9999999999999997E-4,"I",0.02,"H",0.02,"I","V","",1,"","",786,"C","","","","",1]
["12672-29-6","Aroclor 1248",2,"G",5.6999999999999998E-4,"G","","","","","V","",1,0.14000000000000001,"","","C","","","","",1]
["12674-11-2","Aroclor 1016",7.0000000000000007E-2,"G",2.0000000000000002E-5,"G",6.9999999999999994E-5,"I","","","V","",1,0.14000000000000001,"","","C","","","","",1]
["127-18-4","Tetrachloroethylene",2.0999999999999999E-3,"I",2.6E-7,"I",6.0000000000000001E-3,"I",0.04,"I","V","",1,"","",166,"C","",5,40,"",1]
["127-63-9","Diphenyl Sulfone","","","","",8.0000000000000004E-4,"X","","","","",1,0.1,"","","NC","","","","",1]
["1271-28-9","Nickelocene",0.91,"C",2.5999999999999998E-4,"C",1.0999999999999999E-2,"C",1.4E-5,"C","","",1,0.1,"","","C","","","","",1]
["12789-03-6","Chlordane (technical mixture)",0.35,"I",1E-4,"I",5.0000000000000001E-4,"I",6.9999999999999999E-4,"I","V","",1,0.04,"","","C","",2,0.2,"",1]
["128-37-0","Butylated hydroxytoluene",3.5999999999999999E-3,"P","","",0.3,"P","","","","",1,0.1,"","","C","","","","",1]
["129-00-0","Pyrene","","","","",0.03,"I","","","V","",1,0.13,"","","NC","","","","",1]
["1306-38-3","Ceric oxide","","","","","","",8.9999999999999998E-4,"I","","",1,"","","","NC","","","","INORGANICO",1]
["13071-79-9","Terbufos","","","","",2.5000000000000001E-5,"H","","","V","",1,"","",30.9,"NC","","",1.2,"",1]
["1309-64-4","Antimony Trioxide","","","","","","",2.0000000000000001E-4,"I","","",0.15,"","","","NC","","","","INORGANICO",1]
["131-74-8","Ammonium Picrate","","","","",2E-3,"X","","","","",1,0.1,"","","NC","","","","",1]
["131-89-5","Dinitro-o-cyclohexyl Phenol, 4,6-","","","","",2E-3,"I","","","","",1,0.1,"","","NC","","","","",1]
["1313-99-1","Nickel Oxide","","",2.5999999999999998E-4,"C",1.0999999999999999E-2,"C",2.0000000000000002E-5,"C","","",0.04,"","","","C","","","","INORGANICO",1]
["1314-32-5","Thallic Oxide","","","","",2.0000000000000002E-5,"G","","","","",1,"","","","NC","","","","INORGANICO",1]
["1314-60-9","Antimony Pentoxide","","","","",5.0000000000000001E-4,"H","","","","",0.15,"","","","NC","","","","INORGANICO",1]
["1314-62-1","Vanadium Pentoxide","","",8.3000000000000001E-3,"P",8.9999999999999993E-3,"I",6.9999999999999999E-6,"P","","",2.5999999999999999E-2,"","","","C","","","","INORGANICO",1]
["1314-84-7","Zinc Phosphide","","","","",2.9999999999999997E-4,"I","","","","",1,"","","","NC","","","","INORGANICO",1]
["1319-77-3","Cresols","","","","",0.1,"A",0.6,"C","","",1,0.1,"","","NC","","","","",1]
["132-64-9","Dibenzofuran","","","","",1E-3,"X","","","V","",1,"","","","NC","","","","",1]
["13252-13-6","Hexafluoropropylene oxide dimer acid (HFPO-DA)","","","","",3.0000000000000001E-6,"D","","","V","",1,"","","","NC","","","","",1]
["133-06-2","Captan",2.3E-3,"C",6.6000000000000003E-7,"C",0.13,"I","","","","",1,0.1,"","","C","","","","",1]
["133-07-3","Folpet","","","","",0.09,"O","","","","",1,0.1,"","","NC","","","","",1]
["133-90-4","Chloramben","","","","",1.4999999999999999E-2,"I","","","","",1,0.1,"","","NC","","","","",1]
["1330-20-7","Xylenes","","","","",0.2,"I",0.1,"I","V","",1,"","",260,"NC","",10000,500,"",1]
["1330-78-5","Tricresyl Phosphate (TCP)","","","","",0.02,"A","","","","",1,0.1,"","","NC","","","","",1]
["1332-21-4","Asbestos (units in fibers)","","","","","","","","","","",1,"","","","NC","",70000000,"","",1]
["1332-81-6","Antimony Tetroxide","","","","",4.0000000000000002E-4,"H","","","","",0.15,"","","","NC","METAL","","","INORGANICO",1]
["1335-32-6","Lead subacetate",3.7999999999999999E-2,"C",1.1E-5,"C","","","","","","",1,0.1,"","","C","","","","",1]
["1336-36-3-A","Polychlorinated Biphenyls (lowest risk)",7.0000000000000007E-2,"I",2.0000000000000002E-5,"I","","","","","V","",1,0.14000000000000001,"","","C","",0.5,"","",1]
["1336-36-3-B","Polychlorinated Biphenyls (low risk)",0.4,"I",1E-4,"I","","","","","V","",1,0.14000000000000001,"","","C","",0.5,"","",1]
["1336-36-3-C","Polychlorinated Biphenyls (high risk)",2,"I",5.6999999999999998E-4,"I","","","","","V","",1,0.14000000000000001,"","","C","",0.5,"","",1]
["13463-39-3","Nickel Carbonyl","","",2.5999999999999998E-4,"C",1.0999999999999999E-2,"C",1.4E-5,"C","V","",1,"","","","C","","","","",1]
["13472-45-2","Sodium Tungstate","","","","",8.0000000000000004E-4,"P","","","","",1,"","","","NC","","","","INORGANICO",1]
["135-20-6","Cupferron",0.22,"C",6.3E-5,"C","","","","","","",1,0.1,"","","C","","","","",1]
["135-98-8","Butylbenzene, sec-","","","","",0.1,"X","","","V","",1,"","",145,"NC","","","","",1]
["13593-03-8","Quinalphos","","","","",5.0000000000000001E-4,"I","","","","",1,0.1,"","","NC","","","","",1]
["13674-84-5","Tris(1-chloro-2-propyl)phosphate","","","","",0.01,"X","","","","",1,0.1,"","","NC","","","","",1]
["13674-87-8","Tris(1,3-Dichloro-2-propyl) Phosphate","","","","",0.02,"A","","","","",1,0.1,"","","NC","","","","",1]
["13684-63-4","Phenmedipham","","","","",0.24,"O","","","","",1,0.1,"","","NC","","","","",1]
["137-26-8","Thiram","","","","",1.4999999999999999E-2,"O","","","","",1,0.1,"","","NC","","",6,"",1]
["13718-26-8","Sodium Metavanadate","","","","",1E-3,"H","","","","",1,"","","","NC","","","","INORGANICO",1]
["139-40-2","Propazine","","","","",0.02,"I","","","","",1,0.1,"","","NC","","","","",1]
["140-57-8","Sulfurous acid, 2-chloroethyl 2-[4-(1,1-dimethylethyl)phenoxy]-1-methylethyl ester",2.5000000000000001E-2,"I",7.0999999999999998E-6,"I",0.05,"H","","","","",1,0.1,"","","C","","","","",1]
["140-88-5","Ethyl Acrylate","","","","",5.0000000000000001E-3,"P",8.0000000000000002E-3,"P","V","",1,"","",2500,"NC","","","","",1]
["141-66-2","Dicrotophos","","","","",3.0000000000000001E-5,"O","","","","",1,0.1,"","","NC","","","","",1]
["141-78-6","Ethyl Acetate","","","","",0.7,"P",7.0000000000000007E-2,"P","V","",1,"","",10800,"NC","","","","",1]
["142-28-9","Dichloropropane, 1,3-","","","","",0.02,"P","","","V","",1,"","",1490,"NC","","","","",1]
["142-82-5","Heptane, N-","","","","",2.9999999999999997E-4,"X",0.4,"P","V","",1,"","",57.9,"NC","","","","",1]
["143-33-9","Sodium Cyanide","","","","",1E-3,"I","","","","",1,"","","","NC","",200,"","INORGANICO",1]
["143-50-0","Chlordecone (Kepone)",10,"I",4.5999999999999999E-3,"C",2.9999999999999997E-4,"I","","","","",1,0.1,"","","C","","","","",1]
["1445-75-6","Diisopropyl Methylphosphonate","","","","",0.08,"I","","","V","",1,"","",530,"NC","","","","",1]
["145-73-3","Endothall","","","","",0.02,"I","","","","",1,0.1,"","","NC","",100,"","",1]
["1476-11-5","Dichloro-2-butene, cis-1,4-","","",4.1999999999999997E-3,"P","","","","","V","",1,"","",519,"C","","","","",1]
["14797-55-8","Nitrate (measured as nitrogen)","","","","",1.6,"I","","","","",1,"","","","NC","",10000,10000,"INORGANICO",1]
["14797-65-0","Nitrite (measured as nitrogen)","","","","",0.1,"I","","","","",1,"","","","NC","",1000,1000,"INORGANICO",1]
["14797-73-0","Perchlorate and Perchlorate Salts","","","","",6.9999999999999999E-4,"I","","","","",1,"","","","NC","",150,"","INORGANICO",1]
["148-18-5","Sodium Diethyldithiocarbamate",0.27,"H","","",0.03,"I","","","","",1,0.1,"","","C","","","","",1]
["149-30-4","Mercaptobenzothiazole, 2-",1.0999999999999999E-2,"P","","",4.0000000000000001E-3,"P","","","","",1,0.1,"","","C","","","","",1]
["150-50-5","Merphos","","","","",3.0000000000000001E-5,"I","","","V","",1,"","","","NC","","","","",1]
["151-50-8","Potassium Cyanide","","","","",2E-3,"I","","","","",1,"","","","NC","","","","INORGANICO",1]
["151-56-4","Ethyleneimine",65,"C",1.9E-2,"C","","","","","V","",1,"","",154000,"C","","","","",1]
["152-16-9","Octamethylpyrophosphoramide","","","","",2E-3,"H","","","","",1,0.1,"","","NC","","","","",1]
["15299-99-7","Napropamide","","","","",0.12,"O","","","","",1,0.1,"","","NC","","","","",1]
["15541-45-4","Bromate",0.7,"I","","",4.0000000000000001E-3,"I","","","","",1,"","","","C","",10,10,"INORGANICO",1]
["156-59-2","Dichloroethylene, cis-1,2-","","","","",2E-3,"I",0.04,"X","V","",1,"","",2370,"NC","",70,50,"",1]
["156-60-5","Dichloroethylene, trans-1,2-","","","","",0.02,"I",0.04,"X","V","",1,"","",1850,"NC","",100,50,"",1]
["1563-66-2","Carbofuran","","","","",5.0000000000000001E-3,"I","","","","",1,0.1,"","","NC","",40,7,"",1]
["1582-09-8","Trifluralin",7.7000000000000002E-3,"I","","",7.4999999999999997E-3,"I","","","V","",1,"","","","C","","",20,"",1]
["1596-84-5","Daminozide",1.7999999999999999E-2,"C",5.1000000000000003E-6,"C",0.15,"I","","","","",1,0.1,"","","C","","","","",1]
["15972-60-8","Alachlor",5.6000000000000001E-2,"C","","",0.01,"I","","","","",1,0.1,"","","C","",2,20,"",1]
["16065-83-1","Chromium(III), Insoluble Salts","","","","",1.5,"I","","","","",1.2999999999999999E-2,"","","","NC","METAL","","","INORGANICO",1]
["16071-86-6","Direct Brown 95",6.7,"C",1.9E-3,"C","","","","","","",1,0.1,"","","C","","","","",1]
["1610-18-0","Prometon","","","","",1.4999999999999999E-2,"I","","","","",1,0.1,"","","NC","","","","",1]
["1634-04-4","Methyl tert-Butyl Ether (MTBE)",1.8E-3,"C",2.6E-7,"C","","",3,"I","V","",1,"","",8870,"C","","","","",1]
["1646-87-3","Aldicarb sulfoxide","","","","","","","","","","",1,0.1,"","","NC","",4,10,"",1]
["1646-88-4","Aldicarb Sulfone","","","","",1E-3,"I","","","","",1,0.1,"","","NC","",2,10,"",1]
["16672-87-0","Ethephon","","","","",5.0000000000000001E-3,"I","","","","",1,0.1,"","","NC","","","","",1]
["16752-77-5","Methomyl","","","","",2.5000000000000001E-2,"I","","","","",1,0.1,"","","NC","","","","",1]
["16853-36-4","Tetramethylphosphoramide, -N,N,N',N\" (TMPA)","","","","",1E-4,"X","","","","",1,0.1,"","","NC","","","","",1]
["1689-84-5","Bromoxynil",0.1,"O","","",1.4999999999999999E-2,"O","","","","",1,0.1,"","","C","","","","",1]
["1689-99-2","Bromoxynil Octanoate",0.1,"O","","",1.4999999999999999E-2,"O","","","V","",1,"","","","C","","","","",1]
["16984-48-8","Fluoride","","","","",0.04,"C",1.2999999999999999E-2,"C","","",1,"","","","NC","",4000,"","INORGANICO",1]
["1746-01-6","TCDD, 2,3,7,8-",130000,"C",38,"C",6.9999999999999996E-10,"I",4.0000000000000001E-8,"C","V","",1,0.03,"","","C","",3.0000000000000001E-5,"","",1]
["1763-23-1","Perfluorooctanesulfonic acid (PFOS)","","","","",1.9999999999999999E-6,"A","","","","",1,0.1,"","","NC","","","","",1]
["17804-35-2","Benomyl","","","","",0.05,"I","","","","",1,0.1,"","","NC","","",120,"",1]
["1832-54-8","Isopropyl Methyl Phosphonic Acid","","","","",0.1,"I","","","","",1,0.1,"","","NC","","","","",1]
["18540-29-9","Chromium(VI)",0.5,"C",8.4000000000000005E-2,"G",3.0000000000000001E-3,"I",1E-4,"I","","M",2.5000000000000001E-2,"","","","C","METAL","","","INORGANICO",1]
["1861-32-1","Chlorthal-dimethyl","","","","",0.01,"I","","","","",1,0.1,"","","NC","","","","",1]
["1861-40-1","Benfluralin","","","","",5.0000000000000001E-3,"O","","","V","",1,"","","","NC","","","","",1]
["1897-45-6","Chlorothalonil",1.7000000000000001E-2,"C","","",1.4999999999999999E-2,"I","","","","",1,0.1,"","","C","","",45,"",1]
["19044-88-3","Oryzalin",7.7999999999999996E-3,"O","","",0.19,"O","","","","",1,0.1,"","","C","","","","",1]
["1910-42-5","Paraquat Dichloride","","","","",4.4999999999999997E-3,"I","","","","",1,0.1,"","","NC","","","","",1]
["1912-24-9","Atrazine",0.23,"C","","",3.0000000000000001E-3,"A","","","","",1,0.1,"","","C","",3,2,"",1]
["1918-00-9","Dicamba","","","","",0.03,"I","","","","",1,0.1,"","","NC","","","","",1]
["1918-02-1","Picloram","","","","",7.0000000000000007E-2,"I","","","","",1,0.1,"","","NC","",500,60,"",1]
["1918-16-7","Propachlor","","","","",1.2999999999999999E-2,"I","","","","",1,0.1,"","","NC","","","","",1]
["192-65-4","Dibenzo(a,e)pyrene",12,"C",1.1000000000000001E-3,"C","","","","","","",1,0.13,"","","C","","","","",1]
["192-97-2","Benzo(e)pyrene","","","","",9.0000000000000006E-5,"X",1.9999999999999999E-6,"X","","",1,0.1,"","","NC","","","","",1]
["1929-77-7","Vernolate","","","","",1E-3,"I","","","V","",1,"","","","NC","","","","",1]
["193-39-5","Indeno[1,2,3-cd]pyrene",0.1,"E",6.0000000000000002E-5,"E","","","","","","M",1,0.13,"","","C","","","","",1]
["1937-37-7","Direct Black 38",7.4,"C",2.0999999999999999E-3,"C","","","","","","",1,0.1,"","","C","","","","",1]
["19406-51-0","Dinitrotoluene, 4-Amino-2,6-","","","","",1E-4,"X","","","","",1,8.9999999999999993E-3,"","","NC","","","","",1]
["19666-30-9","Oxadiazon","","","","",5.0000000000000001E-3,"I","","","","",1,0.1,"","","NC","","","","",1]
["2008-41-5","Butylate","","","","",0.05,"I","","","V","",1,"","","","NC","","","","",1]
["205-82-3","Benzo(j)fluoranthene",1.2,"C",1.1E-4,"C","","","","","","",1,0.13,"","","C","","","","",1]
["205-99-2","Benzo[b]fluoranthene",0.1,"E",6.0000000000000002E-5,"E","","","","","","M",1,0.13,"","","C","","","","",1]
["206-44-0","Fluoranthene","","","","",0.04,"I","","","","",1,0.13,"","","NC","","","","",1]
["207-08-9","Benzo[k]fluoranthene",0.01,"E",6.0000000000000002E-6,"E","","","","","","M",1,0.13,"","","C","","","","",1]
["20859-73-8","Aluminum Phosphide","","","","",4.0000000000000002E-4,"I","","","","",1,"","","","NC","METAL","","","INORGANICO",1]
["2104-64-5","Ethyl-p-nitrophenyl Phosphonate","","","","",1.0000000000000001E-5,"I","","","","",1,0.1,"","","NC","","","","",1]
["2104-96-3","Bromophos","","","","",5.0000000000000001E-3,"H","","","V","",1,"","","","NC","","","","",1]
["21087-64-9","Metribuzin","","","","",2.5000000000000001E-2,"I","","","","",1,0.1,"","","NC","","",25,"",1]
["21436-96-4","Dimethylaniline HCl, 2,4-",0.57999999999999996,"H","","","","","","","","",1,0.1,"","","C","","","","",1]
["21564-17-0","TCMTB","","","","",0.03,"H","","","","",1,0.1,"","","NC","","","","",1]
["2164-17-2","Fluometuron","","","","",1.2999999999999999E-2,"I","","","","",1,0.1,"","","NC","","","","",1]
["21725-46-2","Cyanazine",0.84,"H","","",2E-3,"H","","","","",1,0.1,"","","C","","","","",1]
["218-01-9","Chrysene",1E-3,"E",5.9999999999999997E-7,"E","","","","","","M",1,0.13,"","","C","","","","",1]
["2212-67-1","Molinate","","","","",2E-3,"I","","","","",1,0.1,"","","NC","","",6,"",1]
["22224-92-6","Fenamiphos","","","","",2.5000000000000001E-4,"I","","","","",1,0.1,"","","NC","","","","",1]
["22967-92-6","Methyl Mercury","","","","",1E-4,"I","","","","",1,"","","","NC","METAL","","","",1]
["2303-16-4","Diallate",6.0999999999999999E-2,"H","","","","","","","","",1,0.1,"","","C","","","","",1]
["2303-17-5","Triallate",7.1999999999999995E-2,"O","","",2.5000000000000001E-2,"O","","","V","",1,"","","","C","","","","",1]
["2312-35-8","Propargite",0.19,"O","","",0.04,"O","","","","",1,0.1,"","","C","","",30,"",1]
["23135-22-0","Oxamyl","","","","",2.5000000000000001E-2,"I","","","","",1,0.1,"","","NC","",200,"","",1]
["23564-05-8","Thiophanate, Methyl",1.2E-2,"O","","",0.16,"O","","","","",1,0.1,"","","C","","","","",1]
["2385-85-5","Mirex",18,"C",5.1000000000000004E-3,"C",2.0000000000000001E-4,"I","","","V","",1,"","","","C","","","","",1]
["23950-58-5","Pronamide","","","","",7.4999999999999997E-2,"I","","","","",1,0.1,"","","NC","","","","",1]
["2425-06-1","Captafol",0.15,"C",4.3000000000000002E-5,"C",2E-3,"I","","","","",1,0.1,"","","C","","","","",1]
["24307-26-4","Mepiquat Chloride","","","","",0.03,"I","","","","",1,0.1,"","","NC","","","","",1]
["2439-10-3","Dodine","","","","",0.02,"O","","","","",1,0.1,"","","NC","","","","",1]
["25013-15-4","Methyl Styrene (Mixed Isomers)","","","","",6.0000000000000001E-3,"H",0.04,"H","V","",1,"","",393,"NC","","","","",1]
["25013-16-5","Butylated hydroxyanisole",2.0000000000000001E-4,"C",5.7000000000000001E-8,"C","","","","","","",1,0.1,"","","C","","","","",1]
["25057-89-0","Bentazon","","","","",0.03,"I","","","","",1,0.1,"","","NC","","","","",1]
["25167-70-8","Trimethylpentene, 2,4,4-","","","","",0.01,"X","","","V","",1,"","",29.6,"NC","","","","",1]
["25321-14-6","Dinitrotoluene, Technical grade",0.45,"X","","",8.9999999999999998E-4,"X","","","","",1,0.1,"","","C","","","","",1]
["2602-46-2","Direct Blue 6",7.4,"C",2.0999999999999999E-3,"C","","","","","","",1,0.1,"","","C","","","","",1]
["26399-36-0","Profluralin","","","","",6.0000000000000001E-3,"H","","","V","",1,"","","","NC","","","","",1]
["26628-22-8","Sodium Azide","","","","",4.0000000000000001E-3,"I","","","","",1,"","","","NC","","","","INORGANICO",1]
["2687-25-4","Toluenediamine, 2,3-","","","","",1E-4,"X","","","","",1,0.1,"","","NC","","","","",1]
["2691-41-0","Octahydro-1,3,5,7-tetranitro-1,3,5,7-tetrazocine (HMX)","","","","",0.05,"I","","","","",1,6.0000000000000001E-3,"","","NC","","","","",1]
["27314-13-2","Norflurazon","","","","",1.5E-3,"O","","","","",1,0.1,"","","NC","","","","",1]
["2764-72-9","Diquat","","","","",2.2000000000000001E-3,"I","","","","",1,0.1,"","","NC","",20,"","",1]
["2795-39-3","Potassium perfluorooctanesulfonate","","","","",1.9999999999999999E-6,"A","","","","",1,0.1,"","","NC","","","","",1]
["28249-77-6","Thiobencarb","","","","",0.01,"I","","","","",1,0.1,"","","NC","","","","",1]
["2921-88-2","Chlorpyrifos","","","","",1E-3,"A","","","","",1,0.1,"","","NC","","",30,"",1]
["29232-93-7","Pirimiphos, Methyl","","","","",7.2999999999999996E-4,"O","","","","",1,0.1,"","","NC","","","","",1]
["29420-49-3","Potassium perfluorobutanesulfonate","","","","",2.9999999999999997E-4,"P","","","","",1,0.1,"","","NC","","","","",1]
["298-00-0","Methyl Parathion","","","","",2.5000000000000001E-4,"I","","","","",1,0.1,"","","NC","","",9,"",1]
["298-02-2","Phorate","","","","",2.0000000000000001E-4,"H","","","","",1,0.1,"","","NC","","","","",1]
["298-04-4","Disulfoton","","","","",4.0000000000000003E-5,"I","","","","",1,0.1,"","","NC","","","","",1]
["299-84-3","Ronnel","","","","",0.05,"H","","","V","",1,"","","","NC","","","","",1]
["300-76-5","Naled","","","","",2E-3,"I","","","V","",1,"","","","NC","","","","",1]
["301-04-2","Lead acetate",0.21,"C",8.0000000000000007E-5,"C","","","","","","",1,0.1,"","","C","","","","",1]
["302-01-2","Hydrazine",3,"I",4.8999999999999998E-3,"I","","",3.0000000000000001E-5,"P","V","",1,"","",112000,"C","","","","INORGANICO",1]
["302-17-0","Chloral Hydrate","","","","",0.1,"I","","","V","",1,"","","","NC","","","","",1]
["30560-19-1","Acephate","","","","",2.9999999999999997E-4,"O","","","","",1,0.1,"","","NC","","",7,"",1]
["309-00-2","Aldrin",17,"I",4.8999999999999998E-3,"I",3.0000000000000001E-5,"I","","","V","",1,"","","","C","","",0.03,"",1]
["31508-00-6","Pentachlorobiphenyl, 2,3',4,4',5- (PCB 118)",3.9,"W",1.1000000000000001E-3,"W",2.3E-5,"W",1.2999999999999999E-3,"W","V","",1,0.14000000000000001,"","","C","","","","",1]
["3165-93-3","Chloro-2-methylaniline HCl, 4-",0.46,"H","","","","","","","","",1,0.1,"","","C","","","","",1]
["319-84-6","Hexachlorocyclohexane, Alpha-",6.3,"I",1.8E-3,"I",8.0000000000000002E-3,"A","","","","",1,0.1,"","","C","","","","",1]
["319-85-7","Hexachlorocyclohexane, Beta-",1.8,"I",5.2999999999999998E-4,"I","","","","","","",1,0.1,"","","C","","","","",1]
["32534-81-9","Pentabromodiphenyl Ether","","","","",2E-3,"I","","","V","",1,"","",0.312,"NC","","","","",1]
["32536-52-0","Octabromodiphenyl Ether","","","","",3.0000000000000001E-3,"I","","","","",1,0.1,"","","NC","","","","",1]
["32598-13-3","Tetrachlorobiphenyl, 3,3',4,4'- (PCB 77)",13,"W",3.8E-3,"W",6.9999999999999999E-6,"W",4.0000000000000002E-4,"W","","",1,0.14000000000000001,"","","C","","","","",1]
["32598-14-4","Pentachlorobiphenyl, 2,3,3',4,4'- (PCB 105)",3.9,"W",1.1000000000000001E-3,"W",2.3E-5,"W",1.2999999999999999E-3,"W","V","",1,0.14000000000000001,"","","C","","","","",1]
["32774-16-6","Hexachlorobiphenyl, 3,3',4,4',5,5'- (PCB 169)",3900,"W",1.1000000000000001,"W",2.3000000000000001E-8,"W",1.3E-6,"W","V","",1,0.14000000000000001,"","","C","","","","",1]
["330-54-1","Diuron","","","","",2E-3,"I","","","","",1,0.1,"","","NC","","",20,"",1]
["330-55-2","Linuron","","","","",7.7000000000000002E-3,"O","","","","",1,0.1,"","","NC","","","","",1]
["33089-61-1","Amitraz","","","","",2.5000000000000001E-3,"I","","","","",1,0.1,"","","NC","","","","",1]
["333-41-5","Diazinon","","","","",6.9999999999999999E-4,"A","","","","",1,0.1,"","","NC","","","","",1]
["3333-67-3","Nickel Carbonate","","",2.5999999999999998E-4,"C",1.0999999999999999E-2,"C",1.4E-5,"C","","",1,0.1,"","","C","","","","INORGANICO",1]
["3337-71-1","Asulam","","","","",0.36,"O","","","","",1,0.1,"","","NC","","","","",1]
["335-67-1","Perfluorooctanoic acid (PFOA)",7.0000000000000007E-2,"D","","",3.0000000000000001E-6,"A","","","","",1,0.1,"","","C","","","","",1]
["33663-50-2","Trichloroaniline HCl, 2,4,6-",2.9000000000000001E-2,"H","","","","","","","","",1,0.1,"","","C","","","","",1]
["33820-53-0","Isopropalin","","","","",1.4999999999999999E-2,"I","","","V","",1,"","","","NC","","","","",1]
["3383-96-8","Temephos","","","","",0.02,"H","","","","",1,0.1,"","","NC","","","","",1]
["3400-09-7","Dichloramine","","","","","","","","","","",1,0.1,"","","NC","",40000,"","",1]
["34014-18-1","Tebuthiuron","","","","",7.0000000000000007E-2,"I","","","","",1,0.1,"","","NC","","","","",1]
["34256-82-1","Acetochlor","","","","",0.02,"I","","","","",1,0.1,"","","NC","","","","",1]
["34465-46-8","Hexachlorodibenzo-p-dioxin, Mixture",6200,"I",1.3,"I","","","","","","",1,0.03,"","","C","","","","",1]
["35367-38-5","Diflubenzuron","","","","",0.02,"I","","","","",1,0.1,"","","NC","","","","",1]
["355-46-4","Perfluorohexanesulfonic acid (PFHxS)","","","","",2.0000000000000002E-5,"A","","","","",1,0.1,"","","NC","","","","",1]
["35554-44-0","Imazalil",6.0999999999999999E-2,"O","","",0.11,"O","","","","",1,0.1,"","","C","","","","",1]
["35572-78-2","Dinitrotoluene, 2-Amino-4,6-","","","","",1E-4,"X","","","","",1,6.0000000000000001E-3,"","","NC","","","","",1]
["36355-01-8","Polybrominated Biphenyls",30,"C",8.6E-3,"C",6.9999999999999999E-6,"H","","","","",1,0.1,"","","C","","","","",1]
["36734-19-7","Iprodione","","","","",0.04,"I","","","","",1,0.1,"","","NC","","","","",1]
["3689-24-5","Tetraethyl Dithiopyrophosphate","","","","",5.0000000000000001E-4,"I","","","","",1,0.1,"","","NC","","","","",1]
["373-02-4","Nickel Acetate","","",2.5999999999999998E-4,"C",1.0999999999999999E-2,"C",1.4E-5,"C","","",1,0.1,"","","C","","","","",1]
["375-73-5","Perfluorobutanesulfonic acid (PFBS)","","","","",2.9999999999999997E-4,"P","","","","",1,0.1,"","","NC","","","","",1]
["375-95-1","Perfluorononanoic acid (PFNA)","","","","",3.0000000000000001E-6,"A","","","","",1,0.1,"","","NC","","","","",1]
["3779-63-3","Hexamethylene diisocyanate isocyanurate","","","","","","",4.0000000000000002E-4,"C","","",1,0.1,"","","NC","","","","",1]
["38380-08-4","Hexachlorobiphenyl, 2,3,3',4,4',5- (PCB 156)",3.9,"W",1.1000000000000001E-3,"W",2.3E-5,"W",1.2999999999999999E-3,"W","V","",1,0.14000000000000001,"","","C","","","","",1]
["39148-24-8","Fosetyl-AL","","","","",2.5,"O","","","","",1,0.1,"","","NC","","","","",1]
["39196-18-4","Thiofanox","","","","",2.9999999999999997E-4,"H","","","","",1,0.1,"","","NC","","","","",1]
["39515-41-8","Fenpropathrin","","","","",2.5000000000000001E-2,"I","","","","",1,0.1,"","","NC","","","","",1]
["39635-31-9","Heptachlorobiphenyl, 2,3,3',4,4',5,5'- (PCB 189)",3.9,"W",1.1000000000000001E-3,"W",2.3E-5,"W",1.2999999999999999E-3,"W","V","",1,0.14000000000000001,"","","C","","","","",1]
["4035-89-6","Hexamethylene diisocyanate biuret","","","","","","",4.0000000000000002E-4,"C","","",1,0.1,"","","NC","","","","",1]
["40487-42-1","Pendimethalin","","","","",0.3,"O","","","","",1,0.1,"","","NC","","",20,"",1]
["420-45-1","Difluoropropane, 2,2-","","","","","","",30,"X","V","",1,"","",691,"NC","","","","",1]
["420-46-2","Trifluoroethane, 1,1,1-","","","","","","",20,"P","V","",1,"","",4810,"NC","","","","",1]
["42576-02-3","Bifenox","","","","",8.9999999999999993E-3,"P","","","","",1,0.1,"","","NC","","","","",1]
["42874-03-3","Oxyfluorfen",7.2999999999999995E-2,"O","","",0.04,"O","","","","",1,0.1,"","","C","","","","",1]
["43121-43-3","Triadimefon","","","","",3.4000000000000002E-2,"O","","","","",1,0.1,"","","NC","","","","",1]
["43222-48-6","Difenzoquat","","","","",8.3000000000000004E-2,"O","","","","",1,0.1,"","","NC","","","","",1]
["45187-15-3","Perfluorobutanesulfonate","","","","",2.9999999999999997E-4,"P","","","","",1,0.1,"","","NC","","","","",1]
["45285-51-6","Perfluorooctanoate",7.0000000000000007E-2,"D","","",3.0000000000000001E-6,"A","","","","",1,0.1,"","","C","","","","",1]
["45298-90-6","Perfluorooctanesulfonate","","","","",1.9999999999999999E-6,"A","","","","",1,0.1,"","","NC","","","","",1]
["460-00-4","Bromo-4-fluorobenzene, 1-","","","","",2.9999999999999997E-4,"X","","","V","",1,"","",323,"NC","","","","",1]
["460-19-5","Cyanogen","","","","",1E-3,"I","","","V","",1,"","","","NC","","","","INORGANICO",1]
["463-56-9","Thiocyanic Acid","","","","",2.0000000000000001E-4,"X","","","V","",1,"","","","NC","","","","",1]
["463-58-1","Carbonyl Sulfide","","","","","","",0.1,"P","V","",1,"","",5890,"NC","","","","",1]
["470-90-6","Chlorfenvinphos","","","","",6.9999999999999999E-4,"A","","","","",1,0.1,"","","NC","","","","",1]
["479-45-8","Tetryl (Trinitrophenylmethylnitramine)","","","","",2E-3,"P","","","","",1,6.4999999999999997E-4,"","","NC","","","","",1]
["492-80-8","Auramine",0.88,"C",2.5000000000000001E-4,"C","","","","","","",1,0.1,"","","C","","","","",1]
["496-72-0","Toluenediamine, 3,4-","","","","",1E-4,"X","","","","",1,0.1,"","","NC","","","","",1]
["50-00-0","Formaldehyde",2.1000000000000001E-2,"C",1.2999999999999999E-5,"I",0.2,"I",9.7999999999999997E-3,"A","V","",1,"","",42400,"C","","","","",1]
["50-01-1","Guanidine Chloride","","","","",0.02,"P","","","","",1,0.1,"","","NC","","","","",1]
["50-29-3","DDT",0.34,"I",9.7E-5,"I",5.0000000000000001E-4,"I","","","","",1,0.03,"","","C","","",1,"",1]
["50-32-8","Benzo[a]pyrene",1,"I",5.9999999999999995E-4,"I",2.9999999999999997E-4,"I",1.9999999999999999E-6,"I","","M",1,0.13,"","","C","",0.2,0.4,"",1]
["50471-44-8","Vinclozolin","","","","",1.1999999999999999E-3,"O","","","","",1,0.1,"","","NC","","","","",1]
["505-29-3","Dithiane, 1,4-","","","","",0.01,"I","","","V","",1,"","","","NC","","","","",1]
["506-61-6","Potassium Silver Cyanide","","","","",5.0000000000000001E-3,"I","","","","",0.04,"","","","NC","","","","INORGANICO",1]
["506-64-9","Silver Cyanide","","","","",0.1,"I","","","","",0.04,"","","","NC","METAL","","","INORGANICO",1]
["506-68-3","Cyanogen Bromide","","","","",0.09,"I","","","V","",1,"","","","NC","","","","INORGANICO",1]
["506-77-4","Cyanogen Chloride","","","","",0.05,"I","","","V","",1,"","","","NC","","","","INORGANICO",1]
["506-93-4","Guanidine Nitrate","","","","",0.03,"X","","","","",1,0.1,"","","NC","","","","",1]
["51-28-5","Dinitrophenol, 2,4-","","","","",2E-3,"I","","","","",1,0.1,"","","NC","","","","",1]
["51-79-6","Urethane",1,"C",2.9E-4,"C","","","","","","M",1,0.1,"","","C","","","","",1]
["510-15-6","Chlorobenzilate",0.11,"C",3.1000000000000001E-5,"C",0.02,"I","","","","",1,0.1,"","","C","","","","",1]
["5103-71-9","Chlordane (alpha)","","","","",5.0000000000000001E-4,"G","","","V","",1,0.04,"","","NC","","","","",1]
["5103-74-2","Chlordane (gamma)","","","","",5.0000000000000001E-4,"G","","","V","",1,0.04,"","","NC","","",0.2,"",1]
["512-56-1","Trimethyl Phosphate",0.02,"P","","",0.01,"P","","","","",1,0.1,"","","C","","","","",1]
["51218-45-2","Metolachlor","","","","",0.15,"I","","","","",1,0.1,"","","NC","","",10,"",1]
["51235-04-2","Hexazinone","","","","",3.3000000000000002E-2,"I","","","","",1,0.1,"","","NC","","","","",1]
["513-37-1","Dimethylvinylchloride",4.4999999999999998E-2,"C",1.2999999999999999E-5,"C","","","","","V","",1,"","",473,"C","","","","",1]
["51630-58-1","Fenvalerate","","","","",2.5000000000000001E-2,"I","","","","",1,0.1,"","","NC","","","","",1]
["5216-25-1","Tetrachlorotoluene, p- alpha, alpha, alpha-",16,"X","","",6.0000000000000002E-5,"X","","","V","",1,"","","","C","","","","",1]
["5234-68-4","Carboxin","","","","",0.1,"I","","","","",1,0.1,"","","NC","","","","",1]
["526-73-8","Trimethylbenzene, 1,2,3-","","","","",0.01,"I",0.06,"I","V","",1,"","",293,"NC","","","","",1]
["52645-53-1","Permethrin","","","","",0.05,"I","","","","",1,0.1,"","","NC","","",20,"",1]
["52663-72-6","Hexachlorobiphenyl, 2,3',4,4',5,5'- (PCB 167)",3.9,"W",1.1000000000000001E-3,"W",2.3E-5,"W",1.2999999999999999E-3,"W","V","",1,0.14000000000000001,"","","C","","","","",1]
["528-29-0","Dinitrobenzene, 1,2-","","","","",1E-4,"P","","","","",1,0.1,"","","NC","","","","",1]
["53-70-3","Dibenz[a,h]anthracene",1,"E",5.9999999999999995E-4,"E","","","","","","M",1,0.13,"","","C","","","","",1]
["53-96-3","Acetylaminofluorene, 2-",3.8,"C",1.2999999999999999E-3,"C","","","","","","",1,0.1,"","","C","","","","",1]
["531-82-8","Furium",1.5,"C",4.2999999999999999E-4,"C","","","","","","",1,0.1,"","","C","","","","",1]
["532-27-4","Chloroacetophenone, 2-","","","","","","",3.0000000000000001E-5,"I","","",1,0.1,"","","NC","","","","",1]
["534-52-1","Dinitro-o-cresol, 4,6-","","","","",8.0000000000000007E-5,"X","","","","",1,0.1,"","","NC","","","","",1]
["53469-21-9","Aroclor 1242",2,"G",5.6999999999999998E-4,"G","","","","","V","",1,0.14000000000000001,"","","C","","","","",1]
["540-73-8","Dimethylhydrazine, 1,2-",550,"C",0.16,"C","","","","","V","",1,"","",189000,"C","","","","",1]
["540-88-5","Tert-Butyl Acetate",5.0000000000000001E-3,"C",1.3E-6,"C","","","","","V","",1,"","","","C","","","","",1]
["541-25-3","Lewisite","","","","",5.0000000000000004E-6,"P","","","V","",1,"","",383,"NC","","","","",1]
["542-75-6","Dichloropropene, 1,3-",0.1,"I",3.9999999999999998E-6,"I",0.03,"I",0.02,"I","V","",1,"","",1570,"C","","","","",1]
["542-88-1","Bis(chloromethyl)ether",220,"I",6.2E-2,"I","","","","","V","",1,"","",4220,"C","","","","",1]
["5436-43-1","Tetrabromodiphenyl ether, 2,2',4,4'- (BDE-47)","","","","",1E-4,"I","","","","",1,0.1,"","","NC","","","","",1]
["544-92-3","Copper Cyanide","","","","",5.0000000000000001E-3,"I","","","","",1,"","","","NC","","","","INORGANICO",1]
["54749-90-5","Chlorozotocin",240,"C",6.9000000000000006E-2,"C","","","","","","",1,0.1,"","","C","","","","",1]
["55-18-5","Nitrosodiethylamine, N-",150,"I",4.2999999999999997E-2,"I","","","","","","M",1,0.1,"","","C","","","","",1]
["55-63-0","Nitroglycerin",1.7000000000000001E-2,"P","","",1E-4,"P","","","","",1,0.1,"","","C","","","","",1]
["55285-14-8","Carbosulfan","","","","",0.01,"I","","","","",1,0.1,"","","NC","","","","",1]
["55290-64-7","Dimethipin","","","","",2.1999999999999999E-2,"O","","","","",1,0.1,"","","NC","","","","",1]
["556-88-7","Nitroguanidine","","","","",0.1,"I","","","","",1,0.1,"","","NC","","","","",1]
["557-21-1","Zinc Cyanide","","","","",0.05,"I","","","","",1,"","","","NC","METAL","","","INORGANICO",1]
["5598-13-0","Chlorpyrifos Methyl","","","","",0.01,"H","","","","",1,0.1,"","","NC","","",30,"",1]
["56-23-5","Carbon Tetrachloride",7.0000000000000007E-2,"I",6.0000000000000002E-6,"I",4.0000000000000001E-3,"I",0.1,"I","V","",1,"","",458,"C","",5,4,"",1]
["56-35-9","Tributyltin Oxide","","","","",2.9999999999999997E-4,"I","","","","",1,0.1,"","","NC","","","","",1]
["56-38-2","Parathion","","","","",6.0000000000000001E-3,"H","","","","",1,0.1,"","","NC","","","","",1]
["56-49-5","Methylcholanthrene, 3-",22,"C",6.3E-3,"C","","","","","","M",1,0.1,"","","C","","","","",1]
["56-53-1","Diethylstilbestrol",350,"C",0.1,"C","","","","","","",1,0.1,"","","C","","","","",1]
["56-55-3","Benz[a]anthracene",0.1,"E",6.0000000000000002E-5,"E","","","","","V","M",1,0.13,"","","C","","","","",1]
["563-12-2","Ethion","","","","",5.0000000000000001E-4,"I","","","","",1,0.1,"","","NC","","","","",1]
["563-68-8","Thallium Acetate","","","","",1.0000000000000001E-5,"X","","","V","",1,"","","","NC","METAL","","","",1]
["56425-91-3","Flurprimidol","","","","",0.04,"O","","","","",1,0.1,"","","NC","","","","",1]
["57-12-5","Cyanide (CN-)","","","","",5.9999999999999995E-4,"I",8.0000000000000004E-4,"G","V","",1,"","",954000,"NC","",200,70,"INORGANICO",1]
["57-14-7","Dimethylhydrazine, 1,1-","","","","",1E-4,"X",1.9999999999999999E-6,"X","V","",1,"","",172000,"NC","","","","",1]
["57-24-9","Strychnine","","","","",2.9999999999999997E-4,"I","","","","",1,0.1,"","","NC","","","","",1]
["57-55-6","Propylene Glycol","","","","",20,"P","","","","",1,0.1,"","","NC","","","","",1]
["57-97-6","Dimethylbenz(a)anthracene, 7,12-",250,"C",7.0999999999999994E-2,"C","","","","","","M",1,0.13,"","","C","","","","",1]
["57465-28-8","Pentachlorobiphenyl, 3,3',4,4',5- (PCB 126)",13000,"W",3.8,"W",6.9999999999999998E-9,"W",3.9999999999999998E-7,"W","V","",1,0.14000000000000001,"","","C","","","","",1]
["576-26-1","Dimethylphenol, 2,6-","","","","",5.9999999999999995E-4,"I","","","","",1,0.1,"","","NC","","","","",1]
["57835-92-4","Nitropyrene, 4-",1.2,"C",1.1E-4,"C","","","","","","",1,0.13,"","","C","","","","",1]
["57837-19-1","Metalaxyl","","","","",0.06,"I","","","","",1,0.1,"","","NC","","","","",1]
["57964-39-3","Styrene-Acrylonitrile (SAN) Trimer (THNA isomer)","","","","",3.0000000000000001E-3,"P","","","","",1,0.1,"","","NC","","","","",1]
["57964-40-6","Styrene-Acrylonitrile (SAN) Trimer (THNP isomer)","","","","",3.0000000000000001E-3,"P","","","","",1,0.1,"","","NC","","","","",1]
["58-89-9","Hexachlorocyclohexane, Gamma- (Lindane)",1.1000000000000001,"C",3.1E-4,"C",1.0000000000000001E-5,"A","","","","",1,0.04,"","","C","",0.2,2,"",1]
["58-90-2","Tetrachlorophenol, 2,3,4,6-","","","","",0.03,"I","","","","",1,0.1,"","","NC","","","","",1]
["58138-08-2","Tridiphane","","","","",3.0000000000000001E-3,"I","","","","",1,0.1,"","","NC","","","","",1]
["584-84-9","Toluene-2,4-diisocyanate",3.9E-2,"C",1.1E-5,"C","","",7.9999999999999996E-6,"C","V","",1,"","","","C","","","","",1]
["59-50-7","Cresol, p-chloro-m-","","","","",0.1,"A","","","","",1,0.1,"","","NC","","","","",1]
["59-87-0","Nitrofurazone",1.3,"C",3.6999999999999999E-4,"C","","","","","","",1,0.1,"","","C","","","","",1]
["59-89-2","Nitrosomorpholine [N-]",6.7,"C",1.9E-3,"C","","","","","","",1,0.1,"","","C","","","","",1]
["5902-51-2","Terbacil","","","","",1.2999999999999999E-2,"I","","","","",1,0.1,"","","NC","","","","",1]
["591-27-5","Aminophenol, m-","","","","",0.08,"P","","","","",1,0.1,"","","NC","","","","",1]
["591-78-6","Hexanone, 2-","","","","",5.0000000000000001E-3,"I",0.03,"I","V","",1,"","",3280,"NC","","","","",1]
["592-01-8","Calcium Cyanide","","","","",1E-3,"I","","","","",1,"","","","NC","","","","INORGANICO",1]
["593-60-2","Vinyl Bromide","","",1.5E-5,"P","","",3.0000000000000001E-3,"I","V","",1,"","",2470,"C","","","","",1]
["59756-60-4","Fluridone","","","","",0.08,"I","","","","",1,0.1,"","","NC","","","","",1]
["598-77-6","Trichloropropane, 1,1,2-","","","","",5.0000000000000001E-3,"I","","","V","",1,"","",1280,"NC","","","","",1]
["60-11-7","Dimethylamino azobenzene [p-]",4.5999999999999996,"C",1.2999999999999999E-3,"C","","","","","","",1,0.1,"","","C","","","","",1]
["60-29-7","Ethyl Ether","","","","",0.2,"I","","","V","",1,"","",10100,"NC","","","","",1]
["60-34-4","Methyl Hydrazine","","",1E-3,"X",1E-3,"P",2.0000000000000002E-5,"X","V","",1,"","",180000,"C","","","","",1]
["60-51-5","Dimethoate","","","","",2.2000000000000001E-3,"O","","","","",1,0.1,"","","NC","","",1.2,"",1]
["60-57-1","Dieldrin",16,"I",4.5999999999999999E-3,"I",5.0000000000000002E-5,"I","","","","",1,0.1,"","","C","","",0.03,"",1]
["60207-90-1","Propiconazole","","","","",0.1,"O","","","","",1,0.1,"","","NC","","","","",1]
["60238-56-4","Chlorthiophos","","","","",8.0000000000000004E-4,"H","","","","",1,0.1,"","","NC","","","","",1]
["60348-60-9","Pentabromodiphenyl ether, 2,2',4,4',5- (BDE-99)","","","","",1E-4,"I","","","","",1,0.1,"","","NC","","","","",1]
["60568-05-0","Furmecyclox",0.03,"I",8.6000000000000007E-6,"C","","","","","","",1,0.1,"","","C","","","","",1]
["606-20-2","Dinitrotoluene, 2,6-",1.5,"P","","",2.9999999999999997E-4,"X","","","","",1,9.9000000000000005E-2,"","","C","","","","",1]
["608-73-1","Hexachlorocyclohexane, Technical",1.8,"I",5.1000000000000004E-4,"I","","","","","","",1,0.1,"","","C","","","","",1]
["608-93-5","Pentachlorobenzene","","","","",8.0000000000000004E-4,"I","","","V","",1,"","","","NC","","","","",1]
["615-45-2","Methyl-1,4-benzenediamine dihydrochloride, 2-","","","","",2.9999999999999997E-4,"X","","","","",1,0.1,"","","NC","","","","",1]
["615-50-9","Methylbenzene-1,4-diamine sulfate, 2-",0.1,"X","","",2.9999999999999997E-4,"X","","","","",1,0.1,"","","C","","","","",1]
["615-54-3","Tribromobenzene, 1,2,4-","","","","",5.0000000000000001E-3,"I","","","V","",1,"","","","NC","","","","",1]
["616-23-9","Dichloropropanol, 2,3-","","","","",3.0000000000000001E-3,"I","","","","",1,0.1,"","","NC","","","","",1]
["617-84-5","Diethylformamide","","","","",1E-3,"P","","","V","",1,"","",112000,"NC","","","","",1]
["618-87-1","Dinitroaniline, 3,5-","","","","",4.0000000000000002E-4,"X",2E-3,"X","","",1,0.1,"","","NC","","","","",1]
["62-38-4","Phenylmercuric Acetate","","","","",8.0000000000000007E-5,"I","","","","",1,0.1,"","","NC","","","","",1]
["62-44-2","Phenacetin",2.2000000000000001E-3,"C",6.3E-7,"C","","","","","","",1,0.1,"","","C","","","","",1]
["62-53-3","Aniline",5.7000000000000002E-3,"I",1.5999999999999999E-6,"C",7.0000000000000001E-3,"P",1E-3,"I","","",1,0.1,"","","C","","","","",1]
["62-73-7","Dichlorvos",0.28999999999999998,"I",8.2999999999999998E-5,"C",5.0000000000000001E-4,"I",5.0000000000000001E-4,"I","","",1,0.1,"","","C","","","","",1]
["62-74-8","Sodium Fluoroacetate","","","","",2.0000000000000002E-5,"I","","","","",1,0.1,"","","NC","","","","",1]
["62-75-9","Nitrosodimethylamine, N-",51,"I",1.4E-2,"I",7.9999999999999996E-6,"P",4.0000000000000003E-5,"X","V","M",1,"","",237000,"C","","",0.1,"",1]
["62037-80-3","Ammonium perfluoro-2-methyl-3-oxahexanoate","","","","",3.0000000000000001E-6,"D","","","","",1,0.1,"","","NC","","","","",1]
["621-64-7","Nitroso-di-N-propylamine, N-",7,"I",2E-3,"C","","","","","","",1,0.1,"","","C","","","","",1]
["624-83-9","Methyl Isocyanate","","","","","","",1E-3,"C","V","",1,"","",10100,"NC","","","","",1]
["62476-59-9","Sodium Acifluorfen","","","","",1.2999999999999999E-2,"I","","","","",1,0.1,"","","NC","","","","",1]
["63-25-2","Carbaryl","","","","",0.1,"I","","","","",1,0.1,"","","NC","","","","",1]
["630-20-6","Tetrachloroethane, 1,1,1,2-",2.5999999999999999E-2,"I",7.4000000000000003E-6,"I",0.03,"I","","","V","",1,"","",680,"C","","","","",1]
["631-64-1","Dibromoacetic acid","","","","","","","","","","",1,0.1,"","","NC","",600,"","",1]
["634-93-5","Trichloroaniline, 2,4,6-",7.0000000000000001E-3,"X","","",3.0000000000000001E-5,"X","","","","",1,0.1,"","","C","","","","",1]
["636-21-5","Methylaniline Hydrochloride, 2-",0.13,"C",3.6999999999999998E-5,"C","","","","","","",1,0.1,"","","C","","","","",1]
["6369-59-1","Benzenediamine-2-methyl sulfate, 1,4-",0.1,"X","","",2.9999999999999997E-4,"X","","","","",1,0.1,"","","C","","","","",1]
["637-92-3","Ethyl Tertiary Butyl Ether (ETBE)","","",8.0000000000000002E-8,"I",1,"I",40,"I","V","",1,"","",2870,"C","","","","",1]
["64-18-6","Formic Acid","","","","",0.9,"P",2.9999999999999997E-4,"X","V","",1,"","",106000,"NC","","","","",1]
["6423-43-4","Propylene Glycol Dinitrate","","","","","","",2.7E-4,"A","","",1,0.1,"","","NC","","","","",1]
["64742-95-6","Naphtha, High Flash Aromatic (HFAN)","","","","",0.03,"X",0.1,"P","V","",1,"","","","NC","","","","",1]
["64902-72-3","Chlorsulfuron","","","","",0.05,"O","","","","",1,0.1,"","","NC","","","","",1]
["65-85-0","Benzoic Acid","","","","",4,"I","","","","",1,0.1,"","","NC","","","","",1]
["65195-55-3","Avermectin B1","","","","",4.0000000000000002E-4,"I","","","","",1,0.1,"","","NC","","","","",1]
["6533-73-9","Thallium Carbonate","","","","",2.0000000000000002E-5,"X","","","","",1,0.1,"","","NC","","","","INORGANICO",1]
["65510-44-3","Pentachlorobiphenyl, 2',3,4,4',5- (PCB 123)",3.9,"W",1.1000000000000001E-3,"W",2.3E-5,"W",1.2999999999999999E-3,"W","V","",1,0.14000000000000001,"","","C","","","","",1]
["66-27-3","Methyl methanesulfonate",9.9000000000000005E-2,"C",2.8E-5,"C","","","","","","",1,0.1,"","","C","","","","",1]
["66215-27-8","Cyromazine","","","","",0.5,"O","","","","",1,0.1,"","","NC","","","","",1]
["66332-96-5","Flutolanil","","","","",0.5,"O","","","","",1,0.1,"","","NC","","","","",1]
["66841-25-6","Tralomethrin","","","","",7.4999999999999997E-3,"I","","","","",1,0.1,"","","NC","","","","",1]
["67-20-9","Nitrofurantoin","","","","",7.0000000000000007E-2,"H","","","","",1,0.1,"","","NC","","","","",1]
["67-45-8","Furazolidone",3.8,"H","","","","","","","","",1,0.1,"","","C","","","","",1]
["67-56-1","Methanol","","","","",2,"I",20,"I","V","",1,"","",106000,"NC","","","","",1]
["67-63-0","Isopropanol","","","","",2,"P",0.2,"P","V","",1,"","",109000,"NC","","","","",1]
["67-64-1","Acetone","","","","",0.9,"I","","","V","",1,"","",114000,"NC","","","","",1]
["67-66-3","Chloroform",3.1E-2,"C",2.3E-5,"I",0.01,"I",9.8000000000000004E-2,"A","V","",1,"","",2540,"C","",800,100,"",1]
["67-72-1","Hexachloroethane",0.04,"I",1.1E-5,"C",6.9999999999999999E-4,"I",0.03,"I","V","",1,"","","","C","","","","",1]
["67485-29-4","Hydramethylnon","","","","",1.7000000000000001E-2,"O","","","","",1,0.1,"","","NC","","","","",1]
["67747-09-5","Prochloraz",0.15,"I","","",8.9999999999999993E-3,"I","","","","",1,0.1,"","","C","","","","",1]
["68-12-2","Dimethylformamide","","","","",0.1,"P",0.03,"I","V","",1,"","",106000,"NC","","","","",1]
["680-31-9","Hexamethylphosphoramide","","","","",4.0000000000000002E-4,"P","","","","",1,0.1,"","","NC","","","","",1]
["68359-37-5","Cyfluthrin","","","","",2.5000000000000001E-2,"I","","","","",1,0.1,"","","NC","","","","",1]
["684-93-5","Nitroso-N-methylurea, N-",120,"C",3.4000000000000002E-2,"C","","","","","","M",1,0.1,"","","C","","","","",1]
["68631-49-2","Hexabromodiphenyl ether, 2,2',4,4',5,5'- (BDE-153)","","","","",2.0000000000000001E-4,"I","","","","",1,0.1,"","","NC","","","","",1]
["688-73-3","Tri-n-butyltin","","","","",2.9999999999999997E-4,"A","","","V","",1,"","","","NC","","","","",1]
["69409-94-5","Fluvalinate","","","","",0.01,"I","","","","",1,0.1,"","","NC","","","","",1]
["69782-90-7","Hexachlorobiphenyl, 2,3,3',4,4',5'- (PCB 157)",3.9,"W",1.1000000000000001E-3,"W",2.3E-5,"W",1.2999999999999999E-3,"W","V","",1,0.14000000000000001,"","","C","","","","",1]
["69806-40-2","Haloxyfop, Methyl","","","","",5.0000000000000002E-5,"I","","","","",1,0.1,"","","NC","","","","",1]
["70-25-7","Methyl-N-nitro-N-nitrosoguanidine, N-",8.3000000000000007,"C",2.3999999999999998E-3,"C","","","","","","",1,0.1,"","","C","","","","",1]
["70-30-4","Hexachlorophene","","","","",2.9999999999999997E-4,"I","","","","",1,0.1,"","","NC","","","","",1]
["70362-50-4","Tetrachlorobiphenyl, 3,4,4',5- (PCB 81)",39,"W",1.0999999999999999E-2,"W",2.3E-6,"W",1.2999999999999999E-4,"W","V","",1,0.14000000000000001,"","","C","","","","",1]
["709-98-8","Propanil","","","","",5.0000000000000001E-3,"I","","","","",1,0.1,"","","NC","","","","",1]
["71-36-3","Butanol, N-","","","","",0.1,"I","","","V","",1,"","",7640,"NC","","","","",1]
["71-43-2","Benzene",5.5E-2,"I",7.7999999999999999E-6,"I",4.0000000000000001E-3,"I",0.03,"I","V","",1,"","",1820,"C","",5,5,"",1]
["71-55-6","Trichloroethane, 1,1,1-","","","","",2,"I",5,"I","V","",1,"","",640,"NC","",200,"","",1]
["72-20-8","Endrin","","","","",2.9999999999999997E-4,"I","","","","",1,0.1,"","","NC","",2,0.6,"",1]
["72-43-5","Methoxychlor","","","","",5.0000000000000001E-3,"I","","","","",1,0.1,"","","NC","",40,"","",1]
["72-54-8","DDD, p,p`- (DDD)",0.24,"I",6.8999999999999997E-5,"C",5.0000000000000001E-4,"A","","","","",1,0.1,"","","C","","",1,"",1]
["72-55-9","DDE, p,p'-",0.34,"I",9.7E-5,"C",5.0000000000000001E-4,"A","","","V","",1,"","","","C","","",1,"",1]
["72007-68-2","Perfluorononanoate","","","","",3.0000000000000001E-6,"A","","","","",1,0.1,"","","NC","","","","",1]
["72178-02-0","Fomesafen","","","","",0.01,"O","","","","",1,0.1,"","","NC","","","","",1]
["7287-19-6","Prometryn","","","","",0.04,"O","","","","",1,0.1,"","","NC","","","","",1]
["732-11-6","Phosmet","","","","",0.02,"I","","","","",1,0.1,"","","NC","","","","",1]
["74-11-3","Chlorobenzoic Acid, p-","","","","",0.03,"X","","","","",1,0.1,"","","NC","","","","",1]
["74-31-7","N,N'-Diphenyl-1,4-benzenediamine","","","","",2.9999999999999997E-4,"X","","","","",1,0.1,"","","NC","","","","",1]
["74-83-9","Bromomethane","","","","",1.4E-3,"I",5.0000000000000001E-3,"I","V","",1,"","",3590,"NC","","","","",1]
["74-87-3","Chloromethane","","","","","","",0.09,"I","V","",1,"","",1320,"NC","","","","",1]
["74-90-8","Hydrogen Cyanide","","","","",5.9999999999999995E-4,"I",8.0000000000000004E-4,"I","V","",1,"","",10000000,"NC","","","","INORGANICO",1]
["74-95-3","Dibromomethane (Methylene Bromide)","","","","","","",4.0000000000000001E-3,"X","V","",1,"","",2820,"NC","","","","",1]
["74-97-5","Bromochloromethane","","","","","","",0.04,"X","V","",1,"","",4040,"NC","","","","",1]
["74051-80-2","Sethoxydim","","","","",0.14000000000000001,"O","","","","",1,0.1,"","","NC","","","","",1]
["74115-24-5","Clofentezine","","","","",1.2999999999999999E-2,"I","","","","",1,0.1,"","","NC","","","","",1]
["74223-64-6","Metsulfuron-methyl","","","","",0.25,"I","","","","",1,0.1,"","","NC","","","","",1]
["7429-90-5","Aluminum","","","","",1,"P",5.0000000000000001E-3,"P","","",1,"","","","NC","METAL","",200,"INORGANICO",1]
["7439-89-6","Iron","","","","",0.7,"P","","","","",1,"","","","NC","METAL","",300,"INORGANICO",1]
["7439-91-0","Lanthanum","","","","",5.0000000000000002E-5,"P","","","","",1,"","","","NC","METAL","","","",1]
["7439-92-1","Lead and Compounds","","","","","","","","","","",1,"","","","NC","METAL",15,10,"INORGANICO",1]
["7439-93-2","Lithium","","","","",2E-3,"P","","","","",1,"","","","NC","METAL","","","INORGANICO",1]
["7439-96-5-A","Manganese (Diet)","","","","",0.14000000000000001,"I",5.0000000000000002E-5,"I","","",1,"","","","NC","METAL","","","INORGANICO",1]
["7439-96-5-B","Manganese (Non-diet)","","","","",2.4E-2,"G",5.0000000000000002E-5,"I","","",0.04,"","","","NC","METAL","",100,"INORGANICO",1]
["7439-97-6","Mercury (elemental)","","","","","","",2.9999999999999997E-4,"I","V","",1,"","",3.13,"NC","METAL",2,1,"INORGANICO",1]
["7439-98-7","Molybdenum","","","","",5.0000000000000001E-3,"I",2E-3,"A","","",1,"","","","NC","METAL","","","INORGANICO",1]
["7440-02-0","Nickel Soluble Salts","","",2.5999999999999998E-4,"C",0.02,"I",9.0000000000000006E-5,"A","","",0.04,"","","","C","METAL","",70,"INORGANICO",1]
["7440-22-4","Silver","","","","",5.0000000000000001E-3,"I","","","","",0.04,"","","","NC","METAL","","","INORGANICO",1]
["7440-24-6","Strontium, Stable","","","","",0.6,"I","","","","",1,"","","","NC","METAL","","","INORGANICO",1]
["7440-28-0","Thallium (Soluble Salts)","","","","",1.0000000000000001E-5,"X","","","","",1,"","","","NC","METAL",2,"","INORGANICO",1]
["7440-31-5","Tin","","","","",0.6,"H","","","","",1,"","","","NC","METAL","","","INORGANICO",1]
["7440-33-7","Tungsten","","","","",8.0000000000000004E-4,"P","","","","",1,"","","","NC","METAL","","","INORGANICO",1]
["7440-36-0","Antimony (metallic)","","","","",4.0000000000000002E-4,"I",2.9999999999999997E-4,"A","","",0.15,"","","","NC","METAL",6,6,"INORGANICO",1]
["7440-38-2","Arsenic, Inorganic",1.5,"I",4.3E-3,"I",2.9999999999999997E-4,"I",1.5E-5,"C","","",1,0.03,"","","C","METAL",10,10,"INORGANICO",0.6]
["7440-39-3","Barium","","","","",0.2,"I",5.0000000000000001E-4,"H","","",7.0000000000000007E-2,"","","","NC","METAL",2000,700,"INORGANICO",1]
["7440-41-7","Beryllium and compounds","","",2.3999999999999998E-3,"I",2E-3,"I",2.0000000000000002E-5,"I","","",7.0000000000000001E-3,"","","","C","METAL",4,"","INORGANICO",1]
["7440-42-8","Boron And Borates Only","","","","",0.2,"I",0.02,"H","","",1,"","","","NC","METAL","","","INORGANICO",1]
["7440-43-9-A","Cadmium (Diet)","","",1.8E-3,"I",1E-4,"A",1.0000000000000001E-5,"A","","",2.5000000000000001E-2,1E-3,"","","C","METAL","","","INORGANICO",1]
["7440-43-9-B","Cadmium (Water)","","",1.8E-3,"I",1E-4,"A",1.0000000000000001E-5,"A","","",0.05,1E-3,"","","C","METAL",5,3,"INORGANICO",1]
["7440-47-3","Chromium, Total","","","","","","","","","","",1.2999999999999999E-2,"","","","NC","METAL",100,50,"INORGANICO",1]
["7440-48-4","Cobalt","","",8.9999999999999993E-3,"P",2.9999999999999997E-4,"P",6.0000000000000002E-6,"P","","",1,"","","","C","METAL","","","INORGANICO",1]
["7440-50-8","Copper","","","","",0.04,"H","","","","",1,"","","","NC","METAL",1300,2000,"INORGANICO",1]
["7440-61-1","Uranium","","","","",2.0000000000000001E-4,"A",4.0000000000000003E-5,"A","","",1,"","","","NC","",30,30,"",1]
["7440-62-2","Vanadium and Compounds","","","","",5.0000000000000001E-3,"G",1E-4,"A","","",2.5999999999999999E-2,"","","","NC","METAL","","","INORGANICO",1]
["7440-66-6","Zinc and Compounds","","","","",0.3,"I","","","","",1,"","","","NC","METAL","",5000,"INORGANICO",1]
["7440-67-7","Zirconium","","","","",8.0000000000000007E-5,"X","","","","",1,"","","","NC","METAL","","","INORGANICO",1]
["7446-11-9","Sulfur Trioxide","","","","","","",1E-3,"C","V","",1,"","","","NC","","","","INORGANICO",1]
["7446-18-6","Thallium Sulfate","","","","",2.0000000000000002E-5,"X","","","","",1,"","","","NC","METAL","","","INORGANICO",1]
["7446-27-7","Lead Phosphate",8.5000000000000006E-3,"C",1.2E-5,"C","","","","","","",1,"","","","C","","","","INORGANICO",1]
["7446-34-6","Selenium Sulfide","","","","",5.0000000000000001E-3,"C",0.02,"C","","",1,"","","","NC","","","","INORGANICO",1]
["74472-37-0","Pentachlorobiphenyl, 2,3,4,4',5- (PCB 114)",3.9,"W",1.1000000000000001E-3,"W",2.3E-5,"W",1.2999999999999999E-3,"W","V","",1,0.14000000000000001,"","","C","","","","",1]
["74612-12-7","Methylbenzene,1-4-diamine monohydrochloride, 2-","","","","",2.0000000000000001E-4,"X","","","","",1,0.1,"","","NC","","","","",1]
["7487-94-7","Mercuric Chloride (and other Mercury salts)","","","","",2.9999999999999997E-4,"I",2.9999999999999997E-4,"G","","",7.0000000000000007E-2,"","","","NC","METAL",2,"","INORGANICO",1]
["75-00-3","Ethyl Chloride (Chloroethane)","","","","","","",4,"P","V","",1,"","",2120,"NC","","","","",1]
["75-01-4","Vinyl Chloride",0.72,"I",4.4000000000000002E-6,"I",3.0000000000000001E-3,"I",0.08,"A","V","M",1,"","",3920,"C","",2,0.5,"",1]
["75-05-8","Acetonitrile","","","","","","",0.06,"I","V","",1,"","",128000,"NC","","","","",1]
["75-07-0","Acetaldehyde","","",2.2000000000000001E-6,"I","","",8.9999999999999993E-3,"I","V","",1,"","",107000,"C","","","","",1]
["75-09-2","Methylene Chloride",2E-3,"I",1E-8,"I",6.0000000000000001E-3,"I",0.6,"I","V","M",1,"","",3320,"C","",5,20,"",1]
["75-15-0","Carbon Disulfide","","","","",0.1,"I",0.7,"I","V","",1,"","",738,"NC","","","","INORGANICO",1]
["75-21-8","Ethylene Oxide",0.31,"C",3.0000000000000001E-3,"I","","",0.03,"C","V","M",1,"","",121000,"C","","","","",1]
["75-25-2","Bromoform",7.9000000000000008E-3,"I",1.1000000000000001E-6,"I",0.02,"I","","","V","",1,"","",915,"C","",800,100,"",1]
["75-27-4","Bromodichloromethane",6.2E-2,"I",3.6999999999999998E-5,"C",8.0000000000000002E-3,"P","","","V","",1,"","",932,"C","",800,100,"",1]
["75-34-3","Dichloroethane, 1,1-",5.7000000000000002E-3,"C",1.5999999999999999E-6,"C",0.2,"P","","","V","",1,"","",1690,"C","","","","",1]
["75-35-4","Dichloroethylene, 1,1-","","","","",0.05,"I",0.2,"I","V","",1,"","",1190,"NC","",7,30,"",1]
["75-37-6","Difluoroethane, 1,1-","","","","","","",40,"I","V","",1,"","",1430,"NC","","","","",1]
["75-44-5","Phosgene","","","","","","",2.9999999999999997E-4,"I","V","",1,"","",1610,"NC","","","","",1]
["75-45-6","Chlorodifluoromethane","","","","","","",50,"I","V","",1,"","",1680,"NC","","","","",1]
["75-52-5","Nitromethane","","",8.8000000000000004E-6,"P","","",5.0000000000000001E-3,"P","V","",1,"","",18000,"C","","","","",1]
["75-56-9","Propylene Oxide",0.24,"I",3.7000000000000002E-6,"I","","",0.03,"I","V","",1,"","",77700,"C","","","","",1]
["75-60-5","Cacodylic Acid","","","","",0.02,"A","","","","",1,0.1,"","","NC","","","","INORGANICO",1]
["75-65-0","Butyl Alcohol, t-",5.0000000000000001E-4,"I","","",0.4,"I",5,"I","V","",1,"","","","C","","","","",1]
["75-68-3","Chloro-1,1-difluoroethane, 1-","","","","","","",50,"I","V","",1,"","",1150,"NC","","","","",1]
["75-69-4","Trichlorofluoromethane","","","","",0.3,"I","","","V","",1,"","",1230,"NC","","","","",1]
["75-71-8","Dichlorodifluoromethane","","","","",0.2,"I",0.1,"X","V","",1,"","",845,"NC","","","","",1]
["75-85-4","Amyl Alcohol, tert-","","","","","","",3.0000000000000001E-3,"X","V","",1,"","",13700,"NC","","","","",1]
["75-86-5","Acetone Cyanohydrin","","","","","","",2E-3,"X","","",1,0.1,"","","NC","","","","",1]
["75-99-0","Dalapon","","","","",0.03,"I","","","","",1,0.1,"","","NC","",200,"","",1]
["7550-45-0","Titanium Tetrachloride","","","","","","",1E-4,"A","V","",1,"","","","NC","METAL","","","INORGANICO",1]
["7553-56-2","Iodine","","","","",0.01,"A","","","","",1,"","","","NC","METAL","","","INORGANICO",1]
["756-79-6","Dimethyl methylphosphonate",1.6999999999999999E-3,"P","","",0.06,"P","","","","",1,0.1,"","","C","","","","",1]
["759-73-9","Nitroso-N-ethylurea, N-",27,"C",7.7000000000000002E-3,"C","","","","","","M",1,0.1,"","","C","","","","",1]
["759-94-4","EPTC","","","","",0.05,"O","","","V","",1,"","","","NC","","","","",1]
["76-01-7","Pentachloroethane",0.09,"P","","","","","","","V","",1,"","",457,"C","","","","",1]
["76-03-9","Trichloroacetic Acid",7.0000000000000007E-2,"I","","",0.02,"I","","","","",1,0.1,"","","C","",600,"","",1]
["76-06-2","Chloropicrin","","","","","","",4.0000000000000002E-4,"C","V","",1,"","",617,"NC","","","","",1]
["76-13-1","Trichloro-1,2,2-trifluoroethane, 1,1,2-","","","","",30,"I",5,"P","V","",1,"","",910,"NC","","","","",1]
["76-44-8","Heptachlor",4.5,"I",1.2999999999999999E-3,"I",1E-4,"A","","","V","",1,"","","","C","",0.4,"","",1]
["7601-89-0","Sodium Perchlorate","","","","",6.9999999999999999E-4,"I","","","","",1,"","","","NC","","","","INORGANICO",1]
["7631-86-9","Silica (crystalline, respirable)","","","","","","",3.0000000000000001E-3,"C","","",1,"","","","NC","","","","INORGANICO",1]
["7637-07-2","Boron Trifluoride","","","","",0.04,"C",1.2999999999999999E-2,"C","V","",1,"","","","NC","","","","",1]
["764-41-0","Dichloro-2-butene, 1,4-","","",4.1999999999999997E-3,"P","","","","","V","",1,"","",554,"C","","","","",1]
["7647-01-0","Hydrogen Chloride","","","","","","",0.02,"I","V","",1,"","","","NC","","","","INORGANICO",1]
["765-34-4","Glycidaldehyde","","","","",4.0000000000000002E-4,"I",1E-3,"X","V","",1,"","",106000,"NC","","","","",1]
["76578-14-8","Quizalofop-ethyl","","","","",8.9999999999999993E-3,"I","","","","",1,0.1,"","","NC","","","","",1]
["7664-38-2","Phosphoric Acid","","","","","","",0.01,"I","","",1,"","","","NC","","","","INORGANICO",1]
["7664-39-3","Hydrogen Fluoride","","","","",0.04,"C",1.4E-2,"C","V","",1,"","","","NC","","","","INORGANICO",1]
["7664-41-7","Ammonia","","","","","","",0.5,"I","V","",1,"","","","NC","","",1200,"INORGANICO",1]
["7664-93-9","Sulfuric Acid","","","","","","",1E-3,"C","","",1,"","","","NC","","","","INORGANICO",1]
["76738-62-0","Paclobutrazol","","","","",1.2999999999999999E-2,"I","","","","",1,0.1,"","","NC","","","","",1]
["7681-49-4","Sodium Fluoride","","","","",0.05,"A",1.2999999999999999E-2,"C","","",1,"","","","NC","",4000,"","INORGANICO",1]
["77-47-4","Hexachlorocyclopentadiene","","","","",6.0000000000000001E-3,"I",2.0000000000000001E-4,"I","V","",1,"","",15.7,"NC","",50,"","",1]
["77-73-6","Dicyclopentadiene","","","","",0.08,"P",2.9999999999999997E-4,"X","V","",1,"","",256,"NC","","","","",1]
["77182-82-2","Glufosinate, Ammonium","","","","",6.0000000000000001E-3,"O","","","","",1,0.1,"","","NC","","","","",1]
["7723-14-0","Phosphorus, White","","","","",2.0000000000000002E-5,"I","","","V","",1,"","","","NC","","","","INORGANICO",1]
["77501-63-4","Lactofen","","","","",8.0000000000000002E-3,"O","","","","",1,0.1,"","","NC","","","","",1]
["7758-19-2","Chlorite (Sodium Salt)","","","","",0.03,"I","","","","",1,"","","","NC","",1000,700,"INORGANICO",1]
["7773-06-0","Ammonium Sulfamate","","","","",0.2,"I","","","","",1,"","","","NC","","","","INORGANICO",1]
["7778-74-7","Potassium Perchlorate","","","","",6.9999999999999999E-4,"I","","","","",1,"","","","NC","","","","INORGANICO",1]
["7782-41-4","Fluorine (Soluble Fluoride)","","","","",0.06,"I",1.2999999999999999E-2,"C","","",1,"","","","NC","",4000,1500,"INORGANICO",1]
["7782-49-2","Selenium","","","","",5.0000000000000001E-3,"I",0.02,"C","","",1,"","","","NC","METAL",50,40,"INORGANICO",1]
["7782-50-5","Chlorine","","","","",0.1,"I",1.4999999999999999E-4,"A","V","",1,"","",2780,"NC","",40000,5000,"INORGANICO",1]
["7783-00-8","Selenious Acid","","","","",5.0000000000000001E-3,"I","","","","",1,"","","","NC","","","","INORGANICO",1]
["7783-06-4","Hydrogen Sulfide","","","","","","",2E-3,"I","V","",1,"","","","NC","","",50,"INORGANICO",1]
["7784-42-1","Arsine","","","","",3.4999999999999999E-6,"C",5.0000000000000002E-5,"I","","",1,"","","","NC","","","","INORGANICO",1]
["7790-98-9","Ammonium Perchlorate","","","","",6.9999999999999999E-4,"I","","","","",1,"","","","NC","","","","INORGANICO",1]
["7791-03-9","Lithium Perchlorate","","","","",6.9999999999999999E-4,"I","","","","",1,"","","","NC","","","","INORGANICO",1]
["7791-12-0","Thallium Chloride","","","","",1.0000000000000001E-5,"X","","","","",1,"","","","NC","METAL","","","INORGANICO",1]
["78-00-2","Tetraethyl Lead","","","","",9.9999999999999995E-8,"I","","","V","",1,"","",2.4300000000000002,"NC","METAL","","","",1]
["78-11-5","Pentaerythritol tetranitrate (PETN)",4.3E-3,"X","","",8.9999999999999993E-3,"P","","","","",1,0.1,"","","C","","","","",1]
["78-42-2","Tris(2-ethylhexyl)phosphate",3.2000000000000002E-3,"P","","",0.1,"P","","","","",1,0.1,"","","C","","","","",1]
["78-48-8","Tribufos","","","","",2.0000000000000001E-4,"O","","","","",1,0.1,"","","NC","","","","",1]
["78-59-1","Isophorone",9.5E-4,"I","","",0.2,"I",2,"C","","",1,0.1,"","","C","","","","",1]
["78-83-1","Isobutyl Alcohol","","","","",0.3,"I","","","V","",1,"","",10000,"NC","","","","",1]
["78-87-5","Dichloropropane, 1,2-",3.6999999999999998E-2,"P",3.7000000000000002E-6,"P",0.04,"P",4.0000000000000001E-3,"I","V","",1,"","",1360,"C","",5,"","",1]
["78-92-2","Butyl alcohol, sec-","","","","",2,"P",30,"P","V","",1,"","",21300,"NC","","","","",1]
["78-93-3","Methyl Ethyl Ketone (2-Butanone)","","","","",0.6,"I",5,"I","V","",1,"","",28400,"NC","","","","",1]
["78-97-7","Lactonitrile","","","","",2.0000000000000001E-4,"X","","","","",1,0.1,"","","NC","","","","",1]
["7803-51-2","Phosphine","","","","",2.9999999999999997E-4,"I",2.9999999999999997E-4,"I","V","",1,"","","","NC","","","","INORGANICO",1]
["78587-05-0","Hexythiazox","","","","",2.5000000000000001E-2,"I","","","","",1,0.1,"","","NC","","","","",1]
["79-00-5","Trichloroethane, 1,1,2-",5.7000000000000002E-2,"I",1.5999999999999999E-5,"I",4.0000000000000001E-3,"I",2.0000000000000001E-4,"X","V","",1,"","",2160,"C","",5,"","",1]
["79-01-6","Trichloroethylene",4.5999999999999999E-2,"I",4.0999999999999997E-6,"I",5.0000000000000001E-4,"I",2E-3,"I","V","M",1,"","",692,"C","",5,4,"",1]
["79-06-1","Acrylamide",0.5,"I",1E-4,"I",2E-3,"I",6.0000000000000001E-3,"I","","M",1,0.1,"","","C","","",0.5,"",1]
["79-08-3","Bromoacetic acid","","","","","","","","","","",1,0.1,"","","NC","",600,"","",1]
["79-10-7","Acrylic Acid","","","","",0.5,"I",2.0000000000000001E-4,"P","V","",1,"","",109000,"NC","","","","",1]
["79-11-8","Chloroacetic Acid","","","","","","","","","","",1,0.1,"","","NC","",600,80,"",1]
["79-20-9","Methyl Acetate","","","","",1,"X","","","V","",1,"","",29000,"NC","","","","",1]
["79-34-5","Tetrachloroethane, 1,1,2,2-",0.2,"I",5.8E-5,"C",0.02,"I","","","V","",1,"","",1900,"C","","","","",1]
["79-43-6","Dichloroacetic Acid",0.05,"I","","",4.0000000000000001E-3,"I","","","","",1,0.1,"","","C","",600,80,"",1]
["79-46-9","Nitropropane, 2-","","",5.8E-4,"X","","",0.02,"I","V","",1,"","",4860,"C","","","","",1]
["791-28-6","Triphenylphosphine Oxide","","","","",0.02,"P","","","","",1,0.1,"","","NC","","","","",1]
["79277-27-3","Thifensulfuron-methyl","","","","",4.2999999999999997E-2,"O","","","","",1,0.1,"","","NC","","","","",1]
["80-05-7","Bisphenol A","","","","",0.05,"I","","","","",1,0.1,"","","NC","","","","",1]
["80-07-9","Sulfonylbis(4-chlorobenzene), 1,1'-","","","","",8.0000000000000004E-4,"P","","","","",1,0.1,"","","NC","","","","",1]
["80-62-6","Methyl Methacrylate","","","","",1.4,"I",0.7,"I","V","",1,"","",2360,"NC","","","","",1]
["8001-35-2","Toxaphene",1.1000000000000001,"I",3.2000000000000003E-4,"I",9.0000000000000006E-5,"P","","","","",1,0.1,"","","C","",3,"","",1]
["8012-95-1","Mineral oils","","","","",3,"P","","","V","",1,"","",0.34200000000000003,"NC","","","","",1]
["8018-01-7","Mancozeb","","","","",0.03,"H","","","","",1,0.1,"","","NC","","",8,"",1]
["8065-48-3","Demeton","","","","",4.0000000000000003E-5,"I","","","","",1,0.1,"","","NC","","","","",1]
["81-81-2","Warfarin","","","","",2.9999999999999997E-4,"I","","","","",1,0.1,"","","NC","","","","",1]
["811-97-2","Tetrafluoroethane, 1,1,1,2-","","","","","","",80,"I","V","",1,"","",2050,"NC","","","","",1]
["81335-37-7","Imazaquin","","","","",0.25,"I","","","","",1,0.1,"","","NC","","","","",1]
["81335-77-5","Imazethapyr","","","","",2.5,"O","","","","",1,0.1,"","","NC","","","","",1]
["82-68-8","Pentachloronitrobenzene",0.26,"H","","",3.0000000000000001E-3,"I","","","V","",1,"","","","C","","","","",1]
["82097-50-5","Triasulfuron","","","","",0.01,"I","","","","",1,0.1,"","","NC","","","","",1]
["822-06-0","Hexamethylene Diisocyanate, 1,6-","","","","","","",1.0000000000000001E-5,"I","V","",1,"","",3390,"NC","","","","",1]
["82558-50-7","Isoxaben","","","","",0.05,"I","","","","",1,0.1,"","","NC","","","","",1]
["82657-04-3","Biphenthrin","","","","",1.4999999999999999E-2,"I","","","","",1,0.1,"","","NC","","","","",1]
["83-32-9","Acenaphthene","","","","",0.06,"I","","","V","",1,0.13,"","","NC","","","","",1]
["83-79-4","Rotenone","","","","",4.0000000000000001E-3,"I","","","","",1,0.1,"","","NC","","","","",1]
["83055-99-6","Bensulfuron-methyl","","","","",0.2,"I","","","","",1,0.1,"","","NC","","","","",1]
["834-12-8","Ametryn","","","","",8.9999999999999993E-3,"I","","","","",1,0.1,"","","NC","","",60,"",1]
["84-65-1","Anthraquinone, 9,10-",0.04,"P","","",2E-3,"X","","","","",1,0.1,"","","C","","","","",1]
["84-66-2","Diethyl Phthalate","","","","",0.8,"I","","","","",1,0.1,"","","NC","","","","",1]
["84-72-0","Ethylphthalyl Ethyl Glycolate","","","","",3,"I","","","","",1,0.1,"","","NC","","","","",1]
["84-74-2","Dibutyl Phthalate","","","","",0.1,"I","","","","",1,0.1,"","","NC","","","","",1]
["85-44-9","Phthalic Anhydride","","","","",2,"I",0.02,"C","","",1,0.1,"","","NC","","","","",1]
["85-68-7","Butyl Benzyl Phthalate",1.9E-3,"P","","",0.2,"I","","","","",1,0.1,"","","C","","","","",1]
["85-70-1","Butylphthalyl Butylglycolate","","","","",1,"I","","","","",1,0.1,"","","NC","","","","",1]
["85509-19-9","Flusilazole","","","","",2E-3,"O","","","","",1,0.1,"","","NC","","","","",1]
["86-30-6","Nitrosodiphenylamine, N-",4.8999999999999998E-3,"I",2.6000000000000001E-6,"C","","","","","","",1,0.1,"","","C","","","","",1]
["86-50-0","Azinphos-methyl","","","","",3.0000000000000001E-3,"A",0.01,"A","","",1,0.1,"","","NC","","","","",1]
["86-73-7","Fluorene","","","","",0.04,"I","","","V","",1,0.13,"","","NC","","","","",1]
["87-61-6","Trichlorobenzene, 1,2,3-","","","","",8.0000000000000004E-4,"X","","","V","",1,"","","","NC","","",20,"",1]
["87-68-3","Hexachlorobutadiene",7.8E-2,"I",2.1999999999999999E-5,"I",1E-3,"P","","","V","",1,"","",16.8,"C","","","","",1]
["87-82-1","Hexabromobenzene","","","","",2E-3,"I","","","V","",1,"","","","NC","","","","",1]
["87-84-3","Cyclohexane, 1,2,3,4,5-pentabromo-6-chloro-",0.02,"X","","",0.02,"X","","","","",1,0.1,"","","C","","","","",1]
["87-86-5","Pentachlorophenol",0.4,"I",5.1000000000000003E-6,"C",5.0000000000000001E-3,"I","","","","",1,0.25,"","","C","",1,9,"",1]
["88-06-2","Trichlorophenol, 2,4,6-",1.0999999999999999E-2,"I",3.1E-6,"I",1E-3,"P","","","","",1,0.1,"","","C","","",200,"",1]
["88-72-2","Nitrotoluene, o-",0.22,"P","","",8.9999999999999998E-4,"P","","","V","",1,"","",1510,"C","","","","",1]
["88-73-3","Chloronitrobenzene, o-",0.3,"P","","",3.0000000000000001E-3,"P",1.0000000000000001E-5,"X","","",1,0.1,"","","C","","","","",1]
["88-74-4","Nitroaniline, 2-","","","","",0.01,"X",5.0000000000000002E-5,"X","","",1,0.1,"","","NC","","","","",1]
["88-85-7","Dinoseb","","","","",1E-3,"I","","","","",1,0.1,"","","NC","",7,"","",1]
["88-89-1","Picric Acid (2,4,6-Trinitrophenol)","","","","",2E-3,"X","","","","",1,0.1,"","","NC","","","","",1]
["886-50-0","Terbutryn","","","","",1E-3,"I","","","","",1,0.1,"","","NC","","","","",1]
["88671-89-0","Myclobutanil","","","","",2.5000000000000001E-2,"I","","","","",1,0.1,"","","NC","","","","",1]
["90-12-0","Methylnaphthalene, 1-",2.9000000000000001E-2,"P","","",7.0000000000000007E-2,"A","","","V","",1,0.13,"",394,"C","","","","",1]
["90-43-7","Phenylphenol, 2-",1.9E-3,"H","","","","","","","","",1,0.1,"","","C","","","","",1]
["90-98-2","Dichlorobenzophenone, 4,4'-","","","","",8.9999999999999993E-3,"X","","","","",1,0.1,"","","NC","","","","",1]
["9004-70-0","Nitrocellulose","","","","",3000,"P","","","","",1,0.1,"","","NC","","","","",1]
["9016-87-9","Polymeric Methylene Diphenyl Diisocyanate (PMDI)","","","","","","",5.9999999999999995E-4,"I","","",1,0.1,"","","NC","","","","",1]
["90982-32-4","Chlorimuron, Ethyl-","","","","",0.09,"O","","","","",1,0.1,"","","NC","","","","",1]
["91-08-7","Toluene-2,6-diisocyanate",3.9E-2,"C",1.1E-5,"C","","",7.9999999999999996E-6,"C","V","",1,"","",1710,"C","","","","",1]
["91-20-3","Naphthalene",0.12,"C",3.4E-5,"C",0.02,"I",3.0000000000000001E-3,"I","V","",1,0.13,"","","C","","","","",1]
["91-22-5","Quinoline",3,"I","","","","","","","","",1,0.1,"","","C","","","","",1]
["91-57-6","Methylnaphthalene, 2-","","","","",4.0000000000000001E-3,"I","","","V","",1,0.13,"","","NC","","","","",1]
["91-58-7","Chloronaphthalene, Beta-","","","","",0.08,"I","","","V","",1,0.13,"","","NC","","","","",1]
["91-59-8","Naphthylamine, 2-",1.8,"C",0,"C","","","","","","",1,0.1,"","","C","","","","",1]
["91-94-1","Dichlorobenzidine, 3,3'-",0.45,"I",3.4000000000000002E-4,"C","","","","","","",1,0.1,"","","C","","","","",1]
["92-52-4","Biphenyl, 1,1'-",8.0000000000000002E-3,"I","","",0.5,"I",4.0000000000000002E-4,"X","V","",1,"","","","C","","","","",1]
["92-67-1","Aminobiphenyl, 4-",21,"C",6.0000000000000001E-3,"C","","","","","","",1,0.1,"","","C","","","","",1]
["92-84-2","Phenothiazine","","","","",5.0000000000000001E-4,"X","","","","",1,0.1,"","","NC","","","","",1]
["92-87-5","Benzidine",230,"I",6.7000000000000004E-2,"I",3.0000000000000001E-3,"I","","","","M",1,0.1,"","","C","","","","",1]
["924-16-3","Nitroso-di-N-butylamine, N-",5.4,"I",1.6000000000000001E-3,"I","","","","","V","",1,"","","","C","","","","",1]
["93-65-2","MCPP","","","","",1E-3,"I","","","","",1,0.1,"","","NC","","","","",1]
["93-72-1","Trichlorophenoxypropionic acid, -2,4,5","","","","",8.0000000000000002E-3,"I","","","","",1,0.1,"","","NC","",50,"","",1]
["93-76-5","Trichlorophenoxyacetic Acid, 2,4,5-","","","","",0.01,"I","","","","",1,0.1,"","","NC","","",30,"",1]
["930-55-2","Nitrosopyrrolidine, N-",2.1,"I",6.0999999999999997E-4,"I","","","","","","",1,0.1,"","","C","","","","",1]
["94-58-6","Dihydrosafrole",4.3999999999999997E-2,"C",1.2999999999999999E-5,"C","","","","","V","",1,"","","","C","","","","",1]
["94-59-7","Safrole",0.22,"C",6.3E-5,"C","","","","","","M",1,0.1,"","","C","","","","",1]
["94-74-6","MCPA","","","","",5.0000000000000001E-4,"I","","","","",1,0.1,"","","NC","","","","",1]
["94-75-7","Dichlorophenoxy Acetic Acid, 2,4-","","","","",0.01,"I","","","","",1,0.05,"","","NC","",70,30,"",1]
["94-81-5","MCPB","","","","",4.3999999999999997E-2,"O","","","","",1,0.1,"","","NC","","","","",1]
["944-22-9","Fonofos","","","","",2E-3,"I","","","","",1,0.1,"","","NC","","","","",1]
["95-47-6","Xylene, o-","","","","",0.2,"G",0.1,"G","V","",1,"","",434,"NC","","","","",1]
["95-48-7","Cresol, o-","","","","",0.05,"I",0.6,"C","","",1,0.1,"","","NC","","","","",1]
["95-49-8","Chlorotoluene, o-","","","","",0.02,"I","","","V","",1,"","",907,"NC","","","","",1]
["95-50-1","Dichlorobenzene, 1,2-","","","","",0.09,"I",0.2,"H","V","",1,"","",376,"NC","",600,1,"",1]
["95-53-4","Toluidine, o- (Methylaniline, 2-)",1.6E-2,"P",5.1E-5,"C","","","","","","",1,0.1,"","","C","","","","",1]
["95-54-5","Phenylenediamine, o-",0.12,"P","","",4.0000000000000001E-3,"P","","","","",1,0.1,"","","C","","","","",1]
["95-55-6","Aminophenol, o-","","","","",4.0000000000000001E-3,"X","","","","",1,0.1,"","","NC","","","","",1]
["95-57-8","Chlorophenol, 2-","","","","",5.0000000000000001E-3,"I","","","V","",1,"","",27400,"NC","","","","",1]
["95-63-6","Trimethylbenzene, 1,2,4-","","","","",0.01,"I",0.06,"I","V","",1,"","",219,"NC","","","","",1]
["95-65-8","Dimethylphenol, 3,4-","","","","",1E-3,"I","","","","",1,0.1,"","","NC","","","","",1]
["95-68-1","Dimethylaniline, 2,4-",0.2,"P","","",2E-3,"X","","","","",1,0.1,"","","C","","","","",1]
["95-69-2","Chloro-2-methylaniline, 4-",0.1,"P",7.7000000000000001E-5,"C",3.0000000000000001E-3,"X","","","","",1,0.1,"","","C","","","","",1]
["95-70-5","Toluene-2,5-diamine",0.18,"X","","",2.0000000000000001E-4,"X","","","","",1,0.1,"","","C","","","","",1]
["95-94-3","Tetrachlorobenzene, 1,2,4,5-","","","","",3.0000000000000001E-5,"P","","","V","",1,"","","","NC","","","","",1]
["95-95-4","Trichlorophenol, 2,4,5-","","","","",0.1,"I","","","","",1,0.1,"","","NC","","","","",1]
["950-10-7","Mephosfolan","","","","",9.0000000000000006E-5,"H","","","","",1,0.1,"","","NC","","","","",1]
["950-37-8","Methidathion","","","","",1.5E-3,"O","","","","",1,0.1,"","","NC","","","","",1]
["957-51-7","Diphenamid","","","","",0.03,"I","","","","",1,0.1,"","","NC","","","","",1]
["96-12-8","Dibromo-3-chloropropane, 1,2-",0.8,"P",6.0000000000000001E-3,"P",2.0000000000000001E-4,"P",2.0000000000000001E-4,"I","V","M",1,"","",979,"C","",0.2,"","",1]
["96-18-4","Trichloropropane, 1,2,3-",30,"I","","",4.0000000000000001E-3,"I",2.9999999999999997E-4,"I","V","M",1,"","",1400,"C","","","","",1]
["96-19-5","Trichloropropene, 1,2,3-","","","","",3.0000000000000001E-3,"X",2.9999999999999997E-4,"P","V","",1,"","",311,"NC","","","","",1]
["96-33-3","Methyl Acrylate","","","","","","",0.02,"P","V","",1,"","",6750,"NC","","","","",1]
["96-45-7","Ethylene Thiourea",4.4999999999999998E-2,"C",1.2999999999999999E-5,"C",8.0000000000000007E-5,"I","","","","",1,0.1,"","","C","","",8,"",1]
["96-91-3","Picramic Acid (2-Amino-4,6-dinitrophenol)","","","","",1E-4,"X","","","","",1,0.1,"","","NC","","","","",1]
["961-11-5","Stirofos (Tetrachlorovinphos)",2.4E-2,"H","","",0.03,"I","","","","",1,0.1,"","","C","","","","",1]
["97-63-2","Ethyl Methacrylate","","","","","","",0.3,"P","V","",1,"","",1100,"NC","","","","",1]
["98-01-1","Furfural","","","","",3.0000000000000001E-3,"I",0.05,"H","V","",1,"","",10100,"NC","","","","",1]
["98-06-6","Butylbenzene, tert-","","","","",0.1,"X","","","V","",1,"","",183,"NC","","","","",1]
["98-07-7","Benzotrichloride",13,"I","","","","","","","V","",1,"","",324,"C","","","","",1]
["98-56-6","Chlorobenzotrifluoride, 4-","","",8.6000000000000007E-6,"C",3.0000000000000001E-3,"P",0.3,"P","V","",1,"","",290,"C","","","","",1]
["98-66-8","Chlorobenzene sulfonic acid, p-","","","","",0.1,"X","","","","",1,0.1,"","","NC","","","","",1]
["98-82-8","Cumene","","","","",0.1,"I",0.4,"I","V","",1,"","",268,"NC","","","","",1]
["98-83-9","Methylstyrene, Alpha-","","","","",7.0000000000000007E-2,"H","","","V","",1,"","",500,"NC","","","","",1]
["98-86-2","Acetophenone","","","","",0.1,"I","","","V","",1,"","",2520,"NC","","","","",1]
["98-95-3","Nitrobenzene","","",4.0000000000000003E-5,"I",2E-3,"I",8.9999999999999993E-3,"I","V","",1,"","",3050,"C","","","","",1]
["99-08-1","Nitrotoluene, m-","","","","",1E-4,"X","","","","",1,0.1,"","","NC","","","","",1]
["99-35-4","Trinitrobenzene, 1,3,5-","","","","",0.03,"I","","","","",1,1.9E-2,"","","NC","","","","",1]
["99-55-8","Methyl-5-Nitroaniline, 2-",8.9999999999999993E-3,"P","","",0.02,"X","","","","",1,0.1,"","","C","","","","",1]
["99-59-2","Methoxy-5-nitroaniline, 2-",4.9000000000000002E-2,"C","","","","","","","","",1,0.1,"","","C","","","","",1]
["99-65-0","Dinitrobenzene, 1,3-","","","","",1E-4,"I","","","","",1,0.1,"","","NC","","","","",1]
["99-94-5","Toluic Acid, p-","","","","",5.0000000000000001E-3,"P","","","","",1,0.1,"","","NC","","","","",1]
["99-99-0","Nitrotoluene, p-",1.6E-2,"P","","",4.0000000000000001E-3,"P","","","","",1,0.1,"","","C","","","","",1]
["993-13-5","Methyl Phosphonic Acid","","","","",0.06,"X","","","","",1,0.1,"","","NC","","","","",1]
["E1615210","Dinitrotoluene Mixture, 2,4/2,6-",0.68,"I","","","","","","","","",1,0.1,"","","C","","","","",1]
["E17136615","Diesel Engine Exhaust","","",2.9999999999999997E-4,"C","","",5.0000000000000001E-3,"I","","",1,0.1,"","","C","","","","",1]
["E1737665","JP-7","","","","","","",0.3,"A","V","",1,"","","","NC","","","","",1]
["E1790661","Dibutyltin Compounds","","","","",2.9999999999999997E-4,"P","","","","",1,0.1,"","","NC","","","","",1]
["E1790665","Thiocyanates","","","","",2.0000000000000001E-4,"P","","","","",1,"","","","NC","","","","",1]
["E1790666","Total Petroleum Hydrocarbons (Aliphatic Low)","","","","",5.0000000000000001E-3,"P",0.4,"P","V","",1,"","",51.9,"NC","","","","",1]
["E1790668","Total Petroleum Hydrocarbons (Aliphatic Medium)","","","","",0.01,"X",0.1,"P","V","",1,"","",6.86,"NC","","","","",1]
["E1790669","Midrange Aliphatic Hydrocarbon Streams","","",4.5000000000000001E-6,"X",0.01,"X",0.1,"P","V","",1,"","",6.86,"C","","","","",1]
["E1790670","Total Petroleum Hydrocarbons (Aliphatic High)","","","","",3,"P","","","V","",1,"","",0.34200000000000003,"NC","","","","",1]
["E1790674","Total Petroleum Hydrocarbons (Aromatic Medium)","","","","",0.01,"P",0.06,"P","V","",1,"","",231,"NC","","","","",1]
["E1790676","Total Petroleum Hydrocarbons (Aromatic High)","","","","",2.9999999999999997E-4,"P",1.9999999999999999E-6,"P","","M",1,0.13,"","","NC","","","","",1]
["E1790679","Tributyltin Compounds","","","","",2.9999999999999997E-4,"P","","","","",1,0.1,"","","NC","","","","",1]
["E1841606","Toxaphene, Weathered","","","","",3.0000000000000001E-5,"X","","","","",1,0.1,"","","NC","","","","",1]
["E5241997","Hexane, Commercial","","",1.9999999999999999E-7,"X","","",0.6,"P","V","",1,"","",141,"C","","","","",1]
["E649830","Coke Oven Emissions","","",6.2E-4,"I","","","","","V","M",1,"","","","C","","","","",1]
["E701177","Nitrate + Nitrite (measured as nitrogen)","","","","","","","","","","",1,"","","","NC","",10000,"","INORGANICO",1]
["E701235","Chloramines, Organic","","","","","","","","","","",1,0.1,"","","NC","",40000,"","",1]
["E715532","Nickel Refinery Dust","","",2.4000000000000001E-4,"I",1.0999999999999999E-2,"C",1.4E-5,"C","","",0.04,"","","","C","","","","INORGANICO",1]
["E715557","Refractory Ceramic Fibers (units in fibers)","","","","","","",30000,"A","","",1,"","","","NC","","","","",1]

{"sheet":"Referências bibliográficas","index":17,"n_rows":40,"n_cols":1,"rows_kept":40,"cut":false,"hidden":false,"merged":[]}
["Referências Bibliográficas:"]
[]
["Allan et al., 2009. Inhalation rates for risk assessments involving construction workers in Canada."]
["ASTM, 2001 - Standard guide for risk-based corrective action - E 2081-00"]
["ASTM, 2002 - Standard guidelines for risk-based corrective action at petroleum release sites - E 1739-95"]
["BRAND, E. et al. CSOIL 2000: an exposure model for human risk assessment of soil contamination – a model description. the netherlands, Bilthoven: RIVM, 2007. 90p. (RIVM Report 711701 054)."]
["CAPELETI, 2000. Avaliação de risco em uma área contaminada utilizando o modelo C-Soil: um estudo de caso."]
["CETESB (São Paulo). Relatório de estabelecimento de valores orientadores para solos e águas subterrâneas no estado de São Paulo. São Paulo, 2001. 101 p. + anexos."]
["CETESB, 2009. Parâmetros definidos por grupo técnico da CETESB."]
["COUTO, M.L.T. Atualização dos Fatores de Exposição e sua Influência nos Valores de Intervenção para Solo de Estado de São Paulo. Campinas, SP, 2006. 227 p. + anexos. Dissertação (mestrado). Universidade Estadual de Campinas, Instituto de Geociências, 2006."]
["IBGE, 2004. Pequisa de orçamentos familiares 2002-2003: aquisição alimentar domiciliar per capita – Brasil e grandes regiões. IBGE : Rio de Janeiro, 251p.."]
["IBGE, 2010a . Pesquisa de orçamentos familiares 2008 - 2009. Antropometria e estado nutricional de crianças e adolescentes e adultos no Brasil. Rio de Janeiro: Instituto Brasileiro de Geografia e Estatística."]
["IBGE, 2010b . Pesquisa de orçamentos familiares 2008 - 2009. Aquisição alimentar domiciliar per capita 2008-2009. Rio de Janeiro: Instituto Brasileiro de Geografia e Estatística"]
["IBGE, 2018a. Tábua completa de mortalidade para o Brasil – 2017. Breve análise da evolução da mortalidade no Brasil. Rio de Janeiro: Instituto Brasileiro de Geografia e Estatística"]
["IBGE, 2018b. Projeção da população do Brasil e das Unidades da Federação por sexo e idade para o período 2010-2060. Rio de Janeiro. Disponível em: https://www.ibge.gov.br/estatisticas-novoportal/sociais/populacao/9109-projecao-da-populacao.html?=&t=resultados>. Acesso em: julho. 2018."]
["KREULE, P. & SWARTJES, F.A. Proposals for intervention values for soil and groundwater, including the calculation of the human-toxicological serious soil contamination concentrations: fourth series of compounds. The netherlands, Bilthoven, RIVM, 1998. 89p. (RIVM Report no.711701005)"]
["LIJZEN, J.P.A. et al.  Technical evaluation of the intervention values for soil/sediment and groundwater. Humana and ecotoxicological risk assessment and derivation of risk limits for soil, aquatic and groundwater. the netherland, Bilthoven: RIVM, 2001. 147p. (RIVM Report 711701 023)"]
["MAXIMIANO, 2001 - Determinação de níveis aceitáveis no ambiente para hidrocarbonetos utilizando o procedimento de ações corretivas baseadas no risco (RBCA) Aplicação para a cidade de São Paulo"]
["OTTE P.F., et al.. Evaluation and revision of the CSOIL parameter set. Proposed parameter set for human exposure modelling and deriving intervention value for the first series of compounds. The Netherlands, Bilthoven: RIVM, 2001. 125p. (RIVM report 711701021)"]
["RIKKEN, M.G.L. et al..  Evaluation of model concepts on human exposure. Proposal for updating relevant exposure routes of Csoil. The Netherlands, Bilthoven: RIVM, 2001. 138p. (RIVM report 711701022)"]
["SOARES, M. R. Coeficientes de distribuição (KD) de metais pesados nos solos do Estado de São Paulo. Tese de Doutorado, Piracicaba, São Paulo, 2004, 202 p"]
["SWARTJES, F.A. et al., Human health risks due to consumption of vegetables from contaminated sites. the netherland, Bilthoven: RIVM, 2007. 130 p. (RIVM Report 711701040)"]
["SWARTJES, F.A. Variation in calculated human exposure: comparison of calculations with seven European human exposure models. The netherlands, Bilthoven, RIVM, 2002. 122p. (RIVM Report no.711701030)"]
["TRAPP S., 2002. \"Dynamic root uptake model for neutral lipophilic organics.\" Environmental Toxicology and Chemistry 21(1): 203-206. "]
["TRAPP, S, Matthies, M.,1995. Generic one-compartment model for uptake of organic chemicals by foliar vegetation. Environmental Science and Technology 29(9): 2333-2338."]
["U.S. EPA, 1989. Risk assessment guidance for Superfund. Volume I: Human health evaluation manual (Part A)(PDF) (289 pp, 6.9 MB). Interim Final. Office of Emergency and Remedial Response. EPA/540/1-89/002."]
["U.S. EPA, 1991a. Human health evaluation manual, supplemental guidance: Standard default exposure factors (PDF) (28 pp, 248 K). OSWER Directive 9285.6-03."]
["U.S. EPA, 1991b. Risk Assessment Guidance for Superfund, Volume I: Human Health Evaluation Manual (Part B, Development of Risk-Based Preliminary remediation goals. Dec, 1991"]
["U.S.EPA, 1991c. Risk Assessment Guidance for Superfund, Volume I: Human Health Evaluation Manual . Supplemental Guidance. \"Standard Default Exposure Factors\". Interim Final. March, 1991"]
["U.S. EPA 2002. Supplemental Guidance for Developing Soil Screening Levels for Superfund Sites. OSWER 9355.4-24. December 2002."]
["U.S. EPA, 2011. Exposure Factors Handbook 2011 Edition (Final). National Center for Environmental Assessment, Office of Research and Development. Washington D.C."]
["U.S.EPA, 2012. Recommendations for default value for relative bioavailability of arsenic in soil. December 2012."]
["U.S. EPA, 2014. OSWER Directive 9200.1-120: Human Human Health Evaluation Manual, Supplemental Guidance: Update of Standard Default Exposure Factors. "]
["U.S.EPA, 2015 - Technical guide for assessing and mitigating the vapor intrusion pathway from subsurface vapor sources to indoor air - june, 2015"]
["U.S.EPA, 2018. Update for chapter 19 of de Exposure Factors Handbook. Building Characteristics. July 2018"]
["U.S.EPA - Regional Screening Levels - https://www.epa.gov/risk/regional-screening-levels-rsls-generic-tables - November 2022 "]
["VAN DEN BERG, R. Human exposure to soil contamination a qualitative and quantitative analyses towards proposals for humam toxicological intervention values. The Netherlands, Bilthoven: RIVM, 1995. 93p. (RIVM report 725201011)"]
["VAN DER BERG, R. e ROELS, J.M. Risk assessment to man and the environment in case of exposure to soil contamination. Integration of different aspects. The netherlands, Bilthoven, RIVM, 1991. 107p. (RIVM Report no.755201013)"]
["VAN DER BERG, R. et al. Proposals for intervention values for soil clean-up:second series of chemicals. The netherlands, Bilthoven, RIVM, 1994. 170p. (RIVM Report no.715810004)"]
["Virginia Department of Environmental Quality - DEQ, 2018. Virginia unified risk assessment model - VURAM User guide for risk assessors."]